{"text_format":"1","workbook":"xlsx","n_sheets":25,"sheets":["Control","Admin","IssuesInput","ProductsInput","Spend","Risks","Scope","Influence","Summary","Export","NPF","Spend-Risk graph","Risk-Scope graph","Influence-Scope graph","Overall graph","Guidance","RiskGuide","InfGuide","Action","Buyer","Market","Lookups&Calcs","Buttons","Nat Outcomes","Nat Indicators"],"not_rendered":{"charts":4,"images":30,"macros":1,"external_links":0,"defined_names":41,"comments":1,"pivot_tables":0},"unopened":[],"bounds":{"document_bytes":16777216,"sheet_cells":100000,"rows_first":2000,"rows_last":500,"rows_between":2000,"halvings":0,"cell_chars":16384,"cell_head_chars":4096},"cells_cut":0,"cells_raw":0,"read":"whole","date_system":"1900"}

{"sheet":"Control","index":0,"n_rows":2,"n_cols":2,"rows_kept":2,"cut":false,"hidden":false,"merged":[]}
[]
[null,"Procurement Prioritisation"]

{"sheet":"Admin","index":1,"n_rows":25,"n_cols":10,"rows_kept":25,"cut":false,"hidden":false,"merged":[]}
[]
[null,"Administration Information"]
[]
[]
[]
[]
[]
[]
[]
[]
[]
[]
[]
[]
[null,"ADMINISTRATION - OFFICE USE - FOR YOUR REFERENCE",null,null,null,null,null,null,null,"BACKGROUND INFORMATION - FOR YOUR REFERENCE"]
[null,"Name of organisation: ",null,null,"University of Edinburgh",null,null,null,null,"This is the University of Edinburgh master template for 2016. "]
[null,"Completed by (insert names of all involved in completion):",null,null,null,null,null,null,null,"Keep this master copy, and use a copy of it for each scoring meeting."]
[null,"Stuart McLean"]
[null,"Liz Cooper"]
[null,"Chris Litwiniuk"]
[null,"Andy Kordiak"]
[]
[]
[]
[null,"Date(s) completed:"]

{"sheet":"IssuesInput","index":2,"n_rows":24,"n_cols":6,"rows_kept":24,"cut":false,"hidden":false,"merged":[[23,2,27,2],[23,4,27,4]]}
[]
[null,"Risks and Opportunities"]
[null,null,"Environmental ","Your related organisational strategies*","Socio-economic ","Your related organisational strategies*"]
[null,null,"Climate Change","Climate Strategy (2016); Energy Policy (2003); Transport and Travel Planning Policy (2010); Business Travel Guidance (2016); Accommodation services sustainability (updated 2013) \n","Employment, skills and training"]
[null,null,"Materials",null,"Health and wellbeing","Commitment to Healthy Working Lives scheme http://www.ed.ac.uk/staff/health-wellbeing/about/healthy-working-lives "]
[null,null,"Waste","Recycling and Waste Management Policy (2013); )","Communities","Community Engagement Strategy (being developed in 2016)"]
[null,null,"Hazardous materials",null,"Security and crime","Security Policy (2009) Information Security Policy (2014) \n"]
[null,null,"Biodiversity","Biodiversity Policy (2012)","Fairly and ethically traded","Conflict Minerals Policy (2016); Fair Trade Policy (2013); Modern Slavery being reviewed in 2016;"]
[null,null,"Heritage",null,"Equality","Equality and Diversity related policies for University here http://www.ed.ac.uk/equality-diversity/legislation-policies/policies "]
[null,null,"Water","Drinking Water Policy (2009); ","Fair Work","http://www.ed.ac.uk/human-resources/policies-guidance/a-to-z-policies"]
[]
[]
[]
[]
[]
[]
[]
[]
[]
[]
[]
[]
[]
[null,null,{"$f":"IF(COUNTA(EnvIssues)=0,\"No environmental issues entered\",IF(COUNTA(OFFSET(INDEX(EnvIssues,1),0,0,COUNTA(EnvIssues),1))=COUNTA(EnvIssues),\"\",\"Please delete the empty space(s) in the list above. Click on the empty box and press the delete button to the right. (One-by-one if there are multiple empty boxes)\"))","v":""},null,{"$f":"IF(COUNTA(SocIssues)=0,\"No socio-economic issues entered\",IF(COUNTA(OFFSET(INDEX(SocIssues,1),0,0,COUNTA(SocIssues),1))=COUNTA(SocIssues),\"\",\"Please delete the empty space(s) in the list above. Click on the empty box and press the delete button to the right. (One-by-one if there are multiple empty boxes)\"))","v":""}]

{"sheet":"ProductsInput","index":3,"n_rows":45,"n_cols":3,"rows_kept":45,"cut":false,"hidden":false,"merged":[[44,2,48,2]]}
[]
[null,"Categories"]
[null,null,"Categories"]
[null,null,"Mobile Tech"]
[null,null,"Servers/Storage"]
[null,null,"Networking Equipment (Large Routers)"]
[null,null,"PCs: Macs/Workstation/Thin Client"]
[null,null,"Printers/MFD's"]
[null,null,"Cages and Racking, Isolators"]
[null,null,"Laboratory Small Appaaratus and Equipment Purchase"]
[null,null,"Medical, Surgical, Nursing Supplies & Services Small Apparatus, Equipment and Instruments"]
[]
[]
[]
[]
[]
[]
[]
[]
[]
[]
[]
[]
[]
[]
[]
[]
[]
[]
[]
[]
[]
[]
[]
[]
[]
[]
[]
[]
[]
[]
[]
[]
[]
[null,null,{"$f":"IF(COUNTA(ProductGroups)=0,\"Please enter some product groups.\",IF(COUNTA(OFFSET(INDEX(ProductGroups,1),0,0,COUNTA(ProductGroups),1))=COUNTA(ProductGroups),IF(COUNT(ProductGroups)=0,\"\",\"Numerical entry detected - please enter names as text.\"),\"Please delete the empty space(s) in the list above. Click on the empty box and press the delete button to the right. (One-by-one if there are multiple empty boxes)\"))","v":""}]

{"sheet":"Spend","index":4,"n_rows":47,"n_cols":5,"rows_kept":47,"cut":false,"hidden":false,"merged":[]}
[]
[null,"Expenditure"]
[null,null,"Categories","Spend","Spend Score"]
[null,null,{"$f":"IF(ProductGroups=\"\",\"\",ProductGroups)","v":"Mobile Tech"},3735418.35,{"$f":"IF(Spend=\"\",\"\",VLOOKUP(GrpRank,'Lookups&Calcs'!B$4:E$43,4,FALSE))","v":3}]
[null,null,"Servers/Storage",3999469.55,{"$f":"IF(Spend=\"\",\"\",VLOOKUP(GrpRank,'Lookups&Calcs'!B$4:E$43,4,FALSE))","v":4}]
[null,null,"Networking Equipment (Large Routers)",622056.26,{"$f":"IF(Spend=\"\",\"\",VLOOKUP(GrpRank,'Lookups&Calcs'!B$4:E$43,4,FALSE))","v":1}]
[null,null,"PCs: Macs/Workstation/Thin Client",2544120.34,{"$f":"IF(Spend=\"\",\"\",VLOOKUP(GrpRank,'Lookups&Calcs'!B$4:E$43,4,FALSE))","v":1}]
[null,null,"Printers/MFD's",77968.820000000007,{"$f":"IF(Spend=\"\",\"\",VLOOKUP(GrpRank,'Lookups&Calcs'!B$4:E$43,4,FALSE))","v":1}]
[null,null,"Cages and Racking, Isolators",{"$f":"76769.99+202586.95","v":279356.94},{"$f":"IF(Spend=\"\",\"\",VLOOKUP(GrpRank,'Lookups&Calcs'!B$4:E$43,4,FALSE))","v":1}]
[null,null,"Laboratory Small Appaaratus and Equipment Purchase",5867081.6399999997,{"$f":"IF(Spend=\"\",\"\",VLOOKUP(GrpRank,'Lookups&Calcs'!B$4:E$43,4,FALSE))","v":5}]
[null,null,"Medical, Surgical, Nursing Supplies & Services Small Apparatus, Equipment and Instruments",2792543.53,{"$f":"IF(Spend=\"\",\"\",VLOOKUP(GrpRank,'Lookups&Calcs'!B$4:E$43,4,FALSE))","v":2}]
[null,null,"",null,{"$f":"IF(Spend=\"\",\"\",VLOOKUP(GrpRank,'Lookups&Calcs'!B$4:E$43,4,FALSE))","v":""}]
[null,null,"",null,{"$f":"IF(Spend=\"\",\"\",VLOOKUP(GrpRank,'Lookups&Calcs'!B$4:E$43,4,FALSE))","v":""}]
[null,null,"",null,{"$f":"IF(Spend=\"\",\"\",VLOOKUP(GrpRank,'Lookups&Calcs'!B$4:E$43,4,FALSE))","v":""}]
[null,null,"",null,{"$f":"IF(Spend=\"\",\"\",VLOOKUP(GrpRank,'Lookups&Calcs'!B$4:E$43,4,FALSE))","v":""}]
[null,null,"",null,{"$f":"IF(Spend=\"\",\"\",VLOOKUP(GrpRank,'Lookups&Calcs'!B$4:E$43,4,FALSE))","v":""}]
[null,null,"",null,{"$f":"IF(Spend=\"\",\"\",VLOOKUP(GrpRank,'Lookups&Calcs'!B$4:E$43,4,FALSE))","v":""}]
[null,null,"",null,{"$f":"IF(Spend=\"\",\"\",VLOOKUP(GrpRank,'Lookups&Calcs'!B$4:E$43,4,FALSE))","v":""}]
[null,null,"",null,{"$f":"IF(Spend=\"\",\"\",VLOOKUP(GrpRank,'Lookups&Calcs'!B$4:E$43,4,FALSE))","v":""}]
[null,null,"",null,{"$f":"IF(Spend=\"\",\"\",VLOOKUP(GrpRank,'Lookups&Calcs'!B$4:E$43,4,FALSE))","v":""}]
[null,null,"",null,{"$f":"IF(Spend=\"\",\"\",VLOOKUP(GrpRank,'Lookups&Calcs'!B$4:E$43,4,FALSE))","v":""}]
[null,null,"",null,{"$f":"IF(Spend=\"\",\"\",VLOOKUP(GrpRank,'Lookups&Calcs'!B$4:E$43,4,FALSE))","v":""}]
[null,null,"",null,{"$f":"IF(Spend=\"\",\"\",VLOOKUP(GrpRank,'Lookups&Calcs'!B$4:E$43,4,FALSE))","v":""}]
[null,null,"",null,{"$f":"IF(Spend=\"\",\"\",VLOOKUP(GrpRank,'Lookups&Calcs'!B$4:E$43,4,FALSE))","v":""}]
[null,null,"",null,{"$f":"IF(Spend=\"\",\"\",VLOOKUP(GrpRank,'Lookups&Calcs'!B$4:E$43,4,FALSE))","v":""}]
[null,null,"",null,{"$f":"IF(Spend=\"\",\"\",VLOOKUP(GrpRank,'Lookups&Calcs'!B$4:E$43,4,FALSE))","v":""}]
[null,null,"",null,{"$f":"IF(Spend=\"\",\"\",VLOOKUP(GrpRank,'Lookups&Calcs'!B$4:E$43,4,FALSE))","v":""}]
[null,null,"",null,{"$f":"IF(Spend=\"\",\"\",VLOOKUP(GrpRank,'Lookups&Calcs'!B$4:E$43,4,FALSE))","v":""}]
[null,null,"",null,{"$f":"IF(Spend=\"\",\"\",VLOOKUP(GrpRank,'Lookups&Calcs'!B$4:E$43,4,FALSE))","v":""}]
[null,null,"",null,{"$f":"IF(Spend=\"\",\"\",VLOOKUP(GrpRank,'Lookups&Calcs'!B$4:E$43,4,FALSE))","v":""}]
[null,null,"",null,{"$f":"IF(Spend=\"\",\"\",VLOOKUP(GrpRank,'Lookups&Calcs'!B$4:E$43,4,FALSE))","v":""}]
[null,null,"",null,{"$f":"IF(Spend=\"\",\"\",VLOOKUP(GrpRank,'Lookups&Calcs'!B$4:E$43,4,FALSE))","v":""}]
[null,null,"",null,{"$f":"IF(Spend=\"\",\"\",VLOOKUP(GrpRank,'Lookups&Calcs'!B$4:E$43,4,FALSE))","v":""}]
[null,null,"",null,{"$f":"IF(Spend=\"\",\"\",VLOOKUP(GrpRank,'Lookups&Calcs'!B$4:E$43,4,FALSE))","v":""}]
[null,null,"",null,{"$f":"IF(Spend=\"\",\"\",VLOOKUP(GrpRank,'Lookups&Calcs'!B$4:E$43,4,FALSE))","v":""}]
[null,null,"",null,{"$f":"IF(Spend=\"\",\"\",VLOOKUP(GrpRank,'Lookups&Calcs'!B$4:E$43,4,FALSE))","v":""}]
[null,null,"",null,{"$f":"IF(Spend=\"\",\"\",VLOOKUP(GrpRank,'Lookups&Calcs'!B$4:E$43,4,FALSE))","v":""}]
[null,null,"",null,{"$f":"IF(Spend=\"\",\"\",VLOOKUP(GrpRank,'Lookups&Calcs'!B$4:E$43,4,FALSE))","v":""}]
[null,null,"",null,{"$f":"IF(Spend=\"\",\"\",VLOOKUP(GrpRank,'Lookups&Calcs'!B$4:E$43,4,FALSE))","v":""}]
[null,null,"",null,{"$f":"IF(Spend=\"\",\"\",VLOOKUP(GrpRank,'Lookups&Calcs'!B$4:E$43,4,FALSE))","v":""}]
[null,null,"",null,{"$f":"IF(Spend=\"\",\"\",VLOOKUP(GrpRank,'Lookups&Calcs'!B$4:E$43,4,FALSE))","v":""}]
[null,null,"",null,{"$f":"IF(Spend=\"\",\"\",VLOOKUP(GrpRank,'Lookups&Calcs'!B$4:E$43,4,FALSE))","v":""}]
[null,null,"",null,{"$f":"IF(Spend=\"\",\"\",VLOOKUP(GrpRank,'Lookups&Calcs'!B$4:E$43,4,FALSE))","v":""}]
[null,null,"Total spend:",{"$f":"SUM(OFFSET(D3,1,0,COUNTA(ProductGroups),1))","v":19918015.43}]
[]
[]
[null,null,{"$f":"IF(COUNTA(ProductGroups)=COUNTA(OFFSET(D3,1,0,COUNTA(ProductGroups),1)),\"\",\"Response not complete: please enter spend amount for each product group listed.\")","v":""}]

{"sheet":"Risks","index":5,"n_rows":66,"n_cols":89,"rows_kept":66,"cut":false,"hidden":false,"merged":[[24,81,24,82],[23,81,23,82],[27,81,28,82],[1,79,2,80],[1,73,2,74],[1,71,2,72],[1,75,2,76],[1,77,2,78],[23,71,23,72],[23,73,23,74],[23,75,23,76],[23,77,23,78],[23,79,23,80],[24,77,24,78],[24,79,24,80],[24,71,24,72],[24,73,24,74],[24,75,24,76],[27,71,28,72],[27,73,28,74],[27,75,28,76],[27,77,28,78],[27,79,28,80],[55,1,56,1],[1,69,2,70],[1,67,2,68],[1,65,2,66],[1,57,2,58],[1,59,2,60],[1,63,2,64],[1,23,2,24],[1,49,2,50],[1,51,2,52],[49,3,49,4],[49,5,49,6],[49,7,49,8],[49,9,49,10],[49,11,49,12],[49,13,49,14],[49,23,49,24],[49,25,49,26],[49,27,49,28],[49,29,49,30],[49,15,49,16],[49,17,49,18],[49,19,49,20],[49,21,49,22],[1,61,2,62],[1,53,2,54],[1,55,2,56],[1,0,1,2],[1,81,2,82],[1,39,2,40],[1,37,2,38],[1,21,2,22],[1,25,2,26],[1,27,2,28],[1,31,2,32],[1,17,2,18],[1,7,2,8],[1,9,2,10],[1,19,2,20],[1,3,2,4],[1,5,2,6],[1,11,2,12],[1,13,2,14],[1,15,2,16],[1,33,2,34],[1,29,2,30],[1,43,2,44],[1,41,2,42],[1,35,2,36],[1,45,2,46],[1,47,2,48],[50,15,50,16],[50,17,50,18],[50,19,50,20],[50,21,50,22],[23,21,23,22],[23,15,23,16],[23,17,23,18],[23,19,23,20],[24,15,24,16],[23,23,23,24],[23,25,23,26],[23,27,23,28],[24,17,24,18],[24,19,24,20],[24,21,24,22],[24,23,24,24],[24,25,24,26],[24,27,24,28],[27,37,28,38],[27,39,28,40],[27,17,28,18],[50,3,50,4],[50,5,50,6],[50,7,50,8],[50,9,50,10],[50,11,50,12],[50,13,50,14],[23,3,23,4],[23,5,23,6],[23,7,23,8],[23,9,23,10],[23,11,23,12],[23,13,23,14],[24,3,24,4],[24,5,24,6],[24,7,24,8],[24,9,24,10],[24,11,24,12],[24,13,24,14],[49,77,49,78],[49,55,49,56],[49,57,49,58],[49,79,49,80],[49,81,49,82],[49,59,49,60],[49,61,49,62],[49,63,49,64],[49,65,49,66],[49,67,49,68],[49,69,49,70],[49,75,49,76],[49,71,49,72],[49,73,49,74],[49,51,49,52],[49,53,49,54],[49,43,49,44],[49,45,49,46],[50,23,50,24],[50,25,50,26],[50,27,50,28],[50,29,50,30],[50,31,50,32],[50,33,50,34],[50,35,50,36],[50,37,50,38],[50,39,50,40],[49,41,49,42],[49,47,49,48],[49,49,49,50],[49,31,49,32],[49,33,49,34],[49,35,49,36],[49,37,49,38],[49,39,49,40],[50,71,50,72],[50,73,50,74],[50,47,50,48],[50,49,50,50],[50,51,50,52],[50,53,50,54],[50,55,50,56],[50,41,50,42],[50,81,50,82],[50,59,50,60],[50,61,50,62],[50,63,50,64],[50,65,50,66],[50,67,50,68],[50,69,50,70],[50,43,50,44],[50,45,50,46],[50,75,50,76],[50,77,50,78],[50,79,50,80],[50,57,50,58],[53,13,54,14],[53,11,54,12],[59,3,59,4],[59,5,59,6],[59,7,59,8],[59,9,59,10],[59,11,59,12],[59,13,59,14],[53,3,54,4],[53,5,54,6],[53,7,54,8],[53,9,54,10],[61,3,61,4],[61,5,61,6],[61,7,61,8],[61,9,61,10],[61,11,61,12],[61,13,61,14],[59,63,59,64],[59,65,59,66],[59,67,59,68],[59,51,59,52],[59,53,59,54],[59,55,59,56],[59,57,59,58],[59,59,59,60],[59,61,59,62],[59,39,59,40],[59,41,59,42],[59,43,59,44],[59,45,59,46],[59,47,59,48],[59,15,59,16],[59,17,59,18],[59,19,59,20],[59,21,59,22],[59,81,59,82],[59,69,59,70],[59,71,59,72],[59,73,59,74],[59,75,59,76],[59,77,59,78],[59,79,59,80],[59,49,59,50],[59,27,59,28],[59,29,59,30],[59,31,59,32],[59,33,59,34],[59,35,59,36],[59,37,59,38],[59,23,59,24],[59,25,59,26],[61,43,61,44],[61,45,61,46],[61,49,61,50],[61,27,61,28],[61,29,61,30],[61,31,61,32],[61,33,61,34],[61,35,61,36],[61,39,61,40],[61,41,61,42],[61,79,61,80],[63,61,63,62],[63,63,63,64],[63,65,63,66],[63,67,63,68],[63,69,63,70],[63,49,63,50],[63,29,63,30],[63,31,63,32],[63,33,63,34],[63,35,63,36],[63,57,63,58],[63,71,63,72],[63,59,63,60],[63,37,63,38],[63,39,63,40],[63,41,63,42],[63,43,63,44],[61,81,61,82],[63,3,63,4],[63,5,63,6],[63,7,63,8],[63,9,63,10],[63,11,63,12],[63,13,63,14],[61,63,61,64],[61,65,61,66],[61,67,61,68],[61,69,61,70],[61,71,61,72],[61,73,61,74],[61,51,61,52],[61,53,61,54],[61,55,61,56],[61,57,61,58],[61,59,61,60],[61,61,61,62],[63,77,63,78],[63,45,63,46],[63,79,63,80],[61,47,61,48],[63,81,63,82],[53,15,54,16],[53,17,54,18],[53,19,54,20],[53,21,54,22],[53,71,54,72],[53,23,54,24],[53,25,54,26],[53,59,54,60],[53,61,54,62],[53,47,54,48],[53,35,54,36],[63,15,63,16],[63,17,63,18],[63,19,63,20],[63,21,63,22],[63,23,63,24],[61,77,61,78],[63,47,63,48],[63,51,63,52],[63,53,63,54],[63,55,63,56],[61,75,61,76],[63,73,63,74],[63,75,63,76],[61,37,61,38],[63,25,63,26],[61,15,61,16],[61,17,61,18],[61,19,61,20],[61,21,61,22],[61,23,61,24],[61,25,61,26],[63,27,63,28],[53,81,54,82],[53,27,54,28],[53,29,54,30],[53,33,54,34],[53,37,54,38],[53,39,54,40],[53,69,54,70],[53,51,54,52],[53,53,54,54],[53,55,54,56],[53,57,54,58],[53,75,54,76],[53,77,54,78],[53,63,54,64],[53,65,54,66],[53,31,54,32],[53,67,54,68],[53,49,54,50],[53,41,54,42],[53,43,54,44],[53,45,54,46],[53,79,54,80],[53,73,54,74],[23,53,23,54],[23,55,23,56],[23,57,23,58],[23,35,23,36],[23,37,23,38],[23,39,23,40],[23,41,23,42],[23,43,23,44],[23,45,23,46],[23,63,23,64],[23,65,23,66],[23,67,23,68],[23,69,23,70],[23,29,23,30],[23,31,23,32],[23,33,23,34],[24,45,24,46],[24,47,24,48],[24,49,24,50],[24,51,24,52],[24,29,24,30],[24,31,24,32],[24,33,24,34],[24,35,24,36],[24,37,24,38],[24,39,24,40],[24,67,24,68],[24,69,24,70],[23,59,23,60],[23,61,23,62],[23,47,23,48],[23,49,23,50],[23,51,23,52],[27,0,27,2],[27,3,28,4],[27,5,28,6],[27,7,28,8],[27,9,28,10],[27,11,28,12],[27,13,28,14],[27,15,28,16],[24,65,24,66],[24,53,24,54],[24,55,24,56],[24,57,24,58],[24,59,24,60],[24,61,24,62],[24,63,24,64],[24,41,24,42],[24,43,24,44],[27,41,28,42],[27,43,28,44],[27,45,28,46],[27,29,28,30],[27,31,28,32],[27,33,28,34],[27,35,28,36],[27,19,28,20],[27,21,28,22],[27,23,28,24],[27,25,28,26],[27,27,28,28],[27,67,28,68],[27,69,28,70],[27,55,28,56],[27,59,28,60],[27,61,28,62],[27,63,28,64],[27,65,28,66],[27,57,28,58],[27,47,28,48],[27,49,28,50],[27,51,28,52],[27,53,28,54]]}
[]
["Environmental Assessment",null,null,{"$f":"IF(INDEX(ProductGroups,COLUMN()/2-1)=\"\",\"\",INDEX(ProductGroups,COLUMN()/2-1))","v":"Mobile Tech"},null,{"$f":"IF(INDEX(ProductGroups,COLUMN()/2-1)=\"\",\"\",INDEX(ProductGroups,COLUMN()/2-1))","v":"Servers/Storage"},null,{"$f":"IF(INDEX(ProductGroups,COLUMN()/2-1)=\"\",\"\",INDEX(ProductGroups,COLUMN()/2-1))","v":"Networking Equipment (Large Routers)"},null,{"$f":"IF(INDEX(ProductGroups,COLUMN()/2-1)=\"\",\"\",INDEX(ProductGroups,COLUMN()/2-1))","v":"PCs: Macs/Workstation/Thin Client"},null,{"$f":"IF(INDEX(ProductGroups,COLUMN()/2-1)=\"\",\"\",INDEX(ProductGroups,COLUMN()/2-1))","v":"Printers/MFD's"},null,{"$f":"IF(INDEX(ProductGroups,COLUMN()/2-1)=\"\",\"\",INDEX(ProductGroups,COLUMN()/2-1))","v":"Cages and Racking, Isolators"},null,{"$f":"IF(INDEX(ProductGroups,COLUMN()/2-1)=\"\",\"\",INDEX(ProductGroups,COLUMN()/2-1))","v":"Laboratory Small Appaaratus and Equipment Purchase"},null,{"$f":"IF(INDEX(ProductGroups,COLUMN()/2-1)=\"\",\"\",INDEX(ProductGroups,COLUMN()/2-1))","v":"Medical, Surgical, Nursing Supplies & Services Small Apparatus, Equipment and Instruments"},null,{"$f":"IF(INDEX(ProductGroups,COLUMN()/2-1)=\"\",\"\",INDEX(ProductGroups,COLUMN()/2-1))","v":""},null,{"$f":"IF(INDEX(ProductGroups,COLUMN()/2-1)=\"\",\"\",INDEX(ProductGroups,COLUMN()/2-1))","v":""},null,{"$f":"IF(INDEX(ProductGroups,COLUMN()/2-1)=\"\",\"\",INDEX(ProductGroups,COLUMN()/2-1))","v":""},null,{"$f":"IF(INDEX(ProductGroups,COLUMN()/2-1)=\"\",\"\",INDEX(ProductGroups,COLUMN()/2-1))","v":""},null,{"$f":"IF(INDEX(ProductGroups,COLUMN()/2-1)=\"\",\"\",INDEX(ProductGroups,COLUMN()/2-1))","v":""},null,{"$f":"IF(INDEX(ProductGroups,COLUMN()/2-1)=\"\",\"\",INDEX(ProductGroups,COLUMN()/2-1))","v":""},null,{"$f":"IF(INDEX(ProductGroups,COLUMN()/2-1)=\"\",\"\",INDEX(ProductGroups,COLUMN()/2-1))","v":""},null,{"$f":"IF(INDEX(ProductGroups,COLUMN()/2-1)=\"\",\"\",INDEX(ProductGroups,COLUMN()/2-1))","v":""},null,{"$f":"IF(INDEX(ProductGroups,COLUMN()/2-1)=\"\",\"\",INDEX(ProductGroups,COLUMN()/2-1))","v":""},null,{"$f":"IF(INDEX(ProductGroups,COLUMN()/2-1)=\"\",\"\",INDEX(ProductGroups,COLUMN()/2-1))","v":""},null,{"$f":"IF(INDEX(ProductGroups,COLUMN()/2-1)=\"\",\"\",INDEX(ProductGroups,COLUMN()/2-1))","v":""},null,{"$f":"IF(INDEX(ProductGroups,COLUMN()/2-1)=\"\",\"\",INDEX(ProductGroups,COLUMN()/2-1))","v":""},null,{"$f":"IF(INDEX(ProductGroups,COLUMN()/2-1)=\"\",\"\",INDEX(ProductGroups,COLUMN()/2-1))","v":""},null,{"$f":"IF(INDEX(ProductGroups,COLUMN()/2-1)=\"\",\"\",INDEX(ProductGroups,COLUMN()/2-1))","v":""},null,{"$f":"IF(INDEX(ProductGroups,COLUMN()/2-1)=\"\",\"\",INDEX(ProductGroups,COLUMN()/2-1))","v":""},null,{"$f":"IF(INDEX(ProductGroups,COLUMN()/2-1)=\"\",\"\",INDEX(ProductGroups,COLUMN()/2-1))","v":""},null,{"$f":"IF(INDEX(ProductGroups,COLUMN()/2-1)=\"\",\"\",INDEX(ProductGroups,COLUMN()/2-1))","v":""},null,{"$f":"IF(INDEX(ProductGroups,COLUMN()/2-1)=\"\",\"\",INDEX(ProductGroups,COLUMN()/2-1))","v":""},null,{"$f":"IF(INDEX(ProductGroups,COLUMN()/2-1)=\"\",\"\",INDEX(ProductGroups,COLUMN()/2-1))","v":""},null,{"$f":"IF(INDEX(ProductGroups,COLUMN()/2-1)=\"\",\"\",INDEX(ProductGroups,COLUMN()/2-1))","v":""},null,{"$f":"IF(INDEX(ProductGroups,COLUMN()/2-1)=\"\",\"\",INDEX(ProductGroups,COLUMN()/2-1))","v":""},null,{"$f":"IF(INDEX(ProductGroups,COLUMN()/2-1)=\"\",\"\",INDEX(ProductGroups,COLUMN()/2-1))","v":""},null,{"$f":"IF(INDEX(ProductGroups,COLUMN()/2-1)=\"\",\"\",INDEX(ProductGroups,COLUMN()/2-1))","v":""},null,{"$f":"IF(INDEX(ProductGroups,COLUMN()/2-1)=\"\",\"\",INDEX(ProductGroups,COLUMN()/2-1))","v":""},null,{"$f":"IF(INDEX(ProductGroups,COLUMN()/2-1)=\"\",\"\",INDEX(ProductGroups,COLUMN()/2-1))","v":""},null,{"$f":"IF(INDEX(ProductGroups,COLUMN()/2-1)=\"\",\"\",INDEX(ProductGroups,COLUMN()/2-1))","v":""},null,{"$f":"IF(INDEX(ProductGroups,COLUMN()/2-1)=\"\",\"\",INDEX(ProductGroups,COLUMN()/2-1))","v":""},null,{"$f":"IF(INDEX(ProductGroups,COLUMN()/2-1)=\"\",\"\",INDEX(ProductGroups,COLUMN()/2-1))","v":""},null,{"$f":"IF(INDEX(ProductGroups,COLUMN()/2-1)=\"\",\"\",INDEX(ProductGroups,COLUMN()/2-1))","v":""},null,{"$f":"IF(INDEX(ProductGroups,COLUMN()/2-1)=\"\",\"\",INDEX(ProductGroups,COLUMN()/2-1))","v":""},null,{"$f":"IF(INDEX(ProductGroups,COLUMN()/2-1)=\"\",\"\",INDEX(ProductGroups,COLUMN()/2-1))","v":""},null,{"$f":"IF(INDEX(ProductGroups,COLUMN()/2-1)=\"\",\"\",INDEX(ProductGroups,COLUMN()/2-1))","v":""}]
[null,"Use the columns to the right of the scores to make relevant comments\n(e.g. reasons for scoring,  sources of info. etc.) ","How relevant is this issue to your organisation’s procurement of this category? (0 = Not relevant; 1 = Low relevance; 2 = Medium; 3 = Critical issue)"]
[null,"Scroll down to complete all questions.",{"$f":"IF(EnvIssues=\"\",\"\",EnvIssues)","v":"Climate Change"},2,"numbers of devices (Quanity of varyoing types), short lifespan, one component fails device binned.",3,"Hi levels of Electricity consumed in use, including air conditioning, raw materials and manufacturing.",2,"Clusters of routersrequire air conditioning and at this level have high energy use.",3,"Energy used (£200k/annum) extracting, manufacturing and disposal; using is substantially reduced through managed power schemes",3,"Energy used, High levels of associated consumables. ",3,"Moving towards  individual ventilation of cages, fed by central ventilation, at the moment high energy consumption down to ventilation, duplication, high impact and volume",3,"Energy used - due to high numbers, extracting, manufacturing and disposal; ",3,"particularly in manufacturing, and raw materials stage",null,"[Insert comments here]",null,"[Insert comments here]",null,"[Insert comments here]",null,"[Insert comments here]",null,"[Insert comments here]",null,"[Insert comments here]",null,"[Insert comments here]",null,"[Insert comments here]",null,"[Insert comments here]",null,"[Insert comments here]",null,"[Insert comments here]",null,"[Insert comments here]",null,"[Insert comments here]",null,"[Insert comments here]",null,"[Insert comments here]",null,"[Insert comments here]",null,"[Insert comments here]",null,"[Insert comments here]",null,"[Insert comments here]",null,"[Insert comments here]",null,"[Insert comments here]",null,"[Insert comments here]",null,"[Insert comments here]",null,"[Insert comments here]",null,"[Insert comments here]",null,"[Insert comments here]",null,"[Insert comments here]",null,"[Insert comments here]",null,"[Insert comments here]",null,"[Insert comments here]",null,"[Insert comments here]",null,"[Insert comments here]",null,null,null,null,null,"[Insert comments here]"]
[null,null,"Materials",3,"scarce minerals, ethical extraction, working conditions, conflict Minerals, Plastics (Virgin/reuse)",3,"scarcity, ethical extraction, working conditions, conflict Minerals, Plastics (Virgin/reuse)",3,"scarcity, ethical extraction, working conditions, conflict Minerals, Plastics (Virgin/reuse)",3,"scarcity, ethical extraction, working conditions, conflict Minerals, Plastics (Virgin/reuse)",3,"scarcity, ethical extraction, working conditions, conflict Minerals, Plastics (Virgin/reuse) also in consumables used. (base of inks and toners is not currently known). Virgin/recycle papers.",1,"Stainless steel, steel, polycarbonate, opportunities for recycling,  scarcity, ethical extraction, working conditions, conflict Mineral, more confidence in manufacturers - good practices already in place",3,"scarcity, ethical extraction, working conditions, conflict Minerals, Plastics (Virgin/reuse)",3,"scarcity, ethical extraction, working conditions, conflict Minerals, Plastics (Virgin/reuse)",null,"[Insert comments here]",null,"[Insert comments here]",null,"[Insert comments here]",null,"[Insert comments here]",null,"[Insert comments here]",null,"[Insert comments here]",null,"[Insert comments here]",null,"[Insert comments here]",null,"[Insert comments here]",null,"[Insert comments here]",null,"[Insert comments here]",null,"[Insert comments here]",null,"[Insert comments here]",null,"[Insert comments here]",null,"[Insert comments here]",null,"[Insert comments here]",null,"[Insert comments here]",null,"[Insert comments here]",null,"[Insert comments here]",null,"[Insert comments here]",null,"[Insert comments here]",null,"[Insert comments here]",null,"[Insert comments here]",null,"[Insert comments here]",null,"[Insert comments here]",null,"[Insert comments here]",null,"[Insert comments here]",null,"[Insert comments here]",null,"[Insert comments here]",null,"[Insert comments here]",null,"[Insert comments here]",null,"[Insert comments here]",null,null,null,null,null,"[Insert comments here]"]
[null,null,"Waste",3,"large numbers, seen as disposable, high fail rates. Heavily legislated with regard to end of life disposal. Polysterene/packaging.",3,"Complicated component mix, complex reuse/recycling processes required, large quantity of materials",3,"Complicated component mix, complex reuse/recycling processes required, large quantity of materials",3,"large numbers, seen as disposable, high fail rates. Heavily legislated with regard to end of life disposal. Polysterene/packaging.",3,"large numbers, seen as disposable, high fail rates. Heavily legislated with regard to end of life disposal. Polysterene/packaging.",1,"opoortunities for recycling, already a lot happening, similar level of legislation to WEEE",3,"large numbers,. Heavily legislated with regard to end of life disposal. Polysterene/packaging.",3,"large numbers, coumables, heavily legislated with regard to end of life disposal. Polysterene/packaging.",null,"[Insert comments here]",null,"[Insert comments here]",null,"[Insert comments here]",null,"[Insert comments here]",null,"[Insert comments here]",null,"[Insert comments here]",null,"[Insert comments here]",null,"[Insert comments here]",null,"[Insert comments here]",null,"[Insert comments here]",null,"[Insert comments here]",null,"[Insert comments here]",null,"[Insert comments here]",null,"[Insert comments here]",null,"[Insert comments here]",null,"[Insert comments here]",null,"[Insert comments here]",null,"[Insert comments here]",null,"[Insert comments here]",null,"[Insert comments here]",null,"[Insert comments here]",null,"[Insert comments here]",null,"[Insert comments here]",null,"[Insert comments here]",null,"[Insert comments here]",null,"[Insert comments here]",null,"[Insert comments here]",null,"[Insert comments here]",null,"[Insert comments here]",null,"[Insert comments here]",null,"[Insert comments here]",null,"[Insert comments here]",null,null,null,null,null,"[Insert comments here]"]
[null,null,"Hazardous materials",2,"RoHS now standard in product\nExtraction of materials and manufacturing. Chemistry is however utilised in manufacturing process.",2,"RoHS now standard in product\nExtraction of materials and manufacturing. Chemistry is however utilised in manufacturing process.",2,"RoHS now standard in product\nExtraction of materials and manufacturing. Chemistry is however utilised in manufacturing process.",2,"RoHS now standard in product\nExtraction of materials and manufacturing. Chemistry is however utilised in manufacturing process.",2,"RoHS now standard in product\nExtraction of materials and manufacturing. Chemistry is however utilised in manufacturing process.",3,"still contain similar materials as ICT, require heavy duty sterilisation equipment, require COSHH assessments",2,"RoHS now standard in product\nExtraction of materials and manufacturing. Chemistry is however utilised in manufacturing process.",3,"RoHS now standard in product\nExtraction of materials and manufacturing. Chemistry is however utilised in manufacturing process. Commodity area directly includes hazardous chemicals",null,"[Insert comments here]",null,"[Insert comments here]",null,"[Insert comments here]",null,"[Insert comments here]",null,"[Insert comments here]",null,"[Insert comments here]",null,"[Insert comments here]",null,"[Insert comments here]",null,"[Insert comments here]",null,"[Insert comments here]",null,"[Insert comments here]",null,"[Insert comments here]",null,"[Insert comments here]",null,"[Insert comments here]",null,"[Insert comments here]",null,"[Insert comments here]",null,"[Insert comments here]",null,"[Insert comments here]",null,"[Insert comments here]",null,"[Insert comments here]",null,"[Insert comments here]",null,"[Insert comments here]",null,"[Insert comments here]",null,"[Insert comments here]",null,"[Insert comments here]",null,"[Insert comments here]",null,"[Insert comments here]",null,"[Insert comments here]",null,"[Insert comments here]",null,"[Insert comments here]",null,"[Insert comments here]",null,"[Insert comments here]",null,null,null,null,null,"[Insert comments here]"]
[null,null,"Biodiversity",1,"impact on mining  sites (International), illegal reclamation sites",1,"Mineral extraction and energy use (in extraction and manufacturing) has a high impact on environment",1,"Mineral extraction and energy use (in extraction and manufacturing) has a high impact on environment",1,"impact on mining  sites (International), illegal reclamation sites",2,"impact on mining  sites (International), illegal reclamation sites Deforest for virgin paper",1,"impact on mining  sites (International), illegal reclamation sites",1,"impact on mining  sites (International), illegal reclamation sites",3,"Cotton fields, impact on mining  sites (International), illegal reclamation sites, high direct impact",null,"[Insert comments here]",null,"[Insert comments here]",null,"[Insert comments here]",null,"[Insert comments here]",null,"[Insert comments here]",null,"[Insert comments here]",null,"[Insert comments here]",null,"[Insert comments here]",null,"[Insert comments here]",null,"[Insert comments here]",null,"[Insert comments here]",null,"[Insert comments here]",null,"[Insert comments here]",null,"[Insert comments here]",null,"[Insert comments here]",null,"[Insert comments here]",null,"[Insert comments here]",null,"[Insert comments here]",null,"[Insert comments here]",null,"[Insert comments here]",null,"[Insert comments here]",null,"[Insert comments here]",null,"[Insert comments here]",null,"[Insert comments here]",null,"[Insert comments here]",null,"[Insert comments here]",null,"[Insert comments here]",null,"[Insert comments here]",null,"[Insert comments here]",null,"[Insert comments here]",null,"[Insert comments here]",null,"[Insert comments here]",null,null,null,null,null,"[Insert comments here]"]
[null,null,"Heritage",0,"Protected areas in Scotland are not affected. ",0,"Possibly in refit of protected buildings ",0,"not relevant",0,"Protected areas in Scotland are not affected. ",0,"Protected areas in Scotland are not affected. ",0,"Protected areas in Scotland are not affected. ",0,"Protected areas in Scotland are not affected. ",0,"Protected areas in Scotland are not affected. ",null,"[Insert comments here]",null,"[Insert comments here]",null,"[Insert comments here]",null,"[Insert comments here]",null,"[Insert comments here]",null,"[Insert comments here]",null,"[Insert comments here]",null,"[Insert comments here]",null,"[Insert comments here]",null,"[Insert comments here]",null,"[Insert comments here]",null,"[Insert comments here]",null,"[Insert comments here]",null,"[Insert comments here]",null,"[Insert comments here]",null,"[Insert comments here]",null,"[Insert comments here]",null,"[Insert comments here]",null,"[Insert comments here]",null,"[Insert comments here]",null,"[Insert comments here]",null,"[Insert comments here]",null,"[Insert comments here]",null,"[Insert comments here]",null,"[Insert comments here]",null,"[Insert comments here]",null,"[Insert comments here]",null,"[Insert comments here]",null,"[Insert comments here]",null,"[Insert comments here]",null,"[Insert comments here]",null,"[Insert comments here]",null,null,null,null,null,"[Insert comments here]"]
[null,null,"Water",1,"mostly in extraction, manufacturing and disposal, but less than in many other industries - comparatively low",1,"Manufacturing and raw material extraction can have a big impact on water use and pollution",1,"Manufacturing and raw material extraction can have a big impact on water use and pollution",1,"mostly in extraction, manufacturing and disposal, but less than in many other industries - comparatively low",2,"Water consumed re paper, mostly in milling process, manufacturing and disposal.",2,"cleaning and sterilisation, very water intesive",2,"mostly in extraction, manufacturing and disposal, but less than in many other industries - comparatively low",3,"mostly in extraction, manufacturing and disposal, particularly high water consumption in cotton farming",null,"[Insert comments here]",null,"[Insert comments here]",null,"[Insert comments here]",null,"[Insert comments here]",null,"[Insert comments here]",null,"[Insert comments here]",null,"[Insert comments here]",null,"[Insert comments here]",null,"[Insert comments here]",null,"[Insert comments here]",null,"[Insert comments here]",null,"[Insert comments here]",null,"[Insert comments here]",null,"[Insert comments here]",null,"[Insert comments here]",null,"[Insert comments here]",null,"[Insert comments here]",null,"[Insert comments here]",null,"[Insert comments here]",null,"[Insert comments here]",null,"[Insert comments here]",null,"[Insert comments here]",null,"[Insert comments here]",null,"[Insert comments here]",null,"[Insert comments here]",null,"[Insert comments here]",null,"[Insert comments here]",null,"[Insert comments here]",null,"[Insert comments here]",null,"[Insert comments here]",null,"[Insert comments here]",null,"[Insert comments here]",null,null,null,null,null,"[Insert comments here]"]
[null,null,{"$f":"IF(EnvIssues=\"\",\"\",EnvIssues)","v":""},null,"[Insert comments here]",null,"[Insert comments here]",null,"[Insert comments here]",null,"[Insert comments here]",null,"[Insert comments here]",null,"[Insert comments here]",null,"[Insert comments here]",null,"[Insert comments here]",null,"[Insert comments here]",null,"[Insert comments here]",null,"[Insert comments here]",null,"[Insert comments here]",null,"[Insert comments here]",null,"[Insert comments here]",null,"[Insert comments here]",null,"[Insert comments here]",null,"[Insert comments here]",null,"[Insert comments here]",null,"[Insert comments here]",null,"[Insert comments here]",null,"[Insert comments here]",null,"[Insert comments here]",null,"[Insert comments here]",null,"[Insert comments here]",null,"[Insert comments here]",null,"[Insert comments here]",null,"[Insert comments here]",null,"[Insert comments here]",null,"[Insert comments here]",null,"[Insert comments here]",null,"[Insert comments here]",null,"[Insert comments here]",null,"[Insert comments here]",null,"[Insert comments here]",null,"[Insert comments here]",null,"[Insert comments here]",null,"[Insert comments here]",null,"[Insert comments here]",null,"[Insert comments here]",null,"[Insert comments here]",null,null,null,null,null,"[Insert comments here]"]
[null,null,"",null,"[Insert comments here]",null,"[Insert comments here]",null,"[Insert comments here]",null,"[Insert comments here]",null,"[Insert comments here]",null,"[Insert comments here]",null,"[Insert comments here]",null,"[Insert comments here]",null,"[Insert comments here]",null,"[Insert comments here]",null,"[Insert comments here]",null,"[Insert comments here]",null,"[Insert comments here]",null,"[Insert comments here]",null,"[Insert comments here]",null,"[Insert comments here]",null,"[Insert comments here]",null,"[Insert comments here]",null,"[Insert comments here]",null,"[Insert comments here]",null,"[Insert comments here]",null,"[Insert comments here]",null,"[Insert comments here]",null,"[Insert comments here]",null,"[Insert comments here]",null,"[Insert comments here]",null,"[Insert comments here]",null,"[Insert comments here]",null,"[Insert comments here]",null,"[Insert comments here]",null,"[Insert comments here]",null,"[Insert comments here]",null,"[Insert comments here]",null,"[Insert comments here]",null,"[Insert comments here]",null,"[Insert comments here]",null,"[Insert comments here]",null,"[Insert comments here]",null,"[Insert comments here]",null,"[Insert comments here]",null,null,null,null,null,"[Insert comments here]"]
[null,null,"",null,"[Insert comments here]",null,"[Insert comments here]",null,"[Insert comments here]",null,"[Insert comments here]",null,"[Insert comments here]",null,"[Insert comments here]",null,"[Insert comments here]",null,"[Insert comments here]",null,"[Insert comments here]",null,"[Insert comments here]",null,"[Insert comments here]",null,"[Insert comments here]",null,"[Insert comments here]",null,"[Insert comments here]",null,"[Insert comments here]",null,"[Insert comments here]",null,"[Insert comments here]",null,"[Insert comments here]",null,"[Insert comments here]",null,"[Insert comments here]",null,"[Insert comments here]",null,"[Insert comments here]",null,"[Insert comments here]",null,"[Insert comments here]",null,"[Insert comments here]",null,"[Insert comments here]",null,"[Insert comments here]",null,"[Insert comments here]",null,"[Insert comments here]",null,"[Insert comments here]",null,"[Insert comments here]",null,"[Insert comments here]",null,"[Insert comments here]",null,"[Insert comments here]",null,"[Insert comments here]",null,"[Insert comments here]",null,"[Insert comments here]",null,"[Insert comments here]",null,"[Insert comments here]",null,"[Insert comments here]",null,null,null,null,null,"[Insert comments here]"]
[null,null,"",null,"[Insert comments here]",null,"[Insert comments here]",null,"[Insert comments here]",null,"[Insert comments here]",null,"[Insert comments here]",null,"[Insert comments here]",null,"[Insert comments here]",null,"[Insert comments here]",null,"[Insert comments here]",null,"[Insert comments here]",null,"[Insert comments here]",null,"[Insert comments here]",null,"[Insert comments here]",null,"[Insert comments here]",null,"[Insert comments here]",null,"[Insert comments here]",null,"[Insert comments here]",null,"[Insert comments here]",null,"[Insert comments here]",null,"[Insert comments here]",null,"[Insert comments here]",null,"[Insert comments here]",null,"[Insert comments here]",null,"[Insert comments here]",null,"[Insert comments here]",null,"[Insert comments here]",null,"[Insert comments here]",null,"[Insert comments here]",null,"[Insert comments here]",null,"[Insert comments here]",null,"[Insert comments here]",null,"[Insert comments here]",null,"[Insert comments here]",null,"[Insert comments here]",null,"[Insert comments here]",null,"[Insert comments here]",null,"[Insert comments here]",null,"[Insert comments here]",null,"[Insert comments here]",null,"[Insert comments here]",null,null,null,null,null,"[Insert comments here]"]
[null,null,"",null,"[Insert comments here]",null,"[Insert comments here]",null,"[Insert comments here]",null,"[Insert comments here]",null,"[Insert comments here]",null,"[Insert comments here]",null,"[Insert comments here]",null,"[Insert comments here]",null,"[Insert comments here]",null,"[Insert comments here]",null,"[Insert comments here]",null,"[Insert comments here]",null,"[Insert comments here]",null,"[Insert comments here]",null,"[Insert comments here]",null,"[Insert comments here]",null,"[Insert comments here]",null,"[Insert comments here]",null,"[Insert comments here]",null,"[Insert comments here]",null,"[Insert comments here]",null,"[Insert comments here]",null,"[Insert comments here]",null,"[Insert comments here]",null,"[Insert comments here]",null,"[Insert comments here]",null,"[Insert comments here]",null,"[Insert comments here]",null,"[Insert comments here]",null,"[Insert comments here]",null,"[Insert comments here]",null,"[Insert comments here]",null,"[Insert comments here]",null,"[Insert comments here]",null,"[Insert comments here]",null,"[Insert comments here]",null,"[Insert comments here]",null,"[Insert comments here]",null,"[Insert comments here]",null,"[Insert comments here]",null,null,null,null,null,"[Insert comments here]"]
[null,null,"",null,"[Insert comments here]",null,"[Insert comments here]",null,"[Insert comments here]",null,"[Insert comments here]",null,"[Insert comments here]",null,"[Insert comments here]",null,"[Insert comments here]",null,"[Insert comments here]",null,"[Insert comments here]",null,"[Insert comments here]",null,"[Insert comments here]",null,"[Insert comments here]",null,"[Insert comments here]",null,"[Insert comments here]",null,"[Insert comments here]",null,"[Insert comments here]",null,"[Insert comments here]",null,"[Insert comments here]",null,"[Insert comments here]",null,"[Insert comments here]",null,"[Insert comments here]",null,"[Insert comments here]",null,"[Insert comments here]",null,"[Insert comments here]",null,"[Insert comments here]",null,"[Insert comments here]",null,"[Insert comments here]",null,"[Insert comments here]",null,"[Insert comments here]",null,"[Insert comments here]",null,"[Insert comments here]",null,"[Insert comments here]",null,"[Insert comments here]",null,"[Insert comments here]",null,"[Insert comments here]",null,"[Insert comments here]",null,"[Insert comments here]",null,"[Insert comments here]",null,"[Insert comments here]",null,"[Insert comments here]",null,null,null,null,null,"[Insert comments here]"]
[null,null,"",null,"[Insert comments here]",null,"[Insert comments here]",null,"[Insert comments here]",null,"[Insert comments here]",null,"[Insert comments here]",null,"[Insert comments here]",null,"[Insert comments here]",null,"[Insert comments here]",null,"[Insert comments here]",null,"[Insert comments here]",null,"[Insert comments here]",null,"[Insert comments here]",null,"[Insert comments here]",null,"[Insert comments here]",null,"[Insert comments here]",null,"[Insert comments here]",null,"[Insert comments here]",null,"[Insert comments here]",null,"[Insert comments here]",null,"[Insert comments here]",null,"[Insert comments here]",null,"[Insert comments here]",null,"[Insert comments here]",null,"[Insert comments here]",null,"[Insert comments here]",null,"[Insert comments here]",null,"[Insert comments here]",null,"[Insert comments here]",null,"[Insert comments here]",null,"[Insert comments here]",null,"[Insert comments here]",null,"[Insert comments here]",null,"[Insert comments here]",null,"[Insert comments here]",null,"[Insert comments here]",null,"[Insert comments here]",null,"[Insert comments here]",null,"[Insert comments here]",null,"[Insert comments here]",null,"[Insert comments here]",null,null,null,null,null,"[Insert comments here]"]
[null,null,"",null,"[Insert comments here]",null,"[Insert comments here]",null,"[Insert comments here]",null,"[Insert comments here]",null,"[Insert comments here]",null,"[Insert comments here]",null,"[Insert comments here]",null,"[Insert comments here]",null,"[Insert comments here]",null,"[Insert comments here]",null,"[Insert comments here]",null,"[Insert comments here]",null,"[Insert comments here]",null,"[Insert comments here]",null,"[Insert comments here]",null,"[Insert comments here]",null,"[Insert comments here]",null,"[Insert comments here]",null,"[Insert comments here]",null,"[Insert comments here]",null,"[Insert comments here]",null,"[Insert comments here]",null,"[Insert comments here]",null,"[Insert comments here]",null,"[Insert comments here]",null,"[Insert comments here]",null,"[Insert comments here]",null,"[Insert comments here]",null,"[Insert comments here]",null,"[Insert comments here]",null,"[Insert comments here]",null,"[Insert comments here]",null,"[Insert comments here]",null,"[Insert comments here]",null,"[Insert comments here]",null,"[Insert comments here]",null,"[Insert comments here]",null,"[Insert comments here]",null,"[Insert comments here]",null,"[Insert comments here]",null,null,null,null,null,"[Insert comments here]"]
[null,null,"",null,"[Insert comments here]",null,"[Insert comments here]",null,"[Insert comments here]",null,"[Insert comments here]",null,"[Insert comments here]",null,"[Insert comments here]",null,"[Insert comments here]",null,"[Insert comments here]",null,"[Insert comments here]",null,"[Insert comments here]",null,"[Insert comments here]",null,"[Insert comments here]",null,"[Insert comments here]",null,"[Insert comments here]",null,"[Insert comments here]",null,"[Insert comments here]",null,"[Insert comments here]",null,"[Insert comments here]",null,"[Insert comments here]",null,"[Insert comments here]",null,"[Insert comments here]",null,"[Insert comments here]",null,"[Insert comments here]",null,"[Insert comments here]",null,"[Insert comments here]",null,"[Insert comments here]",null,"[Insert comments here]",null,"[Insert comments here]",null,"[Insert comments here]",null,"[Insert comments here]",null,"[Insert comments here]",null,"[Insert comments here]",null,"[Insert comments here]",null,"[Insert comments here]",null,"[Insert comments here]",null,"[Insert comments here]",null,"[Insert comments here]",null,"[Insert comments here]",null,"[Insert comments here]",null,"[Insert comments here]",null,null,null,null,null,"[Insert comments here]"]
[null,null,"",null,"[Insert comments here]",null,"[Insert comments here]",null,"[Insert comments here]",null,"[Insert comments here]",null,"[Insert comments here]",null,"[Insert comments here]",null,"[Insert comments here]",null,"[Insert comments here]",null,"[Insert comments here]",null,"[Insert comments here]",null,"[Insert comments here]",null,"[Insert comments here]",null,"[Insert comments here]",null,"[Insert comments here]",null,"[Insert comments here]",null,"[Insert comments here]",null,"[Insert comments here]",null,"[Insert comments here]",null,"[Insert comments here]",null,"[Insert comments here]",null,"[Insert comments here]",null,"[Insert comments here]",null,"[Insert comments here]",null,"[Insert comments here]",null,"[Insert comments here]",null,"[Insert comments here]",null,"[Insert comments here]",null,"[Insert comments here]",null,"[Insert comments here]",null,"[Insert comments here]",null,"[Insert comments here]",null,"[Insert comments here]",null,"[Insert comments here]",null,"[Insert comments here]",null,"[Insert comments here]",null,"[Insert comments here]",null,"[Insert comments here]",null,"[Insert comments here]",null,"[Insert comments here]",null,"[Insert comments here]",null,null,null,null,null,"[Insert comments here]"]
[null,null,"",null,"[Insert comments here]",null,"[Insert comments here]",null,"[Insert comments here]",null,"[Insert comments here]",null,"[Insert comments here]",null,"[Insert comments here]",null,"[Insert comments here]",null,"[Insert comments here]",null,"[Insert comments here]",null,"[Insert comments here]",null,"[Insert comments here]",null,"[Insert comments here]",null,"[Insert comments here]",null,"[Insert comments here]",null,"[Insert comments here]",null,"[Insert comments here]",null,"[Insert comments here]",null,"[Insert comments here]",null,"[Insert comments here]",null,"[Insert comments here]",null,"[Insert comments here]",null,"[Insert comments here]",null,"[Insert comments here]",null,"[Insert comments here]",null,"[Insert comments here]",null,"[Insert comments here]",null,"[Insert comments here]",null,"[Insert comments here]",null,"[Insert comments here]",null,"[Insert comments here]",null,"[Insert comments here]",null,"[Insert comments here]",null,"[Insert comments here]",null,"[Insert comments here]",null,"[Insert comments here]",null,"[Insert comments here]",null,"[Insert comments here]",null,"[Insert comments here]",null,"[Insert comments here]",null,"[Insert comments here]",null,null,null,null,null,"[Insert comments here]"]
[null,null,"",null,"[Insert comments here]",null,"[Insert comments here]",null,"[Insert comments here]",null,"[Insert comments here]",null,"[Insert comments here]",null,"[Insert comments here]",null,"[Insert comments here]",null,"[Insert comments here]",null,"[Insert comments here]",null,"[Insert comments here]",null,"[Insert comments here]",null,"[Insert comments here]",null,"[Insert comments here]",null,"[Insert comments here]",null,"[Insert comments here]",null,"[Insert comments here]",null,"[Insert comments here]",null,"[Insert comments here]",null,"[Insert comments here]",null,"[Insert comments here]",null,"[Insert comments here]",null,"[Insert comments here]",null,"[Insert comments here]",null,"[Insert comments here]",null,"[Insert comments here]",null,"[Insert comments here]",null,"[Insert comments here]",null,"[Insert comments here]",null,"[Insert comments here]",null,"[Insert comments here]",null,"[Insert comments here]",null,"[Insert comments here]",null,"[Insert comments here]",null,"[Insert comments here]",null,"[Insert comments here]",null,"[Insert comments here]",null,"[Insert comments here]",null,"[Insert comments here]",null,"[Insert comments here]",null,"[Insert comments here]",null,null,null,null,null,"[Insert comments here]"]
[null,null,"",null,"[Insert comments here]",null,"[Insert comments here]",null,"[Insert comments here]",null,"[Insert comments here]",null,"[Insert comments here]",null,"[Insert comments here]",null,"[Insert comments here]",null,"[Insert comments here]",null,"[Insert comments here]",null,"[Insert comments here]",null,"[Insert comments here]",null,"[Insert comments here]",null,"[Insert comments here]",null,"[Insert comments here]",null,"[Insert comments here]",null,"[Insert comments here]",null,"[Insert comments here]",null,"[Insert comments here]",null,"[Insert comments here]",null,"[Insert comments here]",null,"[Insert comments here]",null,"[Insert comments here]",null,"[Insert comments here]",null,"[Insert comments here]",null,"[Insert comments here]",null,"[Insert comments here]",null,"[Insert comments here]",null,"[Insert comments here]",null,"[Insert comments here]",null,"[Insert comments here]",null,"[Insert comments here]",null,"[Insert comments here]",null,"[Insert comments here]",null,"[Insert comments here]",null,"[Insert comments here]",null,"[Insert comments here]",null,"[Insert comments here]",null,"[Insert comments here]",null,"[Insert comments here]",null,"[Insert comments here]",null,null,null,null,null,"[Insert comments here]"]
[null,null,"Average of responses:",{"$f":"IF(OR(D2=\"\",ISERR(AVERAGE(OFFSET(D3,1,0,COUNTA(EnvIssues),1)))),\"\",AVERAGE(OFFSET(D3,1,0,COUNTA(EnvIssues),1)))","v":1.7142857142857142},null,{"$f":"IF(OR(F2=\"\",ISERR(AVERAGE(OFFSET(F3,1,0,COUNTA(EnvIssues),1)))),\"\",AVERAGE(OFFSET(F3,1,0,COUNTA(EnvIssues),1)))","v":1.8571428571428572},null,{"$f":"IF(OR(H2=\"\",ISERR(AVERAGE(OFFSET(H3,1,0,COUNTA(EnvIssues),1)))),\"\",AVERAGE(OFFSET(H3,1,0,COUNTA(EnvIssues),1)))","v":1.7142857142857142},null,{"$f":"IF(OR(J2=\"\",ISERR(AVERAGE(OFFSET(J3,1,0,COUNTA(EnvIssues),1)))),\"\",AVERAGE(OFFSET(J3,1,0,COUNTA(EnvIssues),1)))","v":1.8571428571428572},null,{"$f":"IF(OR(L2=\"\",ISERR(AVERAGE(OFFSET(L3,1,0,COUNTA(EnvIssues),1)))),\"\",AVERAGE(OFFSET(L3,1,0,COUNTA(EnvIssues),1)))","v":2.1428571428571428},null,{"$f":"IF(OR(N2=\"\",ISERR(AVERAGE(OFFSET(N3,1,0,COUNTA(EnvIssues),1)))),\"\",AVERAGE(OFFSET(N3,1,0,COUNTA(EnvIssues),1)))","v":1.5714285714285714},null,{"$f":"IF(OR(P2=\"\",ISERR(AVERAGE(OFFSET(P3,1,0,COUNTA(EnvIssues),1)))),\"\",AVERAGE(OFFSET(P3,1,0,COUNTA(EnvIssues),1)))","v":2},null,{"$f":"IF(OR(R2=\"\",ISERR(AVERAGE(OFFSET(R3,1,0,COUNTA(EnvIssues),1)))),\"\",AVERAGE(OFFSET(R3,1,0,COUNTA(EnvIssues),1)))","v":2.5714285714285716},null,{"$f":"IF(OR(T2=\"\",ISERR(AVERAGE(OFFSET(T3,1,0,COUNTA(EnvIssues),1)))),\"\",AVERAGE(OFFSET(T3,1,0,COUNTA(EnvIssues),1)))","v":""},null,{"$f":"IF(OR(V2=\"\",ISERR(AVERAGE(OFFSET(V3,1,0,COUNTA(EnvIssues),1)))),\"\",AVERAGE(OFFSET(V3,1,0,COUNTA(EnvIssues),1)))","v":""},null,{"$f":"IF(OR(X2=\"\",ISERR(AVERAGE(OFFSET(X3,1,0,COUNTA(EnvIssues),1)))),\"\",AVERAGE(OFFSET(X3,1,0,COUNTA(EnvIssues),1)))","v":""},null,{"$f":"IF(OR(Z2=\"\",ISERR(AVERAGE(OFFSET(Z3,1,0,COUNTA(EnvIssues),1)))),\"\",AVERAGE(OFFSET(Z3,1,0,COUNTA(EnvIssues),1)))","v":""},null,{"$f":"IF(OR(AB2=\"\",ISERR(AVERAGE(OFFSET(AB3,1,0,COUNTA(EnvIssues),1)))),\"\",AVERAGE(OFFSET(AB3,1,0,COUNTA(EnvIssues),1)))","v":""},null,{"$f":"IF(OR(AD2=\"\",ISERR(AVERAGE(OFFSET(AD3,1,0,COUNTA(EnvIssues),1)))),\"\",AVERAGE(OFFSET(AD3,1,0,COUNTA(EnvIssues),1)))","v":""},null,{"$f":"IF(OR(AF2=\"\",ISERR(AVERAGE(OFFSET(AF3,1,0,COUNTA(EnvIssues),1)))),\"\",AVERAGE(OFFSET(AF3,1,0,COUNTA(EnvIssues),1)))","v":""},null,{"$f":"IF(OR(AH2=\"\",ISERR(AVERAGE(OFFSET(AH3,1,0,COUNTA(EnvIssues),1)))),\"\",AVERAGE(OFFSET(AH3,1,0,COUNTA(EnvIssues),1)))","v":""},null,{"$f":"IF(OR(AJ2=\"\",ISERR(AVERAGE(OFFSET(AJ3,1,0,COUNTA(EnvIssues),1)))),\"\",AVERAGE(OFFSET(AJ3,1,0,COUNTA(EnvIssues),1)))","v":""},null,{"$f":"IF(OR(AL2=\"\",ISERR(AVERAGE(OFFSET(AL3,1,0,COUNTA(EnvIssues),1)))),\"\",AVERAGE(OFFSET(AL3,1,0,COUNTA(EnvIssues),1)))","v":""},null,{"$f":"IF(OR(AN2=\"\",ISERR(AVERAGE(OFFSET(AN3,1,0,COUNTA(EnvIssues),1)))),\"\",AVERAGE(OFFSET(AN3,1,0,COUNTA(EnvIssues),1)))","v":""},null,{"$f":"IF(OR(AP2=\"\",ISERR(AVERAGE(OFFSET(AP3,1,0,COUNTA(EnvIssues),1)))),\"\",AVERAGE(OFFSET(AP3,1,0,COUNTA(EnvIssues),1)))","v":""},null,{"$f":"IF(OR(AR2=\"\",ISERR(AVERAGE(OFFSET(AR3,1,0,COUNTA(EnvIssues),1)))),\"\",AVERAGE(OFFSET(AR3,1,0,COUNTA(EnvIssues),1)))","v":""},null,{"$f":"IF(OR(AT2=\"\",ISERR(AVERAGE(OFFSET(AT3,1,0,COUNTA(EnvIssues),1)))),\"\",AVERAGE(OFFSET(AT3,1,0,COUNTA(EnvIssues),1)))","v":""},null,{"$f":"IF(OR(AV2=\"\",ISERR(AVERAGE(OFFSET(AV3,1,0,COUNTA(EnvIssues),1)))),\"\",AVERAGE(OFFSET(AV3,1,0,COUNTA(EnvIssues),1)))","v":""},null,{"$f":"IF(OR(AX2=\"\",ISERR(AVERAGE(OFFSET(AX3,1,0,COUNTA(EnvIssues),1)))),\"\",AVERAGE(OFFSET(AX3,1,0,COUNTA(EnvIssues),1)))","v":""},null,{"$f":"IF(OR(AZ2=\"\",ISERR(AVERAGE(OFFSET(AZ3,1,0,COUNTA(EnvIssues),1)))),\"\",AVERAGE(OFFSET(AZ3,1,0,COUNTA(EnvIssues),1)))","v":""},null,{"$f":"IF(OR(BB2=\"\",ISERR(AVERAGE(OFFSET(BB3,1,0,COUNTA(EnvIssues),1)))),\"\",AVERAGE(OFFSET(BB3,1,0,COUNTA(EnvIssues),1)))","v":""},null,{"$f":"IF(OR(BD2=\"\",ISERR(AVERAGE(OFFSET(BD3,1,0,COUNTA(EnvIssues),1)))),\"\",AVERAGE(OFFSET(BD3,1,0,COUNTA(EnvIssues),1)))","v":""},null,{"$f":"IF(OR(BF2=\"\",ISERR(AVERAGE(OFFSET(BF3,1,0,COUNTA(EnvIssues),1)))),\"\",AVERAGE(OFFSET(BF3,1,0,COUNTA(EnvIssues),1)))","v":""},null,{"$f":"IF(OR(BH2=\"\",ISERR(AVERAGE(OFFSET(BH3,1,0,COUNTA(EnvIssues),1)))),\"\",AVERAGE(OFFSET(BH3,1,0,COUNTA(EnvIssues),1)))","v":""},null,{"$f":"IF(OR(BJ2=\"\",ISERR(AVERAGE(OFFSET(BJ3,1,0,COUNTA(EnvIssues),1)))),\"\",AVERAGE(OFFSET(BJ3,1,0,COUNTA(EnvIssues),1)))","v":""},null,{"$f":"IF(OR(BL2=\"\",ISERR(AVERAGE(OFFSET(BL3,1,0,COUNTA(EnvIssues),1)))),\"\",AVERAGE(OFFSET(BL3,1,0,COUNTA(EnvIssues),1)))","v":""},null,{"$f":"IF(OR(BN2=\"\",ISERR(AVERAGE(OFFSET(BN3,1,0,COUNTA(EnvIssues),1)))),\"\",AVERAGE(OFFSET(BN3,1,0,COUNTA(EnvIssues),1)))","v":""},null,{"$f":"IF(OR(BP2=\"\",ISERR(AVERAGE(OFFSET(BP3,1,0,COUNTA(EnvIssues),1)))),\"\",AVERAGE(OFFSET(BP3,1,0,COUNTA(EnvIssues),1)))","v":""},null,{"$f":"IF(OR(BR2=\"\",ISERR(AVERAGE(OFFSET(BR3,1,0,COUNTA(EnvIssues),1)))),\"\",AVERAGE(OFFSET(BR3,1,0,COUNTA(EnvIssues),1)))","v":""},null,{"$f":"IF(OR(BT2=\"\",ISERR(AVERAGE(OFFSET(BT3,1,0,COUNTA(EnvIssues),1)))),\"\",AVERAGE(OFFSET(BT3,1,0,COUNTA(EnvIssues),1)))","v":""},null,{"$f":"IF(OR(BV2=\"\",ISERR(AVERAGE(OFFSET(BV3,1,0,COUNTA(EnvIssues),1)))),\"\",AVERAGE(OFFSET(BV3,1,0,COUNTA(EnvIssues),1)))","v":""},null,{"$f":"IF(OR(BX2=\"\",ISERR(AVERAGE(OFFSET(BX3,1,0,COUNTA(EnvIssues),1)))),\"\",AVERAGE(OFFSET(BX3,1,0,COUNTA(EnvIssues),1)))","v":""},null,{"$f":"IF(OR(BZ2=\"\",ISERR(AVERAGE(OFFSET(BZ3,1,0,COUNTA(EnvIssues),1)))),\"\",AVERAGE(OFFSET(BZ3,1,0,COUNTA(EnvIssues),1)))","v":""},null,{"$f":"IF(OR(CB2=\"\",ISERR(AVERAGE(OFFSET(CB3,1,0,COUNTA(EnvIssues),1)))),\"\",AVERAGE(OFFSET(CB3,1,0,COUNTA(EnvIssues),1)))","v":""},null,{"$f":"IF(OR(CD2=\"\",ISERR(AVERAGE(OFFSET(CD3,1,0,COUNTA(EnvIssues),1)))),\"\",AVERAGE(OFFSET(CD3,1,0,COUNTA(EnvIssues),1)))","v":""}]
[null,null,"Environmental Risk Score:",{"$f":"IF(COUNTA(EnvIssues)=0,IF(D2=\"\",\"\",3),IF(D24=\"\",\"\",VLOOKUP(D24,AvgBoundaries,2,TRUE)))","v":5},null,{"$f":"IF(COUNTA(EnvIssues)=0,IF(F2=\"\",\"\",3),IF(F24=\"\",\"\",VLOOKUP(F24,AvgBoundaries,2,TRUE)))","v":6},null,{"$f":"IF(COUNTA(EnvIssues)=0,IF(J2=\"\",\"\",3),IF(H24=\"\",\"\",VLOOKUP(H24,AvgBoundaries,2,TRUE)))","v":5},null,{"$f":"IF(COUNTA(EnvIssues)=0,IF(L2=\"\",\"\",3),IF(J24=\"\",\"\",VLOOKUP(J24,AvgBoundaries,2,TRUE)))","v":6},null,{"$f":"IF(COUNTA(EnvIssues)=0,IF(N2=\"\",\"\",3),IF(L24=\"\",\"\",VLOOKUP(L24,AvgBoundaries,2,TRUE)))","v":8},null,{"$f":"IF(COUNTA(EnvIssues)=0,IF(P2=\"\",\"\",3),IF(N24=\"\",\"\",VLOOKUP(N24,AvgBoundaries,2,TRUE)))","v":5},null,{"$f":"IF(COUNTA(EnvIssues)=0,IF(R2=\"\",\"\",3),IF(P24=\"\",\"\",VLOOKUP(P24,AvgBoundaries,2,TRUE)))","v":6},null,{"$f":"IF(COUNTA(EnvIssues)=0,IF(T2=\"\",\"\",3),IF(R24=\"\",\"\",VLOOKUP(R24,AvgBoundaries,2,TRUE)))","v":10},null,{"$f":"IF(COUNTA(EnvIssues)=0,IF(V2=\"\",\"\",3),IF(T24=\"\",\"\",VLOOKUP(T24,AvgBoundaries,2,TRUE)))","v":""},null,{"$f":"IF(COUNTA(EnvIssues)=0,IF(X2=\"\",\"\",3),IF(V24=\"\",\"\",VLOOKUP(V24,AvgBoundaries,2,TRUE)))","v":""},null,{"$f":"IF(COUNTA(EnvIssues)=0,IF(Z2=\"\",\"\",3),IF(X24=\"\",\"\",VLOOKUP(X24,AvgBoundaries,2,TRUE)))","v":""},null,{"$f":"IF(COUNTA(EnvIssues)=0,IF(AB2=\"\",\"\",3),IF(Z24=\"\",\"\",VLOOKUP(Z24,AvgBoundaries,2,TRUE)))","v":""},null,{"$f":"IF(COUNTA(EnvIssues)=0,IF(AD2=\"\",\"\",3),IF(AB24=\"\",\"\",VLOOKUP(AB24,AvgBoundaries,2,TRUE)))","v":""},null,{"$f":"IF(COUNTA(EnvIssues)=0,IF(AF2=\"\",\"\",3),IF(AD24=\"\",\"\",VLOOKUP(AD24,AvgBoundaries,2,TRUE)))","v":""},null,{"$f":"IF(COUNTA(EnvIssues)=0,IF(AH2=\"\",\"\",3),IF(AF24=\"\",\"\",VLOOKUP(AF24,AvgBoundaries,2,TRUE)))","v":""},null,{"$f":"IF(COUNTA(EnvIssues)=0,IF(AJ2=\"\",\"\",3),IF(AH24=\"\",\"\",VLOOKUP(AH24,AvgBoundaries,2,TRUE)))","v":""},null,{"$f":"IF(COUNTA(EnvIssues)=0,IF(AL2=\"\",\"\",3),IF(AJ24=\"\",\"\",VLOOKUP(AJ24,AvgBoundaries,2,TRUE)))","v":""},null,{"$f":"IF(COUNTA(EnvIssues)=0,IF(AN2=\"\",\"\",3),IF(AL24=\"\",\"\",VLOOKUP(AL24,AvgBoundaries,2,TRUE)))","v":""},null,{"$f":"IF(COUNTA(EnvIssues)=0,IF(AP2=\"\",\"\",3),IF(AN24=\"\",\"\",VLOOKUP(AN24,AvgBoundaries,2,TRUE)))","v":""},null,{"$f":"IF(COUNTA(EnvIssues)=0,IF(AR2=\"\",\"\",3),IF(AP24=\"\",\"\",VLOOKUP(AP24,AvgBoundaries,2,TRUE)))","v":""},null,{"$f":"IF(COUNTA(EnvIssues)=0,IF(AT2=\"\",\"\",3),IF(AR24=\"\",\"\",VLOOKUP(AR24,AvgBoundaries,2,TRUE)))","v":""},null,{"$f":"IF(COUNTA(EnvIssues)=0,IF(AV2=\"\",\"\",3),IF(AT24=\"\",\"\",VLOOKUP(AT24,AvgBoundaries,2,TRUE)))","v":""},null,{"$f":"IF(COUNTA(EnvIssues)=0,IF(AX2=\"\",\"\",3),IF(AV24=\"\",\"\",VLOOKUP(AV24,AvgBoundaries,2,TRUE)))","v":""},null,{"$f":"IF(COUNTA(EnvIssues)=0,IF(AZ2=\"\",\"\",3),IF(AX24=\"\",\"\",VLOOKUP(AX24,AvgBoundaries,2,TRUE)))","v":""},null,{"$f":"IF(COUNTA(EnvIssues)=0,IF(BB2=\"\",\"\",3),IF(AZ24=\"\",\"\",VLOOKUP(AZ24,AvgBoundaries,2,TRUE)))","v":""},null,{"$f":"IF(COUNTA(EnvIssues)=0,IF(BD2=\"\",\"\",3),IF(BB24=\"\",\"\",VLOOKUP(BB24,AvgBoundaries,2,TRUE)))","v":""},null,{"$f":"IF(COUNTA(EnvIssues)=0,IF(BF2=\"\",\"\",3),IF(BD24=\"\",\"\",VLOOKUP(BD24,AvgBoundaries,2,TRUE)))","v":""},null,{"$f":"IF(COUNTA(EnvIssues)=0,IF(BH2=\"\",\"\",3),IF(BF24=\"\",\"\",VLOOKUP(BF24,AvgBoundaries,2,TRUE)))","v":""},null,{"$f":"IF(COUNTA(EnvIssues)=0,IF(BJ2=\"\",\"\",3),IF(BH24=\"\",\"\",VLOOKUP(BH24,AvgBoundaries,2,TRUE)))","v":""},null,{"$f":"IF(COUNTA(EnvIssues)=0,IF(BL2=\"\",\"\",3),IF(BJ24=\"\",\"\",VLOOKUP(BJ24,AvgBoundaries,2,TRUE)))","v":""},null,{"$f":"IF(COUNTA(EnvIssues)=0,IF(BN2=\"\",\"\",3),IF(BL24=\"\",\"\",VLOOKUP(BL24,AvgBoundaries,2,TRUE)))","v":""},null,{"$f":"IF(COUNTA(EnvIssues)=0,IF(BP2=\"\",\"\",3),IF(BN24=\"\",\"\",VLOOKUP(BN24,AvgBoundaries,2,TRUE)))","v":""},null,{"$f":"IF(COUNTA(EnvIssues)=0,IF(BR2=\"\",\"\",3),IF(BP24=\"\",\"\",VLOOKUP(BP24,AvgBoundaries,2,TRUE)))","v":""},null,{"$f":"IF(COUNTA(EnvIssues)=0,IF(BT2=\"\",\"\",3),IF(BR24=\"\",\"\",VLOOKUP(BR24,AvgBoundaries,2,TRUE)))","v":""},null,{"$f":"IF(COUNTA(EnvIssues)=0,IF(BV2=\"\",\"\",3),IF(BT24=\"\",\"\",VLOOKUP(BT24,AvgBoundaries,2,TRUE)))","v":""},null,{"$f":"IF(COUNTA(EnvIssues)=0,IF(BX2=\"\",\"\",3),IF(BV24=\"\",\"\",VLOOKUP(BV24,AvgBoundaries,2,TRUE)))","v":""},null,{"$f":"IF(COUNTA(EnvIssues)=0,IF(BZ2=\"\",\"\",3),IF(BX24=\"\",\"\",VLOOKUP(BX24,AvgBoundaries,2,TRUE)))","v":""},null,{"$f":"IF(COUNTA(EnvIssues)=0,IF(CB2=\"\",\"\",3),IF(BZ24=\"\",\"\",VLOOKUP(BZ24,AvgBoundaries,2,TRUE)))","v":""},null,{"$f":"IF(COUNTA(EnvIssues)=0,IF(CD2=\"\",\"\",3),IF(CB24=\"\",\"\",VLOOKUP(CB24,AvgBoundaries,2,TRUE)))","v":""},null,{"$f":"IF(COUNTA(EnvIssues)=0,IF(CF2=\"\",\"\",3),IF(CD24=\"\",\"\",VLOOKUP(CD24,AvgBoundaries,2,TRUE)))","v":""}]
[]
[null,{"$f":"IF(COUNTA(OFFSET(D3,1,0,COUNTA(EnvIssues),2*COUNTA(ProductGroups)))=2*(COUNTA(EnvIssues)*COUNTA(ProductGroups)),\"\",\"Responses not complete. Check above for missing response(s).\")","v":""}]
["Socio-economic Assessment",null,null,{"$f":"IF(INDEX(ProductGroups,COLUMN()/2-1)=\"\",\"\",INDEX(ProductGroups,COLUMN()/2-1))","v":"Mobile Tech"},null,{"$f":"IF(INDEX(ProductGroups,COLUMN()/2-1)=\"\",\"\",INDEX(ProductGroups,COLUMN()/2-1))","v":"Servers/Storage"},null,{"$f":"IF(INDEX(ProductGroups,COLUMN()/2-1)=\"\",\"\",INDEX(ProductGroups,COLUMN()/2-1))","v":"Networking Equipment (Large Routers)"},null,{"$f":"IF(INDEX(ProductGroups,COLUMN()/2-1)=\"\",\"\",INDEX(ProductGroups,COLUMN()/2-1))","v":"PCs: Macs/Workstation/Thin Client"},null,{"$f":"IF(INDEX(ProductGroups,COLUMN()/2-1)=\"\",\"\",INDEX(ProductGroups,COLUMN()/2-1))","v":"Printers/MFD's"},null,{"$f":"IF(INDEX(ProductGroups,COLUMN()/2-1)=\"\",\"\",INDEX(ProductGroups,COLUMN()/2-1))","v":"Cages and Racking, Isolators"},null,{"$f":"IF(INDEX(ProductGroups,COLUMN()/2-1)=\"\",\"\",INDEX(ProductGroups,COLUMN()/2-1))","v":"Laboratory Small Appaaratus and Equipment Purchase"},null,{"$f":"IF(INDEX(ProductGroups,COLUMN()/2-1)=\"\",\"\",INDEX(ProductGroups,COLUMN()/2-1))","v":"Medical, Surgical, Nursing Supplies & Services Small Apparatus, Equipment and Instruments"},null,{"$f":"IF(INDEX(ProductGroups,COLUMN()/2-1)=\"\",\"\",INDEX(ProductGroups,COLUMN()/2-1))","v":""},null,{"$f":"IF(INDEX(ProductGroups,COLUMN()/2-1)=\"\",\"\",INDEX(ProductGroups,COLUMN()/2-1))","v":""},null,{"$f":"IF(INDEX(ProductGroups,COLUMN()/2-1)=\"\",\"\",INDEX(ProductGroups,COLUMN()/2-1))","v":""},null,{"$f":"IF(INDEX(ProductGroups,COLUMN()/2-1)=\"\",\"\",INDEX(ProductGroups,COLUMN()/2-1))","v":""},null,{"$f":"IF(INDEX(ProductGroups,COLUMN()/2-1)=\"\",\"\",INDEX(ProductGroups,COLUMN()/2-1))","v":""},null,{"$f":"IF(INDEX(ProductGroups,COLUMN()/2-1)=\"\",\"\",INDEX(ProductGroups,COLUMN()/2-1))","v":""},null,{"$f":"IF(INDEX(ProductGroups,COLUMN()/2-1)=\"\",\"\",INDEX(ProductGroups,COLUMN()/2-1))","v":""},null,{"$f":"IF(INDEX(ProductGroups,COLUMN()/2-1)=\"\",\"\",INDEX(ProductGroups,COLUMN()/2-1))","v":""},null,{"$f":"IF(INDEX(ProductGroups,COLUMN()/2-1)=\"\",\"\",INDEX(ProductGroups,COLUMN()/2-1))","v":""},null,{"$f":"IF(INDEX(ProductGroups,COLUMN()/2-1)=\"\",\"\",INDEX(ProductGroups,COLUMN()/2-1))","v":""},null,{"$f":"IF(INDEX(ProductGroups,COLUMN()/2-1)=\"\",\"\",INDEX(ProductGroups,COLUMN()/2-1))","v":""},null,{"$f":"IF(INDEX(ProductGroups,COLUMN()/2-1)=\"\",\"\",INDEX(ProductGroups,COLUMN()/2-1))","v":""},null,{"$f":"IF(INDEX(ProductGroups,COLUMN()/2-1)=\"\",\"\",INDEX(ProductGroups,COLUMN()/2-1))","v":""},null,{"$f":"IF(INDEX(ProductGroups,COLUMN()/2-1)=\"\",\"\",INDEX(ProductGroups,COLUMN()/2-1))","v":""},null,{"$f":"IF(INDEX(ProductGroups,COLUMN()/2-1)=\"\",\"\",INDEX(ProductGroups,COLUMN()/2-1))","v":""},null,{"$f":"IF(INDEX(ProductGroups,COLUMN()/2-1)=\"\",\"\",INDEX(ProductGroups,COLUMN()/2-1))","v":""},null,{"$f":"IF(INDEX(ProductGroups,COLUMN()/2-1)=\"\",\"\",INDEX(ProductGroups,COLUMN()/2-1))","v":""},null,{"$f":"IF(INDEX(ProductGroups,COLUMN()/2-1)=\"\",\"\",INDEX(ProductGroups,COLUMN()/2-1))","v":""},null,{"$f":"IF(INDEX(ProductGroups,COLUMN()/2-1)=\"\",\"\",INDEX(ProductGroups,COLUMN()/2-1))","v":""},null,{"$f":"IF(INDEX(ProductGroups,COLUMN()/2-1)=\"\",\"\",INDEX(ProductGroups,COLUMN()/2-1))","v":""},null,{"$f":"IF(INDEX(ProductGroups,COLUMN()/2-1)=\"\",\"\",INDEX(ProductGroups,COLUMN()/2-1))","v":""},null,{"$f":"IF(INDEX(ProductGroups,COLUMN()/2-1)=\"\",\"\",INDEX(ProductGroups,COLUMN()/2-1))","v":""},null,{"$f":"IF(INDEX(ProductGroups,COLUMN()/2-1)=\"\",\"\",INDEX(ProductGroups,COLUMN()/2-1))","v":""},null,{"$f":"IF(INDEX(ProductGroups,COLUMN()/2-1)=\"\",\"\",INDEX(ProductGroups,COLUMN()/2-1))","v":""},null,{"$f":"IF(INDEX(ProductGroups,COLUMN()/2-1)=\"\",\"\",INDEX(ProductGroups,COLUMN()/2-1))","v":""},null,{"$f":"IF(INDEX(ProductGroups,COLUMN()/2-1)=\"\",\"\",INDEX(ProductGroups,COLUMN()/2-1))","v":""},null,{"$f":"IF(INDEX(ProductGroups,COLUMN()/2-1)=\"\",\"\",INDEX(ProductGroups,COLUMN()/2-1))","v":""},null,{"$f":"IF(INDEX(ProductGroups,COLUMN()/2-1)=\"\",\"\",INDEX(ProductGroups,COLUMN()/2-1))","v":""},null,{"$f":"IF(INDEX(ProductGroups,COLUMN()/2-1)=\"\",\"\",INDEX(ProductGroups,COLUMN()/2-1))","v":""},null,{"$f":"IF(INDEX(ProductGroups,COLUMN()/2-1)=\"\",\"\",INDEX(ProductGroups,COLUMN()/2-1))","v":""},null,{"$f":"IF(INDEX(ProductGroups,COLUMN()/2-1)=\"\",\"\",INDEX(ProductGroups,COLUMN()/2-1))","v":""},null,{"$f":"IF(INDEX(ProductGroups,COLUMN()/2-1)=\"\",\"\",INDEX(ProductGroups,COLUMN()/2-1))","v":""}]
[null,null,"How relevant is this issue to your organisation’s procurement of this category? (0 = Not relevant; 1 = Low relevance; 2 = Medium; 3 = Critical issue)"]
[null,"Scroll down to complete all questions.",{"$f":"IF(INDEX(SocIssues,ROW()-ROW(C$29))=\"\",\"\",INDEX(SocIssues,ROW()-ROW(C$29)))","v":"Employment, skills and training"},1,"Introducing \"reuse\" may bring a opportunity to create new skills ops such as Circular Economy",1,"Introducing \"reuse\" may bring a opportunity to create new skills ops such as Circular Economy",1,"Introducing \"reuse\" may bring a opportunity to create new skills ops such as Circular Economy",1,"Introducing \"reuse\" may bring a opportunity to create new skills ops such as Circular Economy",1,"Introducing \"reuse\" may bring a opportunity to create new skills ops such as Circular Economy",1,"Equipment requires highly skilled maintenance, suppliers now have local-based experts",0,"Low level of maturity and sophistication of market to reuse lab equipment, ",1,"Low level of oppportunity",null,"[Insert comments here]",null,"[Insert comments here]",null,"[Insert comments here]",null,"[Insert comments here]",null,"[Insert comments here]",null,"[Insert comments here]",null,"[Insert comments here]",null,"[Insert comments here]",null,"[Insert comments here]",null,"[Insert comments here]",null,"[Insert comments here]",null,"[Insert comments here]",null,"[Insert comments here]",null,"[Insert comments here]",null,"[Insert comments here]",null,"[Insert comments here]",null,"[Insert comments here]",null,"[Insert comments here]",null,"[Insert comments here]",null,"[Insert comments here]",null,"[Insert comments here]",null,"[Insert comments here]",null,"[Insert comments here]",null,"[Insert comments here]",null,"[Insert comments here]",null,"[Insert comments here]",null,"[Insert comments here]",null,"[Insert comments here]",null,"[Insert comments here]",null,"[Insert comments here]",null,"[Insert comments here]",null,"[Insert comments here]",null,null,null,null,null,"[Insert comments here]"]
[null,0,"Health and wellbeing",3,"risks to workforce at all levels, risks in over-use",3,"risks to workforce at all levels, risks in over-use",3,"risks to workforce at all levels, risks in over-use",3,"risks to workforce at all levels, risks in over-use",3,"risks to workforce at all levels, risks in over-use",3,"Critical to wellbeing of animals",3,"risks to workforce at all levels, risks in over-use, physical risks of burns (and cryo burns), rotating elements, biological and chemical handling risks,",3,"risks to workforce at all levels, risks in over-use",null,"[Insert comments here]",null,"[Insert comments here]",null,"[Insert comments here]",null,"[Insert comments here]",null,"[Insert comments here]",null,"[Insert comments here]",null,"[Insert comments here]",null,"[Insert comments here]",null,"[Insert comments here]",null,"[Insert comments here]",null,"[Insert comments here]",null,"[Insert comments here]",null,"[Insert comments here]",null,"[Insert comments here]",null,"[Insert comments here]",null,"[Insert comments here]",null,"[Insert comments here]",null,"[Insert comments here]",null,"[Insert comments here]",null,"[Insert comments here]",null,"[Insert comments here]",null,"[Insert comments here]",null,"[Insert comments here]",null,"[Insert comments here]",null,"[Insert comments here]",null,"[Insert comments here]",null,"[Insert comments here]",null,"[Insert comments here]",null,"[Insert comments here]",null,"[Insert comments here]",null,"[Insert comments here]",null,"[Insert comments here]",null,null,null,null,null,"[Insert comments here]"]
[null,3,"Communities",3,"risks mostly at extraction and manufacturing on a International 9not localised) scale",3,"risks mostly at extraction and manufacturing on a International 9not localised) scale",3,"risks mostly at extraction and manufacturing on a International 9not localised) scale",3,"risks mostly at extraction and manufacturing on a International 9not localised) scale",3,"risks mostly at extraction and manufacturing on a International (not localised) scale. Including forrestry use.",3,"Positive impact on local employment, risks mostly at extraction and manufacturing on a International 9not localised) scale",3,"risks mostly at extraction and manufacturing on a International 9not localised) scale",3,"risks mostly at extraction and manufacturing on a International (not localised) scale. Including forrestry use.",null,"[Insert comments here]",null,"[Insert comments here]",null,"[Insert comments here]",null,"[Insert comments here]",null,"[Insert comments here]",null,"[Insert comments here]",null,"[Insert comments here]",null,"[Insert comments here]",null,"[Insert comments here]",null,"[Insert comments here]",null,"[Insert comments here]",null,"[Insert comments here]",null,"[Insert comments here]",null,"[Insert comments here]",null,"[Insert comments here]",null,"[Insert comments here]",null,"[Insert comments here]",null,"[Insert comments here]",null,"[Insert comments here]",null,"[Insert comments here]",null,"[Insert comments here]",null,"[Insert comments here]",null,"[Insert comments here]",null,"[Insert comments here]",null,"[Insert comments here]",null,"[Insert comments here]",null,"[Insert comments here]",null,"[Insert comments here]",null,"[Insert comments here]",null,"[Insert comments here]",null,"[Insert comments here]",null,"[Insert comments here]",null,null,null,null,null,"[Insert comments here]"]
[null,null,"Security and crime",3,"particularly at raw materials & manufacturing, but also data security in use, theft, plus illegal dumping",3,"particularly at raw materials & manufacturing, but also data security in use, theft, plus illegal dumping",3,"particularly at raw materials & manufacturing, but also data security in use, theft, plus illegal dumping",3,"particularly at raw materials & manufacturing, but also data security in use, theft, plus illegal dumping",3,"particularly at raw materials & manufacturing, but also data security in use, theft, plus illegal dumping",3,"Issues regarding security of animals and employees, ",2,"particularly at raw materials & manufacturing, plus risks of illegal dumping, equipment does not hold data so no issues, ",3,"particularly at raw materials & manufacturing, but also data security in use, theft, plus illegal dumping, products are sometimes rebranded as EU-made, whereas could be made in sweatshops",null,"[Insert comments here]",null,"[Insert comments here]",null,"[Insert comments here]",null,"[Insert comments here]",null,"[Insert comments here]",null,"[Insert comments here]",null,"[Insert comments here]",null,"[Insert comments here]",null,"[Insert comments here]",null,"[Insert comments here]",null,"[Insert comments here]",null,"[Insert comments here]",null,"[Insert comments here]",null,"[Insert comments here]",null,"[Insert comments here]",null,"[Insert comments here]",null,"[Insert comments here]",null,"[Insert comments here]",null,"[Insert comments here]",null,"[Insert comments here]",null,"[Insert comments here]",null,"[Insert comments here]",null,"[Insert comments here]",null,"[Insert comments here]",null,"[Insert comments here]",null,"[Insert comments here]",null,"[Insert comments here]",null,"[Insert comments here]",null,"[Insert comments here]",null,"[Insert comments here]",null,"[Insert comments here]",null,"[Insert comments here]",null,null,null,null,null,"[Insert comments here]"]
[null,null,"Fairly and ethically traded",3,"risk of poor working conditionsin supply chain, conflict minerals introduced at supply chain level. Modern Slavery Risks in Supply Chain",3,"risk of poor working conditionsin supply chain, conflict minerals introduced at supply chain level",3,"risk of poor working conditionsin supply chain, conflict minerals introduced at supply chain level",3,"risk of poor working conditionsin supply chain, conflict minerals introduced at supply chain level",3,"risk of poor working conditionsin supply chain, conflict minerals introduced at supply chain level",2,"risk of poor working conditionsin supply chain, conflict minerals introduced at supply chain level, more confidence in suppliers",3,"risk of poor working conditionsin supply chain, conflict minerals introduced at supply chain level",3,"risk of poor working conditionsin supply chain, conflict minerals introduced at supply chain level",null,"[Insert comments here]",null,"[Insert comments here]",null,"[Insert comments here]",null,"[Insert comments here]",null,"[Insert comments here]",null,"[Insert comments here]",null,"[Insert comments here]",null,"[Insert comments here]",null,"[Insert comments here]",null,"[Insert comments here]",null,"[Insert comments here]",null,"[Insert comments here]",null,"[Insert comments here]",null,"[Insert comments here]",null,"[Insert comments here]",null,"[Insert comments here]",null,"[Insert comments here]",null,"[Insert comments here]",null,"[Insert comments here]",null,"[Insert comments here]",null,"[Insert comments here]",null,"[Insert comments here]",null,"[Insert comments here]",null,"[Insert comments here]",null,"[Insert comments here]",null,"[Insert comments here]",null,"[Insert comments here]",null,"[Insert comments here]",null,"[Insert comments here]",null,"[Insert comments here]",null,"[Insert comments here]",null,"[Insert comments here]",null,null,null,null,null,"[Insert comments here]"]
[null,null,"Equality",2,"high risks at raw and manufacturing levels, disability issues in use",2,"high risks at raw and manufacturing levels, disability issues in use",2,"high risks at raw and manufacturing levels, disability issues in use",2,"high risks at raw and manufacturing levels, disability issues in use",2,"high risks at raw and manufacturing levels, disability issues in use",1,"more confidence in suppliers",2,"high risks at raw and manufacturing levels, disability issues in use, similar to ICT",3,"very high risks at raw and manufacturing levels, disability issues in use,",null,"[Insert comments here]",null,"[Insert comments here]",null,"[Insert comments here]",null,"[Insert comments here]",null,"[Insert comments here]",null,"[Insert comments here]",null,"[Insert comments here]",null,"[Insert comments here]",null,"[Insert comments here]",null,"[Insert comments here]",null,"[Insert comments here]",null,"[Insert comments here]",null,"[Insert comments here]",null,"[Insert comments here]",null,"[Insert comments here]",null,"[Insert comments here]",null,"[Insert comments here]",null,"[Insert comments here]",null,"[Insert comments here]",null,"[Insert comments here]",null,"[Insert comments here]",null,"[Insert comments here]",null,"[Insert comments here]",null,"[Insert comments here]",null,"[Insert comments here]",null,"[Insert comments here]",null,"[Insert comments here]",null,"[Insert comments here]",null,"[Insert comments here]",null,"[Insert comments here]",null,"[Insert comments here]",null,"[Insert comments here]",null,null,null,null,null,"[Insert comments here]"]
[null,null,{"$f":"IF(INDEX(SocIssues,ROW()-ROW(C$29))=\"\",\"\",INDEX(SocIssues,ROW()-ROW(C$29)))","v":"Fair Work"},1,"In-Direct 2nd tier call centre staff may have non fair working environments",0,"not relevant",0,"not relevant",1,"In-Direct 2nd tier call centre staff may have non fair working environments",1,"In-Direct 2nd tier call centre staff may have non fair working environments",0,"not relevant",0,"not relevant",0,"not relevant",null,"[Insert comments here]",null,"[Insert comments here]",null,"[Insert comments here]",null,"[Insert comments here]",null,"[Insert comments here]",null,"[Insert comments here]",null,"[Insert comments here]",null,"[Insert comments here]",null,"[Insert comments here]",null,"[Insert comments here]",null,"[Insert comments here]",null,"[Insert comments here]",null,"[Insert comments here]",null,"[Insert comments here]",null,"[Insert comments here]",null,"[Insert comments here]",null,"[Insert comments here]",null,"[Insert comments here]",null,"[Insert comments here]",null,"[Insert comments here]",null,"[Insert comments here]",null,"[Insert comments here]",null,"[Insert comments here]",null,"[Insert comments here]",null,"[Insert comments here]",null,"[Insert comments here]",null,"[Insert comments here]",null,"[Insert comments here]",null,"[Insert comments here]",null,"[Insert comments here]",null,"[Insert comments here]",null,"[Insert comments here]",null,null,null,null,null,"[Insert comments here]"]
[null,null,"",null,"[Insert comments here]",null,"[Insert comments here]",null,"[Insert comments here]",null,"[Insert comments here]",null,"[Insert comments here]",null,"[Insert comments here]",null,"[Insert comments here]",null,"[Insert comments here]",null,"[Insert comments here]",null,"[Insert comments here]",null,"[Insert comments here]",null,"[Insert comments here]",null,"[Insert comments here]",null,"[Insert comments here]",null,"[Insert comments here]",null,"[Insert comments here]",null,"[Insert comments here]",null,"[Insert comments here]",null,"[Insert comments here]",null,"[Insert comments here]",null,"[Insert comments here]",null,"[Insert comments here]",null,"[Insert comments here]",null,"[Insert comments here]",null,"[Insert comments here]",null,"[Insert comments here]",null,"[Insert comments here]",null,"[Insert comments here]",null,"[Insert comments here]",null,"[Insert comments here]",null,"[Insert comments here]",null,"[Insert comments here]",null,"[Insert comments here]",null,"[Insert comments here]",null,"[Insert comments here]",null,"[Insert comments here]",null,"[Insert comments here]",null,"[Insert comments here]",null,"[Insert comments here]",null,"[Insert comments here]",null,null,null,null,null,"[Insert comments here]"]
[null,null,"",null,"[Insert comments here]",null,"[Insert comments here]",null,"[Insert comments here]",null,"[Insert comments here]",null,"[Insert comments here]",null,"[Insert comments here]",null,"[Insert comments here]",null,"[Insert comments here]",null,"[Insert comments here]",null,"[Insert comments here]",null,"[Insert comments here]",null,"[Insert comments here]",null,"[Insert comments here]",null,"[Insert comments here]",null,"[Insert comments here]",null,"[Insert comments here]",null,"[Insert comments here]",null,"[Insert comments here]",null,"[Insert comments here]",null,"[Insert comments here]",null,"[Insert comments here]",null,"[Insert comments here]",null,"[Insert comments here]",null,"[Insert comments here]",null,"[Insert comments here]",null,"[Insert comments here]",null,"[Insert comments here]",null,"[Insert comments here]",null,"[Insert comments here]",null,"[Insert comments here]",null,"[Insert comments here]",null,"[Insert comments here]",null,"[Insert comments here]",null,"[Insert comments here]",null,"[Insert comments here]",null,"[Insert comments here]",null,"[Insert comments here]",null,"[Insert comments here]",null,"[Insert comments here]",null,"[Insert comments here]",null,null,null,null,null,"[Insert comments here]"]
[null,null,"",null,"[Insert comments here]",null,"[Insert comments here]",null,"[Insert comments here]",null,"[Insert comments here]",null,"[Insert comments here]",null,"[Insert comments here]",null,"[Insert comments here]",null,"[Insert comments here]",null,"[Insert comments here]",null,"[Insert comments here]",null,"[Insert comments here]",null,"[Insert comments here]",null,"[Insert comments here]",null,"[Insert comments here]",null,"[Insert comments here]",null,"[Insert comments here]",null,"[Insert comments here]",null,"[Insert comments here]",null,"[Insert comments here]",null,"[Insert comments here]",null,"[Insert comments here]",null,"[Insert comments here]",null,"[Insert comments here]",null,"[Insert comments here]",null,"[Insert comments here]",null,"[Insert comments here]",null,"[Insert comments here]",null,"[Insert comments here]",null,"[Insert comments here]",null,"[Insert comments here]",null,"[Insert comments here]",null,"[Insert comments here]",null,"[Insert comments here]",null,"[Insert comments here]",null,"[Insert comments here]",null,"[Insert comments here]",null,"[Insert comments here]",null,"[Insert comments here]",null,"[Insert comments here]",null,"[Insert comments here]",null,null,null,null,null,"[Insert comments here]"]
[null,null,"",null,"[Insert comments here]",null,"[Insert comments here]",null,"[Insert comments here]",null,"[Insert comments here]",null,"[Insert comments here]",null,"[Insert comments here]",null,"[Insert comments here]",null,"[Insert comments here]",null,"[Insert comments here]",null,"[Insert comments here]",null,"[Insert comments here]",null,"[Insert comments here]",null,"[Insert comments here]",null,"[Insert comments here]",null,"[Insert comments here]",null,"[Insert comments here]",null,"[Insert comments here]",null,"[Insert comments here]",null,"[Insert comments here]",null,"[Insert comments here]",null,"[Insert comments here]",null,"[Insert comments here]",null,"[Insert comments here]",null,"[Insert comments here]",null,"[Insert comments here]",null,"[Insert comments here]",null,"[Insert comments here]",null,"[Insert comments here]",null,"[Insert comments here]",null,"[Insert comments here]",null,"[Insert comments here]",null,"[Insert comments here]",null,"[Insert comments here]",null,"[Insert comments here]",null,"[Insert comments here]",null,"[Insert comments here]",null,"[Insert comments here]",null,"[Insert comments here]",null,"[Insert comments here]",null,"[Insert comments here]",null,null,null,null,null,"[Insert comments here]"]
[" ",null,"",null,"[Insert comments here]",null,"[Insert comments here]",null,"[Insert comments here]",null,"[Insert comments here]",null,"[Insert comments here]",null,"[Insert comments here]",null,"[Insert comments here]",null,"[Insert comments here]",null,"[Insert comments here]",null,"[Insert comments here]",null,"[Insert comments here]",null,"[Insert comments here]",null,"[Insert comments here]",null,"[Insert comments here]",null,"[Insert comments here]",null,"[Insert comments here]",null,"[Insert comments here]",null,"[Insert comments here]",null,"[Insert comments here]",null,"[Insert comments here]",null,"[Insert comments here]",null,"[Insert comments here]",null,"[Insert comments here]",null,"[Insert comments here]",null,"[Insert comments here]",null,"[Insert comments here]",null,"[Insert comments here]",null,"[Insert comments here]",null,"[Insert comments here]",null,"[Insert comments here]",null,"[Insert comments here]",null,"[Insert comments here]",null,"[Insert comments here]",null,"[Insert comments here]",null,"[Insert comments here]",null,"[Insert comments here]",null,"[Insert comments here]",null,"[Insert comments here]",null,"[Insert comments here]",null,"[Insert comments here]",null,null,null,null,null,"[Insert comments here]"]
[null,null,"",null,"[Insert comments here]",null,"[Insert comments here]",null,"[Insert comments here]",null,"[Insert comments here]",null,"[Insert comments here]",null,"[Insert comments here]",null,"[Insert comments here]",null,"[Insert comments here]",null,"[Insert comments here]",null,"[Insert comments here]",null,"[Insert comments here]",null,"[Insert comments here]",null,"[Insert comments here]",null,"[Insert comments here]",null,"[Insert comments here]",null,"[Insert comments here]",null,"[Insert comments here]",null,"[Insert comments here]",null,"[Insert comments here]",null,"[Insert comments here]",null,"[Insert comments here]",null,"[Insert comments here]",null,"[Insert comments here]",null,"[Insert comments here]",null,"[Insert comments here]",null,"[Insert comments here]",null,"[Insert comments here]",null,"[Insert comments here]",null,"[Insert comments here]",null,"[Insert comments here]",null,"[Insert comments here]",null,"[Insert comments here]",null,"[Insert comments here]",null,"[Insert comments here]",null,"[Insert comments here]",null,"[Insert comments here]",null,"[Insert comments here]",null,"[Insert comments here]",null,"[Insert comments here]",null,"[Insert comments here]",null,null,null,null,null,"[Insert comments here]"]
[null,null,"",null,"[Insert comments here]",null,"[Insert comments here]",null,"[Insert comments here]",null,"[Insert comments here]",null,"[Insert comments here]",null,"[Insert comments here]",null,"[Insert comments here]",null,"[Insert comments here]",null,"[Insert comments here]",null,"[Insert comments here]",null,"[Insert comments here]",null,"[Insert comments here]",null,"[Insert comments here]",null,"[Insert comments here]",null,"[Insert comments here]",null,"[Insert comments here]",null,"[Insert comments here]",null,"[Insert comments here]",null,"[Insert comments here]",null,"[Insert comments here]",null,"[Insert comments here]",null,"[Insert comments here]",null,"[Insert comments here]",null,"[Insert comments here]",null,"[Insert comments here]",null,"[Insert comments here]",null,"[Insert comments here]",null,"[Insert comments here]",null,"[Insert comments here]",null,"[Insert comments here]",null,"[Insert comments here]",null,"[Insert comments here]",null,"[Insert comments here]",null,"[Insert comments here]",null,"[Insert comments here]",null,"[Insert comments here]",null,"[Insert comments here]",null,"[Insert comments here]",null,"[Insert comments here]",null,"[Insert comments here]",null,null,null,null,null,"[Insert comments here]"]
[null,null,"",null,"[Insert comments here]",null,"[Insert comments here]",null,"[Insert comments here]",null,"[Insert comments here]",null,"[Insert comments here]",null,"[Insert comments here]",null,"[Insert comments here]",null,"[Insert comments here]",null,"[Insert comments here]",null,"[Insert comments here]",null,"[Insert comments here]",null,"[Insert comments here]",null,"[Insert comments here]",null,"[Insert comments here]",null,"[Insert comments here]",null,"[Insert comments here]",null,"[Insert comments here]",null,"[Insert comments here]",null,"[Insert comments here]",null,"[Insert comments here]",null,"[Insert comments here]",null,"[Insert comments here]",null,"[Insert comments here]",null,"[Insert comments here]",null,"[Insert comments here]",null,"[Insert comments here]",null,"[Insert comments here]",null,"[Insert comments here]",null,"[Insert comments here]",null,"[Insert comments here]",null,"[Insert comments here]",null,"[Insert comments here]",null,"[Insert comments here]",null,"[Insert comments here]",null,"[Insert comments here]",null,"[Insert comments here]",null,"[Insert comments here]",null,"[Insert comments here]",null,"[Insert comments here]",null,"[Insert comments here]",null,null,null,null,null,"[Insert comments here]"]
[null,null,"",null,"[Insert comments here]",null,"[Insert comments here]",null,"[Insert comments here]",null,"[Insert comments here]",null,"[Insert comments here]",null,"[Insert comments here]",null,"[Insert comments here]",null,"[Insert comments here]",null,"[Insert comments here]",null,"[Insert comments here]",null,"[Insert comments here]",null,"[Insert comments here]",null,"[Insert comments here]",null,"[Insert comments here]",null,"[Insert comments here]",null,"[Insert comments here]",null,"[Insert comments here]",null,"[Insert comments here]",null,"[Insert comments here]",null,"[Insert comments here]",null,"[Insert comments here]",null,"[Insert comments here]",null,"[Insert comments here]",null,"[Insert comments here]",null,"[Insert comments here]",null,"[Insert comments here]",null,"[Insert comments here]",null,"[Insert comments here]",null,"[Insert comments here]",null,"[Insert comments here]",null,"[Insert comments here]",null,"[Insert comments here]",null,"[Insert comments here]",null,"[Insert comments here]",null,"[Insert comments here]",null,"[Insert comments here]",null,"[Insert comments here]",null,"[Insert comments here]",null,"[Insert comments here]",null,"[Insert comments here]",null,null,null,null,null,"[Insert comments here]"]
[null,null,"",null,"[Insert comments here]",null,"[Insert comments here]",null,"[Insert comments here]",null,"[Insert comments here]",null,"[Insert comments here]",null,"[Insert comments here]",null,"[Insert comments here]",null,"[Insert comments here]",null,"[Insert comments here]",null,"[Insert comments here]",null,"[Insert comments here]",null,"[Insert comments here]",null,"[Insert comments here]",null,"[Insert comments here]",null,"[Insert comments here]",null,"[Insert comments here]",null,"[Insert comments here]",null,"[Insert comments here]",null,"[Insert comments here]",null,"[Insert comments here]",null,"[Insert comments here]",null,"[Insert comments here]",null,"[Insert comments here]",null,"[Insert comments here]",null,"[Insert comments here]",null,"[Insert comments here]",null,"[Insert comments here]",null,"[Insert comments here]",null,"[Insert comments here]",null,"[Insert comments here]",null,"[Insert comments here]",null,"[Insert comments here]",null,"[Insert comments here]",null,"[Insert comments here]",null,"[Insert comments here]",null,"[Insert comments here]",null,"[Insert comments here]",null,"[Insert comments here]",null,"[Insert comments here]",null,"[Insert comments here]",null,null,null,null,null,"[Insert comments here]"]
[null,null,"",null,"[Insert comments here]",null,"[Insert comments here]",null,"[Insert comments here]",null,"[Insert comments here]",null,"[Insert comments here]",null,"[Insert comments here]",null,"[Insert comments here]",null,"[Insert comments here]",null,"[Insert comments here]",null,"[Insert comments here]",null,"[Insert comments here]",null,"[Insert comments here]",null,"[Insert comments here]",null,"[Insert comments here]",null,"[Insert comments here]",null,"[Insert comments here]",null,"[Insert comments here]",null,"[Insert comments here]",null,"[Insert comments here]",null,"[Insert comments here]",null,"[Insert comments here]",null,"[Insert comments here]",null,"[Insert comments here]",null,"[Insert comments here]",null,"[Insert comments here]",null,"[Insert comments here]",null,"[Insert comments here]",null,"[Insert comments here]",null,"[Insert comments here]",null,"[Insert comments here]",null,"[Insert comments here]",null,"[Insert comments here]",null,"[Insert comments here]",null,"[Insert comments here]",null,"[Insert comments here]",null,"[Insert comments here]",null,"[Insert comments here]",null,"[Insert comments here]",null,"[Insert comments here]",null,"[Insert comments here]",null,null,null,null,null,"[Insert comments here]"]
[null,null,"",null,"[Insert comments here]",null,"[Insert comments here]",null,"[Insert comments here]",null,"[Insert comments here]",null,"[Insert comments here]",null,"[Insert comments here]",null,"[Insert comments here]",null,"[Insert comments here]",null,"[Insert comments here]",null,"[Insert comments here]",null,"[Insert comments here]",null,"[Insert comments here]",null,"[Insert comments here]",null,"[Insert comments here]",null,"[Insert comments here]",null,"[Insert comments here]",null,"[Insert comments here]",null,"[Insert comments here]",null,"[Insert comments here]",null,"[Insert comments here]",null,"[Insert comments here]",null,"[Insert comments here]",null,"[Insert comments here]",null,"[Insert comments here]",null,"[Insert comments here]",null,"[Insert comments here]",null,"[Insert comments here]",null,"[Insert comments here]",null,"[Insert comments here]",null,"[Insert comments here]",null,"[Insert comments here]",null,"[Insert comments here]",null,"[Insert comments here]",null,"[Insert comments here]",null,"[Insert comments here]",null,"[Insert comments here]",null,"[Insert comments here]",null,"[Insert comments here]",null,"[Insert comments here]",null,"[Insert comments here]",null,null,null,null,null,"[Insert comments here]"]
[null,null,"",null,"[Insert comments here]",null,"[Insert comments here]",null,"[Insert comments here]",null,"[Insert comments here]",null,"[Insert comments here]",null,"[Insert comments here]",null,"[Insert comments here]",null,"[Insert comments here]",null,"[Insert comments here]",null,"[Insert comments here]",null,"[Insert comments here]",null,"[Insert comments here]",null,"[Insert comments here]",null,"[Insert comments here]",null,"[Insert comments here]",null,"[Insert comments here]",null,"[Insert comments here]",null,"[Insert comments here]",null,"[Insert comments here]",null,"[Insert comments here]",null,"[Insert comments here]",null,"[Insert comments here]",null,"[Insert comments here]",null,"[Insert comments here]",null,"[Insert comments here]",null,"[Insert comments here]",null,"[Insert comments here]",null,"[Insert comments here]",null,"[Insert comments here]",null,"[Insert comments here]",null,"[Insert comments here]",null,"[Insert comments here]",null,"[Insert comments here]",null,"[Insert comments here]",null,"[Insert comments here]",null,"[Insert comments here]",null,"[Insert comments here]",null,"[Insert comments here]",null,"[Insert comments here]",null,"[Insert comments here]",null,null,null,null,null,"[Insert comments here]"]
[null,null,"Average of responses:",{"$f":"IF(OR(D28=\"\",ISERR(AVERAGE(OFFSET(D29,1,0,COUNTA(SocIssues),1)))),\"\",AVERAGE(OFFSET(D29,1,0,COUNTA(SocIssues),1)))","v":2.2857142857142856},null,{"$f":"IF(OR(F28=\"\",ISERR(AVERAGE(OFFSET(F29,1,0,COUNTA(SocIssues),1)))),\"\",AVERAGE(OFFSET(F29,1,0,COUNTA(SocIssues),1)))","v":2.1428571428571428},null,{"$f":"IF(OR(H28=\"\",ISERR(AVERAGE(OFFSET(H29,1,0,COUNTA(SocIssues),1)))),\"\",AVERAGE(OFFSET(H29,1,0,COUNTA(SocIssues),1)))","v":2.1428571428571428},null,{"$f":"IF(OR(J28=\"\",ISERR(AVERAGE(OFFSET(J29,1,0,COUNTA(SocIssues),1)))),\"\",AVERAGE(OFFSET(J29,1,0,COUNTA(SocIssues),1)))","v":2.2857142857142856},null,{"$f":"IF(OR(L28=\"\",ISERR(AVERAGE(OFFSET(L29,1,0,COUNTA(SocIssues),1)))),\"\",AVERAGE(OFFSET(L29,1,0,COUNTA(SocIssues),1)))","v":2.2857142857142856},null,{"$f":"IF(OR(N28=\"\",ISERR(AVERAGE(OFFSET(N29,1,0,COUNTA(SocIssues),1)))),\"\",AVERAGE(OFFSET(N29,1,0,COUNTA(SocIssues),1)))","v":1.8571428571428572},null,{"$f":"IF(OR(P28=\"\",ISERR(AVERAGE(OFFSET(P29,1,0,COUNTA(SocIssues),1)))),\"\",AVERAGE(OFFSET(P29,1,0,COUNTA(SocIssues),1)))","v":1.8571428571428572},null,{"$f":"IF(OR(R28=\"\",ISERR(AVERAGE(OFFSET(R29,1,0,COUNTA(SocIssues),1)))),\"\",AVERAGE(OFFSET(R29,1,0,COUNTA(SocIssues),1)))","v":2.2857142857142856},null,{"$f":"IF(OR(T28=\"\",ISERR(AVERAGE(OFFSET(T29,1,0,COUNTA(SocIssues),1)))),\"\",AVERAGE(OFFSET(T29,1,0,COUNTA(SocIssues),1)))","v":""},null,{"$f":"IF(OR(V28=\"\",ISERR(AVERAGE(OFFSET(V29,1,0,COUNTA(SocIssues),1)))),\"\",AVERAGE(OFFSET(V29,1,0,COUNTA(SocIssues),1)))","v":""},null,{"$f":"IF(OR(X28=\"\",ISERR(AVERAGE(OFFSET(X29,1,0,COUNTA(SocIssues),1)))),\"\",AVERAGE(OFFSET(X29,1,0,COUNTA(SocIssues),1)))","v":""},null,{"$f":"IF(OR(Z28=\"\",ISERR(AVERAGE(OFFSET(Z29,1,0,COUNTA(SocIssues),1)))),\"\",AVERAGE(OFFSET(Z29,1,0,COUNTA(SocIssues),1)))","v":""},null,{"$f":"IF(OR(AB28=\"\",ISERR(AVERAGE(OFFSET(AB29,1,0,COUNTA(SocIssues),1)))),\"\",AVERAGE(OFFSET(AB29,1,0,COUNTA(SocIssues),1)))","v":""},null,{"$f":"IF(OR(AD28=\"\",ISERR(AVERAGE(OFFSET(AD29,1,0,COUNTA(SocIssues),1)))),\"\",AVERAGE(OFFSET(AD29,1,0,COUNTA(SocIssues),1)))","v":""},null,{"$f":"IF(OR(AF28=\"\",ISERR(AVERAGE(OFFSET(AF29,1,0,COUNTA(SocIssues),1)))),\"\",AVERAGE(OFFSET(AF29,1,0,COUNTA(SocIssues),1)))","v":""},null,{"$f":"IF(OR(AH28=\"\",ISERR(AVERAGE(OFFSET(AH29,1,0,COUNTA(SocIssues),1)))),\"\",AVERAGE(OFFSET(AH29,1,0,COUNTA(SocIssues),1)))","v":""},null,{"$f":"IF(OR(AJ28=\"\",ISERR(AVERAGE(OFFSET(AJ29,1,0,COUNTA(SocIssues),1)))),\"\",AVERAGE(OFFSET(AJ29,1,0,COUNTA(SocIssues),1)))","v":""},null,{"$f":"IF(OR(AL28=\"\",ISERR(AVERAGE(OFFSET(AL29,1,0,COUNTA(SocIssues),1)))),\"\",AVERAGE(OFFSET(AL29,1,0,COUNTA(SocIssues),1)))","v":""},null,{"$f":"IF(OR(AN28=\"\",ISERR(AVERAGE(OFFSET(AN29,1,0,COUNTA(SocIssues),1)))),\"\",AVERAGE(OFFSET(AN29,1,0,COUNTA(SocIssues),1)))","v":""},null,{"$f":"IF(OR(AP28=\"\",ISERR(AVERAGE(OFFSET(AP29,1,0,COUNTA(SocIssues),1)))),\"\",AVERAGE(OFFSET(AP29,1,0,COUNTA(SocIssues),1)))","v":""},null,{"$f":"IF(OR(AR28=\"\",ISERR(AVERAGE(OFFSET(AR29,1,0,COUNTA(SocIssues),1)))),\"\",AVERAGE(OFFSET(AR29,1,0,COUNTA(SocIssues),1)))","v":""},null,{"$f":"IF(OR(AT28=\"\",ISERR(AVERAGE(OFFSET(AT29,1,0,COUNTA(SocIssues),1)))),\"\",AVERAGE(OFFSET(AT29,1,0,COUNTA(SocIssues),1)))","v":""},null,{"$f":"IF(OR(AV28=\"\",ISERR(AVERAGE(OFFSET(AV29,1,0,COUNTA(SocIssues),1)))),\"\",AVERAGE(OFFSET(AV29,1,0,COUNTA(SocIssues),1)))","v":""},null,{"$f":"IF(OR(AX28=\"\",ISERR(AVERAGE(OFFSET(AX29,1,0,COUNTA(SocIssues),1)))),\"\",AVERAGE(OFFSET(AX29,1,0,COUNTA(SocIssues),1)))","v":""},null,{"$f":"IF(OR(AZ28=\"\",ISERR(AVERAGE(OFFSET(AZ29,1,0,COUNTA(SocIssues),1)))),\"\",AVERAGE(OFFSET(AZ29,1,0,COUNTA(SocIssues),1)))","v":""},null,{"$f":"IF(OR(BB28=\"\",ISERR(AVERAGE(OFFSET(BB29,1,0,COUNTA(SocIssues),1)))),\"\",AVERAGE(OFFSET(BB29,1,0,COUNTA(SocIssues),1)))","v":""},null,{"$f":"IF(OR(BD28=\"\",ISERR(AVERAGE(OFFSET(BD29,1,0,COUNTA(SocIssues),1)))),\"\",AVERAGE(OFFSET(BD29,1,0,COUNTA(SocIssues),1)))","v":""},null,{"$f":"IF(OR(BF28=\"\",ISERR(AVERAGE(OFFSET(BF29,1,0,COUNTA(SocIssues),1)))),\"\",AVERAGE(OFFSET(BF29,1,0,COUNTA(SocIssues),1)))","v":""},null,{"$f":"IF(OR(BH28=\"\",ISERR(AVERAGE(OFFSET(BH29,1,0,COUNTA(SocIssues),1)))),\"\",AVERAGE(OFFSET(BH29,1,0,COUNTA(SocIssues),1)))","v":""},null,{"$f":"IF(OR(BJ28=\"\",ISERR(AVERAGE(OFFSET(BJ29,1,0,COUNTA(SocIssues),1)))),\"\",AVERAGE(OFFSET(BJ29,1,0,COUNTA(SocIssues),1)))","v":""},null,{"$f":"IF(OR(BL28=\"\",ISERR(AVERAGE(OFFSET(BL29,1,0,COUNTA(SocIssues),1)))),\"\",AVERAGE(OFFSET(BL29,1,0,COUNTA(SocIssues),1)))","v":""},null,{"$f":"IF(OR(BN28=\"\",ISERR(AVERAGE(OFFSET(BN29,1,0,COUNTA(SocIssues),1)))),\"\",AVERAGE(OFFSET(BN29,1,0,COUNTA(SocIssues),1)))","v":""},null,{"$f":"IF(OR(BP28=\"\",ISERR(AVERAGE(OFFSET(BP29,1,0,COUNTA(SocIssues),1)))),\"\",AVERAGE(OFFSET(BP29,1,0,COUNTA(SocIssues),1)))","v":""},null,{"$f":"IF(OR(BR28=\"\",ISERR(AVERAGE(OFFSET(BR29,1,0,COUNTA(SocIssues),1)))),\"\",AVERAGE(OFFSET(BR29,1,0,COUNTA(SocIssues),1)))","v":""},null,{"$f":"IF(OR(BT28=\"\",ISERR(AVERAGE(OFFSET(BT29,1,0,COUNTA(SocIssues),1)))),\"\",AVERAGE(OFFSET(BT29,1,0,COUNTA(SocIssues),1)))","v":""},null,{"$f":"IF(OR(BV28=\"\",ISERR(AVERAGE(OFFSET(BV29,1,0,COUNTA(SocIssues),1)))),\"\",AVERAGE(OFFSET(BV29,1,0,COUNTA(SocIssues),1)))","v":""},null,{"$f":"IF(OR(BX28=\"\",ISERR(AVERAGE(OFFSET(BX29,1,0,COUNTA(SocIssues),1)))),\"\",AVERAGE(OFFSET(BX29,1,0,COUNTA(SocIssues),1)))","v":""},null,{"$f":"IF(OR(BZ28=\"\",ISERR(AVERAGE(OFFSET(BZ29,1,0,COUNTA(SocIssues),1)))),\"\",AVERAGE(OFFSET(BZ29,1,0,COUNTA(SocIssues),1)))","v":""},null,{"$f":"IF(OR(CB28=\"\",ISERR(AVERAGE(OFFSET(CB29,1,0,COUNTA(SocIssues),1)))),\"\",AVERAGE(OFFSET(CB29,1,0,COUNTA(SocIssues),1)))","v":""},null,{"$f":"IF(OR(CD28=\"\",ISERR(AVERAGE(OFFSET(CD29,1,0,COUNTA(SocIssues),1)))),\"\",AVERAGE(OFFSET(CD29,1,0,COUNTA(SocIssues),1)))","v":""}]
[null,null,"Socio-economic Risk Score:",{"$f":"IF(COUNTA(SocIssues)=0,IF(D28=\"\",\"\",3),IF(D50=\"\",\"\",VLOOKUP(D50,AvgBoundaries,2,TRUE)))","v":8},null,{"$f":"IF(COUNTA(SocIssues)=0,IF(F28=\"\",\"\",3),IF(F50=\"\",\"\",VLOOKUP(F50,AvgBoundaries,2,TRUE)))","v":8},null,{"$f":"IF(COUNTA(SocIssues)=0,IF(H28=\"\",\"\",3),IF(H50=\"\",\"\",VLOOKUP(H50,AvgBoundaries,2,TRUE)))","v":8},null,{"$f":"IF(COUNTA(SocIssues)=0,IF(H28=\"\",\"\",3),IF(J50=\"\",\"\",VLOOKUP(J50,AvgBoundaries,2,TRUE)))","v":8},null,{"$f":"IF(COUNTA(SocIssues)=0,IF(J28=\"\",\"\",3),IF(L50=\"\",\"\",VLOOKUP(L50,AvgBoundaries,2,TRUE)))","v":8},null,{"$f":"IF(COUNTA(SocIssues)=0,IF(L28=\"\",\"\",3),IF(N50=\"\",\"\",VLOOKUP(N50,AvgBoundaries,2,TRUE)))","v":6},null,{"$f":"IF(COUNTA(SocIssues)=0,IF(N28=\"\",\"\",3),IF(P50=\"\",\"\",VLOOKUP(P50,AvgBoundaries,2,TRUE)))","v":6},null,{"$f":"IF(COUNTA(SocIssues)=0,IF(P28=\"\",\"\",3),IF(R50=\"\",\"\",VLOOKUP(R50,AvgBoundaries,2,TRUE)))","v":8},null,{"$f":"IF(COUNTA(SocIssues)=0,IF(R28=\"\",\"\",3),IF(T50=\"\",\"\",VLOOKUP(T50,AvgBoundaries,2,TRUE)))","v":""},null,{"$f":"IF(COUNTA(SocIssues)=0,IF(T28=\"\",\"\",3),IF(V50=\"\",\"\",VLOOKUP(V50,AvgBoundaries,2,TRUE)))","v":""},null,{"$f":"IF(COUNTA(SocIssues)=0,IF(V28=\"\",\"\",3),IF(X50=\"\",\"\",VLOOKUP(X50,AvgBoundaries,2,TRUE)))","v":""},null,{"$f":"IF(COUNTA(SocIssues)=0,IF(X28=\"\",\"\",3),IF(Z50=\"\",\"\",VLOOKUP(Z50,AvgBoundaries,2,TRUE)))","v":""},null,{"$f":"IF(COUNTA(SocIssues)=0,IF(Z28=\"\",\"\",3),IF(AB50=\"\",\"\",VLOOKUP(AB50,AvgBoundaries,2,TRUE)))","v":""},null,{"$f":"IF(COUNTA(SocIssues)=0,IF(AB28=\"\",\"\",3),IF(AD50=\"\",\"\",VLOOKUP(AD50,AvgBoundaries,2,TRUE)))","v":""},null,{"$f":"IF(COUNTA(SocIssues)=0,IF(AD28=\"\",\"\",3),IF(AF50=\"\",\"\",VLOOKUP(AF50,AvgBoundaries,2,TRUE)))","v":""},null,{"$f":"IF(COUNTA(SocIssues)=0,IF(AF28=\"\",\"\",3),IF(AH50=\"\",\"\",VLOOKUP(AH50,AvgBoundaries,2,TRUE)))","v":""},null,{"$f":"IF(COUNTA(SocIssues)=0,IF(AH28=\"\",\"\",3),IF(AJ50=\"\",\"\",VLOOKUP(AJ50,AvgBoundaries,2,TRUE)))","v":""},null,{"$f":"IF(COUNTA(SocIssues)=0,IF(AJ28=\"\",\"\",3),IF(AL50=\"\",\"\",VLOOKUP(AL50,AvgBoundaries,2,TRUE)))","v":""},null,{"$f":"IF(COUNTA(SocIssues)=0,IF(AL28=\"\",\"\",3),IF(AN50=\"\",\"\",VLOOKUP(AN50,AvgBoundaries,2,TRUE)))","v":""},null,{"$f":"IF(COUNTA(SocIssues)=0,IF(AN28=\"\",\"\",3),IF(AP50=\"\",\"\",VLOOKUP(AP50,AvgBoundaries,2,TRUE)))","v":""},null,{"$f":"IF(COUNTA(SocIssues)=0,IF(AP28=\"\",\"\",3),IF(AR50=\"\",\"\",VLOOKUP(AR50,AvgBoundaries,2,TRUE)))","v":""},null,{"$f":"IF(COUNTA(SocIssues)=0,IF(AR28=\"\",\"\",3),IF(AT50=\"\",\"\",VLOOKUP(AT50,AvgBoundaries,2,TRUE)))","v":""},null,{"$f":"IF(COUNTA(SocIssues)=0,IF(AT28=\"\",\"\",3),IF(AV50=\"\",\"\",VLOOKUP(AV50,AvgBoundaries,2,TRUE)))","v":""},null,{"$f":"IF(COUNTA(SocIssues)=0,IF(AV28=\"\",\"\",3),IF(AX50=\"\",\"\",VLOOKUP(AX50,AvgBoundaries,2,TRUE)))","v":""},null,{"$f":"IF(COUNTA(SocIssues)=0,IF(AX28=\"\",\"\",3),IF(AZ50=\"\",\"\",VLOOKUP(AZ50,AvgBoundaries,2,TRUE)))","v":""},null,{"$f":"IF(COUNTA(SocIssues)=0,IF(AZ28=\"\",\"\",3),IF(BB50=\"\",\"\",VLOOKUP(BB50,AvgBoundaries,2,TRUE)))","v":""},null,{"$f":"IF(COUNTA(SocIssues)=0,IF(BB28=\"\",\"\",3),IF(BD50=\"\",\"\",VLOOKUP(BD50,AvgBoundaries,2,TRUE)))","v":""},null,{"$f":"IF(COUNTA(SocIssues)=0,IF(BD28=\"\",\"\",3),IF(BF50=\"\",\"\",VLOOKUP(BF50,AvgBoundaries,2,TRUE)))","v":""},null,{"$f":"IF(COUNTA(SocIssues)=0,IF(BF28=\"\",\"\",3),IF(BH50=\"\",\"\",VLOOKUP(BH50,AvgBoundaries,2,TRUE)))","v":""},null,{"$f":"IF(COUNTA(SocIssues)=0,IF(BH28=\"\",\"\",3),IF(BJ50=\"\",\"\",VLOOKUP(BJ50,AvgBoundaries,2,TRUE)))","v":""},null,{"$f":"IF(COUNTA(SocIssues)=0,IF(BJ28=\"\",\"\",3),IF(BL50=\"\",\"\",VLOOKUP(BL50,AvgBoundaries,2,TRUE)))","v":""},null,{"$f":"IF(COUNTA(SocIssues)=0,IF(BL28=\"\",\"\",3),IF(BN50=\"\",\"\",VLOOKUP(BN50,AvgBoundaries,2,TRUE)))","v":""},null,{"$f":"IF(COUNTA(SocIssues)=0,IF(BN28=\"\",\"\",3),IF(BP50=\"\",\"\",VLOOKUP(BP50,AvgBoundaries,2,TRUE)))","v":""},null,{"$f":"IF(COUNTA(SocIssues)=0,IF(BP28=\"\",\"\",3),IF(BR50=\"\",\"\",VLOOKUP(BR50,AvgBoundaries,2,TRUE)))","v":""},null,{"$f":"IF(COUNTA(SocIssues)=0,IF(BR28=\"\",\"\",3),IF(BT50=\"\",\"\",VLOOKUP(BT50,AvgBoundaries,2,TRUE)))","v":""},null,{"$f":"IF(COUNTA(SocIssues)=0,IF(BT28=\"\",\"\",3),IF(BV50=\"\",\"\",VLOOKUP(BV50,AvgBoundaries,2,TRUE)))","v":""},null,{"$f":"IF(COUNTA(SocIssues)=0,IF(BV28=\"\",\"\",3),IF(BX50=\"\",\"\",VLOOKUP(BX50,AvgBoundaries,2,TRUE)))","v":""},null,{"$f":"IF(COUNTA(SocIssues)=0,IF(BX28=\"\",\"\",3),IF(BZ50=\"\",\"\",VLOOKUP(BZ50,AvgBoundaries,2,TRUE)))","v":""},null,{"$f":"IF(COUNTA(SocIssues)=0,IF(BZ28=\"\",\"\",3),IF(CB50=\"\",\"\",VLOOKUP(CB50,AvgBoundaries,2,TRUE)))","v":""},null,{"$f":"IF(COUNTA(SocIssues)=0,IF(CB28=\"\",\"\",3),IF(CD50=\"\",\"\",VLOOKUP(CD50,AvgBoundaries,2,TRUE)))","v":""}]
[]
[null,{"$f":"IF(COUNTA(OFFSET(D29,1,0,COUNTA(SocIssues),2*COUNTA(ProductGroups)))=2*(COUNTA(SocIssues)*COUNTA(ProductGroups)),\"\",\"Responses not complete. Check above for missing response(s).\")","v":""}]
[null,null,null,{"$f":"IF(INDEX(ProductGroups,COLUMN()/2-1)=\"\",\"\",INDEX(ProductGroups,COLUMN()/2-1))","v":"Mobile Tech"},null,{"$f":"IF(INDEX(ProductGroups,COLUMN()/2-1)=\"\",\"\",INDEX(ProductGroups,COLUMN()/2-1))","v":"Servers/Storage"},null,{"$f":"IF(INDEX(ProductGroups,COLUMN()/2-1)=\"\",\"\",INDEX(ProductGroups,COLUMN()/2-1))","v":"Networking Equipment (Large Routers)"},null,{"$f":"IF(INDEX(ProductGroups,COLUMN()/2-1)=\"\",\"\",INDEX(ProductGroups,COLUMN()/2-1))","v":"PCs: Macs/Workstation/Thin Client"},null,{"$f":"IF(INDEX(ProductGroups,COLUMN()/2-1)=\"\",\"\",INDEX(ProductGroups,COLUMN()/2-1))","v":"Printers/MFD's"},null,{"$f":"IF(INDEX(ProductGroups,COLUMN()/2-1)=\"\",\"\",INDEX(ProductGroups,COLUMN()/2-1))","v":"Cages and Racking, Isolators"},null,{"$f":"IF(INDEX(ProductGroups,COLUMN()/2-1)=\"\",\"\",INDEX(ProductGroups,COLUMN()/2-1))","v":"Laboratory Small Appaaratus and Equipment Purchase"},null,{"$f":"IF(INDEX(ProductGroups,COLUMN()/2-1)=\"\",\"\",INDEX(ProductGroups,COLUMN()/2-1))","v":"Medical, Surgical, Nursing Supplies & Services Small Apparatus, Equipment and Instruments"},null,{"$f":"IF(INDEX(ProductGroups,COLUMN()/2-1)=\"\",\"\",INDEX(ProductGroups,COLUMN()/2-1))","v":""},null,{"$f":"IF(INDEX(ProductGroups,COLUMN()/2-1)=\"\",\"\",INDEX(ProductGroups,COLUMN()/2-1))","v":""},null,{"$f":"IF(INDEX(ProductGroups,COLUMN()/2-1)=\"\",\"\",INDEX(ProductGroups,COLUMN()/2-1))","v":""},null,{"$f":"IF(INDEX(ProductGroups,COLUMN()/2-1)=\"\",\"\",INDEX(ProductGroups,COLUMN()/2-1))","v":""},null,{"$f":"IF(INDEX(ProductGroups,COLUMN()/2-1)=\"\",\"\",INDEX(ProductGroups,COLUMN()/2-1))","v":""},null,{"$f":"IF(INDEX(ProductGroups,COLUMN()/2-1)=\"\",\"\",INDEX(ProductGroups,COLUMN()/2-1))","v":""},null,{"$f":"IF(INDEX(ProductGroups,COLUMN()/2-1)=\"\",\"\",INDEX(ProductGroups,COLUMN()/2-1))","v":""},null,{"$f":"IF(INDEX(ProductGroups,COLUMN()/2-1)=\"\",\"\",INDEX(ProductGroups,COLUMN()/2-1))","v":""},null,{"$f":"IF(INDEX(ProductGroups,COLUMN()/2-1)=\"\",\"\",INDEX(ProductGroups,COLUMN()/2-1))","v":""},null,{"$f":"IF(INDEX(ProductGroups,COLUMN()/2-1)=\"\",\"\",INDEX(ProductGroups,COLUMN()/2-1))","v":""},null,{"$f":"IF(INDEX(ProductGroups,COLUMN()/2-1)=\"\",\"\",INDEX(ProductGroups,COLUMN()/2-1))","v":""},null,{"$f":"IF(INDEX(ProductGroups,COLUMN()/2-1)=\"\",\"\",INDEX(ProductGroups,COLUMN()/2-1))","v":""},null,{"$f":"IF(INDEX(ProductGroups,COLUMN()/2-1)=\"\",\"\",INDEX(ProductGroups,COLUMN()/2-1))","v":""},null,{"$f":"IF(INDEX(ProductGroups,COLUMN()/2-1)=\"\",\"\",INDEX(ProductGroups,COLUMN()/2-1))","v":""},null,{"$f":"IF(INDEX(ProductGroups,COLUMN()/2-1)=\"\",\"\",INDEX(ProductGroups,COLUMN()/2-1))","v":""},null,{"$f":"IF(INDEX(ProductGroups,COLUMN()/2-1)=\"\",\"\",INDEX(ProductGroups,COLUMN()/2-1))","v":""},null,{"$f":"IF(INDEX(ProductGroups,COLUMN()/2-1)=\"\",\"\",INDEX(ProductGroups,COLUMN()/2-1))","v":""},null,{"$f":"IF(INDEX(ProductGroups,COLUMN()/2-1)=\"\",\"\",INDEX(ProductGroups,COLUMN()/2-1))","v":""},null,{"$f":"IF(INDEX(ProductGroups,COLUMN()/2-1)=\"\",\"\",INDEX(ProductGroups,COLUMN()/2-1))","v":""},null,{"$f":"IF(INDEX(ProductGroups,COLUMN()/2-1)=\"\",\"\",INDEX(ProductGroups,COLUMN()/2-1))","v":""},null,{"$f":"IF(INDEX(ProductGroups,COLUMN()/2-1)=\"\",\"\",INDEX(ProductGroups,COLUMN()/2-1))","v":""},null,{"$f":"IF(INDEX(ProductGroups,COLUMN()/2-1)=\"\",\"\",INDEX(ProductGroups,COLUMN()/2-1))","v":""},null,{"$f":"IF(INDEX(ProductGroups,COLUMN()/2-1)=\"\",\"\",INDEX(ProductGroups,COLUMN()/2-1))","v":""},null,{"$f":"IF(INDEX(ProductGroups,COLUMN()/2-1)=\"\",\"\",INDEX(ProductGroups,COLUMN()/2-1))","v":""},null,{"$f":"IF(INDEX(ProductGroups,COLUMN()/2-1)=\"\",\"\",INDEX(ProductGroups,COLUMN()/2-1))","v":""},null,{"$f":"IF(INDEX(ProductGroups,COLUMN()/2-1)=\"\",\"\",INDEX(ProductGroups,COLUMN()/2-1))","v":""},null,{"$f":"IF(INDEX(ProductGroups,COLUMN()/2-1)=\"\",\"\",INDEX(ProductGroups,COLUMN()/2-1))","v":""},null,{"$f":"IF(INDEX(ProductGroups,COLUMN()/2-1)=\"\",\"\",INDEX(ProductGroups,COLUMN()/2-1))","v":""},null,{"$f":"IF(INDEX(ProductGroups,COLUMN()/2-1)=\"\",\"\",INDEX(ProductGroups,COLUMN()/2-1))","v":""},null,{"$f":"IF(INDEX(ProductGroups,COLUMN()/2-1)=\"\",\"\",INDEX(ProductGroups,COLUMN()/2-1))","v":""},null,{"$f":"IF(INDEX(ProductGroups,COLUMN()/2-1)=\"\",\"\",INDEX(ProductGroups,COLUMN()/2-1))","v":""},null,{"$f":"IF(INDEX(ProductGroups,COLUMN()/2-1)=\"\",\"\",INDEX(ProductGroups,COLUMN()/2-1))","v":""}]
["Reputational Risk Assessment"]
[null,null,"Is there a reputational risk surrounding your organisation’s procurement of this product group? (0 = Not relevant; 1 = Low relevance; 2 = Medium; 3 = Critical issue)",3,"Significant awareness in Student and professional areas  of supply chain and waste issues. Large Media coverage. Campaign groups. Membership of Electronics Watch (EW)  signifies importance.",3,"Significant awareness in Student and professional areas  of supply chain and waste issues. Large Media coverage. Campaign groups. Membership of Electronics Watch (EW)  signifies importance.",1,"Low risk in this area. Other category risks may however apply if associated with same factories/supply chain",3,"Significant awareness in Student and professional areas  of supply chain and waste issues. Large Media coverage. Campaign groups. Membership of Electronics Watch (EW)  signifies importance.",2,"Inherent and linked risk to reputation. Usage of clear environmentaly friendly equipment and end product visible.",3,"highly controversial area",1,"Low risk in this area. Other category risks may however apply if associated with same factories/supply chain",3,"very high, potential for goods from sweatshops, high awareness amongst student body, already covered by media",null,"[Insert comments here]",null,"[Insert comments here]",null,"[Insert comments here]",null,"[Insert comments here]",null,"[Insert comments here]",null,"[Insert comments here]",null,"[Insert comments here]",null,"[Insert comments here]",null,"[Insert comments here]",null,"[Insert comments here]",null,"[Insert comments here]",null,"[Insert comments here]",null,"[Insert comments here]",null,"[Insert comments here]",null,"[Insert comments here]",null,"[Insert comments here]",null,"[Insert comments here]",null,"[Insert comments here]",null,"[Insert comments here]",null,"[Insert comments here]",null,"[Insert comments here]",null,"[Insert comments here]",null,"[Insert comments here]",null,"[Insert comments here]",null,"[Insert comments here]",null,"[Insert comments here]",null,"[Insert comments here]",null,"[Insert comments here]",null,"[Insert comments here]",null,"[Insert comments here]",null,"[Insert comments here]",null,"[Insert comments here]",null,null,null,null,null,"[Insert comments here]"]
[]
[]
[]
[null,null,"Environmental risk score:",{"$f":"EnvRiskScore","v":5},null,{"$f":"EnvRiskScore","v":6},null,{"$f":"EnvRiskScore","v":5},null,{"$f":"EnvRiskScore","v":6},null,{"$f":"EnvRiskScore","v":8},null,{"$f":"EnvRiskScore","v":5},null,{"$f":"EnvRiskScore","v":6},null,{"$f":"EnvRiskScore","v":10},null,{"$f":"EnvRiskScore","v":""},null,{"$f":"EnvRiskScore","v":""},null,{"$f":"EnvRiskScore","v":""},null,{"$f":"EnvRiskScore","v":""},null,{"$f":"EnvRiskScore","v":""},null,{"$f":"EnvRiskScore","v":""},null,{"$f":"EnvRiskScore","v":""},null,{"$f":"EnvRiskScore","v":""},null,{"$f":"EnvRiskScore","v":""},null,{"$f":"EnvRiskScore","v":""},null,{"$f":"EnvRiskScore","v":""},null,{"$f":"EnvRiskScore","v":""},null,{"$f":"EnvRiskScore","v":""},null,{"$f":"EnvRiskScore","v":""},null,{"$f":"EnvRiskScore","v":""},null,{"$f":"EnvRiskScore","v":""},null,{"$f":"EnvRiskScore","v":""},null,{"$f":"EnvRiskScore","v":""},null,{"$f":"EnvRiskScore","v":""},null,{"$f":"EnvRiskScore","v":""},null,{"$f":"EnvRiskScore","v":""},null,{"$f":"EnvRiskScore","v":""},null,{"$f":"EnvRiskScore","v":""},null,{"$f":"EnvRiskScore","v":""},null,{"$f":"EnvRiskScore","v":""},null,{"$f":"EnvRiskScore","v":""},null,{"$f":"EnvRiskScore","v":""},null,{"$f":"EnvRiskScore","v":""},null,{"$f":"EnvRiskScore","v":""},null,{"$f":"EnvRiskScore","v":""},null,{"$f":"EnvRiskScore","v":""},null,{"$f":"EnvRiskScore","v":""}]
[]
[null,null,"Socio-economic risk score:",{"$f":"SocRiskScore","v":8},null,{"$f":"SocRiskScore","v":8},null,{"$f":"SocRiskScore","v":8},null,{"$f":"SocRiskScore","v":8},null,{"$f":"SocRiskScore","v":8},null,{"$f":"SocRiskScore","v":6},null,{"$f":"SocRiskScore","v":6},null,{"$f":"SocRiskScore","v":8},null,{"$f":"SocRiskScore","v":""},null,{"$f":"SocRiskScore","v":""},null,{"$f":"SocRiskScore","v":""},null,{"$f":"SocRiskScore","v":""},null,{"$f":"SocRiskScore","v":""},null,{"$f":"SocRiskScore","v":""},null,{"$f":"SocRiskScore","v":""},null,{"$f":"SocRiskScore","v":""},null,{"$f":"SocRiskScore","v":""},null,{"$f":"SocRiskScore","v":""},null,{"$f":"SocRiskScore","v":""},null,{"$f":"SocRiskScore","v":""},null,{"$f":"SocRiskScore","v":""},null,{"$f":"SocRiskScore","v":""},null,{"$f":"SocRiskScore","v":""},null,{"$f":"SocRiskScore","v":""},null,{"$f":"SocRiskScore","v":""},null,{"$f":"SocRiskScore","v":""},null,{"$f":"SocRiskScore","v":""},null,{"$f":"SocRiskScore","v":""},null,{"$f":"SocRiskScore","v":""},null,{"$f":"SocRiskScore","v":""},null,{"$f":"SocRiskScore","v":""},null,{"$f":"SocRiskScore","v":""},null,{"$f":"SocRiskScore","v":""},null,{"$f":"SocRiskScore","v":""},null,{"$f":"SocRiskScore","v":""},null,{"$f":"SocRiskScore","v":""},null,{"$f":"SocRiskScore","v":""},null,{"$f":"SocRiskScore","v":""},null,{"$f":"SocRiskScore","v":""},null,{"$f":"SocRiskScore","v":""}]
[]
[null,null,"Overall Risk Score \nMax Score 27 \n(Reputation + Environmental + Socio-Economic)",{"$f":"IF(D54=\"\",\"\",SUM(OFFSET(D55,1,0,8,1)))","v":16},null,{"$f":"IF(F54=\"\",\"\",SUM(OFFSET(F55,1,0,8,1)))","v":17},null,{"$f":"IF(H54=\"\",\"\",SUM(OFFSET(H55,1,0,8,1)))","v":14},null,{"$f":"IF(J54=\"\",\"\",SUM(OFFSET(J55,1,0,8,1)))","v":17},null,{"$f":"IF(L54=\"\",\"\",SUM(OFFSET(L55,1,0,8,1)))","v":18},null,{"$f":"IF(N54=\"\",\"\",SUM(OFFSET(N55,1,0,8,1)))","v":14},null,{"$f":"IF(P54=\"\",\"\",SUM(OFFSET(P55,1,0,8,1)))","v":13},null,{"$f":"IF(R54=\"\",\"\",SUM(OFFSET(R55,1,0,8,1)))","v":21},null,{"$f":"IF(T54=\"\",\"\",SUM(OFFSET(T55,1,0,8,1)))","v":""},null,{"$f":"IF(V54=\"\",\"\",SUM(OFFSET(V55,1,0,8,1)))","v":""},null,{"$f":"IF(X54=\"\",\"\",SUM(OFFSET(X55,1,0,8,1)))","v":""},null,{"$f":"IF(Z54=\"\",\"\",SUM(OFFSET(Z55,1,0,8,1)))","v":""},null,{"$f":"IF(AB54=\"\",\"\",SUM(OFFSET(AB55,1,0,8,1)))","v":""},null,{"$f":"IF(AD54=\"\",\"\",SUM(OFFSET(AD55,1,0,8,1)))","v":""},null,{"$f":"IF(AF54=\"\",\"\",SUM(OFFSET(AF55,1,0,8,1)))","v":""},null,{"$f":"IF(AH54=\"\",\"\",SUM(OFFSET(AH55,1,0,8,1)))","v":""},null,{"$f":"IF(AJ54=\"\",\"\",SUM(OFFSET(AJ55,1,0,8,1)))","v":""},null,{"$f":"IF(AL54=\"\",\"\",SUM(OFFSET(AL55,1,0,8,1)))","v":""},null,{"$f":"IF(AN54=\"\",\"\",SUM(OFFSET(AN55,1,0,8,1)))","v":""},null,{"$f":"IF(AP54=\"\",\"\",SUM(OFFSET(AP55,1,0,8,1)))","v":""},null,{"$f":"IF(AR54=\"\",\"\",SUM(OFFSET(AR55,1,0,8,1)))","v":""},null,{"$f":"IF(AT54=\"\",\"\",SUM(OFFSET(AT55,1,0,8,1)))","v":""},null,{"$f":"IF(AV54=\"\",\"\",SUM(OFFSET(AV55,1,0,8,1)))","v":""},null,{"$f":"IF(AX54=\"\",\"\",SUM(OFFSET(AX55,1,0,8,1)))","v":""},null,{"$f":"IF(AZ54=\"\",\"\",SUM(OFFSET(AZ55,1,0,8,1)))","v":""},null,{"$f":"IF(BB54=\"\",\"\",SUM(OFFSET(BB55,1,0,8,1)))","v":""},null,{"$f":"IF(BD54=\"\",\"\",SUM(OFFSET(BD55,1,0,8,1)))","v":""},null,{"$f":"IF(BF54=\"\",\"\",SUM(OFFSET(BF55,1,0,8,1)))","v":""},null,{"$f":"IF(BH54=\"\",\"\",SUM(OFFSET(BH55,1,0,8,1)))","v":""},null,{"$f":"IF(BJ54=\"\",\"\",SUM(OFFSET(BJ55,1,0,8,1)))","v":""},null,{"$f":"IF(BL54=\"\",\"\",SUM(OFFSET(BL55,1,0,8,1)))","v":""},null,{"$f":"IF(BN54=\"\",\"\",SUM(OFFSET(BN55,1,0,8,1)))","v":""},null,{"$f":"IF(BP54=\"\",\"\",SUM(OFFSET(BP55,1,0,8,1)))","v":""},null,{"$f":"IF(BR54=\"\",\"\",SUM(OFFSET(BR55,1,0,8,1)))","v":""},null,{"$f":"IF(BT54=\"\",\"\",SUM(OFFSET(BT55,1,0,8,1)))","v":""},null,{"$f":"IF(BV54=\"\",\"\",SUM(OFFSET(BV55,1,0,8,1)))","v":""},null,{"$f":"IF(BX54=\"\",\"\",SUM(OFFSET(BX55,1,0,8,1)))","v":""},null,{"$f":"IF(BZ54=\"\",\"\",SUM(OFFSET(BZ55,1,0,8,1)))","v":""},null,{"$f":"IF(CB54=\"\",\"\",SUM(OFFSET(CB55,1,0,8,1)))","v":""},null,{"$f":"IF(CD54=\"\",\"\",SUM(OFFSET(CD55,1,0,8,1)))","v":""}]
[]
[null,{"$f":"IF(COUNTA(D56:CE56)=1*(40+COUNTA(ProductGroups)),\"\",\"Responses not complete. Check above for missing response(s).\")","v":""}]

{"sheet":"Scope","index":6,"n_rows":51,"n_cols":89,"rows_kept":51,"cut":false,"hidden":false,"merged":[[25,0,25,1],[1,75,2,76],[1,77,2,78],[1,79,2,80],[2,0,2,1],[3,0,3,1],[24,0,24,1],[1,59,2,60],[1,61,2,62],[1,55,2,56],[1,49,2,50],[1,37,2,38],[1,13,2,14],[1,15,2,16],[1,17,2,18],[1,19,2,20],[48,77,48,78],[1,63,2,64],[48,69,48,70],[1,65,2,66],[1,73,2,74],[48,65,48,66],[1,67,2,68],[48,73,48,74],[1,69,2,70],[48,75,48,76],[1,71,2,72],[48,67,48,68],[48,71,48,72],[48,55,48,56],[48,57,48,58],[1,51,2,52],[48,51,48,52],[48,49,48,50],[1,53,2,54],[1,57,2,58],[48,53,48,54],[48,45,48,46],[1,39,2,40],[1,41,2,42],[48,23,48,24],[1,25,2,26],[48,81,48,82],[48,33,48,34],[48,39,48,40],[48,25,48,26],[48,27,48,28],[48,29,48,30],[48,31,48,32],[48,35,48,36],[48,37,48,38],[48,41,48,42],[48,47,48,48],[48,59,48,60],[48,61,48,62],[48,63,48,64],[48,79,48,80],[48,43,48,44],[48,3,48,4],[48,5,48,6],[48,7,48,8],[48,9,48,10],[48,21,48,22],[48,11,48,12],[48,13,48,14],[48,15,48,16],[48,17,48,18],[48,19,48,20],[1,81,2,82],[1,27,2,28],[1,29,2,30],[1,31,2,32],[1,35,2,36],[1,33,2,34],[1,21,2,22],[1,23,2,24],[1,45,2,46],[1,47,2,48],[1,43,2,44],[1,3,2,4],[1,5,2,6],[1,7,2,8],[1,9,2,10],[1,11,2,12]]}
[]
[null," 'Scope to Improve' Assessment",null,{"$f":"IF(INDEX(ProductGroups,COLUMN()/2-1)=\"\",\"\",INDEX(ProductGroups,COLUMN()/2-1))","v":"Mobile Tech"},null,{"$f":"IF(INDEX(ProductGroups,COLUMN()/2-1)=\"\",\"\",INDEX(ProductGroups,COLUMN()/2-1))","v":"Servers/Storage"},null,{"$f":"IF(INDEX(ProductGroups,COLUMN()/2-1)=\"\",\"\",INDEX(ProductGroups,COLUMN()/2-1))","v":"Networking Equipment (Large Routers)"},null,{"$f":"IF(INDEX(ProductGroups,COLUMN()/2-1)=\"\",\"\",INDEX(ProductGroups,COLUMN()/2-1))","v":"PCs: Macs/Workstation/Thin Client"},null,{"$f":"IF(INDEX(ProductGroups,COLUMN()/2-1)=\"\",\"\",INDEX(ProductGroups,COLUMN()/2-1))","v":"Printers/MFD's"},null,{"$f":"IF(INDEX(ProductGroups,COLUMN()/2-1)=\"\",\"\",INDEX(ProductGroups,COLUMN()/2-1))","v":"Cages and Racking, Isolators"},null,{"$f":"IF(INDEX(ProductGroups,COLUMN()/2-1)=\"\",\"\",INDEX(ProductGroups,COLUMN()/2-1))","v":"Laboratory Small Appaaratus and Equipment Purchase"},null,{"$f":"IF(INDEX(ProductGroups,COLUMN()/2-1)=\"\",\"\",INDEX(ProductGroups,COLUMN()/2-1))","v":"Medical, Surgical, Nursing Supplies & Services Small Apparatus, Equipment and Instruments"},null,{"$f":"IF(INDEX(ProductGroups,COLUMN()/2-1)=\"\",\"\",INDEX(ProductGroups,COLUMN()/2-1))","v":""},null,{"$f":"IF(INDEX(ProductGroups,COLUMN()/2-1)=\"\",\"\",INDEX(ProductGroups,COLUMN()/2-1))","v":""},null,{"$f":"IF(INDEX(ProductGroups,COLUMN()/2-1)=\"\",\"\",INDEX(ProductGroups,COLUMN()/2-1))","v":""},null,{"$f":"IF(INDEX(ProductGroups,COLUMN()/2-1)=\"\",\"\",INDEX(ProductGroups,COLUMN()/2-1))","v":""},null,{"$f":"IF(INDEX(ProductGroups,COLUMN()/2-1)=\"\",\"\",INDEX(ProductGroups,COLUMN()/2-1))","v":""},null,{"$f":"IF(INDEX(ProductGroups,COLUMN()/2-1)=\"\",\"\",INDEX(ProductGroups,COLUMN()/2-1))","v":""},null,{"$f":"IF(INDEX(ProductGroups,COLUMN()/2-1)=\"\",\"\",INDEX(ProductGroups,COLUMN()/2-1))","v":""},null,{"$f":"IF(INDEX(ProductGroups,COLUMN()/2-1)=\"\",\"\",INDEX(ProductGroups,COLUMN()/2-1))","v":""},null,{"$f":"IF(INDEX(ProductGroups,COLUMN()/2-1)=\"\",\"\",INDEX(ProductGroups,COLUMN()/2-1))","v":""},null,{"$f":"IF(INDEX(ProductGroups,COLUMN()/2-1)=\"\",\"\",INDEX(ProductGroups,COLUMN()/2-1))","v":""},null,{"$f":"IF(INDEX(ProductGroups,COLUMN()/2-1)=\"\",\"\",INDEX(ProductGroups,COLUMN()/2-1))","v":""},null,{"$f":"IF(INDEX(ProductGroups,COLUMN()/2-1)=\"\",\"\",INDEX(ProductGroups,COLUMN()/2-1))","v":""},null,{"$f":"IF(INDEX(ProductGroups,COLUMN()/2-1)=\"\",\"\",INDEX(ProductGroups,COLUMN()/2-1))","v":""},null,{"$f":"IF(INDEX(ProductGroups,COLUMN()/2-1)=\"\",\"\",INDEX(ProductGroups,COLUMN()/2-1))","v":""},null,{"$f":"IF(INDEX(ProductGroups,COLUMN()/2-1)=\"\",\"\",INDEX(ProductGroups,COLUMN()/2-1))","v":""},null,{"$f":"IF(INDEX(ProductGroups,COLUMN()/2-1)=\"\",\"\",INDEX(ProductGroups,COLUMN()/2-1))","v":""},null,{"$f":"IF(INDEX(ProductGroups,COLUMN()/2-1)=\"\",\"\",INDEX(ProductGroups,COLUMN()/2-1))","v":""},null,{"$f":"IF(INDEX(ProductGroups,COLUMN()/2-1)=\"\",\"\",INDEX(ProductGroups,COLUMN()/2-1))","v":""},null,{"$f":"IF(INDEX(ProductGroups,COLUMN()/2-1)=\"\",\"\",INDEX(ProductGroups,COLUMN()/2-1))","v":""},null,{"$f":"IF(INDEX(ProductGroups,COLUMN()/2-1)=\"\",\"\",INDEX(ProductGroups,COLUMN()/2-1))","v":""},null,{"$f":"IF(INDEX(ProductGroups,COLUMN()/2-1)=\"\",\"\",INDEX(ProductGroups,COLUMN()/2-1))","v":""},null,{"$f":"IF(INDEX(ProductGroups,COLUMN()/2-1)=\"\",\"\",INDEX(ProductGroups,COLUMN()/2-1))","v":""},null,{"$f":"IF(INDEX(ProductGroups,COLUMN()/2-1)=\"\",\"\",INDEX(ProductGroups,COLUMN()/2-1))","v":""},null,{"$f":"IF(INDEX(ProductGroups,COLUMN()/2-1)=\"\",\"\",INDEX(ProductGroups,COLUMN()/2-1))","v":""},null,{"$f":"IF(INDEX(ProductGroups,COLUMN()/2-1)=\"\",\"\",INDEX(ProductGroups,COLUMN()/2-1))","v":""},null,{"$f":"IF(INDEX(ProductGroups,COLUMN()/2-1)=\"\",\"\",INDEX(ProductGroups,COLUMN()/2-1))","v":""},null,{"$f":"IF(INDEX(ProductGroups,COLUMN()/2-1)=\"\",\"\",INDEX(ProductGroups,COLUMN()/2-1))","v":""},null,{"$f":"IF(INDEX(ProductGroups,COLUMN()/2-1)=\"\",\"\",INDEX(ProductGroups,COLUMN()/2-1))","v":""},null,{"$f":"IF(INDEX(ProductGroups,COLUMN()/2-1)=\"\",\"\",INDEX(ProductGroups,COLUMN()/2-1))","v":""},null,{"$f":"IF(INDEX(ProductGroups,COLUMN()/2-1)=\"\",\"\",INDEX(ProductGroups,COLUMN()/2-1))","v":""},null,{"$f":"IF(INDEX(ProductGroups,COLUMN()/2-1)=\"\",\"\",INDEX(ProductGroups,COLUMN()/2-1))","v":""},null,{"$f":"IF(INDEX(ProductGroups,COLUMN()/2-1)=\"\",\"\",INDEX(ProductGroups,COLUMN()/2-1))","v":""}]
["Use the columns to the right of the scores to make relevant comments\n(e.g. reasons for scoring,  sources of info. etc.)                                                                                                                                             Environmental",null,"How much scope is there to improve sustainability of procurement of this category, in relation to this issue? (0 = none; 1 = a little; 2 = medium; 3 = a lot)\nN.B. If you scored a Zero (not relevant) in  the 'Assess Risks&Opps' page this is carried forward here. You may overwrite this here but make sure you also change the Risks&Opps score. "]
["Scroll down to complete all questions.",null,{"$f":"IF(EnvIssues=\"\",\"\",EnvIssues)","v":"Climate Change"},2,"Scope to enable reuse and enable personal mobile technology to be used and access the Universitys system. Engage with Industry within scope, to develop more appropriate products",3,"Scope to enable reuse  Engage with Industry within scope, to address reduction in energy during use.",3,"Scope to enable reuse of components  Engage with Industry within scope, to address reduction in energy during use.",3,"Increase Thin Client use.  Scope to enable reuse and enable personal mobile technology to be used and access the Universitys system. Engage with Industry within scope, to develop more appropriate products",2,"Reduce devices, Reduce use. Reduce paper and consumable use. ",3,"Moving towards  individual ventilation of cages, limit room ventilation, improve building services deisgn",3,"A lot of opportunity to improve, especially procedural or behavioural aspects, opportunities to centralise or share, ",3,"Opportunities to influence the market to improve practices and/or change materials",{"$f":"IF(Risks!T4=0,\"0\",\"\")","v":"0"},"[Insert comments here]",{"$f":"IF(Risks!V4=0,\"0\",\"\")","v":"0"},"[Insert comments here]",{"$f":"IF(Risks!X4=0,\"0\",\"\")","v":"0"},"[Insert comments here]",{"$f":"IF(Risks!Z4=0,\"0\",\"\")","v":"0"},"[Insert comments here]",{"$f":"IF(Risks!AB4=0,\"0\",\"\")","v":"0"},"[Insert comments here]",{"$f":"IF(Risks!AD4=0,\"0\",\"\")","v":"0"},"[Insert comments here]",{"$f":"IF(Risks!AF4=0,\"0\",\"\")","v":"0"},"[Insert comments here]",{"$f":"IF(Risks!AH4=0,\"0\",\"\")","v":"0"},"[Insert comments here]",{"$f":"IF(Risks!AJ4=0,\"0\",\"\")","v":"0"},"[Insert comments here]",{"$f":"IF(Risks!AL4=0,\"0\",\"\")","v":"0"},"[Insert comments here]",{"$f":"IF(Risks!AN4=0,\"0\",\"\")","v":"0"},"[Insert comments here]",{"$f":"IF(Risks!AP4=0,\"0\",\"\")","v":"0"},"[Insert comments here]",{"$f":"IF(Risks!AR4=0,\"0\",\"\")","v":"0"},"[Insert comments here]",{"$f":"IF(Risks!AT4=0,\"0\",\"\")","v":"0"},"[Insert comments here]",{"$f":"IF(Risks!AV4=0,\"0\",\"\")","v":"0"},"[Insert comments here]",{"$f":"IF(Risks!AX4=0,\"0\",\"\")","v":"0"},"[Insert comments here]",{"$f":"IF(Risks!AZ4=0,\"0\",\"\")","v":"0"},"[Insert comments here]",{"$f":"IF(Risks!BB4=0,\"0\",\"\")","v":"0"},"[Insert comments here]",{"$f":"IF(Risks!BD4=0,\"0\",\"\")","v":"0"},"[Insert comments here]",{"$f":"IF(Risks!BF4=0,\"0\",\"\")","v":"0"},"[Insert comments here]",{"$f":"IF(Risks!BH4=0,\"0\",\"\")","v":"0"},"[Insert comments here]",{"$f":"IF(Risks!BJ4=0,\"0\",\"\")","v":"0"},"[Insert comments here]",{"$f":"IF(Risks!BL4=0,\"0\",\"\")","v":"0"},"[Insert comments here]",{"$f":"IF(Risks!BN4=0,\"0\",\"\")","v":"0"},"[Insert comments here]",{"$f":"IF(Risks!BP4=0,\"0\",\"\")","v":"0"},"[Insert comments here]",{"$f":"IF(Risks!BR4=0,\"0\",\"\")","v":"0"},"[Insert comments here]",{"$f":"IF(Risks!BT4=0,\"0\",\"\")","v":"0"},"[Insert comments here]",{"$f":"IF(Risks!BV4=0,\"0\",\"\")","v":"0"},"[Insert comments here]",{"$f":"IF(Risks!BX4=0,\"0\",\"\")","v":"0"},"[Insert comments here]",{"$f":"IF(Risks!BZ4=0,\"0\",\"\")","v":"0"},"[Insert comments here]",{"$f":"IF(Risks!CB4=0,\"0\",\"\")","v":"0"},"[Insert comments here]",{"$f":"IF(Risks!CD4=0,\"0\",\"\")","v":"0"},"[Insert comments here]",null,null,null,null,{"$f":"IF(Risks!CJ4=0,\"0\",\"\")","v":"0"},"[Insert comments here]"]
[null,null,"Materials",3,"Promote devices that are in market to address reduction in scarce and conflict minerals. Work with R&D in industry to research future technology.",1,"Work with R&D in industry to research future technology.",0,"Minimal Scope",3,"Promote devices that are in market to address reduction in scarce and conflict minerals. Work with R&D in industry to research future technology.",1,"Reduction in consumables. Reuse of devices. Types of paper. Investigate toner supply chain.",2,"Scope to recycle more, build remanufacturing/recycling of old equipment into contracts",2,"Opportunity to work with suppliers , share and centralise equipment  ",3,"Opportunities to influence the market to improve practices and/or change materials",{"$f":"IF(Risks!T5=0,\"0\",\"\")","v":"0"},"[Insert comments here]",{"$f":"IF(Risks!V5=0,\"0\",\"\")","v":"0"},"[Insert comments here]",{"$f":"IF(Risks!X5=0,\"0\",\"\")","v":"0"},"[Insert comments here]",{"$f":"IF(Risks!Z5=0,\"0\",\"\")","v":"0"},"[Insert comments here]",{"$f":"IF(Risks!AB5=0,\"0\",\"\")","v":"0"},"[Insert comments here]",{"$f":"IF(Risks!AD5=0,\"0\",\"\")","v":"0"},"[Insert comments here]",{"$f":"IF(Risks!AF5=0,\"0\",\"\")","v":"0"},"[Insert comments here]",{"$f":"IF(Risks!AH5=0,\"0\",\"\")","v":"0"},"[Insert comments here]",{"$f":"IF(Risks!AJ5=0,\"0\",\"\")","v":"0"},"[Insert comments here]",{"$f":"IF(Risks!AL5=0,\"0\",\"\")","v":"0"},"[Insert comments here]",{"$f":"IF(Risks!AN5=0,\"0\",\"\")","v":"0"},"[Insert comments here]",{"$f":"IF(Risks!AP5=0,\"0\",\"\")","v":"0"},"[Insert comments here]",{"$f":"IF(Risks!AR5=0,\"0\",\"\")","v":"0"},"[Insert comments here]",{"$f":"IF(Risks!AT5=0,\"0\",\"\")","v":"0"},"[Insert comments here]",{"$f":"IF(Risks!AV5=0,\"0\",\"\")","v":"0"},"[Insert comments here]",{"$f":"IF(Risks!AX5=0,\"0\",\"\")","v":"0"},"[Insert comments here]",{"$f":"IF(Risks!AZ5=0,\"0\",\"\")","v":"0"},"[Insert comments here]",{"$f":"IF(Risks!BB5=0,\"0\",\"\")","v":"0"},"[Insert comments here]",{"$f":"IF(Risks!BD5=0,\"0\",\"\")","v":"0"},"[Insert comments here]",{"$f":"IF(Risks!BF5=0,\"0\",\"\")","v":"0"},"[Insert comments here]",{"$f":"IF(Risks!BH5=0,\"0\",\"\")","v":"0"},"[Insert comments here]",{"$f":"IF(Risks!BJ5=0,\"0\",\"\")","v":"0"},"[Insert comments here]",{"$f":"IF(Risks!BL5=0,\"0\",\"\")","v":"0"},"[Insert comments here]",{"$f":"IF(Risks!BN5=0,\"0\",\"\")","v":"0"},"[Insert comments here]",{"$f":"IF(Risks!BP5=0,\"0\",\"\")","v":"0"},"[Insert comments here]",{"$f":"IF(Risks!BR5=0,\"0\",\"\")","v":"0"},"[Insert comments here]",{"$f":"IF(Risks!BT5=0,\"0\",\"\")","v":"0"},"[Insert comments here]",{"$f":"IF(Risks!BV5=0,\"0\",\"\")","v":"0"},"[Insert comments here]",{"$f":"IF(Risks!BX5=0,\"0\",\"\")","v":"0"},"[Insert comments here]",{"$f":"IF(Risks!BZ5=0,\"0\",\"\")","v":"0"},"[Insert comments here]",{"$f":"IF(Risks!CB5=0,\"0\",\"\")","v":"0"},"[Insert comments here]",{"$f":"IF(Risks!CD5=0,\"0\",\"\")","v":"0"},"[Insert comments here]",null,null,null,null,{"$f":"IF(Risks!CJ5=0,\"0\",\"\")","v":"0"},"[Insert comments here]"]
[null,null,"Waste",3,"Promote reuse (at varying levels of the Life Cycle) . Engage suppliers with packaging risk reduction. ",1,"Promote reuse (at varying levels of the Life Cycle) . ",1,"Promote reuse (at varying levels of the Life Cycle) . ",3,"Promote reuse (at varying levels of the Life Cycle) . Engage suppliers with packaging risk reduction. ",1,"MFD uplifts are in place but printers are not reused.",2,"Scope to recycle and reuse more, build remanufacturing/recycling of old equipment into contracts",3,"Promote reuse, engage with suppliers to reduce pacakaging",1,"Area well developed, little scope to reuse ",{"$f":"IF(Risks!T6=0,\"0\",\"\")","v":"0"},"[Insert comments here]",{"$f":"IF(Risks!V6=0,\"0\",\"\")","v":"0"},"[Insert comments here]",{"$f":"IF(Risks!X6=0,\"0\",\"\")","v":"0"},"[Insert comments here]",{"$f":"IF(Risks!Z6=0,\"0\",\"\")","v":"0"},"[Insert comments here]",{"$f":"IF(Risks!AB6=0,\"0\",\"\")","v":"0"},"[Insert comments here]",{"$f":"IF(Risks!AD6=0,\"0\",\"\")","v":"0"},"[Insert comments here]",{"$f":"IF(Risks!AF6=0,\"0\",\"\")","v":"0"},"[Insert comments here]",{"$f":"IF(Risks!AH6=0,\"0\",\"\")","v":"0"},"[Insert comments here]",{"$f":"IF(Risks!AJ6=0,\"0\",\"\")","v":"0"},"[Insert comments here]",{"$f":"IF(Risks!AL6=0,\"0\",\"\")","v":"0"},"[Insert comments here]",{"$f":"IF(Risks!AN6=0,\"0\",\"\")","v":"0"},"[Insert comments here]",{"$f":"IF(Risks!AP6=0,\"0\",\"\")","v":"0"},"[Insert comments here]",{"$f":"IF(Risks!AR6=0,\"0\",\"\")","v":"0"},"[Insert comments here]",{"$f":"IF(Risks!AT6=0,\"0\",\"\")","v":"0"},"[Insert comments here]",{"$f":"IF(Risks!AV6=0,\"0\",\"\")","v":"0"},"[Insert comments here]",{"$f":"IF(Risks!AX6=0,\"0\",\"\")","v":"0"},"[Insert comments here]",{"$f":"IF(Risks!AZ6=0,\"0\",\"\")","v":"0"},"[Insert comments here]",{"$f":"IF(Risks!BB6=0,\"0\",\"\")","v":"0"},"[Insert comments here]",{"$f":"IF(Risks!BD6=0,\"0\",\"\")","v":"0"},"[Insert comments here]",{"$f":"IF(Risks!BF6=0,\"0\",\"\")","v":"0"},"[Insert comments here]",{"$f":"IF(Risks!BH6=0,\"0\",\"\")","v":"0"},"[Insert comments here]",{"$f":"IF(Risks!BJ6=0,\"0\",\"\")","v":"0"},"[Insert comments here]",{"$f":"IF(Risks!BL6=0,\"0\",\"\")","v":"0"},"[Insert comments here]",{"$f":"IF(Risks!BN6=0,\"0\",\"\")","v":"0"},"[Insert comments here]",{"$f":"IF(Risks!BP6=0,\"0\",\"\")","v":"0"},"[Insert comments here]",{"$f":"IF(Risks!BR6=0,\"0\",\"\")","v":"0"},"[Insert comments here]",{"$f":"IF(Risks!BT6=0,\"0\",\"\")","v":"0"},"[Insert comments here]",{"$f":"IF(Risks!BV6=0,\"0\",\"\")","v":"0"},"[Insert comments here]",{"$f":"IF(Risks!BX6=0,\"0\",\"\")","v":"0"},"[Insert comments here]",{"$f":"IF(Risks!BZ6=0,\"0\",\"\")","v":"0"},"[Insert comments here]",{"$f":"IF(Risks!CB6=0,\"0\",\"\")","v":"0"},"[Insert comments here]",{"$f":"IF(Risks!CD6=0,\"0\",\"\")","v":"0"},"[Insert comments here]",null,null,null,null,{"$f":"IF(Risks!CJ6=0,\"0\",\"\")","v":"0"},"[Insert comments here]"]
[null,null,"Hazardous materials",1,"EW is utilised to monitoring factory conditions (with regard to chemical use)",1,"EW is utilised to monitoring factory conditions (with regard to chemical use)",1,"EW is utilised to monitoring factory conditions (with regard to chemical use)",1,"EW is utilised to monitoring factory conditions (with regard to chemical use)",2,"Toners use and end of life need further analysis.",1,"Little scope outwith of legislation or current procedures, some scope to research less harmful cleaning products",1,"EW is utilised to monitoring factory conditions (with regard to chemical use)",1,"Little scope outwith of legislation or current procedures, some scope to research less harmful cleaning products",{"$f":"IF(Risks!T7=0,\"0\",\"\")","v":"0"},"[Insert comments here]",{"$f":"IF(Risks!V7=0,\"0\",\"\")","v":"0"},"[Insert comments here]",{"$f":"IF(Risks!X7=0,\"0\",\"\")","v":"0"},"[Insert comments here]",{"$f":"IF(Risks!Z7=0,\"0\",\"\")","v":"0"},"[Insert comments here]",{"$f":"IF(Risks!AB7=0,\"0\",\"\")","v":"0"},"[Insert comments here]",{"$f":"IF(Risks!AD7=0,\"0\",\"\")","v":"0"},"[Insert comments here]",{"$f":"IF(Risks!AF7=0,\"0\",\"\")","v":"0"},"[Insert comments here]",{"$f":"IF(Risks!AH7=0,\"0\",\"\")","v":"0"},"[Insert comments here]",{"$f":"IF(Risks!AJ7=0,\"0\",\"\")","v":"0"},"[Insert comments here]",{"$f":"IF(Risks!AL7=0,\"0\",\"\")","v":"0"},"[Insert comments here]",{"$f":"IF(Risks!AN7=0,\"0\",\"\")","v":"0"},"[Insert comments here]",{"$f":"IF(Risks!AP7=0,\"0\",\"\")","v":"0"},"[Insert comments here]",{"$f":"IF(Risks!AR7=0,\"0\",\"\")","v":"0"},"[Insert comments here]",{"$f":"IF(Risks!AT7=0,\"0\",\"\")","v":"0"},"[Insert comments here]",{"$f":"IF(Risks!AV7=0,\"0\",\"\")","v":"0"},"[Insert comments here]",{"$f":"IF(Risks!AX7=0,\"0\",\"\")","v":"0"},"[Insert comments here]",{"$f":"IF(Risks!AZ7=0,\"0\",\"\")","v":"0"},"[Insert comments here]",{"$f":"IF(Risks!BB7=0,\"0\",\"\")","v":"0"},"[Insert comments here]",{"$f":"IF(Risks!BD7=0,\"0\",\"\")","v":"0"},"[Insert comments here]",{"$f":"IF(Risks!BF7=0,\"0\",\"\")","v":"0"},"[Insert comments here]",{"$f":"IF(Risks!BH7=0,\"0\",\"\")","v":"0"},"[Insert comments here]",{"$f":"IF(Risks!BJ7=0,\"0\",\"\")","v":"0"},"[Insert comments here]",{"$f":"IF(Risks!BL7=0,\"0\",\"\")","v":"0"},"[Insert comments here]",{"$f":"IF(Risks!BN7=0,\"0\",\"\")","v":"0"},"[Insert comments here]",{"$f":"IF(Risks!BP7=0,\"0\",\"\")","v":"0"},"[Insert comments here]",{"$f":"IF(Risks!BR7=0,\"0\",\"\")","v":"0"},"[Insert comments here]",{"$f":"IF(Risks!BT7=0,\"0\",\"\")","v":"0"},"[Insert comments here]",{"$f":"IF(Risks!BV7=0,\"0\",\"\")","v":"0"},"[Insert comments here]",{"$f":"IF(Risks!BX7=0,\"0\",\"\")","v":"0"},"[Insert comments here]",{"$f":"IF(Risks!BZ7=0,\"0\",\"\")","v":"0"},"[Insert comments here]",{"$f":"IF(Risks!CB7=0,\"0\",\"\")","v":"0"},"[Insert comments here]",{"$f":"IF(Risks!CD7=0,\"0\",\"\")","v":"0"},"[Insert comments here]",null,null,null,null,{"$f":"IF(Risks!CJ7=0,\"0\",\"\")","v":"0"},"[Insert comments here]"]
[null,null,"Biodiversity",0,"Minimal Scope outwith the current legislation",0,"Minimal Scope outwith the current legislation",0,"Minimal Scope outwith the current legislation",0,"Minimal Scope outwith the current legislation",0,"Minimal Scope outwith the current legislation",0,"Minimal Scope outwith the current legislation",0,"Minimal Scope outwith the current legislation",0,"Minimal Scope outwith the current legislation",{"$f":"IF(Risks!T8=0,\"0\",\"\")","v":"0"},"[Insert comments here]",{"$f":"IF(Risks!V8=0,\"0\",\"\")","v":"0"},"[Insert comments here]",{"$f":"IF(Risks!X8=0,\"0\",\"\")","v":"0"},"[Insert comments here]",{"$f":"IF(Risks!Z8=0,\"0\",\"\")","v":"0"},"[Insert comments here]",{"$f":"IF(Risks!AB8=0,\"0\",\"\")","v":"0"},"[Insert comments here]",{"$f":"IF(Risks!AD8=0,\"0\",\"\")","v":"0"},"[Insert comments here]",{"$f":"IF(Risks!AF8=0,\"0\",\"\")","v":"0"},"[Insert comments here]",{"$f":"IF(Risks!AH8=0,\"0\",\"\")","v":"0"},"[Insert comments here]",{"$f":"IF(Risks!AJ8=0,\"0\",\"\")","v":"0"},"[Insert comments here]",{"$f":"IF(Risks!AL8=0,\"0\",\"\")","v":"0"},"[Insert comments here]",{"$f":"IF(Risks!AN8=0,\"0\",\"\")","v":"0"},"[Insert comments here]",{"$f":"IF(Risks!AP8=0,\"0\",\"\")","v":"0"},"[Insert comments here]",{"$f":"IF(Risks!AR8=0,\"0\",\"\")","v":"0"},"[Insert comments here]",{"$f":"IF(Risks!AT8=0,\"0\",\"\")","v":"0"},"[Insert comments here]",{"$f":"IF(Risks!AV8=0,\"0\",\"\")","v":"0"},"[Insert comments here]",{"$f":"IF(Risks!AX8=0,\"0\",\"\")","v":"0"},"[Insert comments here]",{"$f":"IF(Risks!AZ8=0,\"0\",\"\")","v":"0"},"[Insert comments here]",{"$f":"IF(Risks!BB8=0,\"0\",\"\")","v":"0"},"[Insert comments here]",{"$f":"IF(Risks!BD8=0,\"0\",\"\")","v":"0"},"[Insert comments here]",{"$f":"IF(Risks!BF8=0,\"0\",\"\")","v":"0"},"[Insert comments here]",{"$f":"IF(Risks!BH8=0,\"0\",\"\")","v":"0"},"[Insert comments here]",{"$f":"IF(Risks!BJ8=0,\"0\",\"\")","v":"0"},"[Insert comments here]",{"$f":"IF(Risks!BL8=0,\"0\",\"\")","v":"0"},"[Insert comments here]",{"$f":"IF(Risks!BN8=0,\"0\",\"\")","v":"0"},"[Insert comments here]",{"$f":"IF(Risks!BP8=0,\"0\",\"\")","v":"0"},"[Insert comments here]",{"$f":"IF(Risks!BR8=0,\"0\",\"\")","v":"0"},"[Insert comments here]",{"$f":"IF(Risks!BT8=0,\"0\",\"\")","v":"0"},"[Insert comments here]",{"$f":"IF(Risks!BV8=0,\"0\",\"\")","v":"0"},"[Insert comments here]",{"$f":"IF(Risks!BX8=0,\"0\",\"\")","v":"0"},"[Insert comments here]",{"$f":"IF(Risks!BZ8=0,\"0\",\"\")","v":"0"},"[Insert comments here]",{"$f":"IF(Risks!CB8=0,\"0\",\"\")","v":"0"},"[Insert comments here]",{"$f":"IF(Risks!CD8=0,\"0\",\"\")","v":"0"},"[Insert comments here]",null,null,null,null,{"$f":"IF(Risks!CJ8=0,\"0\",\"\")","v":"0"},"[Insert comments here]"]
[null,null,"Heritage",{"$f":"IF(Risks!D9=0,\"0\",\"\")","v":"0"},"Minimal Scope",{"$f":"IF(Risks!F9=0,\"0\",\"\")","v":"0"},"Minimal Scope",{"$f":"IF(Risks!H9=0,\"0\",\"\")","v":"0"},"Minimal Scope",{"$f":"IF(Risks!J9=0,\"0\",\"\")","v":"0"},"Minimal Scope",0,"Minimal Scope",0,"Minimal Scope outwith the current legislation",{"$f":"IF(Risks!P9=0,\"0\",\"\")","v":"0"},"[Insert comments here]",{"$f":"IF(Risks!R9=0,\"0\",\"\")","v":"0"},"[Insert comments here]",{"$f":"IF(Risks!T9=0,\"0\",\"\")","v":"0"},"[Insert comments here]",{"$f":"IF(Risks!V9=0,\"0\",\"\")","v":"0"},"[Insert comments here]",{"$f":"IF(Risks!X9=0,\"0\",\"\")","v":"0"},"[Insert comments here]",{"$f":"IF(Risks!Z9=0,\"0\",\"\")","v":"0"},"[Insert comments here]",{"$f":"IF(Risks!AB9=0,\"0\",\"\")","v":"0"},"[Insert comments here]",{"$f":"IF(Risks!AD9=0,\"0\",\"\")","v":"0"},"[Insert comments here]",{"$f":"IF(Risks!AF9=0,\"0\",\"\")","v":"0"},"[Insert comments here]",{"$f":"IF(Risks!AH9=0,\"0\",\"\")","v":"0"},"[Insert comments here]",{"$f":"IF(Risks!AJ9=0,\"0\",\"\")","v":"0"},"[Insert comments here]",{"$f":"IF(Risks!AL9=0,\"0\",\"\")","v":"0"},"[Insert comments here]",{"$f":"IF(Risks!AN9=0,\"0\",\"\")","v":"0"},"[Insert comments here]",{"$f":"IF(Risks!AP9=0,\"0\",\"\")","v":"0"},"[Insert comments here]",{"$f":"IF(Risks!AR9=0,\"0\",\"\")","v":"0"},"[Insert comments here]",{"$f":"IF(Risks!AT9=0,\"0\",\"\")","v":"0"},"[Insert comments here]",{"$f":"IF(Risks!AV9=0,\"0\",\"\")","v":"0"},"[Insert comments here]",{"$f":"IF(Risks!AX9=0,\"0\",\"\")","v":"0"},"[Insert comments here]",{"$f":"IF(Risks!AZ9=0,\"0\",\"\")","v":"0"},"[Insert comments here]",{"$f":"IF(Risks!BB9=0,\"0\",\"\")","v":"0"},"[Insert comments here]",{"$f":"IF(Risks!BD9=0,\"0\",\"\")","v":"0"},"[Insert comments here]",{"$f":"IF(Risks!BF9=0,\"0\",\"\")","v":"0"},"[Insert comments here]",{"$f":"IF(Risks!BH9=0,\"0\",\"\")","v":"0"},"[Insert comments here]",{"$f":"IF(Risks!BJ9=0,\"0\",\"\")","v":"0"},"[Insert comments here]",{"$f":"IF(Risks!BL9=0,\"0\",\"\")","v":"0"},"[Insert comments here]",{"$f":"IF(Risks!BN9=0,\"0\",\"\")","v":"0"},"[Insert comments here]",{"$f":"IF(Risks!BP9=0,\"0\",\"\")","v":"0"},"[Insert comments here]",{"$f":"IF(Risks!BR9=0,\"0\",\"\")","v":"0"},"[Insert comments here]",{"$f":"IF(Risks!BT9=0,\"0\",\"\")","v":"0"},"[Insert comments here]",{"$f":"IF(Risks!BV9=0,\"0\",\"\")","v":"0"},"[Insert comments here]",{"$f":"IF(Risks!BX9=0,\"0\",\"\")","v":"0"},"[Insert comments here]",{"$f":"IF(Risks!BZ9=0,\"0\",\"\")","v":"0"},"[Insert comments here]",{"$f":"IF(Risks!CB9=0,\"0\",\"\")","v":"0"},"[Insert comments here]",{"$f":"IF(Risks!CD9=0,\"0\",\"\")","v":"0"},"[Insert comments here]",null,null,null,null,{"$f":"IF(Risks!CJ9=0,\"0\",\"\")","v":"0"},"[Insert comments here]"]
[null,null,"Water",0,"Minimal Scope",0,"Minimal Scope",0,"Minimal Scope",0,"Minimal Scope",0,"Minimal Scope",1,"Some scope to reduce amount of water used in washing, market already quite mature",1,"Scope with regards to DI water, move to centralised systems",0,"Minimal Scope",{"$f":"IF(Risks!T10=0,\"0\",\"\")","v":"0"},"[Insert comments here]",{"$f":"IF(Risks!V10=0,\"0\",\"\")","v":"0"},"[Insert comments here]",{"$f":"IF(Risks!X10=0,\"0\",\"\")","v":"0"},"[Insert comments here]",{"$f":"IF(Risks!Z10=0,\"0\",\"\")","v":"0"},"[Insert comments here]",{"$f":"IF(Risks!AB10=0,\"0\",\"\")","v":"0"},"[Insert comments here]",{"$f":"IF(Risks!AD10=0,\"0\",\"\")","v":"0"},"[Insert comments here]",{"$f":"IF(Risks!AF10=0,\"0\",\"\")","v":"0"},"[Insert comments here]",{"$f":"IF(Risks!AH10=0,\"0\",\"\")","v":"0"},"[Insert comments here]",{"$f":"IF(Risks!AJ10=0,\"0\",\"\")","v":"0"},"[Insert comments here]",{"$f":"IF(Risks!AL10=0,\"0\",\"\")","v":"0"},"[Insert comments here]",{"$f":"IF(Risks!AN10=0,\"0\",\"\")","v":"0"},"[Insert comments here]",{"$f":"IF(Risks!AP10=0,\"0\",\"\")","v":"0"},"[Insert comments here]",{"$f":"IF(Risks!AR10=0,\"0\",\"\")","v":"0"},"[Insert comments here]",{"$f":"IF(Risks!AT10=0,\"0\",\"\")","v":"0"},"[Insert comments here]",{"$f":"IF(Risks!AV10=0,\"0\",\"\")","v":"0"},"[Insert comments here]",{"$f":"IF(Risks!AX10=0,\"0\",\"\")","v":"0"},"[Insert comments here]",{"$f":"IF(Risks!AZ10=0,\"0\",\"\")","v":"0"},"[Insert comments here]",{"$f":"IF(Risks!BB10=0,\"0\",\"\")","v":"0"},"[Insert comments here]",{"$f":"IF(Risks!BD10=0,\"0\",\"\")","v":"0"},"[Insert comments here]",{"$f":"IF(Risks!BF10=0,\"0\",\"\")","v":"0"},"[Insert comments here]",{"$f":"IF(Risks!BH10=0,\"0\",\"\")","v":"0"},"[Insert comments here]",{"$f":"IF(Risks!BJ10=0,\"0\",\"\")","v":"0"},"[Insert comments here]",{"$f":"IF(Risks!BL10=0,\"0\",\"\")","v":"0"},"[Insert comments here]",{"$f":"IF(Risks!BN10=0,\"0\",\"\")","v":"0"},"[Insert comments here]",{"$f":"IF(Risks!BP10=0,\"0\",\"\")","v":"0"},"[Insert comments here]",{"$f":"IF(Risks!BR10=0,\"0\",\"\")","v":"0"},"[Insert comments here]",{"$f":"IF(Risks!BT10=0,\"0\",\"\")","v":"0"},"[Insert comments here]",{"$f":"IF(Risks!BV10=0,\"0\",\"\")","v":"0"},"[Insert comments here]",{"$f":"IF(Risks!BX10=0,\"0\",\"\")","v":"0"},"[Insert comments here]",{"$f":"IF(Risks!BZ10=0,\"0\",\"\")","v":"0"},"[Insert comments here]",{"$f":"IF(Risks!CB10=0,\"0\",\"\")","v":"0"},"[Insert comments here]",{"$f":"IF(Risks!CD10=0,\"0\",\"\")","v":"0"},"[Insert comments here]",null,null,null,null,{"$f":"IF(Risks!CJ10=0,\"0\",\"\")","v":"0"},"[Insert comments here]"]
[null,null,{"$f":"IF(EnvIssues=\"\",\"\",EnvIssues)","v":""},{"$f":"IF(Risks!D11=0,\"0\",\"\")","v":"0"},"[Insert comments here]",{"$f":"IF(Risks!F11=0,\"0\",\"\")","v":"0"},"[Insert comments here]",{"$f":"IF(Risks!H11=0,\"0\",\"\")","v":"0"},"[Insert comments here]",{"$f":"IF(Risks!J11=0,\"0\",\"\")","v":"0"},"[Insert comments here]",{"$f":"IF(Risks!L11=0,\"0\",\"\")","v":"0"},"[Insert comments here]",{"$f":"IF(Risks!N11=0,\"0\",\"\")","v":"0"},"[Insert comments here]",{"$f":"IF(Risks!P11=0,\"0\",\"\")","v":"0"},"[Insert comments here]",{"$f":"IF(Risks!R11=0,\"0\",\"\")","v":"0"},"[Insert comments here]",{"$f":"IF(Risks!T11=0,\"0\",\"\")","v":"0"},"[Insert comments here]",{"$f":"IF(Risks!V11=0,\"0\",\"\")","v":"0"},"[Insert comments here]",{"$f":"IF(Risks!X11=0,\"0\",\"\")","v":"0"},"[Insert comments here]",{"$f":"IF(Risks!Z11=0,\"0\",\"\")","v":"0"},"[Insert comments here]",{"$f":"IF(Risks!AB11=0,\"0\",\"\")","v":"0"},"[Insert comments here]",{"$f":"IF(Risks!AD11=0,\"0\",\"\")","v":"0"},"[Insert comments here]",{"$f":"IF(Risks!AF11=0,\"0\",\"\")","v":"0"},"[Insert comments here]",{"$f":"IF(Risks!AH11=0,\"0\",\"\")","v":"0"},"[Insert comments here]",{"$f":"IF(Risks!AJ11=0,\"0\",\"\")","v":"0"},"[Insert comments here]",{"$f":"IF(Risks!AL11=0,\"0\",\"\")","v":"0"},"[Insert comments here]",{"$f":"IF(Risks!AN11=0,\"0\",\"\")","v":"0"},"[Insert comments here]",{"$f":"IF(Risks!AP11=0,\"0\",\"\")","v":"0"},"[Insert comments here]",{"$f":"IF(Risks!AR11=0,\"0\",\"\")","v":"0"},"[Insert comments here]",{"$f":"IF(Risks!AT11=0,\"0\",\"\")","v":"0"},"[Insert comments here]",{"$f":"IF(Risks!AV11=0,\"0\",\"\")","v":"0"},"[Insert comments here]",{"$f":"IF(Risks!AX11=0,\"0\",\"\")","v":"0"},"[Insert comments here]",{"$f":"IF(Risks!AZ11=0,\"0\",\"\")","v":"0"},"[Insert comments here]",{"$f":"IF(Risks!BB11=0,\"0\",\"\")","v":"0"},"[Insert comments here]",{"$f":"IF(Risks!BD11=0,\"0\",\"\")","v":"0"},"[Insert comments here]",{"$f":"IF(Risks!BF11=0,\"0\",\"\")","v":"0"},"[Insert comments here]",{"$f":"IF(Risks!BH11=0,\"0\",\"\")","v":"0"},"[Insert comments here]",{"$f":"IF(Risks!BJ11=0,\"0\",\"\")","v":"0"},"[Insert comments here]",{"$f":"IF(Risks!BL11=0,\"0\",\"\")","v":"0"},"[Insert comments here]",{"$f":"IF(Risks!BN11=0,\"0\",\"\")","v":"0"},"[Insert comments here]",{"$f":"IF(Risks!BP11=0,\"0\",\"\")","v":"0"},"[Insert comments here]",{"$f":"IF(Risks!BR11=0,\"0\",\"\")","v":"0"},"[Insert comments here]",{"$f":"IF(Risks!BT11=0,\"0\",\"\")","v":"0"},"[Insert comments here]",{"$f":"IF(Risks!BV11=0,\"0\",\"\")","v":"0"},"[Insert comments here]",{"$f":"IF(Risks!BX11=0,\"0\",\"\")","v":"0"},"[Insert comments here]",{"$f":"IF(Risks!BZ11=0,\"0\",\"\")","v":"0"},"[Insert comments here]",{"$f":"IF(Risks!CB11=0,\"0\",\"\")","v":"0"},"[Insert comments here]",{"$f":"IF(Risks!CD11=0,\"0\",\"\")","v":"0"},"[Insert comments here]",null,null,null,null,{"$f":"IF(Risks!CJ11=0,\"0\",\"\")","v":"0"},"[Insert comments here]"]
[null,null,"",{"$f":"IF(Risks!D12=0,\"0\",\"\")","v":"0"},"[Insert comments here]",{"$f":"IF(Risks!F12=0,\"0\",\"\")","v":"0"},"[Insert comments here]",{"$f":"IF(Risks!H12=0,\"0\",\"\")","v":"0"},"[Insert comments here]",{"$f":"IF(Risks!J12=0,\"0\",\"\")","v":"0"},"[Insert comments here]",{"$f":"IF(Risks!L12=0,\"0\",\"\")","v":"0"},"[Insert comments here]",{"$f":"IF(Risks!N12=0,\"0\",\"\")","v":"0"},"[Insert comments here]",{"$f":"IF(Risks!P12=0,\"0\",\"\")","v":"0"},"[Insert comments here]",{"$f":"IF(Risks!R12=0,\"0\",\"\")","v":"0"},"[Insert comments here]",{"$f":"IF(Risks!T12=0,\"0\",\"\")","v":"0"},"[Insert comments here]",{"$f":"IF(Risks!V12=0,\"0\",\"\")","v":"0"},"[Insert comments here]",{"$f":"IF(Risks!X12=0,\"0\",\"\")","v":"0"},"[Insert comments here]",{"$f":"IF(Risks!Z12=0,\"0\",\"\")","v":"0"},"[Insert comments here]",{"$f":"IF(Risks!AB12=0,\"0\",\"\")","v":"0"},"[Insert comments here]",{"$f":"IF(Risks!AD12=0,\"0\",\"\")","v":"0"},"[Insert comments here]",{"$f":"IF(Risks!AF12=0,\"0\",\"\")","v":"0"},"[Insert comments here]",{"$f":"IF(Risks!AH12=0,\"0\",\"\")","v":"0"},"[Insert comments here]",{"$f":"IF(Risks!AJ12=0,\"0\",\"\")","v":"0"},"[Insert comments here]",{"$f":"IF(Risks!AL12=0,\"0\",\"\")","v":"0"},"[Insert comments here]",{"$f":"IF(Risks!AN12=0,\"0\",\"\")","v":"0"},"[Insert comments here]",{"$f":"IF(Risks!AP12=0,\"0\",\"\")","v":"0"},"[Insert comments here]",{"$f":"IF(Risks!AR12=0,\"0\",\"\")","v":"0"},"[Insert comments here]",{"$f":"IF(Risks!AT12=0,\"0\",\"\")","v":"0"},"[Insert comments here]",{"$f":"IF(Risks!AV12=0,\"0\",\"\")","v":"0"},"[Insert comments here]",{"$f":"IF(Risks!AX12=0,\"0\",\"\")","v":"0"},"[Insert comments here]",{"$f":"IF(Risks!AZ12=0,\"0\",\"\")","v":"0"},"[Insert comments here]",{"$f":"IF(Risks!BB12=0,\"0\",\"\")","v":"0"},"[Insert comments here]",{"$f":"IF(Risks!BD12=0,\"0\",\"\")","v":"0"},"[Insert comments here]",{"$f":"IF(Risks!BF12=0,\"0\",\"\")","v":"0"},"[Insert comments here]",{"$f":"IF(Risks!BH12=0,\"0\",\"\")","v":"0"},"[Insert comments here]",{"$f":"IF(Risks!BJ12=0,\"0\",\"\")","v":"0"},"[Insert comments here]",{"$f":"IF(Risks!BL12=0,\"0\",\"\")","v":"0"},"[Insert comments here]",{"$f":"IF(Risks!BN12=0,\"0\",\"\")","v":"0"},"[Insert comments here]",{"$f":"IF(Risks!BP12=0,\"0\",\"\")","v":"0"},"[Insert comments here]",{"$f":"IF(Risks!BR12=0,\"0\",\"\")","v":"0"},"[Insert comments here]",{"$f":"IF(Risks!BT12=0,\"0\",\"\")","v":"0"},"[Insert comments here]",{"$f":"IF(Risks!BV12=0,\"0\",\"\")","v":"0"},"[Insert comments here]",{"$f":"IF(Risks!BX12=0,\"0\",\"\")","v":"0"},"[Insert comments here]",{"$f":"IF(Risks!BZ12=0,\"0\",\"\")","v":"0"},"[Insert comments here]",{"$f":"IF(Risks!CB12=0,\"0\",\"\")","v":"0"},"[Insert comments here]",{"$f":"IF(Risks!CD12=0,\"0\",\"\")","v":"0"},"[Insert comments here]",null,null,null,null,{"$f":"IF(Risks!CJ12=0,\"0\",\"\")","v":"0"},"[Insert comments here]"]
[null,null,"",{"$f":"IF(Risks!D13=0,\"0\",\"\")","v":"0"},"[Insert comments here]",{"$f":"IF(Risks!F13=0,\"0\",\"\")","v":"0"},"[Insert comments here]",{"$f":"IF(Risks!H13=0,\"0\",\"\")","v":"0"},"[Insert comments here]",{"$f":"IF(Risks!J13=0,\"0\",\"\")","v":"0"},"[Insert comments here]",{"$f":"IF(Risks!L13=0,\"0\",\"\")","v":"0"},"[Insert comments here]",{"$f":"IF(Risks!N13=0,\"0\",\"\")","v":"0"},"[Insert comments here]",{"$f":"IF(Risks!P13=0,\"0\",\"\")","v":"0"},"[Insert comments here]",{"$f":"IF(Risks!R13=0,\"0\",\"\")","v":"0"},"[Insert comments here]",{"$f":"IF(Risks!T13=0,\"0\",\"\")","v":"0"},"[Insert comments here]",{"$f":"IF(Risks!V13=0,\"0\",\"\")","v":"0"},"[Insert comments here]",{"$f":"IF(Risks!X13=0,\"0\",\"\")","v":"0"},"[Insert comments here]",{"$f":"IF(Risks!Z13=0,\"0\",\"\")","v":"0"},"[Insert comments here]",{"$f":"IF(Risks!AB13=0,\"0\",\"\")","v":"0"},"[Insert comments here]",{"$f":"IF(Risks!AD13=0,\"0\",\"\")","v":"0"},"[Insert comments here]",{"$f":"IF(Risks!AF13=0,\"0\",\"\")","v":"0"},"[Insert comments here]",{"$f":"IF(Risks!AH13=0,\"0\",\"\")","v":"0"},"[Insert comments here]",{"$f":"IF(Risks!AJ13=0,\"0\",\"\")","v":"0"},"[Insert comments here]",{"$f":"IF(Risks!AL13=0,\"0\",\"\")","v":"0"},"[Insert comments here]",{"$f":"IF(Risks!AN13=0,\"0\",\"\")","v":"0"},"[Insert comments here]",{"$f":"IF(Risks!AP13=0,\"0\",\"\")","v":"0"},"[Insert comments here]",{"$f":"IF(Risks!AR13=0,\"0\",\"\")","v":"0"},"[Insert comments here]",{"$f":"IF(Risks!AT13=0,\"0\",\"\")","v":"0"},"[Insert comments here]",{"$f":"IF(Risks!AV13=0,\"0\",\"\")","v":"0"},"[Insert comments here]",{"$f":"IF(Risks!AX13=0,\"0\",\"\")","v":"0"},"[Insert comments here]",{"$f":"IF(Risks!AZ13=0,\"0\",\"\")","v":"0"},"[Insert comments here]",{"$f":"IF(Risks!BB13=0,\"0\",\"\")","v":"0"},"[Insert comments here]",{"$f":"IF(Risks!BD13=0,\"0\",\"\")","v":"0"},"[Insert comments here]",{"$f":"IF(Risks!BF13=0,\"0\",\"\")","v":"0"},"[Insert comments here]",{"$f":"IF(Risks!BH13=0,\"0\",\"\")","v":"0"},"[Insert comments here]",{"$f":"IF(Risks!BJ13=0,\"0\",\"\")","v":"0"},"[Insert comments here]",{"$f":"IF(Risks!BL13=0,\"0\",\"\")","v":"0"},"[Insert comments here]",{"$f":"IF(Risks!BN13=0,\"0\",\"\")","v":"0"},"[Insert comments here]",{"$f":"IF(Risks!BP13=0,\"0\",\"\")","v":"0"},"[Insert comments here]",{"$f":"IF(Risks!BR13=0,\"0\",\"\")","v":"0"},"[Insert comments here]",{"$f":"IF(Risks!BT13=0,\"0\",\"\")","v":"0"},"[Insert comments here]",{"$f":"IF(Risks!BV13=0,\"0\",\"\")","v":"0"},"[Insert comments here]",{"$f":"IF(Risks!BX13=0,\"0\",\"\")","v":"0"},"[Insert comments here]",{"$f":"IF(Risks!BZ13=0,\"0\",\"\")","v":"0"},"[Insert comments here]",{"$f":"IF(Risks!CB13=0,\"0\",\"\")","v":"0"},"[Insert comments here]",{"$f":"IF(Risks!CD13=0,\"0\",\"\")","v":"0"},"[Insert comments here]",null,null,null,null,{"$f":"IF(Risks!CJ13=0,\"0\",\"\")","v":"0"},"[Insert comments here]"]
[null,null,"",{"$f":"IF(Risks!D14=0,\"0\",\"\")","v":"0"},"[Insert comments here]",{"$f":"IF(Risks!F14=0,\"0\",\"\")","v":"0"},"[Insert comments here]",{"$f":"IF(Risks!H14=0,\"0\",\"\")","v":"0"},"[Insert comments here]",{"$f":"IF(Risks!J14=0,\"0\",\"\")","v":"0"},"[Insert comments here]",{"$f":"IF(Risks!L14=0,\"0\",\"\")","v":"0"},"[Insert comments here]",{"$f":"IF(Risks!N14=0,\"0\",\"\")","v":"0"},"[Insert comments here]",{"$f":"IF(Risks!P14=0,\"0\",\"\")","v":"0"},"[Insert comments here]",{"$f":"IF(Risks!R14=0,\"0\",\"\")","v":"0"},"[Insert comments here]",{"$f":"IF(Risks!T14=0,\"0\",\"\")","v":"0"},"[Insert comments here]",{"$f":"IF(Risks!V14=0,\"0\",\"\")","v":"0"},"[Insert comments here]",{"$f":"IF(Risks!X14=0,\"0\",\"\")","v":"0"},"[Insert comments here]",{"$f":"IF(Risks!Z14=0,\"0\",\"\")","v":"0"},"[Insert comments here]",{"$f":"IF(Risks!AB14=0,\"0\",\"\")","v":"0"},"[Insert comments here]",{"$f":"IF(Risks!AD14=0,\"0\",\"\")","v":"0"},"[Insert comments here]",{"$f":"IF(Risks!AF14=0,\"0\",\"\")","v":"0"},"[Insert comments here]",{"$f":"IF(Risks!AH14=0,\"0\",\"\")","v":"0"},"[Insert comments here]",{"$f":"IF(Risks!AJ14=0,\"0\",\"\")","v":"0"},"[Insert comments here]",{"$f":"IF(Risks!AL14=0,\"0\",\"\")","v":"0"},"[Insert comments here]",{"$f":"IF(Risks!AN14=0,\"0\",\"\")","v":"0"},"[Insert comments here]",{"$f":"IF(Risks!AP14=0,\"0\",\"\")","v":"0"},"[Insert comments here]",{"$f":"IF(Risks!AR14=0,\"0\",\"\")","v":"0"},"[Insert comments here]",{"$f":"IF(Risks!AT14=0,\"0\",\"\")","v":"0"},"[Insert comments here]",{"$f":"IF(Risks!AV14=0,\"0\",\"\")","v":"0"},"[Insert comments here]",{"$f":"IF(Risks!AX14=0,\"0\",\"\")","v":"0"},"[Insert comments here]",{"$f":"IF(Risks!AZ14=0,\"0\",\"\")","v":"0"},"[Insert comments here]",{"$f":"IF(Risks!BB14=0,\"0\",\"\")","v":"0"},"[Insert comments here]",{"$f":"IF(Risks!BD14=0,\"0\",\"\")","v":"0"},"[Insert comments here]",{"$f":"IF(Risks!BF14=0,\"0\",\"\")","v":"0"},"[Insert comments here]",{"$f":"IF(Risks!BH14=0,\"0\",\"\")","v":"0"},"[Insert comments here]",{"$f":"IF(Risks!BJ14=0,\"0\",\"\")","v":"0"},"[Insert comments here]",{"$f":"IF(Risks!BL14=0,\"0\",\"\")","v":"0"},"[Insert comments here]",{"$f":"IF(Risks!BN14=0,\"0\",\"\")","v":"0"},"[Insert comments here]",{"$f":"IF(Risks!BP14=0,\"0\",\"\")","v":"0"},"[Insert comments here]",{"$f":"IF(Risks!BR14=0,\"0\",\"\")","v":"0"},"[Insert comments here]",{"$f":"IF(Risks!BT14=0,\"0\",\"\")","v":"0"},"[Insert comments here]",{"$f":"IF(Risks!BV14=0,\"0\",\"\")","v":"0"},"[Insert comments here]",{"$f":"IF(Risks!BX14=0,\"0\",\"\")","v":"0"},"[Insert comments here]",{"$f":"IF(Risks!BZ14=0,\"0\",\"\")","v":"0"},"[Insert comments here]",{"$f":"IF(Risks!CB14=0,\"0\",\"\")","v":"0"},"[Insert comments here]",{"$f":"IF(Risks!CD14=0,\"0\",\"\")","v":"0"},"[Insert comments here]",null,null,null,null,{"$f":"IF(Risks!CJ14=0,\"0\",\"\")","v":"0"},"[Insert comments here]"]
[null,null,"",{"$f":"IF(Risks!D15=0,\"0\",\"\")","v":"0"},"[Insert comments here]",{"$f":"IF(Risks!F15=0,\"0\",\"\")","v":"0"},"[Insert comments here]",{"$f":"IF(Risks!H15=0,\"0\",\"\")","v":"0"},"[Insert comments here]",{"$f":"IF(Risks!J15=0,\"0\",\"\")","v":"0"},"[Insert comments here]",{"$f":"IF(Risks!L15=0,\"0\",\"\")","v":"0"},"[Insert comments here]",{"$f":"IF(Risks!N15=0,\"0\",\"\")","v":"0"},"[Insert comments here]",{"$f":"IF(Risks!P15=0,\"0\",\"\")","v":"0"},"[Insert comments here]",{"$f":"IF(Risks!R15=0,\"0\",\"\")","v":"0"},"[Insert comments here]",{"$f":"IF(Risks!T15=0,\"0\",\"\")","v":"0"},"[Insert comments here]",{"$f":"IF(Risks!V15=0,\"0\",\"\")","v":"0"},"[Insert comments here]",{"$f":"IF(Risks!X15=0,\"0\",\"\")","v":"0"},"[Insert comments here]",{"$f":"IF(Risks!Z15=0,\"0\",\"\")","v":"0"},"[Insert comments here]",{"$f":"IF(Risks!AB15=0,\"0\",\"\")","v":"0"},"[Insert comments here]",{"$f":"IF(Risks!AD15=0,\"0\",\"\")","v":"0"},"[Insert comments here]",{"$f":"IF(Risks!AF15=0,\"0\",\"\")","v":"0"},"[Insert comments here]",{"$f":"IF(Risks!AH15=0,\"0\",\"\")","v":"0"},"[Insert comments here]",{"$f":"IF(Risks!AJ15=0,\"0\",\"\")","v":"0"},"[Insert comments here]",{"$f":"IF(Risks!AL15=0,\"0\",\"\")","v":"0"},"[Insert comments here]",{"$f":"IF(Risks!AN15=0,\"0\",\"\")","v":"0"},"[Insert comments here]",{"$f":"IF(Risks!AP15=0,\"0\",\"\")","v":"0"},"[Insert comments here]",{"$f":"IF(Risks!AR15=0,\"0\",\"\")","v":"0"},"[Insert comments here]",{"$f":"IF(Risks!AT15=0,\"0\",\"\")","v":"0"},"[Insert comments here]",{"$f":"IF(Risks!AV15=0,\"0\",\"\")","v":"0"},"[Insert comments here]",{"$f":"IF(Risks!AX15=0,\"0\",\"\")","v":"0"},"[Insert comments here]",{"$f":"IF(Risks!AZ15=0,\"0\",\"\")","v":"0"},"[Insert comments here]",{"$f":"IF(Risks!BB15=0,\"0\",\"\")","v":"0"},"[Insert comments here]",{"$f":"IF(Risks!BD15=0,\"0\",\"\")","v":"0"},"[Insert comments here]",{"$f":"IF(Risks!BF15=0,\"0\",\"\")","v":"0"},"[Insert comments here]",{"$f":"IF(Risks!BH15=0,\"0\",\"\")","v":"0"},"[Insert comments here]",{"$f":"IF(Risks!BJ15=0,\"0\",\"\")","v":"0"},"[Insert comments here]",{"$f":"IF(Risks!BL15=0,\"0\",\"\")","v":"0"},"[Insert comments here]",{"$f":"IF(Risks!BN15=0,\"0\",\"\")","v":"0"},"[Insert comments here]",{"$f":"IF(Risks!BP15=0,\"0\",\"\")","v":"0"},"[Insert comments here]",{"$f":"IF(Risks!BR15=0,\"0\",\"\")","v":"0"},"[Insert comments here]",{"$f":"IF(Risks!BT15=0,\"0\",\"\")","v":"0"},"[Insert comments here]",{"$f":"IF(Risks!BV15=0,\"0\",\"\")","v":"0"},"[Insert comments here]",{"$f":"IF(Risks!BX15=0,\"0\",\"\")","v":"0"},"[Insert comments here]",{"$f":"IF(Risks!BZ15=0,\"0\",\"\")","v":"0"},"[Insert comments here]",{"$f":"IF(Risks!CB15=0,\"0\",\"\")","v":"0"},"[Insert comments here]",{"$f":"IF(Risks!CD15=0,\"0\",\"\")","v":"0"},"[Insert comments here]",null,null,null,null,{"$f":"IF(Risks!CJ15=0,\"0\",\"\")","v":"0"},"[Insert comments here]"]
[null,null,"",{"$f":"IF(Risks!D16=0,\"0\",\"\")","v":"0"},"[Insert comments here]",{"$f":"IF(Risks!F16=0,\"0\",\"\")","v":"0"},"[Insert comments here]",{"$f":"IF(Risks!H16=0,\"0\",\"\")","v":"0"},"[Insert comments here]",{"$f":"IF(Risks!J16=0,\"0\",\"\")","v":"0"},"[Insert comments here]",{"$f":"IF(Risks!L16=0,\"0\",\"\")","v":"0"},"[Insert comments here]",{"$f":"IF(Risks!N16=0,\"0\",\"\")","v":"0"},"[Insert comments here]",{"$f":"IF(Risks!P16=0,\"0\",\"\")","v":"0"},"[Insert comments here]",{"$f":"IF(Risks!R16=0,\"0\",\"\")","v":"0"},"[Insert comments here]",{"$f":"IF(Risks!T16=0,\"0\",\"\")","v":"0"},"[Insert comments here]",{"$f":"IF(Risks!V16=0,\"0\",\"\")","v":"0"},"[Insert comments here]",{"$f":"IF(Risks!X16=0,\"0\",\"\")","v":"0"},"[Insert comments here]",{"$f":"IF(Risks!Z16=0,\"0\",\"\")","v":"0"},"[Insert comments here]",{"$f":"IF(Risks!AB16=0,\"0\",\"\")","v":"0"},"[Insert comments here]",{"$f":"IF(Risks!AD16=0,\"0\",\"\")","v":"0"},"[Insert comments here]",{"$f":"IF(Risks!AF16=0,\"0\",\"\")","v":"0"},"[Insert comments here]",{"$f":"IF(Risks!AH16=0,\"0\",\"\")","v":"0"},"[Insert comments here]",{"$f":"IF(Risks!AJ16=0,\"0\",\"\")","v":"0"},"[Insert comments here]",{"$f":"IF(Risks!AL16=0,\"0\",\"\")","v":"0"},"[Insert comments here]",{"$f":"IF(Risks!AN16=0,\"0\",\"\")","v":"0"},"[Insert comments here]",{"$f":"IF(Risks!AP16=0,\"0\",\"\")","v":"0"},"[Insert comments here]",{"$f":"IF(Risks!AR16=0,\"0\",\"\")","v":"0"},"[Insert comments here]",{"$f":"IF(Risks!AT16=0,\"0\",\"\")","v":"0"},"[Insert comments here]",{"$f":"IF(Risks!AV16=0,\"0\",\"\")","v":"0"},"[Insert comments here]",{"$f":"IF(Risks!AX16=0,\"0\",\"\")","v":"0"},"[Insert comments here]",{"$f":"IF(Risks!AZ16=0,\"0\",\"\")","v":"0"},"[Insert comments here]",{"$f":"IF(Risks!BB16=0,\"0\",\"\")","v":"0"},"[Insert comments here]",{"$f":"IF(Risks!BD16=0,\"0\",\"\")","v":"0"},"[Insert comments here]",{"$f":"IF(Risks!BF16=0,\"0\",\"\")","v":"0"},"[Insert comments here]",{"$f":"IF(Risks!BH16=0,\"0\",\"\")","v":"0"},"[Insert comments here]",{"$f":"IF(Risks!BJ16=0,\"0\",\"\")","v":"0"},"[Insert comments here]",{"$f":"IF(Risks!BL16=0,\"0\",\"\")","v":"0"},"[Insert comments here]",{"$f":"IF(Risks!BN16=0,\"0\",\"\")","v":"0"},"[Insert comments here]",{"$f":"IF(Risks!BP16=0,\"0\",\"\")","v":"0"},"[Insert comments here]",{"$f":"IF(Risks!BR16=0,\"0\",\"\")","v":"0"},"[Insert comments here]",{"$f":"IF(Risks!BT16=0,\"0\",\"\")","v":"0"},"[Insert comments here]",{"$f":"IF(Risks!BV16=0,\"0\",\"\")","v":"0"},"[Insert comments here]",{"$f":"IF(Risks!BX16=0,\"0\",\"\")","v":"0"},"[Insert comments here]",{"$f":"IF(Risks!BZ16=0,\"0\",\"\")","v":"0"},"[Insert comments here]",{"$f":"IF(Risks!CB16=0,\"0\",\"\")","v":"0"},"[Insert comments here]",{"$f":"IF(Risks!CD16=0,\"0\",\"\")","v":"0"},"[Insert comments here]",null,null,null,null,{"$f":"IF(Risks!CJ16=0,\"0\",\"\")","v":"0"},"[Insert comments here]"]
[null,null,"",{"$f":"IF(Risks!D17=0,\"0\",\"\")","v":"0"},"[Insert comments here]",{"$f":"IF(Risks!F17=0,\"0\",\"\")","v":"0"},"[Insert comments here]",{"$f":"IF(Risks!H17=0,\"0\",\"\")","v":"0"},"[Insert comments here]",{"$f":"IF(Risks!J17=0,\"0\",\"\")","v":"0"},"[Insert comments here]",{"$f":"IF(Risks!L17=0,\"0\",\"\")","v":"0"},"[Insert comments here]",{"$f":"IF(Risks!N17=0,\"0\",\"\")","v":"0"},"[Insert comments here]",{"$f":"IF(Risks!P17=0,\"0\",\"\")","v":"0"},"[Insert comments here]",{"$f":"IF(Risks!R17=0,\"0\",\"\")","v":"0"},"[Insert comments here]",{"$f":"IF(Risks!T17=0,\"0\",\"\")","v":"0"},"[Insert comments here]",{"$f":"IF(Risks!V17=0,\"0\",\"\")","v":"0"},"[Insert comments here]",{"$f":"IF(Risks!X17=0,\"0\",\"\")","v":"0"},"[Insert comments here]",{"$f":"IF(Risks!Z17=0,\"0\",\"\")","v":"0"},"[Insert comments here]",{"$f":"IF(Risks!AB17=0,\"0\",\"\")","v":"0"},"[Insert comments here]",{"$f":"IF(Risks!AD17=0,\"0\",\"\")","v":"0"},"[Insert comments here]",{"$f":"IF(Risks!AF17=0,\"0\",\"\")","v":"0"},"[Insert comments here]",{"$f":"IF(Risks!AH17=0,\"0\",\"\")","v":"0"},"[Insert comments here]",{"$f":"IF(Risks!AJ17=0,\"0\",\"\")","v":"0"},"[Insert comments here]",{"$f":"IF(Risks!AL17=0,\"0\",\"\")","v":"0"},"[Insert comments here]",{"$f":"IF(Risks!AN17=0,\"0\",\"\")","v":"0"},"[Insert comments here]",{"$f":"IF(Risks!AP17=0,\"0\",\"\")","v":"0"},"[Insert comments here]",{"$f":"IF(Risks!AR17=0,\"0\",\"\")","v":"0"},"[Insert comments here]",{"$f":"IF(Risks!AT17=0,\"0\",\"\")","v":"0"},"[Insert comments here]",{"$f":"IF(Risks!AV17=0,\"0\",\"\")","v":"0"},"[Insert comments here]",{"$f":"IF(Risks!AX17=0,\"0\",\"\")","v":"0"},"[Insert comments here]",{"$f":"IF(Risks!AZ17=0,\"0\",\"\")","v":"0"},"[Insert comments here]",{"$f":"IF(Risks!BB17=0,\"0\",\"\")","v":"0"},"[Insert comments here]",{"$f":"IF(Risks!BD17=0,\"0\",\"\")","v":"0"},"[Insert comments here]",{"$f":"IF(Risks!BF17=0,\"0\",\"\")","v":"0"},"[Insert comments here]",{"$f":"IF(Risks!BH17=0,\"0\",\"\")","v":"0"},"[Insert comments here]",{"$f":"IF(Risks!BJ17=0,\"0\",\"\")","v":"0"},"[Insert comments here]",{"$f":"IF(Risks!BL17=0,\"0\",\"\")","v":"0"},"[Insert comments here]",{"$f":"IF(Risks!BN17=0,\"0\",\"\")","v":"0"},"[Insert comments here]",{"$f":"IF(Risks!BP17=0,\"0\",\"\")","v":"0"},"[Insert comments here]",{"$f":"IF(Risks!BR17=0,\"0\",\"\")","v":"0"},"[Insert comments here]",{"$f":"IF(Risks!BT17=0,\"0\",\"\")","v":"0"},"[Insert comments here]",{"$f":"IF(Risks!BV17=0,\"0\",\"\")","v":"0"},"[Insert comments here]",{"$f":"IF(Risks!BX17=0,\"0\",\"\")","v":"0"},"[Insert comments here]",{"$f":"IF(Risks!BZ17=0,\"0\",\"\")","v":"0"},"[Insert comments here]",{"$f":"IF(Risks!CB17=0,\"0\",\"\")","v":"0"},"[Insert comments here]",{"$f":"IF(Risks!CD17=0,\"0\",\"\")","v":"0"},"[Insert comments here]",null,null,null,null,{"$f":"IF(Risks!CJ17=0,\"0\",\"\")","v":"0"},"[Insert comments here]"]
[null,null,"",{"$f":"IF(Risks!D18=0,\"0\",\"\")","v":"0"},"[Insert comments here]",{"$f":"IF(Risks!F18=0,\"0\",\"\")","v":"0"},"[Insert comments here]",{"$f":"IF(Risks!H18=0,\"0\",\"\")","v":"0"},"[Insert comments here]",{"$f":"IF(Risks!J18=0,\"0\",\"\")","v":"0"},"[Insert comments here]",{"$f":"IF(Risks!L18=0,\"0\",\"\")","v":"0"},"[Insert comments here]",{"$f":"IF(Risks!N18=0,\"0\",\"\")","v":"0"},"[Insert comments here]",{"$f":"IF(Risks!P18=0,\"0\",\"\")","v":"0"},"[Insert comments here]",{"$f":"IF(Risks!R18=0,\"0\",\"\")","v":"0"},"[Insert comments here]",{"$f":"IF(Risks!T18=0,\"0\",\"\")","v":"0"},"[Insert comments here]",{"$f":"IF(Risks!V18=0,\"0\",\"\")","v":"0"},"[Insert comments here]",{"$f":"IF(Risks!X18=0,\"0\",\"\")","v":"0"},"[Insert comments here]",{"$f":"IF(Risks!Z18=0,\"0\",\"\")","v":"0"},"[Insert comments here]",{"$f":"IF(Risks!AB18=0,\"0\",\"\")","v":"0"},"[Insert comments here]",{"$f":"IF(Risks!AD18=0,\"0\",\"\")","v":"0"},"[Insert comments here]",{"$f":"IF(Risks!AF18=0,\"0\",\"\")","v":"0"},"[Insert comments here]",{"$f":"IF(Risks!AH18=0,\"0\",\"\")","v":"0"},"[Insert comments here]",{"$f":"IF(Risks!AJ18=0,\"0\",\"\")","v":"0"},"[Insert comments here]",{"$f":"IF(Risks!AL18=0,\"0\",\"\")","v":"0"},"[Insert comments here]",{"$f":"IF(Risks!AN18=0,\"0\",\"\")","v":"0"},"[Insert comments here]",{"$f":"IF(Risks!AP18=0,\"0\",\"\")","v":"0"},"[Insert comments here]",{"$f":"IF(Risks!AR18=0,\"0\",\"\")","v":"0"},"[Insert comments here]",{"$f":"IF(Risks!AT18=0,\"0\",\"\")","v":"0"},"[Insert comments here]",{"$f":"IF(Risks!AV18=0,\"0\",\"\")","v":"0"},"[Insert comments here]",{"$f":"IF(Risks!AX18=0,\"0\",\"\")","v":"0"},"[Insert comments here]",{"$f":"IF(Risks!AZ18=0,\"0\",\"\")","v":"0"},"[Insert comments here]",{"$f":"IF(Risks!BB18=0,\"0\",\"\")","v":"0"},"[Insert comments here]",{"$f":"IF(Risks!BD18=0,\"0\",\"\")","v":"0"},"[Insert comments here]",{"$f":"IF(Risks!BF18=0,\"0\",\"\")","v":"0"},"[Insert comments here]",{"$f":"IF(Risks!BH18=0,\"0\",\"\")","v":"0"},"[Insert comments here]",{"$f":"IF(Risks!BJ18=0,\"0\",\"\")","v":"0"},"[Insert comments here]",{"$f":"IF(Risks!BL18=0,\"0\",\"\")","v":"0"},"[Insert comments here]",{"$f":"IF(Risks!BN18=0,\"0\",\"\")","v":"0"},"[Insert comments here]",{"$f":"IF(Risks!BP18=0,\"0\",\"\")","v":"0"},"[Insert comments here]",{"$f":"IF(Risks!BR18=0,\"0\",\"\")","v":"0"},"[Insert comments here]",{"$f":"IF(Risks!BT18=0,\"0\",\"\")","v":"0"},"[Insert comments here]",{"$f":"IF(Risks!BV18=0,\"0\",\"\")","v":"0"},"[Insert comments here]",{"$f":"IF(Risks!BX18=0,\"0\",\"\")","v":"0"},"[Insert comments here]",{"$f":"IF(Risks!BZ18=0,\"0\",\"\")","v":"0"},"[Insert comments here]",{"$f":"IF(Risks!CB18=0,\"0\",\"\")","v":"0"},"[Insert comments here]",{"$f":"IF(Risks!CD18=0,\"0\",\"\")","v":"0"},"[Insert comments here]",null,null,null,null,{"$f":"IF(Risks!CJ18=0,\"0\",\"\")","v":"0"},"[Insert comments here]"]
[null,null,"",{"$f":"IF(Risks!D19=0,\"0\",\"\")","v":"0"},"[Insert comments here]",{"$f":"IF(Risks!F19=0,\"0\",\"\")","v":"0"},"[Insert comments here]",{"$f":"IF(Risks!H19=0,\"0\",\"\")","v":"0"},"[Insert comments here]",{"$f":"IF(Risks!J19=0,\"0\",\"\")","v":"0"},"[Insert comments here]",{"$f":"IF(Risks!L19=0,\"0\",\"\")","v":"0"},"[Insert comments here]",{"$f":"IF(Risks!N19=0,\"0\",\"\")","v":"0"},"[Insert comments here]",{"$f":"IF(Risks!P19=0,\"0\",\"\")","v":"0"},"[Insert comments here]",{"$f":"IF(Risks!R19=0,\"0\",\"\")","v":"0"},"[Insert comments here]",{"$f":"IF(Risks!T19=0,\"0\",\"\")","v":"0"},"[Insert comments here]",{"$f":"IF(Risks!V19=0,\"0\",\"\")","v":"0"},"[Insert comments here]",{"$f":"IF(Risks!X19=0,\"0\",\"\")","v":"0"},"[Insert comments here]",{"$f":"IF(Risks!Z19=0,\"0\",\"\")","v":"0"},"[Insert comments here]",{"$f":"IF(Risks!AB19=0,\"0\",\"\")","v":"0"},"[Insert comments here]",{"$f":"IF(Risks!AD19=0,\"0\",\"\")","v":"0"},"[Insert comments here]",{"$f":"IF(Risks!AF19=0,\"0\",\"\")","v":"0"},"[Insert comments here]",{"$f":"IF(Risks!AH19=0,\"0\",\"\")","v":"0"},"[Insert comments here]",{"$f":"IF(Risks!AJ19=0,\"0\",\"\")","v":"0"},"[Insert comments here]",{"$f":"IF(Risks!AL19=0,\"0\",\"\")","v":"0"},"[Insert comments here]",{"$f":"IF(Risks!AN19=0,\"0\",\"\")","v":"0"},"[Insert comments here]",{"$f":"IF(Risks!AP19=0,\"0\",\"\")","v":"0"},"[Insert comments here]",{"$f":"IF(Risks!AR19=0,\"0\",\"\")","v":"0"},"[Insert comments here]",{"$f":"IF(Risks!AT19=0,\"0\",\"\")","v":"0"},"[Insert comments here]",{"$f":"IF(Risks!AV19=0,\"0\",\"\")","v":"0"},"[Insert comments here]",{"$f":"IF(Risks!AX19=0,\"0\",\"\")","v":"0"},"[Insert comments here]",{"$f":"IF(Risks!AZ19=0,\"0\",\"\")","v":"0"},"[Insert comments here]",{"$f":"IF(Risks!BB19=0,\"0\",\"\")","v":"0"},"[Insert comments here]",{"$f":"IF(Risks!BD19=0,\"0\",\"\")","v":"0"},"[Insert comments here]",{"$f":"IF(Risks!BF19=0,\"0\",\"\")","v":"0"},"[Insert comments here]",{"$f":"IF(Risks!BH19=0,\"0\",\"\")","v":"0"},"[Insert comments here]",{"$f":"IF(Risks!BJ19=0,\"0\",\"\")","v":"0"},"[Insert comments here]",{"$f":"IF(Risks!BL19=0,\"0\",\"\")","v":"0"},"[Insert comments here]",{"$f":"IF(Risks!BN19=0,\"0\",\"\")","v":"0"},"[Insert comments here]",{"$f":"IF(Risks!BP19=0,\"0\",\"\")","v":"0"},"[Insert comments here]",{"$f":"IF(Risks!BR19=0,\"0\",\"\")","v":"0"},"[Insert comments here]",{"$f":"IF(Risks!BT19=0,\"0\",\"\")","v":"0"},"[Insert comments here]",{"$f":"IF(Risks!BV19=0,\"0\",\"\")","v":"0"},"[Insert comments here]",{"$f":"IF(Risks!BX19=0,\"0\",\"\")","v":"0"},"[Insert comments here]",{"$f":"IF(Risks!BZ19=0,\"0\",\"\")","v":"0"},"[Insert comments here]",{"$f":"IF(Risks!CB19=0,\"0\",\"\")","v":"0"},"[Insert comments here]",{"$f":"IF(Risks!CD19=0,\"0\",\"\")","v":"0"},"[Insert comments here]",null,null,null,null,{"$f":"IF(Risks!CJ19=0,\"0\",\"\")","v":"0"},"[Insert comments here]"]
[null,null,"",{"$f":"IF(Risks!D20=0,\"0\",\"\")","v":"0"},"[Insert comments here]",{"$f":"IF(Risks!F20=0,\"0\",\"\")","v":"0"},"[Insert comments here]",{"$f":"IF(Risks!H20=0,\"0\",\"\")","v":"0"},"[Insert comments here]",{"$f":"IF(Risks!J20=0,\"0\",\"\")","v":"0"},"[Insert comments here]",{"$f":"IF(Risks!L20=0,\"0\",\"\")","v":"0"},"[Insert comments here]",{"$f":"IF(Risks!N20=0,\"0\",\"\")","v":"0"},"[Insert comments here]",{"$f":"IF(Risks!P20=0,\"0\",\"\")","v":"0"},"[Insert comments here]",{"$f":"IF(Risks!R20=0,\"0\",\"\")","v":"0"},"[Insert comments here]",{"$f":"IF(Risks!T20=0,\"0\",\"\")","v":"0"},"[Insert comments here]",{"$f":"IF(Risks!V20=0,\"0\",\"\")","v":"0"},"[Insert comments here]",{"$f":"IF(Risks!X20=0,\"0\",\"\")","v":"0"},"[Insert comments here]",{"$f":"IF(Risks!Z20=0,\"0\",\"\")","v":"0"},"[Insert comments here]",{"$f":"IF(Risks!AB20=0,\"0\",\"\")","v":"0"},"[Insert comments here]",{"$f":"IF(Risks!AD20=0,\"0\",\"\")","v":"0"},"[Insert comments here]",{"$f":"IF(Risks!AF20=0,\"0\",\"\")","v":"0"},"[Insert comments here]",{"$f":"IF(Risks!AH20=0,\"0\",\"\")","v":"0"},"[Insert comments here]",{"$f":"IF(Risks!AJ20=0,\"0\",\"\")","v":"0"},"[Insert comments here]",{"$f":"IF(Risks!AL20=0,\"0\",\"\")","v":"0"},"[Insert comments here]",{"$f":"IF(Risks!AN20=0,\"0\",\"\")","v":"0"},"[Insert comments here]",{"$f":"IF(Risks!AP20=0,\"0\",\"\")","v":"0"},"[Insert comments here]",{"$f":"IF(Risks!AR20=0,\"0\",\"\")","v":"0"},"[Insert comments here]",{"$f":"IF(Risks!AT20=0,\"0\",\"\")","v":"0"},"[Insert comments here]",{"$f":"IF(Risks!AV20=0,\"0\",\"\")","v":"0"},"[Insert comments here]",{"$f":"IF(Risks!AX20=0,\"0\",\"\")","v":"0"},"[Insert comments here]",{"$f":"IF(Risks!AZ20=0,\"0\",\"\")","v":"0"},"[Insert comments here]",{"$f":"IF(Risks!BB20=0,\"0\",\"\")","v":"0"},"[Insert comments here]",{"$f":"IF(Risks!BD20=0,\"0\",\"\")","v":"0"},"[Insert comments here]",{"$f":"IF(Risks!BF20=0,\"0\",\"\")","v":"0"},"[Insert comments here]",{"$f":"IF(Risks!BH20=0,\"0\",\"\")","v":"0"},"[Insert comments here]",{"$f":"IF(Risks!BJ20=0,\"0\",\"\")","v":"0"},"[Insert comments here]",{"$f":"IF(Risks!BL20=0,\"0\",\"\")","v":"0"},"[Insert comments here]",{"$f":"IF(Risks!BN20=0,\"0\",\"\")","v":"0"},"[Insert comments here]",{"$f":"IF(Risks!BP20=0,\"0\",\"\")","v":"0"},"[Insert comments here]",{"$f":"IF(Risks!BR20=0,\"0\",\"\")","v":"0"},"[Insert comments here]",{"$f":"IF(Risks!BT20=0,\"0\",\"\")","v":"0"},"[Insert comments here]",{"$f":"IF(Risks!BV20=0,\"0\",\"\")","v":"0"},"[Insert comments here]",{"$f":"IF(Risks!BX20=0,\"0\",\"\")","v":"0"},"[Insert comments here]",{"$f":"IF(Risks!BZ20=0,\"0\",\"\")","v":"0"},"[Insert comments here]",{"$f":"IF(Risks!CB20=0,\"0\",\"\")","v":"0"},"[Insert comments here]",{"$f":"IF(Risks!CD20=0,\"0\",\"\")","v":"0"},"[Insert comments here]",null,null,null,null,{"$f":"IF(Risks!CJ20=0,\"0\",\"\")","v":"0"},"[Insert comments here]"]
[null,null,"",{"$f":"IF(Risks!D21=0,\"0\",\"\")","v":"0"},"[Insert comments here]",{"$f":"IF(Risks!F21=0,\"0\",\"\")","v":"0"},"[Insert comments here]",{"$f":"IF(Risks!H21=0,\"0\",\"\")","v":"0"},"[Insert comments here]",{"$f":"IF(Risks!J21=0,\"0\",\"\")","v":"0"},"[Insert comments here]",{"$f":"IF(Risks!L21=0,\"0\",\"\")","v":"0"},"[Insert comments here]",{"$f":"IF(Risks!N21=0,\"0\",\"\")","v":"0"},"[Insert comments here]",{"$f":"IF(Risks!P21=0,\"0\",\"\")","v":"0"},"[Insert comments here]",{"$f":"IF(Risks!R21=0,\"0\",\"\")","v":"0"},"[Insert comments here]",{"$f":"IF(Risks!T21=0,\"0\",\"\")","v":"0"},"[Insert comments here]",{"$f":"IF(Risks!V21=0,\"0\",\"\")","v":"0"},"[Insert comments here]",{"$f":"IF(Risks!X21=0,\"0\",\"\")","v":"0"},"[Insert comments here]",{"$f":"IF(Risks!Z21=0,\"0\",\"\")","v":"0"},"[Insert comments here]",{"$f":"IF(Risks!AB21=0,\"0\",\"\")","v":"0"},"[Insert comments here]",{"$f":"IF(Risks!AD21=0,\"0\",\"\")","v":"0"},"[Insert comments here]",{"$f":"IF(Risks!AF21=0,\"0\",\"\")","v":"0"},"[Insert comments here]",{"$f":"IF(Risks!AH21=0,\"0\",\"\")","v":"0"},"[Insert comments here]",{"$f":"IF(Risks!AJ21=0,\"0\",\"\")","v":"0"},"[Insert comments here]",{"$f":"IF(Risks!AL21=0,\"0\",\"\")","v":"0"},"[Insert comments here]",{"$f":"IF(Risks!AN21=0,\"0\",\"\")","v":"0"},"[Insert comments here]",{"$f":"IF(Risks!AP21=0,\"0\",\"\")","v":"0"},"[Insert comments here]",{"$f":"IF(Risks!AR21=0,\"0\",\"\")","v":"0"},"[Insert comments here]",{"$f":"IF(Risks!AT21=0,\"0\",\"\")","v":"0"},"[Insert comments here]",{"$f":"IF(Risks!AV21=0,\"0\",\"\")","v":"0"},"[Insert comments here]",{"$f":"IF(Risks!AX21=0,\"0\",\"\")","v":"0"},"[Insert comments here]",{"$f":"IF(Risks!AZ21=0,\"0\",\"\")","v":"0"},"[Insert comments here]",{"$f":"IF(Risks!BB21=0,\"0\",\"\")","v":"0"},"[Insert comments here]",{"$f":"IF(Risks!BD21=0,\"0\",\"\")","v":"0"},"[Insert comments here]",{"$f":"IF(Risks!BF21=0,\"0\",\"\")","v":"0"},"[Insert comments here]",{"$f":"IF(Risks!BH21=0,\"0\",\"\")","v":"0"},"[Insert comments here]",{"$f":"IF(Risks!BJ21=0,\"0\",\"\")","v":"0"},"[Insert comments here]",{"$f":"IF(Risks!BL21=0,\"0\",\"\")","v":"0"},"[Insert comments here]",{"$f":"IF(Risks!BN21=0,\"0\",\"\")","v":"0"},"[Insert comments here]",{"$f":"IF(Risks!BP21=0,\"0\",\"\")","v":"0"},"[Insert comments here]",{"$f":"IF(Risks!BR21=0,\"0\",\"\")","v":"0"},"[Insert comments here]",{"$f":"IF(Risks!BT21=0,\"0\",\"\")","v":"0"},"[Insert comments here]",{"$f":"IF(Risks!BV21=0,\"0\",\"\")","v":"0"},"[Insert comments here]",{"$f":"IF(Risks!BX21=0,\"0\",\"\")","v":"0"},"[Insert comments here]",{"$f":"IF(Risks!BZ21=0,\"0\",\"\")","v":"0"},"[Insert comments here]",{"$f":"IF(Risks!CB21=0,\"0\",\"\")","v":"0"},"[Insert comments here]",{"$f":"IF(Risks!CD21=0,\"0\",\"\")","v":"0"},"[Insert comments here]",null,null,null,null,{"$f":"IF(Risks!CJ21=0,\"0\",\"\")","v":"0"},"[Insert comments here]"]
[null,null,"",{"$f":"IF(Risks!D22=0,\"0\",\"\")","v":"0"},"[Insert comments here]",{"$f":"IF(Risks!F22=0,\"0\",\"\")","v":"0"},"[Insert comments here]",{"$f":"IF(Risks!H22=0,\"0\",\"\")","v":"0"},"[Insert comments here]",{"$f":"IF(Risks!J22=0,\"0\",\"\")","v":"0"},"[Insert comments here]",{"$f":"IF(Risks!L22=0,\"0\",\"\")","v":"0"},"[Insert comments here]",{"$f":"IF(Risks!N22=0,\"0\",\"\")","v":"0"},"[Insert comments here]",{"$f":"IF(Risks!P22=0,\"0\",\"\")","v":"0"},"[Insert comments here]",{"$f":"IF(Risks!R22=0,\"0\",\"\")","v":"0"},"[Insert comments here]",{"$f":"IF(Risks!T22=0,\"0\",\"\")","v":"0"},"[Insert comments here]",{"$f":"IF(Risks!V22=0,\"0\",\"\")","v":"0"},"[Insert comments here]",{"$f":"IF(Risks!X22=0,\"0\",\"\")","v":"0"},"[Insert comments here]",{"$f":"IF(Risks!Z22=0,\"0\",\"\")","v":"0"},"[Insert comments here]",{"$f":"IF(Risks!AB22=0,\"0\",\"\")","v":"0"},"[Insert comments here]",{"$f":"IF(Risks!AD22=0,\"0\",\"\")","v":"0"},"[Insert comments here]",{"$f":"IF(Risks!AF22=0,\"0\",\"\")","v":"0"},"[Insert comments here]",{"$f":"IF(Risks!AH22=0,\"0\",\"\")","v":"0"},"[Insert comments here]",{"$f":"IF(Risks!AJ22=0,\"0\",\"\")","v":"0"},"[Insert comments here]",{"$f":"IF(Risks!AL22=0,\"0\",\"\")","v":"0"},"[Insert comments here]",{"$f":"IF(Risks!AN22=0,\"0\",\"\")","v":"0"},"[Insert comments here]",{"$f":"IF(Risks!AP22=0,\"0\",\"\")","v":"0"},"[Insert comments here]",{"$f":"IF(Risks!AR22=0,\"0\",\"\")","v":"0"},"[Insert comments here]",{"$f":"IF(Risks!AT22=0,\"0\",\"\")","v":"0"},"[Insert comments here]",{"$f":"IF(Risks!AV22=0,\"0\",\"\")","v":"0"},"[Insert comments here]",{"$f":"IF(Risks!AX22=0,\"0\",\"\")","v":"0"},"[Insert comments here]",{"$f":"IF(Risks!AZ22=0,\"0\",\"\")","v":"0"},"[Insert comments here]",{"$f":"IF(Risks!BB22=0,\"0\",\"\")","v":"0"},"[Insert comments here]",{"$f":"IF(Risks!BD22=0,\"0\",\"\")","v":"0"},"[Insert comments here]",{"$f":"IF(Risks!BF22=0,\"0\",\"\")","v":"0"},"[Insert comments here]",{"$f":"IF(Risks!BH22=0,\"0\",\"\")","v":"0"},"[Insert comments here]",{"$f":"IF(Risks!BJ22=0,\"0\",\"\")","v":"0"},"[Insert comments here]",{"$f":"IF(Risks!BL22=0,\"0\",\"\")","v":"0"},"[Insert comments here]",{"$f":"IF(Risks!BN22=0,\"0\",\"\")","v":"0"},"[Insert comments here]",{"$f":"IF(Risks!BP22=0,\"0\",\"\")","v":"0"},"[Insert comments here]",{"$f":"IF(Risks!BR22=0,\"0\",\"\")","v":"0"},"[Insert comments here]",{"$f":"IF(Risks!BT22=0,\"0\",\"\")","v":"0"},"[Insert comments here]",{"$f":"IF(Risks!BV22=0,\"0\",\"\")","v":"0"},"[Insert comments here]",{"$f":"IF(Risks!BX22=0,\"0\",\"\")","v":"0"},"[Insert comments here]",{"$f":"IF(Risks!BZ22=0,\"0\",\"\")","v":"0"},"[Insert comments here]",{"$f":"IF(Risks!CB22=0,\"0\",\"\")","v":"0"},"[Insert comments here]",{"$f":"IF(Risks!CD22=0,\"0\",\"\")","v":"0"},"[Insert comments here]",null,null,null,null,{"$f":"IF(Risks!CJ22=0,\"0\",\"\")","v":"0"},"[Insert comments here]"]
[null,null,"",{"$f":"IF(Risks!D23=0,\"0\",\"\")","v":"0"},"[Insert comments here]",{"$f":"IF(Risks!F23=0,\"0\",\"\")","v":"0"},"[Insert comments here]",{"$f":"IF(Risks!H23=0,\"0\",\"\")","v":"0"},"[Insert comments here]",{"$f":"IF(Risks!J23=0,\"0\",\"\")","v":"0"},"[Insert comments here]",{"$f":"IF(Risks!L23=0,\"0\",\"\")","v":"0"},"[Insert comments here]",{"$f":"IF(Risks!N23=0,\"0\",\"\")","v":"0"},"[Insert comments here]",{"$f":"IF(Risks!P23=0,\"0\",\"\")","v":"0"},"[Insert comments here]",{"$f":"IF(Risks!R23=0,\"0\",\"\")","v":"0"},"[Insert comments here]",{"$f":"IF(Risks!T23=0,\"0\",\"\")","v":"0"},"[Insert comments here]",{"$f":"IF(Risks!V23=0,\"0\",\"\")","v":"0"},"[Insert comments here]",{"$f":"IF(Risks!X23=0,\"0\",\"\")","v":"0"},"[Insert comments here]",{"$f":"IF(Risks!Z23=0,\"0\",\"\")","v":"0"},"[Insert comments here]",{"$f":"IF(Risks!AB23=0,\"0\",\"\")","v":"0"},"[Insert comments here]",{"$f":"IF(Risks!AD23=0,\"0\",\"\")","v":"0"},"[Insert comments here]",{"$f":"IF(Risks!AF23=0,\"0\",\"\")","v":"0"},"[Insert comments here]",{"$f":"IF(Risks!AH23=0,\"0\",\"\")","v":"0"},"[Insert comments here]",{"$f":"IF(Risks!AJ23=0,\"0\",\"\")","v":"0"},"[Insert comments here]",{"$f":"IF(Risks!AL23=0,\"0\",\"\")","v":"0"},"[Insert comments here]",{"$f":"IF(Risks!AN23=0,\"0\",\"\")","v":"0"},"[Insert comments here]",{"$f":"IF(Risks!AP23=0,\"0\",\"\")","v":"0"},"[Insert comments here]",{"$f":"IF(Risks!AR23=0,\"0\",\"\")","v":"0"},"[Insert comments here]",{"$f":"IF(Risks!AT23=0,\"0\",\"\")","v":"0"},"[Insert comments here]",{"$f":"IF(Risks!AV23=0,\"0\",\"\")","v":"0"},"[Insert comments here]",{"$f":"IF(Risks!AX23=0,\"0\",\"\")","v":"0"},"[Insert comments here]",{"$f":"IF(Risks!AZ23=0,\"0\",\"\")","v":"0"},"[Insert comments here]",{"$f":"IF(Risks!BB23=0,\"0\",\"\")","v":"0"},"[Insert comments here]",{"$f":"IF(Risks!BD23=0,\"0\",\"\")","v":"0"},"[Insert comments here]",{"$f":"IF(Risks!BF23=0,\"0\",\"\")","v":"0"},"[Insert comments here]",{"$f":"IF(Risks!BH23=0,\"0\",\"\")","v":"0"},"[Insert comments here]",{"$f":"IF(Risks!BJ23=0,\"0\",\"\")","v":"0"},"[Insert comments here]",{"$f":"IF(Risks!BL23=0,\"0\",\"\")","v":"0"},"[Insert comments here]",{"$f":"IF(Risks!BN23=0,\"0\",\"\")","v":"0"},"[Insert comments here]",{"$f":"IF(Risks!BP23=0,\"0\",\"\")","v":"0"},"[Insert comments here]",{"$f":"IF(Risks!BR23=0,\"0\",\"\")","v":"0"},"[Insert comments here]",{"$f":"IF(Risks!BT23=0,\"0\",\"\")","v":"0"},"[Insert comments here]",{"$f":"IF(Risks!BV23=0,\"0\",\"\")","v":"0"},"[Insert comments here]",{"$f":"IF(Risks!BX23=0,\"0\",\"\")","v":"0"},"[Insert comments here]",{"$f":"IF(Risks!BZ23=0,\"0\",\"\")","v":"0"},"[Insert comments here]",{"$f":"IF(Risks!CB23=0,\"0\",\"\")","v":"0"},"[Insert comments here]",{"$f":"IF(Risks!CD23=0,\"0\",\"\")","v":"0"},"[Insert comments here]",null,null,null,null,{"$f":"IF(Risks!CJ23=0,\"0\",\"\")","v":"0"},"[Insert comments here]"]
[]
["Socio-economic",null,{"$f":"IF(INDEX(SocIssues,ROW()-ROW(C$24))=\"\",\"\",INDEX(SocIssues,ROW()-ROW(C$24)))","v":"Employment, skills and training"},3,"Introducing \"reuse\"  opportunity to create new skills ops such as Circular Economy. Working with small recycling and reuse projects",1,"Introducing \"reuse\"  opportunity to create new skills ops such as Circular Economy. Working with samll recycling and reuse projects",0,"Minimal Scope",3,"Introducing \"reuse\"  opportunity to create new skills ops such as Circular Economy. Working with small recycling and reuse projects",0,"Minimal Scope",2,"Scope to influence suppliers to create new positions",{"$f":"IF(Risks!P30=0,\"0\",\"\")","v":"0"},"[Insert comments here]",1,"Low level of oppportunity",{"$f":"IF(Risks!T30=0,\"0\",\"\")","v":"0"},"[Insert comments here]",{"$f":"IF(Risks!V30=0,\"0\",\"\")","v":"0"},"[Insert comments here]",{"$f":"IF(Risks!X30=0,\"0\",\"\")","v":"0"},"[Insert comments here]",{"$f":"IF(Risks!Z30=0,\"0\",\"\")","v":"0"},"[Insert comments here]",{"$f":"IF(Risks!AB30=0,\"0\",\"\")","v":"0"},"[Insert comments here]",{"$f":"IF(Risks!AD30=0,\"0\",\"\")","v":"0"},"[Insert comments here]",{"$f":"IF(Risks!AF30=0,\"0\",\"\")","v":"0"},"[Insert comments here]",{"$f":"IF(Risks!AH30=0,\"0\",\"\")","v":"0"},"[Insert comments here]",{"$f":"IF(Risks!AJ30=0,\"0\",\"\")","v":"0"},"[Insert comments here]",{"$f":"IF(Risks!AL30=0,\"0\",\"\")","v":"0"},"[Insert comments here]",{"$f":"IF(Risks!AN30=0,\"0\",\"\")","v":"0"},"[Insert comments here]",{"$f":"IF(Risks!AP30=0,\"0\",\"\")","v":"0"},"[Insert comments here]",{"$f":"IF(Risks!AR30=0,\"0\",\"\")","v":"0"},"[Insert comments here]",{"$f":"IF(Risks!AT30=0,\"0\",\"\")","v":"0"},"[Insert comments here]",{"$f":"IF(Risks!AV30=0,\"0\",\"\")","v":"0"},"[Insert comments here]",{"$f":"IF(Risks!AX30=0,\"0\",\"\")","v":"0"},"[Insert comments here]",{"$f":"IF(Risks!AZ30=0,\"0\",\"\")","v":"0"},"[Insert comments here]",{"$f":"IF(Risks!BB30=0,\"0\",\"\")","v":"0"},"[Insert comments here]",{"$f":"IF(Risks!BD30=0,\"0\",\"\")","v":"0"},"[Insert comments here]",{"$f":"IF(Risks!BF30=0,\"0\",\"\")","v":"0"},"[Insert comments here]",{"$f":"IF(Risks!BH30=0,\"0\",\"\")","v":"0"},"[Insert comments here]",{"$f":"IF(Risks!BJ30=0,\"0\",\"\")","v":"0"},"[Insert comments here]",{"$f":"IF(Risks!BL30=0,\"0\",\"\")","v":"0"},"[Insert comments here]",{"$f":"IF(Risks!BN30=0,\"0\",\"\")","v":"0"},"[Insert comments here]",{"$f":"IF(Risks!BP30=0,\"0\",\"\")","v":"0"},"[Insert comments here]",{"$f":"IF(Risks!BR30=0,\"0\",\"\")","v":"0"},"[Insert comments here]",{"$f":"IF(Risks!BT30=0,\"0\",\"\")","v":"0"},"[Insert comments here]",{"$f":"IF(Risks!BV30=0,\"0\",\"\")","v":"0"},"[Insert comments here]",{"$f":"IF(Risks!BX30=0,\"0\",\"\")","v":"0"},"[Insert comments here]",{"$f":"IF(Risks!BZ30=0,\"0\",\"\")","v":"0"},"[Insert comments here]",{"$f":"IF(Risks!CB30=0,\"0\",\"\")","v":"0"},"[Insert comments here]",{"$f":"IF(Risks!CD30=0,\"0\",\"\")","v":"0"},"[Insert comments here]",null,null,null,null,{"$f":"IF(Risks!CJ30=0,\"0\",\"\")","v":"0"},"[Insert comments here]"]
["Scroll down to complete all questions.",null,{"$f":"IF(INDEX(SocIssues,ROW()-ROW(C$24))=\"\",\"\",INDEX(SocIssues,ROW()-ROW(C$24)))","v":"Health and wellbeing"},1,"risks to workforce at all levels through use of final product in working environment. Health and Safety.",0,"Not Applicable",0,"Minimal Scope",1,"risks to workforce at all levels through use of final product in working environment. Health and Safety.",1,"Raise awareness of toners and chemicals in devices. ",3,"Looking at scope to introduce robotics",1,"risks to workforce at all levels through use of final product in working environment. Health and Safety.",0,"Minimal Scope outwith the current legislation and procedures",{"$f":"IF(Risks!T31=0,\"0\",\"\")","v":"0"},"[Insert comments here]",{"$f":"IF(Risks!V31=0,\"0\",\"\")","v":"0"},"[Insert comments here]",{"$f":"IF(Risks!X31=0,\"0\",\"\")","v":"0"},"[Insert comments here]",{"$f":"IF(Risks!Z31=0,\"0\",\"\")","v":"0"},"[Insert comments here]",{"$f":"IF(Risks!AB31=0,\"0\",\"\")","v":"0"},"[Insert comments here]",{"$f":"IF(Risks!AD31=0,\"0\",\"\")","v":"0"},"[Insert comments here]",{"$f":"IF(Risks!AF31=0,\"0\",\"\")","v":"0"},"[Insert comments here]",{"$f":"IF(Risks!AH31=0,\"0\",\"\")","v":"0"},"[Insert comments here]",{"$f":"IF(Risks!AJ31=0,\"0\",\"\")","v":"0"},"[Insert comments here]",{"$f":"IF(Risks!AL31=0,\"0\",\"\")","v":"0"},"[Insert comments here]",{"$f":"IF(Risks!AN31=0,\"0\",\"\")","v":"0"},"[Insert comments here]",{"$f":"IF(Risks!AP31=0,\"0\",\"\")","v":"0"},"[Insert comments here]",{"$f":"IF(Risks!AR31=0,\"0\",\"\")","v":"0"},"[Insert comments here]",{"$f":"IF(Risks!AT31=0,\"0\",\"\")","v":"0"},"[Insert comments here]",{"$f":"IF(Risks!AV31=0,\"0\",\"\")","v":"0"},"[Insert comments here]",{"$f":"IF(Risks!AX31=0,\"0\",\"\")","v":"0"},"[Insert comments here]",{"$f":"IF(Risks!AZ31=0,\"0\",\"\")","v":"0"},"[Insert comments here]",{"$f":"IF(Risks!BB31=0,\"0\",\"\")","v":"0"},"[Insert comments here]",{"$f":"IF(Risks!BD31=0,\"0\",\"\")","v":"0"},"[Insert comments here]",{"$f":"IF(Risks!BF31=0,\"0\",\"\")","v":"0"},"[Insert comments here]",{"$f":"IF(Risks!BH31=0,\"0\",\"\")","v":"0"},"[Insert comments here]",{"$f":"IF(Risks!BJ31=0,\"0\",\"\")","v":"0"},"[Insert comments here]",{"$f":"IF(Risks!BL31=0,\"0\",\"\")","v":"0"},"[Insert comments here]",{"$f":"IF(Risks!BN31=0,\"0\",\"\")","v":"0"},"[Insert comments here]",{"$f":"IF(Risks!BP31=0,\"0\",\"\")","v":"0"},"[Insert comments here]",{"$f":"IF(Risks!BR31=0,\"0\",\"\")","v":"0"},"[Insert comments here]",{"$f":"IF(Risks!BT31=0,\"0\",\"\")","v":"0"},"[Insert comments here]",{"$f":"IF(Risks!BV31=0,\"0\",\"\")","v":"0"},"[Insert comments here]",{"$f":"IF(Risks!BX31=0,\"0\",\"\")","v":"0"},"[Insert comments here]",{"$f":"IF(Risks!BZ31=0,\"0\",\"\")","v":"0"},"[Insert comments here]",{"$f":"IF(Risks!CB31=0,\"0\",\"\")","v":"0"},"[Insert comments here]",{"$f":"IF(Risks!CD31=0,\"0\",\"\")","v":"0"},"[Insert comments here]",null,null,null,null,{"$f":"IF(Risks!CJ31=0,\"0\",\"\")","v":"0"},"[Insert comments here]"]
[null,null,{"$f":"IF(INDEX(SocIssues,ROW()-ROW(C$24))=\"\",\"\",INDEX(SocIssues,ROW()-ROW(C$24)))","v":"Communities"},1,"EW is utilised to monitoring the conditions and the impact of their communities.",1,"EW is utilised to monitoring the conditions and the impact of their communities.",1,"EW is utilised to monitoring the conditions and the impact of their communities.",1,"EW is utilised to monitoring the conditions and the impact of their communities.",1,"EW is utilised to monitoring the conditions and the impact of their communities.",1,"CHECK if EW will do this for us",1,"CHECK if EW will do this for us",1,"CHECK if EW will do this for us",{"$f":"IF(Risks!T32=0,\"0\",\"\")","v":"0"},"[Insert comments here]",{"$f":"IF(Risks!V32=0,\"0\",\"\")","v":"0"},"[Insert comments here]",{"$f":"IF(Risks!X32=0,\"0\",\"\")","v":"0"},"[Insert comments here]",{"$f":"IF(Risks!Z32=0,\"0\",\"\")","v":"0"},"[Insert comments here]",{"$f":"IF(Risks!AB32=0,\"0\",\"\")","v":"0"},"[Insert comments here]",{"$f":"IF(Risks!AD32=0,\"0\",\"\")","v":"0"},"[Insert comments here]",{"$f":"IF(Risks!AF32=0,\"0\",\"\")","v":"0"},"[Insert comments here]",{"$f":"IF(Risks!AH32=0,\"0\",\"\")","v":"0"},"[Insert comments here]",{"$f":"IF(Risks!AJ32=0,\"0\",\"\")","v":"0"},"[Insert comments here]",{"$f":"IF(Risks!AL32=0,\"0\",\"\")","v":"0"},"[Insert comments here]",{"$f":"IF(Risks!AN32=0,\"0\",\"\")","v":"0"},"[Insert comments here]",{"$f":"IF(Risks!AP32=0,\"0\",\"\")","v":"0"},"[Insert comments here]",{"$f":"IF(Risks!AR32=0,\"0\",\"\")","v":"0"},"[Insert comments here]",{"$f":"IF(Risks!AT32=0,\"0\",\"\")","v":"0"},"[Insert comments here]",{"$f":"IF(Risks!AV32=0,\"0\",\"\")","v":"0"},"[Insert comments here]",{"$f":"IF(Risks!AX32=0,\"0\",\"\")","v":"0"},"[Insert comments here]",{"$f":"IF(Risks!AZ32=0,\"0\",\"\")","v":"0"},"[Insert comments here]",{"$f":"IF(Risks!BB32=0,\"0\",\"\")","v":"0"},"[Insert comments here]",{"$f":"IF(Risks!BD32=0,\"0\",\"\")","v":"0"},"[Insert comments here]",{"$f":"IF(Risks!BF32=0,\"0\",\"\")","v":"0"},"[Insert comments here]",{"$f":"IF(Risks!BH32=0,\"0\",\"\")","v":"0"},"[Insert comments here]",{"$f":"IF(Risks!BJ32=0,\"0\",\"\")","v":"0"},"[Insert comments here]",{"$f":"IF(Risks!BL32=0,\"0\",\"\")","v":"0"},"[Insert comments here]",{"$f":"IF(Risks!BN32=0,\"0\",\"\")","v":"0"},"[Insert comments here]",{"$f":"IF(Risks!BP32=0,\"0\",\"\")","v":"0"},"[Insert comments here]",{"$f":"IF(Risks!BR32=0,\"0\",\"\")","v":"0"},"[Insert comments here]",{"$f":"IF(Risks!BT32=0,\"0\",\"\")","v":"0"},"[Insert comments here]",{"$f":"IF(Risks!BV32=0,\"0\",\"\")","v":"0"},"[Insert comments here]",{"$f":"IF(Risks!BX32=0,\"0\",\"\")","v":"0"},"[Insert comments here]",{"$f":"IF(Risks!BZ32=0,\"0\",\"\")","v":"0"},"[Insert comments here]",{"$f":"IF(Risks!CB32=0,\"0\",\"\")","v":"0"},"[Insert comments here]",{"$f":"IF(Risks!CD32=0,\"0\",\"\")","v":"0"},"[Insert comments here]",null,null,null,null,{"$f":"IF(Risks!CJ32=0,\"0\",\"\")","v":"0"},"[Insert comments here]"]
[null,null,"Security and crime",1,"B2P security enforcing security of devices with minimal personal input/setting",1,"B2P security enforcing security of devices with minimal personal input/setting",1,"B2P security enforcing security of devices with minimal personal input/setting",1,"B2P security enforcing security of devices with minimal personal input/setting",1,"B2P security enforcing security of devices with minimal personal input/setting",0,"little scope, strong procedures",0,"little scope, strong procedures",1,"Some opportunity to work with suppliers",{"$f":"IF(Risks!T33=0,\"0\",\"\")","v":"0"},"[Insert comments here]",{"$f":"IF(Risks!V33=0,\"0\",\"\")","v":"0"},"[Insert comments here]",{"$f":"IF(Risks!X33=0,\"0\",\"\")","v":"0"},"[Insert comments here]",{"$f":"IF(Risks!Z33=0,\"0\",\"\")","v":"0"},"[Insert comments here]",{"$f":"IF(Risks!AB33=0,\"0\",\"\")","v":"0"},"[Insert comments here]",{"$f":"IF(Risks!AD33=0,\"0\",\"\")","v":"0"},"[Insert comments here]",{"$f":"IF(Risks!AF33=0,\"0\",\"\")","v":"0"},"[Insert comments here]",{"$f":"IF(Risks!AH33=0,\"0\",\"\")","v":"0"},"[Insert comments here]",{"$f":"IF(Risks!AJ33=0,\"0\",\"\")","v":"0"},"[Insert comments here]",{"$f":"IF(Risks!AL33=0,\"0\",\"\")","v":"0"},"[Insert comments here]",{"$f":"IF(Risks!AN33=0,\"0\",\"\")","v":"0"},"[Insert comments here]",{"$f":"IF(Risks!AP33=0,\"0\",\"\")","v":"0"},"[Insert comments here]",{"$f":"IF(Risks!AR33=0,\"0\",\"\")","v":"0"},"[Insert comments here]",{"$f":"IF(Risks!AT33=0,\"0\",\"\")","v":"0"},"[Insert comments here]",{"$f":"IF(Risks!AV33=0,\"0\",\"\")","v":"0"},"[Insert comments here]",{"$f":"IF(Risks!AX33=0,\"0\",\"\")","v":"0"},"[Insert comments here]",{"$f":"IF(Risks!AZ33=0,\"0\",\"\")","v":"0"},"[Insert comments here]",{"$f":"IF(Risks!BB33=0,\"0\",\"\")","v":"0"},"[Insert comments here]",{"$f":"IF(Risks!BD33=0,\"0\",\"\")","v":"0"},"[Insert comments here]",{"$f":"IF(Risks!BF33=0,\"0\",\"\")","v":"0"},"[Insert comments here]",{"$f":"IF(Risks!BH33=0,\"0\",\"\")","v":"0"},"[Insert comments here]",{"$f":"IF(Risks!BJ33=0,\"0\",\"\")","v":"0"},"[Insert comments here]",{"$f":"IF(Risks!BL33=0,\"0\",\"\")","v":"0"},"[Insert comments here]",{"$f":"IF(Risks!BN33=0,\"0\",\"\")","v":"0"},"[Insert comments here]",{"$f":"IF(Risks!BP33=0,\"0\",\"\")","v":"0"},"[Insert comments here]",{"$f":"IF(Risks!BR33=0,\"0\",\"\")","v":"0"},"[Insert comments here]",{"$f":"IF(Risks!BT33=0,\"0\",\"\")","v":"0"},"[Insert comments here]",{"$f":"IF(Risks!BV33=0,\"0\",\"\")","v":"0"},"[Insert comments here]",{"$f":"IF(Risks!BX33=0,\"0\",\"\")","v":"0"},"[Insert comments here]",{"$f":"IF(Risks!BZ33=0,\"0\",\"\")","v":"0"},"[Insert comments here]",{"$f":"IF(Risks!CB33=0,\"0\",\"\")","v":"0"},"[Insert comments here]",{"$f":"IF(Risks!CD33=0,\"0\",\"\")","v":"0"},"[Insert comments here]",null,null,null,null,{"$f":"IF(Risks!CJ33=0,\"0\",\"\")","v":"0"},"[Insert comments here]"]
[null,null,"Fairly and ethically traded",2,"Develop further with EW to communicate research and outcomes. More engagement regarding conflict minerals with Industry.",2,"Develop further with EW to communicate research and outcomes. More engagement regarding conflict minerals with Industry.",2,"Develop further with EW to communicate research and outcomes. More engagement regarding conflict minerals with Industry.",2,"Develop further with EW to communicate research and outcomes. More engagement regarding conflict minerals with Industry.",2,"Develop further with EW to communicate research and outcomes. More engagement regarding conflict minerals with Industry.",2,"CHECK if EW will do this for us",2,"CHECK if EW will do this for us",2,"CHECK if EW will do this for us",{"$f":"IF(Risks!T34=0,\"0\",\"\")","v":"0"},"[Insert comments here]",{"$f":"IF(Risks!V34=0,\"0\",\"\")","v":"0"},"[Insert comments here]",{"$f":"IF(Risks!X34=0,\"0\",\"\")","v":"0"},"[Insert comments here]",{"$f":"IF(Risks!Z34=0,\"0\",\"\")","v":"0"},"[Insert comments here]",{"$f":"IF(Risks!AB34=0,\"0\",\"\")","v":"0"},"[Insert comments here]",{"$f":"IF(Risks!AD34=0,\"0\",\"\")","v":"0"},"[Insert comments here]",{"$f":"IF(Risks!AF34=0,\"0\",\"\")","v":"0"},"[Insert comments here]",{"$f":"IF(Risks!AH34=0,\"0\",\"\")","v":"0"},"[Insert comments here]",{"$f":"IF(Risks!AJ34=0,\"0\",\"\")","v":"0"},"[Insert comments here]",{"$f":"IF(Risks!AL34=0,\"0\",\"\")","v":"0"},"[Insert comments here]",{"$f":"IF(Risks!AN34=0,\"0\",\"\")","v":"0"},"[Insert comments here]",{"$f":"IF(Risks!AP34=0,\"0\",\"\")","v":"0"},"[Insert comments here]",{"$f":"IF(Risks!AR34=0,\"0\",\"\")","v":"0"},"[Insert comments here]",{"$f":"IF(Risks!AT34=0,\"0\",\"\")","v":"0"},"[Insert comments here]",{"$f":"IF(Risks!AV34=0,\"0\",\"\")","v":"0"},"[Insert comments here]",{"$f":"IF(Risks!AX34=0,\"0\",\"\")","v":"0"},"[Insert comments here]",{"$f":"IF(Risks!AZ34=0,\"0\",\"\")","v":"0"},"[Insert comments here]",{"$f":"IF(Risks!BB34=0,\"0\",\"\")","v":"0"},"[Insert comments here]",{"$f":"IF(Risks!BD34=0,\"0\",\"\")","v":"0"},"[Insert comments here]",{"$f":"IF(Risks!BF34=0,\"0\",\"\")","v":"0"},"[Insert comments here]",{"$f":"IF(Risks!BH34=0,\"0\",\"\")","v":"0"},"[Insert comments here]",{"$f":"IF(Risks!BJ34=0,\"0\",\"\")","v":"0"},"[Insert comments here]",{"$f":"IF(Risks!BL34=0,\"0\",\"\")","v":"0"},"[Insert comments here]",{"$f":"IF(Risks!BN34=0,\"0\",\"\")","v":"0"},"[Insert comments here]",{"$f":"IF(Risks!BP34=0,\"0\",\"\")","v":"0"},"[Insert comments here]",{"$f":"IF(Risks!BR34=0,\"0\",\"\")","v":"0"},"[Insert comments here]",{"$f":"IF(Risks!BT34=0,\"0\",\"\")","v":"0"},"[Insert comments here]",{"$f":"IF(Risks!BV34=0,\"0\",\"\")","v":"0"},"[Insert comments here]",{"$f":"IF(Risks!BX34=0,\"0\",\"\")","v":"0"},"[Insert comments here]",{"$f":"IF(Risks!BZ34=0,\"0\",\"\")","v":"0"},"[Insert comments here]",{"$f":"IF(Risks!CB34=0,\"0\",\"\")","v":"0"},"[Insert comments here]",{"$f":"IF(Risks!CD34=0,\"0\",\"\")","v":"0"},"[Insert comments here]",null,null,null,null,{"$f":"IF(Risks!CJ34=0,\"0\",\"\")","v":"0"},"[Insert comments here]"]
[null,null,"Equality",2,"Improve accessibility to systems for end users. Utilise EW to raise and report awraeness of equality in supply chain.",2,"Utilise EW to raise and report awareness of equality in supply chain.",2,"Utilise EW to raise and report awareness of equality in supply chain.",2,"Improve accessibility to systems for end users. Utilise EW to raise and report awraeness of equality in supply chain.",2,"Utilise EW to raise and report awareness of equality in supply chain.",2,"CHECK if EW will do this for us",2,"CHECK if EW will do this for us",2,"CHECK if EW will do this for us",{"$f":"IF(Risks!T35=0,\"0\",\"\")","v":"0"},"[Insert comments here]",{"$f":"IF(Risks!V35=0,\"0\",\"\")","v":"0"},"[Insert comments here]",{"$f":"IF(Risks!X35=0,\"0\",\"\")","v":"0"},"[Insert comments here]",{"$f":"IF(Risks!Z35=0,\"0\",\"\")","v":"0"},"[Insert comments here]",{"$f":"IF(Risks!AB35=0,\"0\",\"\")","v":"0"},"[Insert comments here]",{"$f":"IF(Risks!AD35=0,\"0\",\"\")","v":"0"},"[Insert comments here]",{"$f":"IF(Risks!AF35=0,\"0\",\"\")","v":"0"},"[Insert comments here]",{"$f":"IF(Risks!AH35=0,\"0\",\"\")","v":"0"},"[Insert comments here]",{"$f":"IF(Risks!AJ35=0,\"0\",\"\")","v":"0"},"[Insert comments here]",{"$f":"IF(Risks!AL35=0,\"0\",\"\")","v":"0"},"[Insert comments here]",{"$f":"IF(Risks!AN35=0,\"0\",\"\")","v":"0"},"[Insert comments here]",{"$f":"IF(Risks!AP35=0,\"0\",\"\")","v":"0"},"[Insert comments here]",{"$f":"IF(Risks!AR35=0,\"0\",\"\")","v":"0"},"[Insert comments here]",{"$f":"IF(Risks!AT35=0,\"0\",\"\")","v":"0"},"[Insert comments here]",{"$f":"IF(Risks!AV35=0,\"0\",\"\")","v":"0"},"[Insert comments here]",{"$f":"IF(Risks!AX35=0,\"0\",\"\")","v":"0"},"[Insert comments here]",{"$f":"IF(Risks!AZ35=0,\"0\",\"\")","v":"0"},"[Insert comments here]",{"$f":"IF(Risks!BB35=0,\"0\",\"\")","v":"0"},"[Insert comments here]",{"$f":"IF(Risks!BD35=0,\"0\",\"\")","v":"0"},"[Insert comments here]",{"$f":"IF(Risks!BF35=0,\"0\",\"\")","v":"0"},"[Insert comments here]",{"$f":"IF(Risks!BH35=0,\"0\",\"\")","v":"0"},"[Insert comments here]",{"$f":"IF(Risks!BJ35=0,\"0\",\"\")","v":"0"},"[Insert comments here]",{"$f":"IF(Risks!BL35=0,\"0\",\"\")","v":"0"},"[Insert comments here]",{"$f":"IF(Risks!BN35=0,\"0\",\"\")","v":"0"},"[Insert comments here]",{"$f":"IF(Risks!BP35=0,\"0\",\"\")","v":"0"},"[Insert comments here]",{"$f":"IF(Risks!BR35=0,\"0\",\"\")","v":"0"},"[Insert comments here]",{"$f":"IF(Risks!BT35=0,\"0\",\"\")","v":"0"},"[Insert comments here]",{"$f":"IF(Risks!BV35=0,\"0\",\"\")","v":"0"},"[Insert comments here]",{"$f":"IF(Risks!BX35=0,\"0\",\"\")","v":"0"},"[Insert comments here]",{"$f":"IF(Risks!BZ35=0,\"0\",\"\")","v":"0"},"[Insert comments here]",{"$f":"IF(Risks!CB35=0,\"0\",\"\")","v":"0"},"[Insert comments here]",{"$f":"IF(Risks!CD35=0,\"0\",\"\")","v":"0"},"[Insert comments here]",null,null,null,null,{"$f":"IF(Risks!CJ35=0,\"0\",\"\")","v":"0"},"[Insert comments here]"]
[null,null,"Fair Work",1,"Investigate where this occurs in direct sales and seek to inform aligned values.",0,"Minimal Scope",0,"Minimal Scope",1,"Investigate where this occurs in direct sales and seek to inform aligned values.",0,"Minimal Scope",{"$f":"IF(Risks!N36=0,\"0\",\"\")","v":"0"},"[Insert comments here]",{"$f":"IF(Risks!P36=0,\"0\",\"\")","v":"0"},"[Insert comments here]",0,"not relevant",{"$f":"IF(Risks!T36=0,\"0\",\"\")","v":"0"},"[Insert comments here]",{"$f":"IF(Risks!V36=0,\"0\",\"\")","v":"0"},"[Insert comments here]",{"$f":"IF(Risks!X36=0,\"0\",\"\")","v":"0"},"[Insert comments here]",{"$f":"IF(Risks!Z36=0,\"0\",\"\")","v":"0"},"[Insert comments here]",{"$f":"IF(Risks!AB36=0,\"0\",\"\")","v":"0"},"[Insert comments here]",{"$f":"IF(Risks!AD36=0,\"0\",\"\")","v":"0"},"[Insert comments here]",{"$f":"IF(Risks!AF36=0,\"0\",\"\")","v":"0"},"[Insert comments here]",{"$f":"IF(Risks!AH36=0,\"0\",\"\")","v":"0"},"[Insert comments here]",{"$f":"IF(Risks!AJ36=0,\"0\",\"\")","v":"0"},"[Insert comments here]",{"$f":"IF(Risks!AL36=0,\"0\",\"\")","v":"0"},"[Insert comments here]",{"$f":"IF(Risks!AN36=0,\"0\",\"\")","v":"0"},"[Insert comments here]",{"$f":"IF(Risks!AP36=0,\"0\",\"\")","v":"0"},"[Insert comments here]",{"$f":"IF(Risks!AR36=0,\"0\",\"\")","v":"0"},"[Insert comments here]",{"$f":"IF(Risks!AT36=0,\"0\",\"\")","v":"0"},"[Insert comments here]",{"$f":"IF(Risks!AV36=0,\"0\",\"\")","v":"0"},"[Insert comments here]",{"$f":"IF(Risks!AX36=0,\"0\",\"\")","v":"0"},"[Insert comments here]",{"$f":"IF(Risks!AZ36=0,\"0\",\"\")","v":"0"},"[Insert comments here]",{"$f":"IF(Risks!BB36=0,\"0\",\"\")","v":"0"},"[Insert comments here]",{"$f":"IF(Risks!BD36=0,\"0\",\"\")","v":"0"},"[Insert comments here]",{"$f":"IF(Risks!BF36=0,\"0\",\"\")","v":"0"},"[Insert comments here]",{"$f":"IF(Risks!BH36=0,\"0\",\"\")","v":"0"},"[Insert comments here]",{"$f":"IF(Risks!BJ36=0,\"0\",\"\")","v":"0"},"[Insert comments here]",{"$f":"IF(Risks!BL36=0,\"0\",\"\")","v":"0"},"[Insert comments here]",{"$f":"IF(Risks!BN36=0,\"0\",\"\")","v":"0"},"[Insert comments here]",{"$f":"IF(Risks!BP36=0,\"0\",\"\")","v":"0"},"[Insert comments here]",{"$f":"IF(Risks!BR36=0,\"0\",\"\")","v":"0"},"[Insert comments here]",{"$f":"IF(Risks!BT36=0,\"0\",\"\")","v":"0"},"[Insert comments here]",{"$f":"IF(Risks!BV36=0,\"0\",\"\")","v":"0"},"[Insert comments here]",{"$f":"IF(Risks!BX36=0,\"0\",\"\")","v":"0"},"[Insert comments here]",{"$f":"IF(Risks!BZ36=0,\"0\",\"\")","v":"0"},"[Insert comments here]",{"$f":"IF(Risks!CB36=0,\"0\",\"\")","v":"0"},"[Insert comments here]",{"$f":"IF(Risks!CD36=0,\"0\",\"\")","v":"0"},"[Insert comments here]",null,null,null,null,{"$f":"IF(Risks!CJ36=0,\"0\",\"\")","v":"0"},"[Insert comments here]"]
[null,null,"",{"$f":"IF(Risks!D37=0,\"0\",\"\")","v":"0"},"[Insert comments here]",{"$f":"IF(Risks!F37=0,\"0\",\"\")","v":"0"},"[Insert comments here]",{"$f":"IF(Risks!H37=0,\"0\",\"\")","v":"0"},"[Insert comments here]",{"$f":"IF(Risks!J37=0,\"0\",\"\")","v":"0"},"[Insert comments here]",{"$f":"IF(Risks!L37=0,\"0\",\"\")","v":"0"},"[Insert comments here]",{"$f":"IF(Risks!N37=0,\"0\",\"\")","v":"0"},"[Insert comments here]",{"$f":"IF(Risks!P37=0,\"0\",\"\")","v":"0"},"[Insert comments here]",{"$f":"IF(Risks!R37=0,\"0\",\"\")","v":"0"},"[Insert comments here]",{"$f":"IF(Risks!T37=0,\"0\",\"\")","v":"0"},"[Insert comments here]",{"$f":"IF(Risks!V37=0,\"0\",\"\")","v":"0"},"[Insert comments here]",{"$f":"IF(Risks!X37=0,\"0\",\"\")","v":"0"},"[Insert comments here]",{"$f":"IF(Risks!Z37=0,\"0\",\"\")","v":"0"},"[Insert comments here]",{"$f":"IF(Risks!AB37=0,\"0\",\"\")","v":"0"},"[Insert comments here]",{"$f":"IF(Risks!AD37=0,\"0\",\"\")","v":"0"},"[Insert comments here]",{"$f":"IF(Risks!AF37=0,\"0\",\"\")","v":"0"},"[Insert comments here]",{"$f":"IF(Risks!AH37=0,\"0\",\"\")","v":"0"},"[Insert comments here]",{"$f":"IF(Risks!AJ37=0,\"0\",\"\")","v":"0"},"[Insert comments here]",{"$f":"IF(Risks!AL37=0,\"0\",\"\")","v":"0"},"[Insert comments here]",{"$f":"IF(Risks!AN37=0,\"0\",\"\")","v":"0"},"[Insert comments here]",{"$f":"IF(Risks!AP37=0,\"0\",\"\")","v":"0"},"[Insert comments here]",{"$f":"IF(Risks!AR37=0,\"0\",\"\")","v":"0"},"[Insert comments here]",{"$f":"IF(Risks!AT37=0,\"0\",\"\")","v":"0"},"[Insert comments here]",{"$f":"IF(Risks!AV37=0,\"0\",\"\")","v":"0"},"[Insert comments here]",{"$f":"IF(Risks!AX37=0,\"0\",\"\")","v":"0"},"[Insert comments here]",{"$f":"IF(Risks!AZ37=0,\"0\",\"\")","v":"0"},"[Insert comments here]",{"$f":"IF(Risks!BB37=0,\"0\",\"\")","v":"0"},"[Insert comments here]",{"$f":"IF(Risks!BD37=0,\"0\",\"\")","v":"0"},"[Insert comments here]",{"$f":"IF(Risks!BF37=0,\"0\",\"\")","v":"0"},"[Insert comments here]",{"$f":"IF(Risks!BH37=0,\"0\",\"\")","v":"0"},"[Insert comments here]",{"$f":"IF(Risks!BJ37=0,\"0\",\"\")","v":"0"},"[Insert comments here]",{"$f":"IF(Risks!BL37=0,\"0\",\"\")","v":"0"},"[Insert comments here]",{"$f":"IF(Risks!BN37=0,\"0\",\"\")","v":"0"},"[Insert comments here]",{"$f":"IF(Risks!BP37=0,\"0\",\"\")","v":"0"},"[Insert comments here]",{"$f":"IF(Risks!BR37=0,\"0\",\"\")","v":"0"},"[Insert comments here]",{"$f":"IF(Risks!BT37=0,\"0\",\"\")","v":"0"},"[Insert comments here]",{"$f":"IF(Risks!BV37=0,\"0\",\"\")","v":"0"},"[Insert comments here]",{"$f":"IF(Risks!BX37=0,\"0\",\"\")","v":"0"},"[Insert comments here]",{"$f":"IF(Risks!BZ37=0,\"0\",\"\")","v":"0"},"[Insert comments here]",{"$f":"IF(Risks!CB37=0,\"0\",\"\")","v":"0"},"[Insert comments here]",{"$f":"IF(Risks!CD37=0,\"0\",\"\")","v":"0"},"[Insert comments here]",null,null,null,null,{"$f":"IF(Risks!CJ37=0,\"0\",\"\")","v":"0"},"[Insert comments here]"]
[null,null,"",{"$f":"IF(Risks!D38=0,\"0\",\"\")","v":"0"},"[Insert comments here]",{"$f":"IF(Risks!F38=0,\"0\",\"\")","v":"0"},"[Insert comments here]",{"$f":"IF(Risks!H38=0,\"0\",\"\")","v":"0"},"[Insert comments here]",{"$f":"IF(Risks!J38=0,\"0\",\"\")","v":"0"},"[Insert comments here]",{"$f":"IF(Risks!L38=0,\"0\",\"\")","v":"0"},"[Insert comments here]",{"$f":"IF(Risks!N38=0,\"0\",\"\")","v":"0"},"[Insert comments here]",{"$f":"IF(Risks!P38=0,\"0\",\"\")","v":"0"},"[Insert comments here]",{"$f":"IF(Risks!R38=0,\"0\",\"\")","v":"0"},"[Insert comments here]",{"$f":"IF(Risks!T38=0,\"0\",\"\")","v":"0"},"[Insert comments here]",{"$f":"IF(Risks!V38=0,\"0\",\"\")","v":"0"},"[Insert comments here]",{"$f":"IF(Risks!X38=0,\"0\",\"\")","v":"0"},"[Insert comments here]",{"$f":"IF(Risks!Z38=0,\"0\",\"\")","v":"0"},"[Insert comments here]",{"$f":"IF(Risks!AB38=0,\"0\",\"\")","v":"0"},"[Insert comments here]",{"$f":"IF(Risks!AD38=0,\"0\",\"\")","v":"0"},"[Insert comments here]",{"$f":"IF(Risks!AF38=0,\"0\",\"\")","v":"0"},"[Insert comments here]",{"$f":"IF(Risks!AH38=0,\"0\",\"\")","v":"0"},"[Insert comments here]",{"$f":"IF(Risks!AJ38=0,\"0\",\"\")","v":"0"},"[Insert comments here]",{"$f":"IF(Risks!AL38=0,\"0\",\"\")","v":"0"},"[Insert comments here]",{"$f":"IF(Risks!AN38=0,\"0\",\"\")","v":"0"},"[Insert comments here]",{"$f":"IF(Risks!AP38=0,\"0\",\"\")","v":"0"},"[Insert comments here]",{"$f":"IF(Risks!AR38=0,\"0\",\"\")","v":"0"},"[Insert comments here]",{"$f":"IF(Risks!AT38=0,\"0\",\"\")","v":"0"},"[Insert comments here]",{"$f":"IF(Risks!AV38=0,\"0\",\"\")","v":"0"},"[Insert comments here]",{"$f":"IF(Risks!AX38=0,\"0\",\"\")","v":"0"},"[Insert comments here]",{"$f":"IF(Risks!AZ38=0,\"0\",\"\")","v":"0"},"[Insert comments here]",{"$f":"IF(Risks!BB38=0,\"0\",\"\")","v":"0"},"[Insert comments here]",{"$f":"IF(Risks!BD38=0,\"0\",\"\")","v":"0"},"[Insert comments here]",{"$f":"IF(Risks!BF38=0,\"0\",\"\")","v":"0"},"[Insert comments here]",{"$f":"IF(Risks!BH38=0,\"0\",\"\")","v":"0"},"[Insert comments here]",{"$f":"IF(Risks!BJ38=0,\"0\",\"\")","v":"0"},"[Insert comments here]",{"$f":"IF(Risks!BL38=0,\"0\",\"\")","v":"0"},"[Insert comments here]",{"$f":"IF(Risks!BN38=0,\"0\",\"\")","v":"0"},"[Insert comments here]",{"$f":"IF(Risks!BP38=0,\"0\",\"\")","v":"0"},"[Insert comments here]",{"$f":"IF(Risks!BR38=0,\"0\",\"\")","v":"0"},"[Insert comments here]",{"$f":"IF(Risks!BT38=0,\"0\",\"\")","v":"0"},"[Insert comments here]",{"$f":"IF(Risks!BV38=0,\"0\",\"\")","v":"0"},"[Insert comments here]",{"$f":"IF(Risks!BX38=0,\"0\",\"\")","v":"0"},"[Insert comments here]",{"$f":"IF(Risks!BZ38=0,\"0\",\"\")","v":"0"},"[Insert comments here]",{"$f":"IF(Risks!CB38=0,\"0\",\"\")","v":"0"},"[Insert comments here]",{"$f":"IF(Risks!CD38=0,\"0\",\"\")","v":"0"},"[Insert comments here]",null,null,null,null,{"$f":"IF(Risks!CJ38=0,\"0\",\"\")","v":"0"},"[Insert comments here]"]
[null,null,"",{"$f":"IF(Risks!D39=0,\"0\",\"\")","v":"0"},"[Insert comments here]",{"$f":"IF(Risks!F39=0,\"0\",\"\")","v":"0"},"[Insert comments here]",{"$f":"IF(Risks!H39=0,\"0\",\"\")","v":"0"},"[Insert comments here]",{"$f":"IF(Risks!J39=0,\"0\",\"\")","v":"0"},"[Insert comments here]",{"$f":"IF(Risks!L39=0,\"0\",\"\")","v":"0"},"[Insert comments here]",{"$f":"IF(Risks!N39=0,\"0\",\"\")","v":"0"},"[Insert comments here]",{"$f":"IF(Risks!P39=0,\"0\",\"\")","v":"0"},"[Insert comments here]",{"$f":"IF(Risks!R39=0,\"0\",\"\")","v":"0"},"[Insert comments here]",{"$f":"IF(Risks!T39=0,\"0\",\"\")","v":"0"},"[Insert comments here]",{"$f":"IF(Risks!V39=0,\"0\",\"\")","v":"0"},"[Insert comments here]",{"$f":"IF(Risks!X39=0,\"0\",\"\")","v":"0"},"[Insert comments here]",{"$f":"IF(Risks!Z39=0,\"0\",\"\")","v":"0"},"[Insert comments here]",{"$f":"IF(Risks!AB39=0,\"0\",\"\")","v":"0"},"[Insert comments here]",{"$f":"IF(Risks!AD39=0,\"0\",\"\")","v":"0"},"[Insert comments here]",{"$f":"IF(Risks!AF39=0,\"0\",\"\")","v":"0"},"[Insert comments here]",{"$f":"IF(Risks!AH39=0,\"0\",\"\")","v":"0"},"[Insert comments here]",{"$f":"IF(Risks!AJ39=0,\"0\",\"\")","v":"0"},"[Insert comments here]",{"$f":"IF(Risks!AL39=0,\"0\",\"\")","v":"0"},"[Insert comments here]",{"$f":"IF(Risks!AN39=0,\"0\",\"\")","v":"0"},"[Insert comments here]",{"$f":"IF(Risks!AP39=0,\"0\",\"\")","v":"0"},"[Insert comments here]",{"$f":"IF(Risks!AR39=0,\"0\",\"\")","v":"0"},"[Insert comments here]",{"$f":"IF(Risks!AT39=0,\"0\",\"\")","v":"0"},"[Insert comments here]",{"$f":"IF(Risks!AV39=0,\"0\",\"\")","v":"0"},"[Insert comments here]",{"$f":"IF(Risks!AX39=0,\"0\",\"\")","v":"0"},"[Insert comments here]",{"$f":"IF(Risks!AZ39=0,\"0\",\"\")","v":"0"},"[Insert comments here]",{"$f":"IF(Risks!BB39=0,\"0\",\"\")","v":"0"},"[Insert comments here]",{"$f":"IF(Risks!BD39=0,\"0\",\"\")","v":"0"},"[Insert comments here]",{"$f":"IF(Risks!BF39=0,\"0\",\"\")","v":"0"},"[Insert comments here]",{"$f":"IF(Risks!BH39=0,\"0\",\"\")","v":"0"},"[Insert comments here]",{"$f":"IF(Risks!BJ39=0,\"0\",\"\")","v":"0"},"[Insert comments here]",{"$f":"IF(Risks!BL39=0,\"0\",\"\")","v":"0"},"[Insert comments here]",{"$f":"IF(Risks!BN39=0,\"0\",\"\")","v":"0"},"[Insert comments here]",{"$f":"IF(Risks!BP39=0,\"0\",\"\")","v":"0"},"[Insert comments here]",{"$f":"IF(Risks!BR39=0,\"0\",\"\")","v":"0"},"[Insert comments here]",{"$f":"IF(Risks!BT39=0,\"0\",\"\")","v":"0"},"[Insert comments here]",{"$f":"IF(Risks!BV39=0,\"0\",\"\")","v":"0"},"[Insert comments here]",{"$f":"IF(Risks!BX39=0,\"0\",\"\")","v":"0"},"[Insert comments here]",{"$f":"IF(Risks!BZ39=0,\"0\",\"\")","v":"0"},"[Insert comments here]",{"$f":"IF(Risks!CB39=0,\"0\",\"\")","v":"0"},"[Insert comments here]",{"$f":"IF(Risks!CD39=0,\"0\",\"\")","v":"0"},"[Insert comments here]",null,null,null,null,{"$f":"IF(Risks!CJ39=0,\"0\",\"\")","v":"0"},"[Insert comments here]"]
[null,null,"",{"$f":"IF(Risks!D40=0,\"0\",\"\")","v":"0"},"[Insert comments here]",{"$f":"IF(Risks!F40=0,\"0\",\"\")","v":"0"},"[Insert comments here]",{"$f":"IF(Risks!H40=0,\"0\",\"\")","v":"0"},"[Insert comments here]",{"$f":"IF(Risks!J40=0,\"0\",\"\")","v":"0"},"[Insert comments here]",{"$f":"IF(Risks!L40=0,\"0\",\"\")","v":"0"},"[Insert comments here]",{"$f":"IF(Risks!N40=0,\"0\",\"\")","v":"0"},"[Insert comments here]",{"$f":"IF(Risks!P40=0,\"0\",\"\")","v":"0"},"[Insert comments here]",{"$f":"IF(Risks!R40=0,\"0\",\"\")","v":"0"},"[Insert comments here]",{"$f":"IF(Risks!T40=0,\"0\",\"\")","v":"0"},"[Insert comments here]",{"$f":"IF(Risks!V40=0,\"0\",\"\")","v":"0"},"[Insert comments here]",{"$f":"IF(Risks!X40=0,\"0\",\"\")","v":"0"},"[Insert comments here]",{"$f":"IF(Risks!Z40=0,\"0\",\"\")","v":"0"},"[Insert comments here]",{"$f":"IF(Risks!AB40=0,\"0\",\"\")","v":"0"},"[Insert comments here]",{"$f":"IF(Risks!AD40=0,\"0\",\"\")","v":"0"},"[Insert comments here]",{"$f":"IF(Risks!AF40=0,\"0\",\"\")","v":"0"},"[Insert comments here]",{"$f":"IF(Risks!AH40=0,\"0\",\"\")","v":"0"},"[Insert comments here]",{"$f":"IF(Risks!AJ40=0,\"0\",\"\")","v":"0"},"[Insert comments here]",{"$f":"IF(Risks!AL40=0,\"0\",\"\")","v":"0"},"[Insert comments here]",{"$f":"IF(Risks!AN40=0,\"0\",\"\")","v":"0"},"[Insert comments here]",{"$f":"IF(Risks!AP40=0,\"0\",\"\")","v":"0"},"[Insert comments here]",{"$f":"IF(Risks!AR40=0,\"0\",\"\")","v":"0"},"[Insert comments here]",{"$f":"IF(Risks!AT40=0,\"0\",\"\")","v":"0"},"[Insert comments here]",{"$f":"IF(Risks!AV40=0,\"0\",\"\")","v":"0"},"[Insert comments here]",{"$f":"IF(Risks!AX40=0,\"0\",\"\")","v":"0"},"[Insert comments here]",{"$f":"IF(Risks!AZ40=0,\"0\",\"\")","v":"0"},"[Insert comments here]",{"$f":"IF(Risks!BB40=0,\"0\",\"\")","v":"0"},"[Insert comments here]",{"$f":"IF(Risks!BD40=0,\"0\",\"\")","v":"0"},"[Insert comments here]",{"$f":"IF(Risks!BF40=0,\"0\",\"\")","v":"0"},"[Insert comments here]",{"$f":"IF(Risks!BH40=0,\"0\",\"\")","v":"0"},"[Insert comments here]",{"$f":"IF(Risks!BJ40=0,\"0\",\"\")","v":"0"},"[Insert comments here]",{"$f":"IF(Risks!BL40=0,\"0\",\"\")","v":"0"},"[Insert comments here]",{"$f":"IF(Risks!BN40=0,\"0\",\"\")","v":"0"},"[Insert comments here]",{"$f":"IF(Risks!BP40=0,\"0\",\"\")","v":"0"},"[Insert comments here]",{"$f":"IF(Risks!BR40=0,\"0\",\"\")","v":"0"},"[Insert comments here]",{"$f":"IF(Risks!BT40=0,\"0\",\"\")","v":"0"},"[Insert comments here]",{"$f":"IF(Risks!BV40=0,\"0\",\"\")","v":"0"},"[Insert comments here]",{"$f":"IF(Risks!BX40=0,\"0\",\"\")","v":"0"},"[Insert comments here]",{"$f":"IF(Risks!BZ40=0,\"0\",\"\")","v":"0"},"[Insert comments here]",{"$f":"IF(Risks!CB40=0,\"0\",\"\")","v":"0"},"[Insert comments here]",{"$f":"IF(Risks!CD40=0,\"0\",\"\")","v":"0"},"[Insert comments here]",null,null,null,null,{"$f":"IF(Risks!CJ40=0,\"0\",\"\")","v":"0"},"[Insert comments here]"]
[null,null,"",{"$f":"IF(Risks!D41=0,\"0\",\"\")","v":"0"},"[Insert comments here]",{"$f":"IF(Risks!F41=0,\"0\",\"\")","v":"0"},"[Insert comments here]",{"$f":"IF(Risks!H41=0,\"0\",\"\")","v":"0"},"[Insert comments here]",{"$f":"IF(Risks!J41=0,\"0\",\"\")","v":"0"},"[Insert comments here]",{"$f":"IF(Risks!L41=0,\"0\",\"\")","v":"0"},"[Insert comments here]",{"$f":"IF(Risks!N41=0,\"0\",\"\")","v":"0"},"[Insert comments here]",{"$f":"IF(Risks!P41=0,\"0\",\"\")","v":"0"},"[Insert comments here]",{"$f":"IF(Risks!R41=0,\"0\",\"\")","v":"0"},"[Insert comments here]",{"$f":"IF(Risks!T41=0,\"0\",\"\")","v":"0"},"[Insert comments here]",{"$f":"IF(Risks!V41=0,\"0\",\"\")","v":"0"},"[Insert comments here]",{"$f":"IF(Risks!X41=0,\"0\",\"\")","v":"0"},"[Insert comments here]",{"$f":"IF(Risks!Z41=0,\"0\",\"\")","v":"0"},"[Insert comments here]",{"$f":"IF(Risks!AB41=0,\"0\",\"\")","v":"0"},"[Insert comments here]",{"$f":"IF(Risks!AD41=0,\"0\",\"\")","v":"0"},"[Insert comments here]",{"$f":"IF(Risks!AF41=0,\"0\",\"\")","v":"0"},"[Insert comments here]",{"$f":"IF(Risks!AH41=0,\"0\",\"\")","v":"0"},"[Insert comments here]",{"$f":"IF(Risks!AJ41=0,\"0\",\"\")","v":"0"},"[Insert comments here]",{"$f":"IF(Risks!AL41=0,\"0\",\"\")","v":"0"},"[Insert comments here]",{"$f":"IF(Risks!AN41=0,\"0\",\"\")","v":"0"},"[Insert comments here]",{"$f":"IF(Risks!AP41=0,\"0\",\"\")","v":"0"},"[Insert comments here]",{"$f":"IF(Risks!AR41=0,\"0\",\"\")","v":"0"},"[Insert comments here]",{"$f":"IF(Risks!AT41=0,\"0\",\"\")","v":"0"},"[Insert comments here]",{"$f":"IF(Risks!AV41=0,\"0\",\"\")","v":"0"},"[Insert comments here]",{"$f":"IF(Risks!AX41=0,\"0\",\"\")","v":"0"},"[Insert comments here]",{"$f":"IF(Risks!AZ41=0,\"0\",\"\")","v":"0"},"[Insert comments here]",{"$f":"IF(Risks!BB41=0,\"0\",\"\")","v":"0"},"[Insert comments here]",{"$f":"IF(Risks!BD41=0,\"0\",\"\")","v":"0"},"[Insert comments here]",{"$f":"IF(Risks!BF41=0,\"0\",\"\")","v":"0"},"[Insert comments here]",{"$f":"IF(Risks!BH41=0,\"0\",\"\")","v":"0"},"[Insert comments here]",{"$f":"IF(Risks!BJ41=0,\"0\",\"\")","v":"0"},"[Insert comments here]",{"$f":"IF(Risks!BL41=0,\"0\",\"\")","v":"0"},"[Insert comments here]",{"$f":"IF(Risks!BN41=0,\"0\",\"\")","v":"0"},"[Insert comments here]",{"$f":"IF(Risks!BP41=0,\"0\",\"\")","v":"0"},"[Insert comments here]",{"$f":"IF(Risks!BR41=0,\"0\",\"\")","v":"0"},"[Insert comments here]",{"$f":"IF(Risks!BT41=0,\"0\",\"\")","v":"0"},"[Insert comments here]",{"$f":"IF(Risks!BV41=0,\"0\",\"\")","v":"0"},"[Insert comments here]",{"$f":"IF(Risks!BX41=0,\"0\",\"\")","v":"0"},"[Insert comments here]",{"$f":"IF(Risks!BZ41=0,\"0\",\"\")","v":"0"},"[Insert comments here]",{"$f":"IF(Risks!CB41=0,\"0\",\"\")","v":"0"},"[Insert comments here]",{"$f":"IF(Risks!CD41=0,\"0\",\"\")","v":"0"},"[Insert comments here]",null,null,null,null,{"$f":"IF(Risks!CJ41=0,\"0\",\"\")","v":"0"},"[Insert comments here]"]
[null,null,"",{"$f":"IF(Risks!D42=0,\"0\",\"\")","v":"0"},"[Insert comments here]",{"$f":"IF(Risks!F42=0,\"0\",\"\")","v":"0"},"[Insert comments here]",{"$f":"IF(Risks!H42=0,\"0\",\"\")","v":"0"},"[Insert comments here]",{"$f":"IF(Risks!J42=0,\"0\",\"\")","v":"0"},"[Insert comments here]",{"$f":"IF(Risks!L42=0,\"0\",\"\")","v":"0"},"[Insert comments here]",{"$f":"IF(Risks!N42=0,\"0\",\"\")","v":"0"},"[Insert comments here]",{"$f":"IF(Risks!P42=0,\"0\",\"\")","v":"0"},"[Insert comments here]",{"$f":"IF(Risks!R42=0,\"0\",\"\")","v":"0"},"[Insert comments here]",{"$f":"IF(Risks!T42=0,\"0\",\"\")","v":"0"},"[Insert comments here]",{"$f":"IF(Risks!V42=0,\"0\",\"\")","v":"0"},"[Insert comments here]",{"$f":"IF(Risks!X42=0,\"0\",\"\")","v":"0"},"[Insert comments here]",{"$f":"IF(Risks!Z42=0,\"0\",\"\")","v":"0"},"[Insert comments here]",{"$f":"IF(Risks!AB42=0,\"0\",\"\")","v":"0"},"[Insert comments here]",{"$f":"IF(Risks!AD42=0,\"0\",\"\")","v":"0"},"[Insert comments here]",{"$f":"IF(Risks!AF42=0,\"0\",\"\")","v":"0"},"[Insert comments here]",{"$f":"IF(Risks!AH42=0,\"0\",\"\")","v":"0"},"[Insert comments here]",{"$f":"IF(Risks!AJ42=0,\"0\",\"\")","v":"0"},"[Insert comments here]",{"$f":"IF(Risks!AL42=0,\"0\",\"\")","v":"0"},"[Insert comments here]",{"$f":"IF(Risks!AN42=0,\"0\",\"\")","v":"0"},"[Insert comments here]",{"$f":"IF(Risks!AP42=0,\"0\",\"\")","v":"0"},"[Insert comments here]",{"$f":"IF(Risks!AR42=0,\"0\",\"\")","v":"0"},"[Insert comments here]",{"$f":"IF(Risks!AT42=0,\"0\",\"\")","v":"0"},"[Insert comments here]",{"$f":"IF(Risks!AV42=0,\"0\",\"\")","v":"0"},"[Insert comments here]",{"$f":"IF(Risks!AX42=0,\"0\",\"\")","v":"0"},"[Insert comments here]",{"$f":"IF(Risks!AZ42=0,\"0\",\"\")","v":"0"},"[Insert comments here]",{"$f":"IF(Risks!BB42=0,\"0\",\"\")","v":"0"},"[Insert comments here]",{"$f":"IF(Risks!BD42=0,\"0\",\"\")","v":"0"},"[Insert comments here]",{"$f":"IF(Risks!BF42=0,\"0\",\"\")","v":"0"},"[Insert comments here]",{"$f":"IF(Risks!BH42=0,\"0\",\"\")","v":"0"},"[Insert comments here]",{"$f":"IF(Risks!BJ42=0,\"0\",\"\")","v":"0"},"[Insert comments here]",{"$f":"IF(Risks!BL42=0,\"0\",\"\")","v":"0"},"[Insert comments here]",{"$f":"IF(Risks!BN42=0,\"0\",\"\")","v":"0"},"[Insert comments here]",{"$f":"IF(Risks!BP42=0,\"0\",\"\")","v":"0"},"[Insert comments here]",{"$f":"IF(Risks!BR42=0,\"0\",\"\")","v":"0"},"[Insert comments here]",{"$f":"IF(Risks!BT42=0,\"0\",\"\")","v":"0"},"[Insert comments here]",{"$f":"IF(Risks!BV42=0,\"0\",\"\")","v":"0"},"[Insert comments here]",{"$f":"IF(Risks!BX42=0,\"0\",\"\")","v":"0"},"[Insert comments here]",{"$f":"IF(Risks!BZ42=0,\"0\",\"\")","v":"0"},"[Insert comments here]",{"$f":"IF(Risks!CB42=0,\"0\",\"\")","v":"0"},"[Insert comments here]",{"$f":"IF(Risks!CD42=0,\"0\",\"\")","v":"0"},"[Insert comments here]",null,null,null,null,{"$f":"IF(Risks!CJ42=0,\"0\",\"\")","v":"0"},"[Insert comments here]"]
[null,null,"",{"$f":"IF(Risks!D43=0,\"0\",\"\")","v":"0"},"[Insert comments here]",{"$f":"IF(Risks!F43=0,\"0\",\"\")","v":"0"},"[Insert comments here]",{"$f":"IF(Risks!H43=0,\"0\",\"\")","v":"0"},"[Insert comments here]",{"$f":"IF(Risks!J43=0,\"0\",\"\")","v":"0"},"[Insert comments here]",{"$f":"IF(Risks!L43=0,\"0\",\"\")","v":"0"},"[Insert comments here]",{"$f":"IF(Risks!N43=0,\"0\",\"\")","v":"0"},"[Insert comments here]",{"$f":"IF(Risks!P43=0,\"0\",\"\")","v":"0"},"[Insert comments here]",{"$f":"IF(Risks!R43=0,\"0\",\"\")","v":"0"},"[Insert comments here]",{"$f":"IF(Risks!T43=0,\"0\",\"\")","v":"0"},"[Insert comments here]",{"$f":"IF(Risks!V43=0,\"0\",\"\")","v":"0"},"[Insert comments here]",{"$f":"IF(Risks!X43=0,\"0\",\"\")","v":"0"},"[Insert comments here]",{"$f":"IF(Risks!Z43=0,\"0\",\"\")","v":"0"},"[Insert comments here]",{"$f":"IF(Risks!AB43=0,\"0\",\"\")","v":"0"},"[Insert comments here]",{"$f":"IF(Risks!AD43=0,\"0\",\"\")","v":"0"},"[Insert comments here]",{"$f":"IF(Risks!AF43=0,\"0\",\"\")","v":"0"},"[Insert comments here]",{"$f":"IF(Risks!AH43=0,\"0\",\"\")","v":"0"},"[Insert comments here]",{"$f":"IF(Risks!AJ43=0,\"0\",\"\")","v":"0"},"[Insert comments here]",{"$f":"IF(Risks!AL43=0,\"0\",\"\")","v":"0"},"[Insert comments here]",{"$f":"IF(Risks!AN43=0,\"0\",\"\")","v":"0"},"[Insert comments here]",{"$f":"IF(Risks!AP43=0,\"0\",\"\")","v":"0"},"[Insert comments here]",{"$f":"IF(Risks!AR43=0,\"0\",\"\")","v":"0"},"[Insert comments here]",{"$f":"IF(Risks!AT43=0,\"0\",\"\")","v":"0"},"[Insert comments here]",{"$f":"IF(Risks!AV43=0,\"0\",\"\")","v":"0"},"[Insert comments here]",{"$f":"IF(Risks!AX43=0,\"0\",\"\")","v":"0"},"[Insert comments here]",{"$f":"IF(Risks!AZ43=0,\"0\",\"\")","v":"0"},"[Insert comments here]",{"$f":"IF(Risks!BB43=0,\"0\",\"\")","v":"0"},"[Insert comments here]",{"$f":"IF(Risks!BD43=0,\"0\",\"\")","v":"0"},"[Insert comments here]",{"$f":"IF(Risks!BF43=0,\"0\",\"\")","v":"0"},"[Insert comments here]",{"$f":"IF(Risks!BH43=0,\"0\",\"\")","v":"0"},"[Insert comments here]",{"$f":"IF(Risks!BJ43=0,\"0\",\"\")","v":"0"},"[Insert comments here]",{"$f":"IF(Risks!BL43=0,\"0\",\"\")","v":"0"},"[Insert comments here]",{"$f":"IF(Risks!BN43=0,\"0\",\"\")","v":"0"},"[Insert comments here]",{"$f":"IF(Risks!BP43=0,\"0\",\"\")","v":"0"},"[Insert comments here]",{"$f":"IF(Risks!BR43=0,\"0\",\"\")","v":"0"},"[Insert comments here]",{"$f":"IF(Risks!BT43=0,\"0\",\"\")","v":"0"},"[Insert comments here]",{"$f":"IF(Risks!BV43=0,\"0\",\"\")","v":"0"},"[Insert comments here]",{"$f":"IF(Risks!BX43=0,\"0\",\"\")","v":"0"},"[Insert comments here]",{"$f":"IF(Risks!BZ43=0,\"0\",\"\")","v":"0"},"[Insert comments here]",{"$f":"IF(Risks!CB43=0,\"0\",\"\")","v":"0"},"[Insert comments here]",{"$f":"IF(Risks!CD43=0,\"0\",\"\")","v":"0"},"[Insert comments here]",null,null,null,null,{"$f":"IF(Risks!CJ43=0,\"0\",\"\")","v":"0"},"[Insert comments here]"]
[null,null,"",{"$f":"IF(Risks!D44=0,\"0\",\"\")","v":"0"},"[Insert comments here]",{"$f":"IF(Risks!F44=0,\"0\",\"\")","v":"0"},"[Insert comments here]",{"$f":"IF(Risks!H44=0,\"0\",\"\")","v":"0"},"[Insert comments here]",{"$f":"IF(Risks!J44=0,\"0\",\"\")","v":"0"},"[Insert comments here]",{"$f":"IF(Risks!L44=0,\"0\",\"\")","v":"0"},"[Insert comments here]",{"$f":"IF(Risks!N44=0,\"0\",\"\")","v":"0"},"[Insert comments here]",{"$f":"IF(Risks!P44=0,\"0\",\"\")","v":"0"},"[Insert comments here]",{"$f":"IF(Risks!R44=0,\"0\",\"\")","v":"0"},"[Insert comments here]",{"$f":"IF(Risks!T44=0,\"0\",\"\")","v":"0"},"[Insert comments here]",{"$f":"IF(Risks!V44=0,\"0\",\"\")","v":"0"},"[Insert comments here]",{"$f":"IF(Risks!X44=0,\"0\",\"\")","v":"0"},"[Insert comments here]",{"$f":"IF(Risks!Z44=0,\"0\",\"\")","v":"0"},"[Insert comments here]",{"$f":"IF(Risks!AB44=0,\"0\",\"\")","v":"0"},"[Insert comments here]",{"$f":"IF(Risks!AD44=0,\"0\",\"\")","v":"0"},"[Insert comments here]",{"$f":"IF(Risks!AF44=0,\"0\",\"\")","v":"0"},"[Insert comments here]",{"$f":"IF(Risks!AH44=0,\"0\",\"\")","v":"0"},"[Insert comments here]",{"$f":"IF(Risks!AJ44=0,\"0\",\"\")","v":"0"},"[Insert comments here]",{"$f":"IF(Risks!AL44=0,\"0\",\"\")","v":"0"},"[Insert comments here]",{"$f":"IF(Risks!AN44=0,\"0\",\"\")","v":"0"},"[Insert comments here]",{"$f":"IF(Risks!AP44=0,\"0\",\"\")","v":"0"},"[Insert comments here]",{"$f":"IF(Risks!AR44=0,\"0\",\"\")","v":"0"},"[Insert comments here]",{"$f":"IF(Risks!AT44=0,\"0\",\"\")","v":"0"},"[Insert comments here]",{"$f":"IF(Risks!AV44=0,\"0\",\"\")","v":"0"},"[Insert comments here]",{"$f":"IF(Risks!AX44=0,\"0\",\"\")","v":"0"},"[Insert comments here]",{"$f":"IF(Risks!AZ44=0,\"0\",\"\")","v":"0"},"[Insert comments here]",{"$f":"IF(Risks!BB44=0,\"0\",\"\")","v":"0"},"[Insert comments here]",{"$f":"IF(Risks!BD44=0,\"0\",\"\")","v":"0"},"[Insert comments here]",{"$f":"IF(Risks!BF44=0,\"0\",\"\")","v":"0"},"[Insert comments here]",{"$f":"IF(Risks!BH44=0,\"0\",\"\")","v":"0"},"[Insert comments here]",{"$f":"IF(Risks!BJ44=0,\"0\",\"\")","v":"0"},"[Insert comments here]",{"$f":"IF(Risks!BL44=0,\"0\",\"\")","v":"0"},"[Insert comments here]",{"$f":"IF(Risks!BN44=0,\"0\",\"\")","v":"0"},"[Insert comments here]",{"$f":"IF(Risks!BP44=0,\"0\",\"\")","v":"0"},"[Insert comments here]",{"$f":"IF(Risks!BR44=0,\"0\",\"\")","v":"0"},"[Insert comments here]",{"$f":"IF(Risks!BT44=0,\"0\",\"\")","v":"0"},"[Insert comments here]",{"$f":"IF(Risks!BV44=0,\"0\",\"\")","v":"0"},"[Insert comments here]",{"$f":"IF(Risks!BX44=0,\"0\",\"\")","v":"0"},"[Insert comments here]",{"$f":"IF(Risks!BZ44=0,\"0\",\"\")","v":"0"},"[Insert comments here]",{"$f":"IF(Risks!CB44=0,\"0\",\"\")","v":"0"},"[Insert comments here]",{"$f":"IF(Risks!CD44=0,\"0\",\"\")","v":"0"},"[Insert comments here]",null,null,null,null,{"$f":"IF(Risks!CJ44=0,\"0\",\"\")","v":"0"},"[Insert comments here]"]
[null,null,"",{"$f":"IF(Risks!D45=0,\"0\",\"\")","v":"0"},"[Insert comments here]",{"$f":"IF(Risks!F45=0,\"0\",\"\")","v":"0"},"[Insert comments here]",{"$f":"IF(Risks!H45=0,\"0\",\"\")","v":"0"},"[Insert comments here]",{"$f":"IF(Risks!J45=0,\"0\",\"\")","v":"0"},"[Insert comments here]",{"$f":"IF(Risks!L45=0,\"0\",\"\")","v":"0"},"[Insert comments here]",{"$f":"IF(Risks!N45=0,\"0\",\"\")","v":"0"},"[Insert comments here]",{"$f":"IF(Risks!P45=0,\"0\",\"\")","v":"0"},"[Insert comments here]",{"$f":"IF(Risks!R45=0,\"0\",\"\")","v":"0"},"[Insert comments here]",{"$f":"IF(Risks!T45=0,\"0\",\"\")","v":"0"},"[Insert comments here]",{"$f":"IF(Risks!V45=0,\"0\",\"\")","v":"0"},"[Insert comments here]",{"$f":"IF(Risks!X45=0,\"0\",\"\")","v":"0"},"[Insert comments here]",{"$f":"IF(Risks!Z45=0,\"0\",\"\")","v":"0"},"[Insert comments here]",{"$f":"IF(Risks!AB45=0,\"0\",\"\")","v":"0"},"[Insert comments here]",{"$f":"IF(Risks!AD45=0,\"0\",\"\")","v":"0"},"[Insert comments here]",{"$f":"IF(Risks!AF45=0,\"0\",\"\")","v":"0"},"[Insert comments here]",{"$f":"IF(Risks!AH45=0,\"0\",\"\")","v":"0"},"[Insert comments here]",{"$f":"IF(Risks!AJ45=0,\"0\",\"\")","v":"0"},"[Insert comments here]",{"$f":"IF(Risks!AL45=0,\"0\",\"\")","v":"0"},"[Insert comments here]",{"$f":"IF(Risks!AN45=0,\"0\",\"\")","v":"0"},"[Insert comments here]",{"$f":"IF(Risks!AP45=0,\"0\",\"\")","v":"0"},"[Insert comments here]",{"$f":"IF(Risks!AR45=0,\"0\",\"\")","v":"0"},"[Insert comments here]",{"$f":"IF(Risks!AT45=0,\"0\",\"\")","v":"0"},"[Insert comments here]",{"$f":"IF(Risks!AV45=0,\"0\",\"\")","v":"0"},"[Insert comments here]",{"$f":"IF(Risks!AX45=0,\"0\",\"\")","v":"0"},"[Insert comments here]",{"$f":"IF(Risks!AZ45=0,\"0\",\"\")","v":"0"},"[Insert comments here]",{"$f":"IF(Risks!BB45=0,\"0\",\"\")","v":"0"},"[Insert comments here]",{"$f":"IF(Risks!BD45=0,\"0\",\"\")","v":"0"},"[Insert comments here]",{"$f":"IF(Risks!BF45=0,\"0\",\"\")","v":"0"},"[Insert comments here]",{"$f":"IF(Risks!BH45=0,\"0\",\"\")","v":"0"},"[Insert comments here]",{"$f":"IF(Risks!BJ45=0,\"0\",\"\")","v":"0"},"[Insert comments here]",{"$f":"IF(Risks!BL45=0,\"0\",\"\")","v":"0"},"[Insert comments here]",{"$f":"IF(Risks!BN45=0,\"0\",\"\")","v":"0"},"[Insert comments here]",{"$f":"IF(Risks!BP45=0,\"0\",\"\")","v":"0"},"[Insert comments here]",{"$f":"IF(Risks!BR45=0,\"0\",\"\")","v":"0"},"[Insert comments here]",{"$f":"IF(Risks!BT45=0,\"0\",\"\")","v":"0"},"[Insert comments here]",{"$f":"IF(Risks!BV45=0,\"0\",\"\")","v":"0"},"[Insert comments here]",{"$f":"IF(Risks!BX45=0,\"0\",\"\")","v":"0"},"[Insert comments here]",{"$f":"IF(Risks!BZ45=0,\"0\",\"\")","v":"0"},"[Insert comments here]",{"$f":"IF(Risks!CB45=0,\"0\",\"\")","v":"0"},"[Insert comments here]",{"$f":"IF(Risks!CD45=0,\"0\",\"\")","v":"0"},"[Insert comments here]",null,null,null,null,{"$f":"IF(Risks!CJ45=0,\"0\",\"\")","v":"0"},"[Insert comments here]"]
[null,null,"",{"$f":"IF(Risks!D46=0,\"0\",\"\")","v":"0"},"[Insert comments here]",{"$f":"IF(Risks!F46=0,\"0\",\"\")","v":"0"},"[Insert comments here]",{"$f":"IF(Risks!H46=0,\"0\",\"\")","v":"0"},"[Insert comments here]",{"$f":"IF(Risks!J46=0,\"0\",\"\")","v":"0"},"[Insert comments here]",{"$f":"IF(Risks!L46=0,\"0\",\"\")","v":"0"},"[Insert comments here]",{"$f":"IF(Risks!N46=0,\"0\",\"\")","v":"0"},"[Insert comments here]",{"$f":"IF(Risks!P46=0,\"0\",\"\")","v":"0"},"[Insert comments here]",{"$f":"IF(Risks!R46=0,\"0\",\"\")","v":"0"},"[Insert comments here]",{"$f":"IF(Risks!T46=0,\"0\",\"\")","v":"0"},"[Insert comments here]",{"$f":"IF(Risks!V46=0,\"0\",\"\")","v":"0"},"[Insert comments here]",{"$f":"IF(Risks!X46=0,\"0\",\"\")","v":"0"},"[Insert comments here]",{"$f":"IF(Risks!Z46=0,\"0\",\"\")","v":"0"},"[Insert comments here]",{"$f":"IF(Risks!AB46=0,\"0\",\"\")","v":"0"},"[Insert comments here]",{"$f":"IF(Risks!AD46=0,\"0\",\"\")","v":"0"},"[Insert comments here]",{"$f":"IF(Risks!AF46=0,\"0\",\"\")","v":"0"},"[Insert comments here]",{"$f":"IF(Risks!AH46=0,\"0\",\"\")","v":"0"},"[Insert comments here]",{"$f":"IF(Risks!AJ46=0,\"0\",\"\")","v":"0"},"[Insert comments here]",{"$f":"IF(Risks!AL46=0,\"0\",\"\")","v":"0"},"[Insert comments here]",{"$f":"IF(Risks!AN46=0,\"0\",\"\")","v":"0"},"[Insert comments here]",{"$f":"IF(Risks!AP46=0,\"0\",\"\")","v":"0"},"[Insert comments here]",{"$f":"IF(Risks!AR46=0,\"0\",\"\")","v":"0"},"[Insert comments here]",{"$f":"IF(Risks!AT46=0,\"0\",\"\")","v":"0"},"[Insert comments here]",{"$f":"IF(Risks!AV46=0,\"0\",\"\")","v":"0"},"[Insert comments here]",{"$f":"IF(Risks!AX46=0,\"0\",\"\")","v":"0"},"[Insert comments here]",{"$f":"IF(Risks!AZ46=0,\"0\",\"\")","v":"0"},"[Insert comments here]",{"$f":"IF(Risks!BB46=0,\"0\",\"\")","v":"0"},"[Insert comments here]",{"$f":"IF(Risks!BD46=0,\"0\",\"\")","v":"0"},"[Insert comments here]",{"$f":"IF(Risks!BF46=0,\"0\",\"\")","v":"0"},"[Insert comments here]",{"$f":"IF(Risks!BH46=0,\"0\",\"\")","v":"0"},"[Insert comments here]",{"$f":"IF(Risks!BJ46=0,\"0\",\"\")","v":"0"},"[Insert comments here]",{"$f":"IF(Risks!BL46=0,\"0\",\"\")","v":"0"},"[Insert comments here]",{"$f":"IF(Risks!BN46=0,\"0\",\"\")","v":"0"},"[Insert comments here]",{"$f":"IF(Risks!BP46=0,\"0\",\"\")","v":"0"},"[Insert comments here]",{"$f":"IF(Risks!BR46=0,\"0\",\"\")","v":"0"},"[Insert comments here]",{"$f":"IF(Risks!BT46=0,\"0\",\"\")","v":"0"},"[Insert comments here]",{"$f":"IF(Risks!BV46=0,\"0\",\"\")","v":"0"},"[Insert comments here]",{"$f":"IF(Risks!BX46=0,\"0\",\"\")","v":"0"},"[Insert comments here]",{"$f":"IF(Risks!BZ46=0,\"0\",\"\")","v":"0"},"[Insert comments here]",{"$f":"IF(Risks!CB46=0,\"0\",\"\")","v":"0"},"[Insert comments here]",{"$f":"IF(Risks!CD46=0,\"0\",\"\")","v":"0"},"[Insert comments here]",null,null,null,null,{"$f":"IF(Risks!CJ46=0,\"0\",\"\")","v":"0"},"[Insert comments here]"]
[null,null,"",{"$f":"IF(Risks!D47=0,\"0\",\"\")","v":"0"},"[Insert comments here]",{"$f":"IF(Risks!F47=0,\"0\",\"\")","v":"0"},"[Insert comments here]",{"$f":"IF(Risks!H47=0,\"0\",\"\")","v":"0"},"[Insert comments here]",{"$f":"IF(Risks!J47=0,\"0\",\"\")","v":"0"},"[Insert comments here]",{"$f":"IF(Risks!L47=0,\"0\",\"\")","v":"0"},"[Insert comments here]",{"$f":"IF(Risks!N47=0,\"0\",\"\")","v":"0"},"[Insert comments here]",{"$f":"IF(Risks!P47=0,\"0\",\"\")","v":"0"},"[Insert comments here]",{"$f":"IF(Risks!R47=0,\"0\",\"\")","v":"0"},"[Insert comments here]",{"$f":"IF(Risks!T47=0,\"0\",\"\")","v":"0"},"[Insert comments here]",{"$f":"IF(Risks!V47=0,\"0\",\"\")","v":"0"},"[Insert comments here]",{"$f":"IF(Risks!X47=0,\"0\",\"\")","v":"0"},"[Insert comments here]",{"$f":"IF(Risks!Z47=0,\"0\",\"\")","v":"0"},"[Insert comments here]",{"$f":"IF(Risks!AB47=0,\"0\",\"\")","v":"0"},"[Insert comments here]",{"$f":"IF(Risks!AD47=0,\"0\",\"\")","v":"0"},"[Insert comments here]",{"$f":"IF(Risks!AF47=0,\"0\",\"\")","v":"0"},"[Insert comments here]",{"$f":"IF(Risks!AH47=0,\"0\",\"\")","v":"0"},"[Insert comments here]",{"$f":"IF(Risks!AJ47=0,\"0\",\"\")","v":"0"},"[Insert comments here]",{"$f":"IF(Risks!AL47=0,\"0\",\"\")","v":"0"},"[Insert comments here]",{"$f":"IF(Risks!AN47=0,\"0\",\"\")","v":"0"},"[Insert comments here]",{"$f":"IF(Risks!AP47=0,\"0\",\"\")","v":"0"},"[Insert comments here]",{"$f":"IF(Risks!AR47=0,\"0\",\"\")","v":"0"},"[Insert comments here]",{"$f":"IF(Risks!AT47=0,\"0\",\"\")","v":"0"},"[Insert comments here]",{"$f":"IF(Risks!AV47=0,\"0\",\"\")","v":"0"},"[Insert comments here]",{"$f":"IF(Risks!AX47=0,\"0\",\"\")","v":"0"},"[Insert comments here]",{"$f":"IF(Risks!AZ47=0,\"0\",\"\")","v":"0"},"[Insert comments here]",{"$f":"IF(Risks!BB47=0,\"0\",\"\")","v":"0"},"[Insert comments here]",{"$f":"IF(Risks!BD47=0,\"0\",\"\")","v":"0"},"[Insert comments here]",{"$f":"IF(Risks!BF47=0,\"0\",\"\")","v":"0"},"[Insert comments here]",{"$f":"IF(Risks!BH47=0,\"0\",\"\")","v":"0"},"[Insert comments here]",{"$f":"IF(Risks!BJ47=0,\"0\",\"\")","v":"0"},"[Insert comments here]",{"$f":"IF(Risks!BL47=0,\"0\",\"\")","v":"0"},"[Insert comments here]",{"$f":"IF(Risks!BN47=0,\"0\",\"\")","v":"0"},"[Insert comments here]",{"$f":"IF(Risks!BP47=0,\"0\",\"\")","v":"0"},"[Insert comments here]",{"$f":"IF(Risks!BR47=0,\"0\",\"\")","v":"0"},"[Insert comments here]",{"$f":"IF(Risks!BT47=0,\"0\",\"\")","v":"0"},"[Insert comments here]",{"$f":"IF(Risks!BV47=0,\"0\",\"\")","v":"0"},"[Insert comments here]",{"$f":"IF(Risks!BX47=0,\"0\",\"\")","v":"0"},"[Insert comments here]",{"$f":"IF(Risks!BZ47=0,\"0\",\"\")","v":"0"},"[Insert comments here]",{"$f":"IF(Risks!CB47=0,\"0\",\"\")","v":"0"},"[Insert comments here]",{"$f":"IF(Risks!CD47=0,\"0\",\"\")","v":"0"},"[Insert comments here]",null,null,null,null,{"$f":"IF(Risks!CJ47=0,\"0\",\"\")","v":"0"},"[Insert comments here]"]
[null,null,"",{"$f":"IF(Risks!D48=0,\"0\",\"\")","v":"0"},"[Insert comments here]",{"$f":"IF(Risks!F48=0,\"0\",\"\")","v":"0"},"[Insert comments here]",{"$f":"IF(Risks!H48=0,\"0\",\"\")","v":"0"},"[Insert comments here]",{"$f":"IF(Risks!J48=0,\"0\",\"\")","v":"0"},"[Insert comments here]",{"$f":"IF(Risks!L48=0,\"0\",\"\")","v":"0"},"[Insert comments here]",{"$f":"IF(Risks!N48=0,\"0\",\"\")","v":"0"},"[Insert comments here]",{"$f":"IF(Risks!P48=0,\"0\",\"\")","v":"0"},"[Insert comments here]",{"$f":"IF(Risks!R48=0,\"0\",\"\")","v":"0"},"[Insert comments here]",{"$f":"IF(Risks!T48=0,\"0\",\"\")","v":"0"},"[Insert comments here]",{"$f":"IF(Risks!V48=0,\"0\",\"\")","v":"0"},"[Insert comments here]",{"$f":"IF(Risks!X48=0,\"0\",\"\")","v":"0"},"[Insert comments here]",{"$f":"IF(Risks!Z48=0,\"0\",\"\")","v":"0"},"[Insert comments here]",{"$f":"IF(Risks!AB48=0,\"0\",\"\")","v":"0"},"[Insert comments here]",{"$f":"IF(Risks!AD48=0,\"0\",\"\")","v":"0"},"[Insert comments here]",{"$f":"IF(Risks!AF48=0,\"0\",\"\")","v":"0"},"[Insert comments here]",{"$f":"IF(Risks!AH48=0,\"0\",\"\")","v":"0"},"[Insert comments here]",{"$f":"IF(Risks!AJ48=0,\"0\",\"\")","v":"0"},"[Insert comments here]",{"$f":"IF(Risks!AL48=0,\"0\",\"\")","v":"0"},"[Insert comments here]",{"$f":"IF(Risks!AN48=0,\"0\",\"\")","v":"0"},"[Insert comments here]",{"$f":"IF(Risks!AP48=0,\"0\",\"\")","v":"0"},"[Insert comments here]",{"$f":"IF(Risks!AR48=0,\"0\",\"\")","v":"0"},"[Insert comments here]",{"$f":"IF(Risks!AT48=0,\"0\",\"\")","v":"0"},"[Insert comments here]",{"$f":"IF(Risks!AV48=0,\"0\",\"\")","v":"0"},"[Insert comments here]",{"$f":"IF(Risks!AX48=0,\"0\",\"\")","v":"0"},"[Insert comments here]",{"$f":"IF(Risks!AZ48=0,\"0\",\"\")","v":"0"},"[Insert comments here]",{"$f":"IF(Risks!BB48=0,\"0\",\"\")","v":"0"},"[Insert comments here]",{"$f":"IF(Risks!BD48=0,\"0\",\"\")","v":"0"},"[Insert comments here]",{"$f":"IF(Risks!BF48=0,\"0\",\"\")","v":"0"},"[Insert comments here]",{"$f":"IF(Risks!BH48=0,\"0\",\"\")","v":"0"},"[Insert comments here]",{"$f":"IF(Risks!BJ48=0,\"0\",\"\")","v":"0"},"[Insert comments here]",{"$f":"IF(Risks!BL48=0,\"0\",\"\")","v":"0"},"[Insert comments here]",{"$f":"IF(Risks!BN48=0,\"0\",\"\")","v":"0"},"[Insert comments here]",{"$f":"IF(Risks!BP48=0,\"0\",\"\")","v":"0"},"[Insert comments here]",{"$f":"IF(Risks!BR48=0,\"0\",\"\")","v":"0"},"[Insert comments here]",{"$f":"IF(Risks!BT48=0,\"0\",\"\")","v":"0"},"[Insert comments here]",{"$f":"IF(Risks!BV48=0,\"0\",\"\")","v":"0"},"[Insert comments here]",{"$f":"IF(Risks!BX48=0,\"0\",\"\")","v":"0"},"[Insert comments here]",{"$f":"IF(Risks!BZ48=0,\"0\",\"\")","v":"0"},"[Insert comments here]",{"$f":"IF(Risks!CB48=0,\"0\",\"\")","v":"0"},"[Insert comments here]",{"$f":"IF(Risks!CD48=0,\"0\",\"\")","v":"0"},"[Insert comments here]",null,null,null,null,{"$f":"IF(Risks!CJ48=0,\"0\",\"\")","v":"0"},"[Insert comments here]"]
[null,null,"",{"$f":"IF(Risks!D49=0,\"0\",\"\")","v":"0"},"[Insert comments here]",{"$f":"IF(Risks!F49=0,\"0\",\"\")","v":"0"},"[Insert comments here]",{"$f":"IF(Risks!H49=0,\"0\",\"\")","v":"0"},"[Insert comments here]",{"$f":"IF(Risks!J49=0,\"0\",\"\")","v":"0"},"[Insert comments here]",{"$f":"IF(Risks!L49=0,\"0\",\"\")","v":"0"},"[Insert comments here]",{"$f":"IF(Risks!N49=0,\"0\",\"\")","v":"0"},"[Insert comments here]",{"$f":"IF(Risks!P49=0,\"0\",\"\")","v":"0"},"[Insert comments here]",{"$f":"IF(Risks!R49=0,\"0\",\"\")","v":"0"},"[Insert comments here]",{"$f":"IF(Risks!T49=0,\"0\",\"\")","v":"0"},"[Insert comments here]",{"$f":"IF(Risks!V49=0,\"0\",\"\")","v":"0"},"[Insert comments here]",{"$f":"IF(Risks!X49=0,\"0\",\"\")","v":"0"},"[Insert comments here]",{"$f":"IF(Risks!Z49=0,\"0\",\"\")","v":"0"},"[Insert comments here]",{"$f":"IF(Risks!AB49=0,\"0\",\"\")","v":"0"},"[Insert comments here]",{"$f":"IF(Risks!AD49=0,\"0\",\"\")","v":"0"},"[Insert comments here]",{"$f":"IF(Risks!AF49=0,\"0\",\"\")","v":"0"},"[Insert comments here]",{"$f":"IF(Risks!AH49=0,\"0\",\"\")","v":"0"},"[Insert comments here]",{"$f":"IF(Risks!AJ49=0,\"0\",\"\")","v":"0"},"[Insert comments here]",{"$f":"IF(Risks!AL49=0,\"0\",\"\")","v":"0"},"[Insert comments here]",{"$f":"IF(Risks!AN49=0,\"0\",\"\")","v":"0"},"[Insert comments here]",{"$f":"IF(Risks!AP49=0,\"0\",\"\")","v":"0"},"[Insert comments here]",{"$f":"IF(Risks!AR49=0,\"0\",\"\")","v":"0"},"[Insert comments here]",{"$f":"IF(Risks!AT49=0,\"0\",\"\")","v":"0"},"[Insert comments here]",{"$f":"IF(Risks!AV49=0,\"0\",\"\")","v":"0"},"[Insert comments here]",{"$f":"IF(Risks!AX49=0,\"0\",\"\")","v":"0"},"[Insert comments here]",{"$f":"IF(Risks!AZ49=0,\"0\",\"\")","v":"0"},"[Insert comments here]",{"$f":"IF(Risks!BB49=0,\"0\",\"\")","v":"0"},"[Insert comments here]",{"$f":"IF(Risks!BD49=0,\"0\",\"\")","v":"0"},"[Insert comments here]",{"$f":"IF(Risks!BF49=0,\"0\",\"\")","v":"0"},"[Insert comments here]",{"$f":"IF(Risks!BH49=0,\"0\",\"\")","v":"0"},"[Insert comments here]",{"$f":"IF(Risks!BJ49=0,\"0\",\"\")","v":"0"},"[Insert comments here]",{"$f":"IF(Risks!BL49=0,\"0\",\"\")","v":"0"},"[Insert comments here]",{"$f":"IF(Risks!BN49=0,\"0\",\"\")","v":"0"},"[Insert comments here]",{"$f":"IF(Risks!BP49=0,\"0\",\"\")","v":"0"},"[Insert comments here]",{"$f":"IF(Risks!BR49=0,\"0\",\"\")","v":"0"},"[Insert comments here]",{"$f":"IF(Risks!BT49=0,\"0\",\"\")","v":"0"},"[Insert comments here]",{"$f":"IF(Risks!BV49=0,\"0\",\"\")","v":"0"},"[Insert comments here]",{"$f":"IF(Risks!BX49=0,\"0\",\"\")","v":"0"},"[Insert comments here]",{"$f":"IF(Risks!BZ49=0,\"0\",\"\")","v":"0"},"[Insert comments here]",{"$f":"IF(Risks!CB49=0,\"0\",\"\")","v":"0"},"[Insert comments here]",{"$f":"IF(Risks!CD49=0,\"0\",\"\")","v":"0"},"[Insert comments here]",null,null,null,null,{"$f":"IF(Risks!CJ49=0,\"0\",\"\")","v":"0"},"[Insert comments here]"]
[null,null,"Average environmental response",null,{"$f":"SUM(OFFSET(D3,1,0,COUNTA(EnvIssues),1))/COUNTA(EnvIssues)","v":1.2857142857142858},null,{"$f":"SUM(OFFSET(F3,1,0,COUNTA(EnvIssues),1))/COUNTA(EnvIssues)","v":0.8571428571428571},null,{"$f":"SUM(OFFSET(H3,1,0,COUNTA(EnvIssues),1))/COUNTA(EnvIssues)","v":0.7142857142857143},null,{"$f":"SUM(OFFSET(J3,1,0,COUNTA(EnvIssues),1))/COUNTA(EnvIssues)","v":1.4285714285714286},null,{"$f":"SUM(OFFSET(L3,1,0,COUNTA(EnvIssues),1))/COUNTA(EnvIssues)","v":0.8571428571428571},null,{"$f":"SUM(OFFSET(N3,1,0,COUNTA(EnvIssues),1))/COUNTA(EnvIssues)","v":1.2857142857142858},null,{"$f":"SUM(OFFSET(P3,1,0,COUNTA(EnvIssues),1))/COUNTA(EnvIssues)","v":1.4285714285714286},null,{"$f":"SUM(OFFSET(R3,1,0,COUNTA(EnvIssues),1))/COUNTA(EnvIssues)","v":1.1428571428571428},null,{"$f":"SUM(OFFSET(T3,1,0,COUNTA(EnvIssues),1))/COUNTA(EnvIssues)","v":0},null,{"$f":"SUM(OFFSET(V3,1,0,COUNTA(EnvIssues),1))/COUNTA(EnvIssues)","v":0},null,{"$f":"SUM(OFFSET(X3,1,0,COUNTA(EnvIssues),1))/COUNTA(EnvIssues)","v":0},null,{"$f":"SUM(OFFSET(Z3,1,0,COUNTA(EnvIssues),1))/COUNTA(EnvIssues)","v":0},null,{"$f":"SUM(OFFSET(AB3,1,0,COUNTA(EnvIssues),1))/COUNTA(EnvIssues)","v":0},null,{"$f":"SUM(OFFSET(AD3,1,0,COUNTA(EnvIssues),1))/COUNTA(EnvIssues)","v":0},null,{"$f":"SUM(OFFSET(AF3,1,0,COUNTA(EnvIssues),1))/COUNTA(EnvIssues)","v":0},null,{"$f":"SUM(OFFSET(AH3,1,0,COUNTA(EnvIssues),1))/COUNTA(EnvIssues)","v":0},null,{"$f":"SUM(OFFSET(AJ3,1,0,COUNTA(EnvIssues),1))/COUNTA(EnvIssues)","v":0},null,{"$f":"SUM(OFFSET(AL3,1,0,COUNTA(EnvIssues),1))/COUNTA(EnvIssues)","v":0},null,{"$f":"SUM(OFFSET(AN3,1,0,COUNTA(EnvIssues),1))/COUNTA(EnvIssues)","v":0},null,{"$f":"SUM(OFFSET(AP3,1,0,COUNTA(EnvIssues),1))/COUNTA(EnvIssues)","v":0},null,{"$f":"SUM(OFFSET(AR3,1,0,COUNTA(EnvIssues),1))/COUNTA(EnvIssues)","v":0},null,{"$f":"SUM(OFFSET(AT3,1,0,COUNTA(EnvIssues),1))/COUNTA(EnvIssues)","v":0},null,{"$f":"SUM(OFFSET(AV3,1,0,COUNTA(EnvIssues),1))/COUNTA(EnvIssues)","v":0},null,{"$f":"SUM(OFFSET(AX3,1,0,COUNTA(EnvIssues),1))/COUNTA(EnvIssues)","v":0},null,{"$f":"SUM(OFFSET(AZ3,1,0,COUNTA(EnvIssues),1))/COUNTA(EnvIssues)","v":0},null,{"$f":"SUM(OFFSET(BB3,1,0,COUNTA(EnvIssues),1))/COUNTA(EnvIssues)","v":0},null,{"$f":"SUM(OFFSET(BD3,1,0,COUNTA(EnvIssues),1))/COUNTA(EnvIssues)","v":0},null,{"$f":"SUM(OFFSET(BF3,1,0,COUNTA(EnvIssues),1))/COUNTA(EnvIssues)","v":0},null,{"$f":"SUM(OFFSET(BH3,1,0,COUNTA(EnvIssues),1))/COUNTA(EnvIssues)","v":0},null,{"$f":"SUM(OFFSET(BJ3,1,0,COUNTA(EnvIssues),1))/COUNTA(EnvIssues)","v":0},null,{"$f":"SUM(OFFSET(BL3,1,0,COUNTA(EnvIssues),1))/COUNTA(EnvIssues)","v":0},null,{"$f":"SUM(OFFSET(BN3,1,0,COUNTA(EnvIssues),1))/COUNTA(EnvIssues)","v":0},null,{"$f":"SUM(OFFSET(BP3,1,0,COUNTA(EnvIssues),1))/COUNTA(EnvIssues)","v":0},null,{"$f":"SUM(OFFSET(BR3,1,0,COUNTA(EnvIssues),1))/COUNTA(EnvIssues)","v":0},null,{"$f":"SUM(OFFSET(BT3,1,0,COUNTA(EnvIssues),1))/COUNTA(EnvIssues)","v":0},null,{"$f":"SUM(OFFSET(BV3,1,0,COUNTA(EnvIssues),1))/COUNTA(EnvIssues)","v":0},null,{"$f":"SUM(OFFSET(BX3,1,0,COUNTA(EnvIssues),1))/COUNTA(EnvIssues)","v":0},null,{"$f":"SUM(OFFSET(BZ3,1,0,COUNTA(EnvIssues),1))/COUNTA(EnvIssues)","v":0},null,{"$f":"SUM(OFFSET(CB3,1,0,COUNTA(EnvIssues),1))/COUNTA(EnvIssues)","v":0},null,{"$f":"SUM(OFFSET(CD3,1,0,COUNTA(EnvIssues),1))/COUNTA(EnvIssues)","v":0}]
[null,null,"Environmental score",null,{"$f":"IF(COUNTA(EnvIssues)=0,IF(D2=\"\",\"\",3),IF(E45=\"\",\"\",VLOOKUP(E45,ScopeBoundaries,2,TRUE)))","v":4},null,{"$f":"IF(COUNTA(EnvIssues)=0,IF(F2=\"\",\"\",3),IF(G45=\"\",\"\",VLOOKUP(G45,ScopeBoundaries,2,TRUE)))","v":2},null,{"$f":"IF(COUNTA(EnvIssues)=0,IF(H2=\"\",\"\",3),IF(I45=\"\",\"\",VLOOKUP(I45,ScopeBoundaries,2,TRUE)))","v":2},null,{"$f":"IF(COUNTA(EnvIssues)=0,IF(J2=\"\",\"\",3),IF(K45=\"\",\"\",VLOOKUP(K45,ScopeBoundaries,2,TRUE)))","v":4},null,{"$f":"IF(COUNTA(EnvIssues)=0,IF(L2=\"\",\"\",3),IF(M45=\"\",\"\",VLOOKUP(M45,ScopeBoundaries,2,TRUE)))","v":2},null,{"$f":"IF(COUNTA(EnvIssues)=0,IF(N2=\"\",\"\",3),IF(O45=\"\",\"\",VLOOKUP(O45,ScopeBoundaries,2,TRUE)))","v":4},null,{"$f":"IF(COUNTA(EnvIssues)=0,IF(P2=\"\",\"\",3),IF(Q45=\"\",\"\",VLOOKUP(Q45,ScopeBoundaries,2,TRUE)))","v":4},null,{"$f":"IF(COUNTA(EnvIssues)=0,IF(R2=\"\",\"\",3),IF(S45=\"\",\"\",VLOOKUP(S45,ScopeBoundaries,2,TRUE)))","v":3},null,{"$f":"IF(COUNTA(EnvIssues)=0,IF(T2=\"\",\"\",3),IF(U45=\"\",\"\",VLOOKUP(U45,ScopeBoundaries,2,TRUE)))","v":0},null,{"$f":"IF(COUNTA(EnvIssues)=0,IF(V2=\"\",\"\",3),IF(W45=\"\",\"\",VLOOKUP(W45,ScopeBoundaries,2,TRUE)))","v":0},null,{"$f":"IF(COUNTA(EnvIssues)=0,IF(X2=\"\",\"\",3),IF(Y45=\"\",\"\",VLOOKUP(Y45,ScopeBoundaries,2,TRUE)))","v":0},null,{"$f":"IF(COUNTA(EnvIssues)=0,IF(Z2=\"\",\"\",3),IF(AA45=\"\",\"\",VLOOKUP(AA45,ScopeBoundaries,2,TRUE)))","v":0},null,{"$f":"IF(COUNTA(EnvIssues)=0,IF(AB2=\"\",\"\",3),IF(AC45=\"\",\"\",VLOOKUP(AC45,ScopeBoundaries,2,TRUE)))","v":0},null,{"$f":"IF(COUNTA(EnvIssues)=0,IF(AD2=\"\",\"\",3),IF(AE45=\"\",\"\",VLOOKUP(AE45,ScopeBoundaries,2,TRUE)))","v":0},null,{"$f":"IF(COUNTA(EnvIssues)=0,IF(AF2=\"\",\"\",3),IF(AG45=\"\",\"\",VLOOKUP(AG45,ScopeBoundaries,2,TRUE)))","v":0},null,{"$f":"IF(COUNTA(EnvIssues)=0,IF(AH2=\"\",\"\",3),IF(AI45=\"\",\"\",VLOOKUP(AI45,ScopeBoundaries,2,TRUE)))","v":0},null,{"$f":"IF(COUNTA(EnvIssues)=0,IF(AJ2=\"\",\"\",3),IF(AK45=\"\",\"\",VLOOKUP(AK45,ScopeBoundaries,2,TRUE)))","v":0},null,{"$f":"IF(COUNTA(EnvIssues)=0,IF(AL2=\"\",\"\",3),IF(AM45=\"\",\"\",VLOOKUP(AM45,ScopeBoundaries,2,TRUE)))","v":0},null,{"$f":"IF(COUNTA(EnvIssues)=0,IF(AN2=\"\",\"\",3),IF(AO45=\"\",\"\",VLOOKUP(AO45,ScopeBoundaries,2,TRUE)))","v":0},null,{"$f":"IF(COUNTA(EnvIssues)=0,IF(AP2=\"\",\"\",3),IF(AQ45=\"\",\"\",VLOOKUP(AQ45,ScopeBoundaries,2,TRUE)))","v":0},null,{"$f":"IF(COUNTA(EnvIssues)=0,IF(AR2=\"\",\"\",3),IF(AS45=\"\",\"\",VLOOKUP(AS45,ScopeBoundaries,2,TRUE)))","v":0},null,{"$f":"IF(COUNTA(EnvIssues)=0,IF(AT2=\"\",\"\",3),IF(AU45=\"\",\"\",VLOOKUP(AU45,ScopeBoundaries,2,TRUE)))","v":0},null,{"$f":"IF(COUNTA(EnvIssues)=0,IF(AV2=\"\",\"\",3),IF(AW45=\"\",\"\",VLOOKUP(AW45,ScopeBoundaries,2,TRUE)))","v":0},null,{"$f":"IF(COUNTA(EnvIssues)=0,IF(AX2=\"\",\"\",3),IF(AY45=\"\",\"\",VLOOKUP(AY45,ScopeBoundaries,2,TRUE)))","v":0},null,{"$f":"IF(COUNTA(EnvIssues)=0,IF(AZ2=\"\",\"\",3),IF(BA45=\"\",\"\",VLOOKUP(BA45,ScopeBoundaries,2,TRUE)))","v":0},null,{"$f":"IF(COUNTA(EnvIssues)=0,IF(BB2=\"\",\"\",3),IF(BC45=\"\",\"\",VLOOKUP(BC45,ScopeBoundaries,2,TRUE)))","v":0},null,{"$f":"IF(COUNTA(EnvIssues)=0,IF(BD2=\"\",\"\",3),IF(BE45=\"\",\"\",VLOOKUP(BE45,ScopeBoundaries,2,TRUE)))","v":0},null,{"$f":"IF(COUNTA(EnvIssues)=0,IF(BF2=\"\",\"\",3),IF(BG45=\"\",\"\",VLOOKUP(BG45,ScopeBoundaries,2,TRUE)))","v":0},null,{"$f":"IF(COUNTA(EnvIssues)=0,IF(BH2=\"\",\"\",3),IF(BI45=\"\",\"\",VLOOKUP(BI45,ScopeBoundaries,2,TRUE)))","v":0},null,{"$f":"IF(COUNTA(EnvIssues)=0,IF(BJ2=\"\",\"\",3),IF(BK45=\"\",\"\",VLOOKUP(BK45,ScopeBoundaries,2,TRUE)))","v":0},null,{"$f":"IF(COUNTA(EnvIssues)=0,IF(BL2=\"\",\"\",3),IF(BM45=\"\",\"\",VLOOKUP(BM45,ScopeBoundaries,2,TRUE)))","v":0},null,{"$f":"IF(COUNTA(EnvIssues)=0,IF(BN2=\"\",\"\",3),IF(BO45=\"\",\"\",VLOOKUP(BO45,ScopeBoundaries,2,TRUE)))","v":0},null,{"$f":"IF(COUNTA(EnvIssues)=0,IF(BP2=\"\",\"\",3),IF(BQ45=\"\",\"\",VLOOKUP(BQ45,ScopeBoundaries,2,TRUE)))","v":0},null,{"$f":"IF(COUNTA(EnvIssues)=0,IF(BR2=\"\",\"\",3),IF(BS45=\"\",\"\",VLOOKUP(BS45,ScopeBoundaries,2,TRUE)))","v":0},null,{"$f":"IF(COUNTA(EnvIssues)=0,IF(BT2=\"\",\"\",3),IF(BU45=\"\",\"\",VLOOKUP(BU45,ScopeBoundaries,2,TRUE)))","v":0},null,{"$f":"IF(COUNTA(EnvIssues)=0,IF(BV2=\"\",\"\",3),IF(BW45=\"\",\"\",VLOOKUP(BW45,ScopeBoundaries,2,TRUE)))","v":0},null,{"$f":"IF(COUNTA(EnvIssues)=0,IF(BX2=\"\",\"\",3),IF(BY45=\"\",\"\",VLOOKUP(BY45,ScopeBoundaries,2,TRUE)))","v":0},null,{"$f":"IF(COUNTA(EnvIssues)=0,IF(BZ2=\"\",\"\",3),IF(CA45=\"\",\"\",VLOOKUP(CA45,ScopeBoundaries,2,TRUE)))","v":0},null,{"$f":"IF(COUNTA(EnvIssues)=0,IF(CB2=\"\",\"\",3),IF(CC45=\"\",\"\",VLOOKUP(CC45,ScopeBoundaries,2,TRUE)))","v":0},null,{"$f":"IF(COUNTA(EnvIssues)=0,IF(CD2=\"\",\"\",3),IF(CE45=\"\",\"\",VLOOKUP(CE45,ScopeBoundaries,2,TRUE)))","v":0}]
[null,null,"Average socio-economic response",null,{"$f":"SUM(OFFSET(D3,22,0,COUNTA(SocIssues),1))/COUNTA(SocIssues)","v":1.5714285714285714},null,{"$f":"SUM(OFFSET(F3,22,0,COUNTA(SocIssues),1))/COUNTA(SocIssues)","v":1},null,{"$f":"SUM(OFFSET(H3,22,0,COUNTA(SocIssues),1))/COUNTA(SocIssues)","v":0.8571428571428571},null,{"$f":"SUM(OFFSET(J3,22,0,COUNTA(SocIssues),1))/COUNTA(SocIssues)","v":1.5714285714285714},null,{"$f":"SUM(OFFSET(L3,22,0,COUNTA(SocIssues),1))/COUNTA(SocIssues)","v":1},null,{"$f":"SUM(OFFSET(N3,22,0,COUNTA(SocIssues),1))/COUNTA(SocIssues)","v":1.4285714285714286},null,{"$f":"SUM(OFFSET(P3,22,0,COUNTA(SocIssues),1))/COUNTA(SocIssues)","v":0.8571428571428571},null,{"$f":"SUM(OFFSET(R3,22,0,COUNTA(SocIssues),1))/COUNTA(SocIssues)","v":1},null,{"$f":"SUM(OFFSET(T3,22,0,COUNTA(SocIssues),1))/COUNTA(SocIssues)","v":0},null,{"$f":"SUM(OFFSET(V3,22,0,COUNTA(SocIssues),1))/COUNTA(SocIssues)","v":0},null,{"$f":"SUM(OFFSET(X3,22,0,COUNTA(SocIssues),1))/COUNTA(SocIssues)","v":0},null,{"$f":"SUM(OFFSET(Z3,22,0,COUNTA(SocIssues),1))/COUNTA(SocIssues)","v":0},null,{"$f":"SUM(OFFSET(AB3,22,0,COUNTA(SocIssues),1))/COUNTA(SocIssues)","v":0},null,{"$f":"SUM(OFFSET(AD3,22,0,COUNTA(SocIssues),1))/COUNTA(SocIssues)","v":0},null,{"$f":"SUM(OFFSET(AF3,22,0,COUNTA(SocIssues),1))/COUNTA(SocIssues)","v":0},null,{"$f":"SUM(OFFSET(AH3,22,0,COUNTA(SocIssues),1))/COUNTA(SocIssues)","v":0},null,{"$f":"SUM(OFFSET(AJ3,22,0,COUNTA(SocIssues),1))/COUNTA(SocIssues)","v":0},null,{"$f":"SUM(OFFSET(AL3,22,0,COUNTA(SocIssues),1))/COUNTA(SocIssues)","v":0},null,{"$f":"SUM(OFFSET(AN3,22,0,COUNTA(SocIssues),1))/COUNTA(SocIssues)","v":0},null,{"$f":"SUM(OFFSET(AP3,22,0,COUNTA(SocIssues),1))/COUNTA(SocIssues)","v":0},null,{"$f":"SUM(OFFSET(AR3,22,0,COUNTA(SocIssues),1))/COUNTA(SocIssues)","v":0},null,{"$f":"SUM(OFFSET(AT3,22,0,COUNTA(SocIssues),1))/COUNTA(SocIssues)","v":0},null,{"$f":"SUM(OFFSET(AV3,22,0,COUNTA(SocIssues),1))/COUNTA(SocIssues)","v":0},null,{"$f":"SUM(OFFSET(AX3,22,0,COUNTA(SocIssues),1))/COUNTA(SocIssues)","v":0},null,{"$f":"SUM(OFFSET(AZ3,22,0,COUNTA(SocIssues),1))/COUNTA(SocIssues)","v":0},null,{"$f":"SUM(OFFSET(BB3,22,0,COUNTA(SocIssues),1))/COUNTA(SocIssues)","v":0},null,{"$f":"SUM(OFFSET(BD3,22,0,COUNTA(SocIssues),1))/COUNTA(SocIssues)","v":0},null,{"$f":"SUM(OFFSET(BF3,22,0,COUNTA(SocIssues),1))/COUNTA(SocIssues)","v":0},null,{"$f":"SUM(OFFSET(BH3,22,0,COUNTA(SocIssues),1))/COUNTA(SocIssues)","v":0},null,{"$f":"SUM(OFFSET(BJ3,22,0,COUNTA(SocIssues),1))/COUNTA(SocIssues)","v":0},null,{"$f":"SUM(OFFSET(BL3,22,0,COUNTA(SocIssues),1))/COUNTA(SocIssues)","v":0},null,{"$f":"SUM(OFFSET(BN3,22,0,COUNTA(SocIssues),1))/COUNTA(SocIssues)","v":0},null,{"$f":"SUM(OFFSET(BP3,22,0,COUNTA(SocIssues),1))/COUNTA(SocIssues)","v":0},null,{"$f":"SUM(OFFSET(BR3,22,0,COUNTA(SocIssues),1))/COUNTA(SocIssues)","v":0},null,{"$f":"SUM(OFFSET(BT3,22,0,COUNTA(SocIssues),1))/COUNTA(SocIssues)","v":0},null,{"$f":"SUM(OFFSET(BV3,22,0,COUNTA(SocIssues),1))/COUNTA(SocIssues)","v":0},null,{"$f":"SUM(OFFSET(BX3,22,0,COUNTA(SocIssues),1))/COUNTA(SocIssues)","v":0},null,{"$f":"SUM(OFFSET(BZ3,22,0,COUNTA(SocIssues),1))/COUNTA(SocIssues)","v":0},null,{"$f":"SUM(OFFSET(CB3,22,0,COUNTA(SocIssues),1))/COUNTA(SocIssues)","v":0},null,{"$f":"SUM(OFFSET(CD3,22,0,COUNTA(SocIssues),1))/COUNTA(SocIssues)","v":0}]
[null,null,"Socio-economic score",null,{"$f":"IF(COUNTA(SocIssues)=0,IF(D2=\"\",\"\",3),IF(E47=\"\",\"\",VLOOKUP(E47,ScopeBoundaries,2,TRUE)))","v":5},null,{"$f":"IF(COUNTA(SocIssues)=0,IF(F2=\"\",\"\",3),IF(G47=\"\",\"\",VLOOKUP(G47,ScopeBoundaries,2,TRUE)))","v":3},null,{"$f":"IF(COUNTA(SocIssues)=0,IF(H2=\"\",\"\",3),IF(I47=\"\",\"\",VLOOKUP(I47,ScopeBoundaries,2,TRUE)))","v":2},null,{"$f":"IF(COUNTA(SocIssues)=0,IF(J2=\"\",\"\",3),IF(K47=\"\",\"\",VLOOKUP(K47,ScopeBoundaries,2,TRUE)))","v":5},null,{"$f":"IF(COUNTA(SocIssues)=0,IF(L2=\"\",\"\",3),IF(M47=\"\",\"\",VLOOKUP(M47,ScopeBoundaries,2,TRUE)))","v":3},null,{"$f":"IF(COUNTA(SocIssues)=0,IF(N2=\"\",\"\",3),IF(O47=\"\",\"\",VLOOKUP(O47,ScopeBoundaries,2,TRUE)))","v":4},null,{"$f":"IF(COUNTA(SocIssues)=0,IF(P2=\"\",\"\",3),IF(Q47=\"\",\"\",VLOOKUP(Q47,ScopeBoundaries,2,TRUE)))","v":2},null,{"$f":"IF(COUNTA(SocIssues)=0,IF(R2=\"\",\"\",3),IF(S47=\"\",\"\",VLOOKUP(S47,ScopeBoundaries,2,TRUE)))","v":3},null,{"$f":"IF(COUNTA(SocIssues)=0,IF(T2=\"\",\"\",3),IF(U47=\"\",\"\",VLOOKUP(U47,ScopeBoundaries,2,TRUE)))","v":0},null,{"$f":"IF(COUNTA(SocIssues)=0,IF(V2=\"\",\"\",3),IF(W47=\"\",\"\",VLOOKUP(W47,ScopeBoundaries,2,TRUE)))","v":0},null,{"$f":"IF(COUNTA(SocIssues)=0,IF(X2=\"\",\"\",3),IF(Y47=\"\",\"\",VLOOKUP(Y47,ScopeBoundaries,2,TRUE)))","v":0},null,{"$f":"IF(COUNTA(SocIssues)=0,IF(Z2=\"\",\"\",3),IF(AA47=\"\",\"\",VLOOKUP(AA47,ScopeBoundaries,2,TRUE)))","v":0},null,{"$f":"IF(COUNTA(SocIssues)=0,IF(AB2=\"\",\"\",3),IF(AC47=\"\",\"\",VLOOKUP(AC47,ScopeBoundaries,2,TRUE)))","v":0},null,{"$f":"IF(COUNTA(SocIssues)=0,IF(AD2=\"\",\"\",3),IF(AE47=\"\",\"\",VLOOKUP(AE47,ScopeBoundaries,2,TRUE)))","v":0},null,{"$f":"IF(COUNTA(SocIssues)=0,IF(AF2=\"\",\"\",3),IF(AG47=\"\",\"\",VLOOKUP(AG47,ScopeBoundaries,2,TRUE)))","v":0},null,{"$f":"IF(COUNTA(SocIssues)=0,IF(AH2=\"\",\"\",3),IF(AI47=\"\",\"\",VLOOKUP(AI47,ScopeBoundaries,2,TRUE)))","v":0},null,{"$f":"IF(COUNTA(SocIssues)=0,IF(AJ2=\"\",\"\",3),IF(AK47=\"\",\"\",VLOOKUP(AK47,ScopeBoundaries,2,TRUE)))","v":0},null,{"$f":"IF(COUNTA(SocIssues)=0,IF(AL2=\"\",\"\",3),IF(AM47=\"\",\"\",VLOOKUP(AM47,ScopeBoundaries,2,TRUE)))","v":0},null,{"$f":"IF(COUNTA(SocIssues)=0,IF(AN2=\"\",\"\",3),IF(AO47=\"\",\"\",VLOOKUP(AO47,ScopeBoundaries,2,TRUE)))","v":0},null,{"$f":"IF(COUNTA(SocIssues)=0,IF(AP2=\"\",\"\",3),IF(AQ47=\"\",\"\",VLOOKUP(AQ47,ScopeBoundaries,2,TRUE)))","v":0},null,{"$f":"IF(COUNTA(SocIssues)=0,IF(AR2=\"\",\"\",3),IF(AS47=\"\",\"\",VLOOKUP(AS47,ScopeBoundaries,2,TRUE)))","v":0},null,{"$f":"IF(COUNTA(SocIssues)=0,IF(AT2=\"\",\"\",3),IF(AU47=\"\",\"\",VLOOKUP(AU47,ScopeBoundaries,2,TRUE)))","v":0},null,{"$f":"IF(COUNTA(SocIssues)=0,IF(AV2=\"\",\"\",3),IF(AW47=\"\",\"\",VLOOKUP(AW47,ScopeBoundaries,2,TRUE)))","v":0},null,{"$f":"IF(COUNTA(SocIssues)=0,IF(AX2=\"\",\"\",3),IF(AY47=\"\",\"\",VLOOKUP(AY47,ScopeBoundaries,2,TRUE)))","v":0},null,{"$f":"IF(COUNTA(SocIssues)=0,IF(AZ2=\"\",\"\",3),IF(BA47=\"\",\"\",VLOOKUP(BA47,ScopeBoundaries,2,TRUE)))","v":0},null,{"$f":"IF(COUNTA(SocIssues)=0,IF(BB2=\"\",\"\",3),IF(BC47=\"\",\"\",VLOOKUP(BC47,ScopeBoundaries,2,TRUE)))","v":0},null,{"$f":"IF(COUNTA(SocIssues)=0,IF(BD2=\"\",\"\",3),IF(BE47=\"\",\"\",VLOOKUP(BE47,ScopeBoundaries,2,TRUE)))","v":0},null,{"$f":"IF(COUNTA(SocIssues)=0,IF(BF2=\"\",\"\",3),IF(BG47=\"\",\"\",VLOOKUP(BG47,ScopeBoundaries,2,TRUE)))","v":0},null,{"$f":"IF(COUNTA(SocIssues)=0,IF(BH2=\"\",\"\",3),IF(BI47=\"\",\"\",VLOOKUP(BI47,ScopeBoundaries,2,TRUE)))","v":0},null,{"$f":"IF(COUNTA(SocIssues)=0,IF(BJ2=\"\",\"\",3),IF(BK47=\"\",\"\",VLOOKUP(BK47,ScopeBoundaries,2,TRUE)))","v":0},null,{"$f":"IF(COUNTA(SocIssues)=0,IF(BL2=\"\",\"\",3),IF(BM47=\"\",\"\",VLOOKUP(BM47,ScopeBoundaries,2,TRUE)))","v":0},null,{"$f":"IF(COUNTA(SocIssues)=0,IF(BN2=\"\",\"\",3),IF(BO47=\"\",\"\",VLOOKUP(BO47,ScopeBoundaries,2,TRUE)))","v":0},null,{"$f":"IF(COUNTA(SocIssues)=0,IF(BP2=\"\",\"\",3),IF(BQ47=\"\",\"\",VLOOKUP(BQ47,ScopeBoundaries,2,TRUE)))","v":0},null,{"$f":"IF(COUNTA(SocIssues)=0,IF(BR2=\"\",\"\",3),IF(BS47=\"\",\"\",VLOOKUP(BS47,ScopeBoundaries,2,TRUE)))","v":0},null,{"$f":"IF(COUNTA(SocIssues)=0,IF(BT2=\"\",\"\",3),IF(BU47=\"\",\"\",VLOOKUP(BU47,ScopeBoundaries,2,TRUE)))","v":0},null,{"$f":"IF(COUNTA(SocIssues)=0,IF(BV2=\"\",\"\",3),IF(BW47=\"\",\"\",VLOOKUP(BW47,ScopeBoundaries,2,TRUE)))","v":0},null,{"$f":"IF(COUNTA(SocIssues)=0,IF(BX2=\"\",\"\",3),IF(BY47=\"\",\"\",VLOOKUP(BY47,ScopeBoundaries,2,TRUE)))","v":0},null,{"$f":"IF(COUNTA(SocIssues)=0,IF(BZ2=\"\",\"\",3),IF(CA47=\"\",\"\",VLOOKUP(CA47,ScopeBoundaries,2,TRUE)))","v":0},null,{"$f":"IF(COUNTA(SocIssues)=0,IF(CB2=\"\",\"\",3),IF(CC47=\"\",\"\",VLOOKUP(CC47,ScopeBoundaries,2,TRUE)))","v":0},null,{"$f":"IF(COUNTA(SocIssues)=0,IF(CD2=\"\",\"\",3),IF(CE47=\"\",\"\",VLOOKUP(CE47,ScopeBoundaries,2,TRUE)))","v":0}]
[null,null,"Total Scope Score\n(maximum = 24)",{"$f":"SUM(E46+E48)","v":9},null,{"$f":"SUM(G46+G48)","v":5},null,{"$f":"SUM(I46+I48)","v":4},null,{"$f":"SUM(K46+K48)","v":9},null,{"$f":"SUM(M46+M48)","v":5},null,{"$f":"SUM(O46+O48)","v":8},null,{"$f":"SUM(Q46+Q48)","v":6},null,{"$f":"SUM(S46+S48)","v":6},null,{"$f":"SUM(U46+U48)","v":0},null,{"$f":"SUM(W46+W48)","v":0},null,{"$f":"SUM(Y46+Y48)","v":0},null,{"$f":"SUM(AA46+AA48)","v":0},null,{"$f":"SUM(AC46+AC48)","v":0},null,{"$f":"SUM(AE46+AE48)","v":0},null,{"$f":"SUM(AG46+AG48)","v":0},null,{"$f":"SUM(AI46+AI48)","v":0},null,{"$f":"SUM(AK46+AK48)","v":0},null,{"$f":"SUM(AM46+AM48)","v":0},null,{"$f":"SUM(AO46+AO48)","v":0},null,{"$f":"SUM(AQ46+AQ48)","v":0},null,{"$f":"SUM(AS46+AS48)","v":0},null,{"$f":"SUM(AU46+AU48)","v":0},null,{"$f":"SUM(AW46+AW48)","v":0},null,{"$f":"SUM(AY46+AY48)","v":0},null,{"$f":"SUM(BA46+BA48)","v":0},null,{"$f":"SUM(BC46+BC48)","v":0},null,{"$f":"SUM(BE46+BE48)","v":0},null,{"$f":"SUM(BG46+BG48)","v":0},null,{"$f":"SUM(BI46+BI48)","v":0},null,{"$f":"SUM(BK46+BK48)","v":0},null,{"$f":"SUM(BM46+BM48)","v":0},null,{"$f":"SUM(BO46+BO48)","v":0},null,{"$f":"SUM(BQ46+BQ48)","v":0},null,{"$f":"SUM(BS46+BS48)","v":0},null,{"$f":"SUM(BU46+BU48)","v":0},null,{"$f":"SUM(BW46+BW48)","v":0},null,{"$f":"SUM(BY46+BY48)","v":0},null,{"$f":"SUM(CA46+CA48)","v":0},null,{"$f":"SUM(CC46+CC48)","v":0},null,{"$f":"SUM(CE46+CE48)","v":0}]
[]
[null,null,{"$f":"IF(COUNTA(OFFSET(D3,1,0,COUNTA(EnvIssues),2*COUNTA(ProductGroups)))+COUNTA(OFFSET(D3,22,0,COUNTA(SocIssues),2*COUNTA(ProductGroups)))=2*((COUNTA(EnvIssues)+COUNTA(SocIssues))*COUNTA(ProductGroups)),\"\",\"Check you have scored all relevant cells - embedded formulae in cells may indicate responses are complete, when they may not be.\")","v":""},null,null,null," "]

{"sheet":"Influence","index":7,"n_rows":13,"n_cols":89,"rows_kept":13,"cut":false,"hidden":false,"merged":[[1,77,2,78],[1,79,2,80],[1,73,2,74],[1,75,2,76],[1,63,2,64],[1,71,2,72],[1,65,2,66],[1,67,2,68],[1,69,2,70],[1,59,2,60],[1,61,2,62],[1,49,2,50],[1,51,2,52],[1,55,2,56],[1,19,2,20],[1,21,2,22],[1,23,2,24],[1,25,2,26],[1,57,2,58],[1,13,2,14],[1,81,2,82],[1,27,2,28],[1,29,2,30],[1,31,2,32],[1,33,2,34],[1,37,2,38],[1,39,2,40],[1,41,2,42],[1,47,2,48],[1,53,2,54],[1,43,2,44],[1,45,2,46],[1,15,2,16],[1,17,2,18],[1,35,2,36],[1,3,2,4],[1,5,2,6],[1,7,2,8],[1,9,2,10],[1,11,2,12]]}
[]
[null,"Influence Assessment",null,{"$f":"IF(INDEX(ProductGroups,COLUMN()/2-1)=\"\",\"\",INDEX(ProductGroups,COLUMN()/2-1))","v":"Mobile Tech"},null,{"$f":"IF(INDEX(ProductGroups,COLUMN()/2-1)=\"\",\"\",INDEX(ProductGroups,COLUMN()/2-1))","v":"Servers/Storage"},null,{"$f":"IF(INDEX(ProductGroups,COLUMN()/2-1)=\"\",\"\",INDEX(ProductGroups,COLUMN()/2-1))","v":"Networking Equipment (Large Routers)"},null,{"$f":"IF(INDEX(ProductGroups,COLUMN()/2-1)=\"\",\"\",INDEX(ProductGroups,COLUMN()/2-1))","v":"PCs: Macs/Workstation/Thin Client"},null,{"$f":"IF(INDEX(ProductGroups,COLUMN()/2-1)=\"\",\"\",INDEX(ProductGroups,COLUMN()/2-1))","v":"Printers/MFD's"},null,{"$f":"IF(INDEX(ProductGroups,COLUMN()/2-1)=\"\",\"\",INDEX(ProductGroups,COLUMN()/2-1))","v":"Cages and Racking, Isolators"},null,{"$f":"IF(INDEX(ProductGroups,COLUMN()/2-1)=\"\",\"\",INDEX(ProductGroups,COLUMN()/2-1))","v":"Laboratory Small Appaaratus and Equipment Purchase"},null,{"$f":"IF(INDEX(ProductGroups,COLUMN()/2-1)=\"\",\"\",INDEX(ProductGroups,COLUMN()/2-1))","v":"Medical, Surgical, Nursing Supplies & Services Small Apparatus, Equipment and Instruments"},null,{"$f":"IF(INDEX(ProductGroups,COLUMN()/2-1)=\"\",\"\",INDEX(ProductGroups,COLUMN()/2-1))","v":""},null,{"$f":"IF(INDEX(ProductGroups,COLUMN()/2-1)=\"\",\"\",INDEX(ProductGroups,COLUMN()/2-1))","v":""},null,{"$f":"IF(INDEX(ProductGroups,COLUMN()/2-1)=\"\",\"\",INDEX(ProductGroups,COLUMN()/2-1))","v":""},null,{"$f":"IF(INDEX(ProductGroups,COLUMN()/2-1)=\"\",\"\",INDEX(ProductGroups,COLUMN()/2-1))","v":""},null,{"$f":"IF(INDEX(ProductGroups,COLUMN()/2-1)=\"\",\"\",INDEX(ProductGroups,COLUMN()/2-1))","v":""},null,{"$f":"IF(INDEX(ProductGroups,COLUMN()/2-1)=\"\",\"\",INDEX(ProductGroups,COLUMN()/2-1))","v":""},null,{"$f":"IF(INDEX(ProductGroups,COLUMN()/2-1)=\"\",\"\",INDEX(ProductGroups,COLUMN()/2-1))","v":""},null,{"$f":"IF(INDEX(ProductGroups,COLUMN()/2-1)=\"\",\"\",INDEX(ProductGroups,COLUMN()/2-1))","v":""},null,{"$f":"IF(INDEX(ProductGroups,COLUMN()/2-1)=\"\",\"\",INDEX(ProductGroups,COLUMN()/2-1))","v":""},null,{"$f":"IF(INDEX(ProductGroups,COLUMN()/2-1)=\"\",\"\",INDEX(ProductGroups,COLUMN()/2-1))","v":""},null,{"$f":"IF(INDEX(ProductGroups,COLUMN()/2-1)=\"\",\"\",INDEX(ProductGroups,COLUMN()/2-1))","v":""},null,{"$f":"IF(INDEX(ProductGroups,COLUMN()/2-1)=\"\",\"\",INDEX(ProductGroups,COLUMN()/2-1))","v":""},null,{"$f":"IF(INDEX(ProductGroups,COLUMN()/2-1)=\"\",\"\",INDEX(ProductGroups,COLUMN()/2-1))","v":""},null,{"$f":"IF(INDEX(ProductGroups,COLUMN()/2-1)=\"\",\"\",INDEX(ProductGroups,COLUMN()/2-1))","v":""},null,{"$f":"IF(INDEX(ProductGroups,COLUMN()/2-1)=\"\",\"\",INDEX(ProductGroups,COLUMN()/2-1))","v":""},null,{"$f":"IF(INDEX(ProductGroups,COLUMN()/2-1)=\"\",\"\",INDEX(ProductGroups,COLUMN()/2-1))","v":""},null,{"$f":"IF(INDEX(ProductGroups,COLUMN()/2-1)=\"\",\"\",INDEX(ProductGroups,COLUMN()/2-1))","v":""},null,{"$f":"IF(INDEX(ProductGroups,COLUMN()/2-1)=\"\",\"\",INDEX(ProductGroups,COLUMN()/2-1))","v":""},null,{"$f":"IF(INDEX(ProductGroups,COLUMN()/2-1)=\"\",\"\",INDEX(ProductGroups,COLUMN()/2-1))","v":""},null,{"$f":"IF(INDEX(ProductGroups,COLUMN()/2-1)=\"\",\"\",INDEX(ProductGroups,COLUMN()/2-1))","v":""},null,{"$f":"IF(INDEX(ProductGroups,COLUMN()/2-1)=\"\",\"\",INDEX(ProductGroups,COLUMN()/2-1))","v":""},null,{"$f":"IF(INDEX(ProductGroups,COLUMN()/2-1)=\"\",\"\",INDEX(ProductGroups,COLUMN()/2-1))","v":""},null,{"$f":"IF(INDEX(ProductGroups,COLUMN()/2-1)=\"\",\"\",INDEX(ProductGroups,COLUMN()/2-1))","v":""},null,{"$f":"IF(INDEX(ProductGroups,COLUMN()/2-1)=\"\",\"\",INDEX(ProductGroups,COLUMN()/2-1))","v":""},null,{"$f":"IF(INDEX(ProductGroups,COLUMN()/2-1)=\"\",\"\",INDEX(ProductGroups,COLUMN()/2-1))","v":""},null,{"$f":"IF(INDEX(ProductGroups,COLUMN()/2-1)=\"\",\"\",INDEX(ProductGroups,COLUMN()/2-1))","v":""},null,{"$f":"IF(INDEX(ProductGroups,COLUMN()/2-1)=\"\",\"\",INDEX(ProductGroups,COLUMN()/2-1))","v":""},null,{"$f":"IF(INDEX(ProductGroups,COLUMN()/2-1)=\"\",\"\",INDEX(ProductGroups,COLUMN()/2-1))","v":""},null,{"$f":"IF(INDEX(ProductGroups,COLUMN()/2-1)=\"\",\"\",INDEX(ProductGroups,COLUMN()/2-1))","v":""},null,{"$f":"IF(INDEX(ProductGroups,COLUMN()/2-1)=\"\",\"\",INDEX(ProductGroups,COLUMN()/2-1))","v":""},null,{"$f":"IF(INDEX(ProductGroups,COLUMN()/2-1)=\"\",\"\",INDEX(ProductGroups,COLUMN()/2-1))","v":""},null,{"$f":"IF(INDEX(ProductGroups,COLUMN()/2-1)=\"\",\"\",INDEX(ProductGroups,COLUMN()/2-1))","v":""}]
[null,"Use the columns to the right of the scores to make relevant comments\n(e.g. reasons for scoring,  sources of info. etc.)","(1 = no; 2 = yes)"]
[null,null,"Is the market for the goods and services within this category highly competitive?",2,"[Insert comments here]",2,"[Insert comments here]",2,"[Insert comments here]",2,"[Insert comments here]",2,"[Insert comments here]",1,"[Insert comments here]",2,"[Insert comments here]",2,"[Insert comments here]",null,"[Insert comments here]",null,"[Insert comments here]",null,"[Insert comments here]",null,"[Insert comments here]",null,"[Insert comments here]",null,"[Insert comments here]",null,"[Insert comments here]",null,"[Insert comments here]",null,"[Insert comments here]",null,"[Insert comments here]",null,"[Insert comments here]",null,"[Insert comments here]",null,"[Insert comments here]",null,"[Insert comments here]",null,"[Insert comments here]",null,"[Insert comments here]",null,"[Insert comments here]",null,"[Insert comments here]",null,"[Insert comments here]",null,"[Insert comments here]",null,"[Insert comments here]",null,"[Insert comments here]",null,"[Insert comments here]",null,"[Insert comments here]",null,"[Insert comments here]",null,"[Insert comments here]",null,"[Insert comments here]",null,"[Insert comments here]",null,"[Insert comments here]",null,"[Insert comments here]",null,"[Insert comments here]",null,"[Insert comments here]",null,null,null,null,null,"[Insert comments here]"]
[null,null,"Does your organisation command a large enough share of the sector’s market to influence change?",2,"[Insert comments here]",2,"[Insert comments here]",2,"[Insert comments here]",2,"[Insert comments here]",2,"[Insert comments here]",2,"[Insert comments here]",2,"[Insert comments here]",1,"[Insert comments here]",null,"[Insert comments here]",null,"[Insert comments here]",null,"[Insert comments here]",null,"[Insert comments here]",null,"[Insert comments here]",null,"[Insert comments here]",null,"[Insert comments here]",null,"[Insert comments here]",null,"[Insert comments here]",null,"[Insert comments here]",null,"[Insert comments here]",null,"[Insert comments here]",null,"[Insert comments here]",null,"[Insert comments here]",null,"[Insert comments here]",null,"[Insert comments here]",null,"[Insert comments here]",null,"[Insert comments here]",null,"[Insert comments here]",null,"[Insert comments here]",null,"[Insert comments here]",null,"[Insert comments here]",null,"[Insert comments here]",null,"[Insert comments here]",null,"[Insert comments here]",null,"[Insert comments here]",null,"[Insert comments here]",null,"[Insert comments here]",null,"[Insert comments here]",null,"[Insert comments here]",null,"[Insert comments here]",null,"[Insert comments here]",null,null,null,null,null,"[Insert comments here]"]
[null,null,"Would your organisation represent a significant percentage of a potential supplier’s turnover in this market place?",2,"[Insert comments here]",2,"[Insert comments here]",2,"[Insert comments here]",2,"[Insert comments here]",2,"[Insert comments here]",2,"[Insert comments here]",2,"[Insert comments here]",1,"[Insert comments here]",null,"[Insert comments here]",null,"[Insert comments here]",null,"[Insert comments here]",null,"[Insert comments here]",null,"[Insert comments here]",null,"[Insert comments here]",null,"[Insert comments here]",null,"[Insert comments here]",null,"[Insert comments here]",null,"[Insert comments here]",null,"[Insert comments here]",null,"[Insert comments here]",null,"[Insert comments here]",null,"[Insert comments here]",null,"[Insert comments here]",null,"[Insert comments here]",null,"[Insert comments here]",null,"[Insert comments here]",null,"[Insert comments here]",null,"[Insert comments here]",null,"[Insert comments here]",null,"[Insert comments here]",null,"[Insert comments here]",null,"[Insert comments here]",null,"[Insert comments here]",null,"[Insert comments here]",null,"[Insert comments here]",null,"[Insert comments here]",null,"[Insert comments here]",null,"[Insert comments here]",null,"[Insert comments here]",null,"[Insert comments here]",null,null,null,null,null,"[Insert comments here]"]
[null,null,"Are the supplier's other clients likely to be influenced by them influenced by them operating effectively with your organisation? ",2,"[Insert comments here]",2,"[Insert comments here]",2,"[Insert comments here]",2,"[Insert comments here]",2,"[Insert comments here]",2,"[Insert comments here]",2,"[Insert comments here]",2,"[Insert comments here]",null,"[Insert comments here]",null,"[Insert comments here]",null,"[Insert comments here]",null,"[Insert comments here]",null,"[Insert comments here]",null,"[Insert comments here]",null,"[Insert comments here]",null,"[Insert comments here]",null,"[Insert comments here]",null,"[Insert comments here]",null,"[Insert comments here]",null,"[Insert comments here]",null,"[Insert comments here]",null,"[Insert comments here]",null,"[Insert comments here]",null,"[Insert comments here]",null,"[Insert comments here]",null,"[Insert comments here]",null,"[Insert comments here]",null,"[Insert comments here]",null,"[Insert comments here]",null,"[Insert comments here]",null,"[Insert comments here]",null,"[Insert comments here]",null,"[Insert comments here]",null,"[Insert comments here]",null,"[Insert comments here]",null,"[Insert comments here]",null,"[Insert comments here]",null,"[Insert comments here]",null,"[Insert comments here]",null,"[Insert comments here]",null,null,null,null,null,"[Insert comments here]"]
[null,null,"Is society at large likely to be influenced by suppliers operating effectively with your organisation?",2,"[Insert comments here]",2,"[Insert comments here]",2,"[Insert comments here]",2,"[Insert comments here]",2,"[Insert comments here]",1,"[Insert comments here]",1,"[Insert comments here]",1,"[Insert comments here]",null,"[Insert comments here]",null,"[Insert comments here]",null,"[Insert comments here]",null,"[Insert comments here]",null,"[Insert comments here]",null,"[Insert comments here]",null,"[Insert comments here]",null,"[Insert comments here]",null,"[Insert comments here]",null,"[Insert comments here]",null,"[Insert comments here]",null,"[Insert comments here]",null,"[Insert comments here]",null,"[Insert comments here]",null,"[Insert comments here]",null,"[Insert comments here]",null,"[Insert comments here]",null,"[Insert comments here]",null,"[Insert comments here]",null,"[Insert comments here]",null,"[Insert comments here]",null,"[Insert comments here]",null,"[Insert comments here]",null,"[Insert comments here]",null,"[Insert comments here]",null,"[Insert comments here]",null,"[Insert comments here]",null,"[Insert comments here]",null,"[Insert comments here]",null,"[Insert comments here]",null,"[Insert comments here]",null,"[Insert comments here]",null,null,null,null,null,"[Insert comments here]"]
[null,null,"Will suppliers enhance their policy and practice as a result of operating to your policies?",2,"[Insert comments here]",2,"[Insert comments here]",2,"[Insert comments here]",2,"[Insert comments here]",2,"[Insert comments here]",2,"[Insert comments here]",1,null,1,"[Insert comments here]",null,"[Insert comments here]",null,"[Insert comments here]",null,"[Insert comments here]",null,"[Insert comments here]",null,"[Insert comments here]",null,"[Insert comments here]",null,"[Insert comments here]",null,"[Insert comments here]",null,"[Insert comments here]",null,"[Insert comments here]",null,"[Insert comments here]",null,"[Insert comments here]",null,"[Insert comments here]",null,"[Insert comments here]",null,"[Insert comments here]",null,"[Insert comments here]",null,"[Insert comments here]",null,"[Insert comments here]",null,"[Insert comments here]",null,"[Insert comments here]",null,"[Insert comments here]",null,"[Insert comments here]",null,"[Insert comments here]",null,"[Insert comments here]",null,"[Insert comments here]",null,"[Insert comments here]",null,"[Insert comments here]",null,"[Insert comments here]",null,"[Insert comments here]",null,"[Insert comments here]",null,"[Insert comments here]",null,"[Insert comments here]",null,null,null,null,null,"[Insert comments here]"]
[null,null,"Are you likely to be considered an attractive proposition to potential suppliers within this category?",2,"[Insert comments here]",2,"[Insert comments here]",2,"[Insert comments here]",2,"[Insert comments here]",2,"[Insert comments here]",2,"[Insert comments here]",2,"[Insert comments here]",1,"[Insert comments here]",null,"[Insert comments here]",null,"[Insert comments here]",null,"[Insert comments here]",null,"[Insert comments here]",null,"[Insert comments here]",null,"[Insert comments here]",null,"[Insert comments here]",null,"[Insert comments here]",null,"[Insert comments here]",null,"[Insert comments here]",null,"[Insert comments here]",null,"[Insert comments here]",null,"[Insert comments here]",null,"[Insert comments here]",null,"[Insert comments here]",null,"[Insert comments here]",null,"[Insert comments here]",null,"[Insert comments here]",null,"[Insert comments here]",null,"[Insert comments here]",null,"[Insert comments here]",null,"[Insert comments here]",null,"[Insert comments here]",null,"[Insert comments here]",null,"[Insert comments here]",null,"[Insert comments here]",null,"[Insert comments here]",null,"[Insert comments here]",null,"[Insert comments here]",null,"[Insert comments here]",null,"[Insert comments here]",null,"[Insert comments here]",null,null,null,null,null,"[Insert comments here]"]
[null,null,"Total Influence Score:\n(maximum = 7)",{"$f":"IF(D2=\"\",\"\",COUNTIF(OFFSET(D3,1,0,7,1),2))","v":7},null,{"$f":"IF(F2=\"\",\"\",COUNTIF(OFFSET(F3,1,0,7,1),2))","v":7},null,{"$f":"IF(H2=\"\",\"\",COUNTIF(OFFSET(H3,1,0,7,1),2))","v":7},null,{"$f":"IF(J2=\"\",\"\",COUNTIF(OFFSET(J3,1,0,7,1),2))","v":7},null,{"$f":"IF(L2=\"\",\"\",COUNTIF(OFFSET(L3,1,0,7,1),2))","v":7},null,{"$f":"IF(N2=\"\",\"\",COUNTIF(OFFSET(N3,1,0,7,1),2))","v":5},null,{"$f":"IF(P2=\"\",\"\",COUNTIF(OFFSET(P3,1,0,7,1),2))","v":5},null,{"$f":"IF(R2=\"\",\"\",COUNTIF(OFFSET(R3,1,0,7,1),2))","v":2},null,{"$f":"IF(T2=\"\",\"\",COUNTIF(OFFSET(T3,1,0,7,1),2))","v":""},null,{"$f":"IF(V2=\"\",\"\",COUNTIF(OFFSET(V3,1,0,7,1),2))","v":""},null,{"$f":"IF(X2=\"\",\"\",COUNTIF(OFFSET(X3,1,0,7,1),2))","v":""},null,{"$f":"IF(Z2=\"\",\"\",COUNTIF(OFFSET(Z3,1,0,7,1),2))","v":""},null,{"$f":"IF(AB2=\"\",\"\",COUNTIF(OFFSET(AB3,1,0,7,1),2))","v":""},null,{"$f":"IF(AD2=\"\",\"\",COUNTIF(OFFSET(AD3,1,0,7,1),2))","v":""},null,{"$f":"IF(AF2=\"\",\"\",COUNTIF(OFFSET(AF3,1,0,7,1),2))","v":""},null,{"$f":"IF(AH2=\"\",\"\",COUNTIF(OFFSET(AH3,1,0,7,1),2))","v":""},null,{"$f":"IF(AJ2=\"\",\"\",COUNTIF(OFFSET(AJ3,1,0,7,1),2))","v":""},null,{"$f":"IF(AL2=\"\",\"\",COUNTIF(OFFSET(AL3,1,0,7,1),2))","v":""},null,{"$f":"IF(AN2=\"\",\"\",COUNTIF(OFFSET(AN3,1,0,7,1),2))","v":""},null,{"$f":"IF(AP2=\"\",\"\",COUNTIF(OFFSET(AP3,1,0,7,1),2))","v":""},null,{"$f":"IF(AR2=\"\",\"\",COUNTIF(OFFSET(AR3,1,0,7,1),2))","v":""},null,{"$f":"IF(AT2=\"\",\"\",COUNTIF(OFFSET(AT3,1,0,7,1),2))","v":""},null,{"$f":"IF(AV2=\"\",\"\",COUNTIF(OFFSET(AV3,1,0,7,1),2))","v":""},null,{"$f":"IF(AX2=\"\",\"\",COUNTIF(OFFSET(AX3,1,0,7,1),2))","v":""},null,{"$f":"IF(AZ2=\"\",\"\",COUNTIF(OFFSET(AZ3,1,0,7,1),2))","v":""},null,{"$f":"IF(BB2=\"\",\"\",COUNTIF(OFFSET(BB3,1,0,7,1),2))","v":""},null,{"$f":"IF(BD2=\"\",\"\",COUNTIF(OFFSET(BD3,1,0,7,1),2))","v":""},null,{"$f":"IF(BF2=\"\",\"\",COUNTIF(OFFSET(BF3,1,0,7,1),2))","v":""},null,{"$f":"IF(BH2=\"\",\"\",COUNTIF(OFFSET(BH3,1,0,7,1),2))","v":""},null,{"$f":"IF(BJ2=\"\",\"\",COUNTIF(OFFSET(BJ3,1,0,7,1),2))","v":""},null,{"$f":"IF(BL2=\"\",\"\",COUNTIF(OFFSET(BL3,1,0,7,1),2))","v":""},null,{"$f":"IF(BN2=\"\",\"\",COUNTIF(OFFSET(BN3,1,0,7,1),2))","v":""},null,{"$f":"IF(BP2=\"\",\"\",COUNTIF(OFFSET(BP3,1,0,7,1),2))","v":""},null,{"$f":"IF(BR2=\"\",\"\",COUNTIF(OFFSET(BR3,1,0,7,1),2))","v":""},null,{"$f":"IF(BT2=\"\",\"\",COUNTIF(OFFSET(BT3,1,0,7,1),2))","v":""},null,{"$f":"IF(BV2=\"\",\"\",COUNTIF(OFFSET(BV3,1,0,7,1),2))","v":""},null,{"$f":"IF(BX2=\"\",\"\",COUNTIF(OFFSET(BX3,1,0,7,1),2))","v":""},null,{"$f":"IF(BZ2=\"\",\"\",COUNTIF(OFFSET(BZ3,1,0,7,1),2))","v":""},null,{"$f":"IF(CB2=\"\",\"\",COUNTIF(OFFSET(CB3,1,0,7,1),2))","v":""},null,{"$f":"IF(CD2=\"\",\"\",COUNTIF(OFFSET(CD3,1,0,7,1),2))","v":""}]
[]
[null,null,{"$f":"IF(COUNTA(D4:CE10)=7*(40+COUNTA(ProductGroups)),\"\",\"Responses not complete. Check above for missing response(s).\")","v":"Responses not complete. Check above for missing response(s)."}]

{"sheet":"Summary","index":8,"n_rows":43,"n_cols":10,"rows_kept":43,"cut":false,"hidden":false,"merged":[]}
[]
[null,null,"Status Summary - for reference and checking"]
[null,null,"Input Page","Completion Status",null,"Category","Spend","Total RISK Score (/27)","SCOPE Score (/24)","INFLUENCE Score (/7)"]
[null,null,"Issues",{"$f":"IF(AND(IssuesInput!C24=\"\",IssuesInput!E24=\"\"),\"Complete\",IF(OR(LEFT(IssuesInput!C24,6)=\"Please\",LEFT(IssuesInput!E24,6)=\"Please\"),\"Incomplete\",IF(OR(IssuesInput!C24=\"\",IssuesInput!E24=\"\"),\"Incomplete?\",\"Incomplete\")))","v":"Complete"},null,{"$f":"IF(OR(F3=\"\",ProductGroups=\"\"),\"\",ProductGroups)","v":"Mobile Tech"},{"$f":"IF(F4=\"\",\"\",Spend)","v":3735418.35},{"$f":"IF(F4=\"\",\"\",INDEX(TotRiskScore,2*MATCH(ProductGroups,ProductGroups,0)-1))","v":16},{"$f":"IF(F4=\"\",\"\",INDEX(TotScopeScore,2*MATCH(ProductGroups,ProductGroups,0)-1))","v":9},{"$f":"IF(F4=\"\",\"\",INDEX(TotInfluenceScore,2*MATCH(ProductGroups,ProductGroups,0)-1))","v":7}]
[null,null,"Categories",{"$f":"IF(AND(ProductsInput!C45=\"\",COUNTA(ProductGroups)>1),\"Complete\",\"Incomplete\")","v":"Complete"},null,"Servers/Storage",3999469.55,17,5,7]
[null,null,"Spend",{"$f":"IF(Spend!C47=\"\",\"Complete\",\"Incomplete\")","v":"Complete"},null,"Networking Equipment (Large Routers)",622056.26,14,4,7]
[null,null,"Environmental Risks",{"$f":"IF(Risks!B25=\"\",\"Complete\",\"Incomplete\")","v":"Complete"},null,"PCs: Macs/Workstation/Thin Client",2544120.34,17,9,7]
[null,null,"Socio-economic Risks",{"$f":"IF(Risks!B51=\"\",\"Complete\",\"Incomplete\")","v":"Complete"},null,"Printers/MFD's",77968.820000000007,18,5,7]
[null,null,"Reputational Risks",{"$f":"IF(Risks!B59=\"\",\"Complete\",\"Incomplete\")","v":"Complete"},null,"Cages and Racking, Isolators",279356.94,14,8,5]
[null,null,"Scope*",{"$f":"IF(Scope!C51=\"\",\"Complete\",\"Incomplete\")","v":"Complete"},null,"Laboratory Small Appaaratus and Equipment Purchase",5867081.6399999997,13,6,5]
[null,null,"Influence",{"$f":"IF(Influence!C13=\"\",\"Complete\",\"Incomplete\")","v":"Incomplete"},null,"Medical, Surgical, Nursing Supplies & Services Small Apparatus, Equipment and Instruments",2792543.53,21,6,2]
[null,null,"OVERALL STATUS",{"$f":"IF(COUNTIF(D4:D11,\"Incomplete\")=0,\"Complete\",\"Incomplete\")","v":"Incomplete"},null,"","","","",""]
[null,null,null,null,null,"","","","",""]
[null,null,null,null,null,"","","","",""]
[null,null,null,null,null,"","","","",""]
[null,null,null,null,null,"","","","",""]
[null,null,null,null,null,"","","","",""]
[null,null,null,null,null,"","","","",""]
[null,null,null,null,null,"","","","",""]
[null,null,null,null,null,"","","","",""]
[null,null,null,null,null,"","","","",""]
[null,null,null,null,null,"","","","",""]
[null,null,null,null,null,{"$f":"IF(OR(F22=\"\",ProductGroups=\"\"),\"\",ProductGroups)","v":""},"",{"$f":"IF(F23=\"\",\"\",INDEX(TotRiskScore,2*MATCH(ProductGroups,ProductGroups,0)-1))","v":""},"",""]
[null,null,null,null,null,"","","","",""]
[null,null,null,null,null,"","","","",""]
[null,null,null,null,null,"","","","",""]
[null,null,null,null,null,"","","","",""]
[null,null,null,null,null,"","","","",""]
[null,null,null,null,null,"","","","",""]
[null,null,null,null,null,"","","","",""]
[null,null,null,null,null,"","","","",""]
[null,null,null,null,null,"","","","",""]
[null,null,null,null,null,"","","","",""]
[null,null,null,null,null,"","","","",""]
[null,null,null,null,null,"","","","",""]
[null,null,null,null,null,"","","","",""]
[null,null,null,null,null,"","","","",""]
[null,null,null,null,null,"","","","",""]
[null,null,null,null,null,"","","","",""]
[null,null,null,null,null,"","","","",""]
[null,null,null,null,null,"","","","",""]
[null,null,null,null,null,"","","","",""]
[null,null,null,null,null,{"$f":"IF(OR(F22=\"\",ProductGroups=\"\"),\"\",ProductGroups)","v":""},"","","",""]

{"sheet":"Export","index":9,"n_rows":105,"n_cols":89,"rows_kept":105,"cut":false,"hidden":false,"merged":[[1,25,1,26],[1,81,1,82],[1,77,1,78],[1,79,1,80],[94,73,94,74],[1,27,1,28],[1,41,1,42],[1,43,1,44],[1,45,1,46],[1,47,1,48],[1,61,1,62],[1,73,1,74],[1,75,1,76],[1,63,1,64],[1,65,1,66],[1,67,1,68],[1,15,1,16],[1,17,1,18],[1,19,1,20],[1,21,1,22],[1,23,1,24],[1,3,1,4],[1,5,1,6],[1,7,1,8],[1,9,1,10],[1,11,1,12],[94,13,94,14],[1,57,1,58],[1,59,1,60],[1,69,1,70],[1,71,1,72],[1,37,1,38],[1,39,1,40],[1,49,1,50],[1,51,1,52],[1,53,1,54],[1,55,1,56],[1,13,1,14],[1,29,1,30],[1,31,1,32],[1,33,1,34],[1,35,1,36],[94,3,94,4],[94,5,94,6],[94,7,94,8],[94,9,94,10],[94,11,94,12],[94,37,94,38],[94,15,94,16],[94,17,94,18],[94,19,94,20],[94,21,94,22],[94,23,94,24],[94,25,94,26],[94,27,94,28],[94,29,94,30],[94,31,94,32],[94,33,94,34],[94,35,94,36],[94,61,94,62],[94,39,94,40],[94,41,94,42],[94,43,94,44],[94,45,94,46],[94,47,94,48],[94,49,94,50],[94,51,94,52],[94,53,94,54],[94,55,94,56],[94,57,94,58],[94,59,94,60],[94,87,94,88],[94,75,94,76],[94,63,94,64],[94,65,94,66],[94,67,94,68],[94,69,94,70],[94,71,94,72],[94,81,94,82],[94,77,94,78],[94,79,94,80]]}
[]
[null,"Export Summary",null,{"$f":"IF(INDEX(ProductGroups,COLUMN()/2-1)=\"\",\"\",INDEX(ProductGroups,COLUMN()/2-1))","v":"Mobile Tech"},null,{"$f":"IF(INDEX(ProductGroups,COLUMN()/2-1)=\"\",\"\",INDEX(ProductGroups,COLUMN()/2-1))","v":"Servers/Storage"},null,{"$f":"IF(INDEX(ProductGroups,COLUMN()/2-1)=\"\",\"\",INDEX(ProductGroups,COLUMN()/2-1))","v":"Networking Equipment (Large Routers)"},null,{"$f":"IF(INDEX(ProductGroups,COLUMN()/2-1)=\"\",\"\",INDEX(ProductGroups,COLUMN()/2-1))","v":"PCs: Macs/Workstation/Thin Client"},null,{"$f":"IF(INDEX(ProductGroups,COLUMN()/2-1)=\"\",\"\",INDEX(ProductGroups,COLUMN()/2-1))","v":"Printers/MFD's"},null,{"$f":"IF(INDEX(ProductGroups,COLUMN()/2-1)=\"\",\"\",INDEX(ProductGroups,COLUMN()/2-1))","v":"Cages and Racking, Isolators"},null,{"$f":"IF(INDEX(ProductGroups,COLUMN()/2-1)=\"\",\"\",INDEX(ProductGroups,COLUMN()/2-1))","v":"Laboratory Small Appaaratus and Equipment Purchase"},null,{"$f":"IF(INDEX(ProductGroups,COLUMN()/2-1)=\"\",\"\",INDEX(ProductGroups,COLUMN()/2-1))","v":"Medical, Surgical, Nursing Supplies & Services Small Apparatus, Equipment and Instruments"},null,{"$f":"IF(INDEX(ProductGroups,COLUMN()/2-1)=\"\",\"\",INDEX(ProductGroups,COLUMN()/2-1))","v":""},null,{"$f":"IF(INDEX(ProductGroups,COLUMN()/2-1)=\"\",\"\",INDEX(ProductGroups,COLUMN()/2-1))","v":""},null,{"$f":"IF(INDEX(ProductGroups,COLUMN()/2-1)=\"\",\"\",INDEX(ProductGroups,COLUMN()/2-1))","v":""},null,{"$f":"IF(INDEX(ProductGroups,COLUMN()/2-1)=\"\",\"\",INDEX(ProductGroups,COLUMN()/2-1))","v":""},null,{"$f":"IF(INDEX(ProductGroups,COLUMN()/2-1)=\"\",\"\",INDEX(ProductGroups,COLUMN()/2-1))","v":""},null,{"$f":"IF(INDEX(ProductGroups,COLUMN()/2-1)=\"\",\"\",INDEX(ProductGroups,COLUMN()/2-1))","v":""},null,{"$f":"IF(INDEX(ProductGroups,COLUMN()/2-1)=\"\",\"\",INDEX(ProductGroups,COLUMN()/2-1))","v":""},null,{"$f":"IF(INDEX(ProductGroups,COLUMN()/2-1)=\"\",\"\",INDEX(ProductGroups,COLUMN()/2-1))","v":""},null,{"$f":"IF(INDEX(ProductGroups,COLUMN()/2-1)=\"\",\"\",INDEX(ProductGroups,COLUMN()/2-1))","v":""},null,{"$f":"IF(INDEX(ProductGroups,COLUMN()/2-1)=\"\",\"\",INDEX(ProductGroups,COLUMN()/2-1))","v":""},null,{"$f":"IF(INDEX(ProductGroups,COLUMN()/2-1)=\"\",\"\",INDEX(ProductGroups,COLUMN()/2-1))","v":""},null,{"$f":"IF(INDEX(ProductGroups,COLUMN()/2-1)=\"\",\"\",INDEX(ProductGroups,COLUMN()/2-1))","v":""},null,{"$f":"IF(INDEX(ProductGroups,COLUMN()/2-1)=\"\",\"\",INDEX(ProductGroups,COLUMN()/2-1))","v":""},null,{"$f":"IF(INDEX(ProductGroups,COLUMN()/2-1)=\"\",\"\",INDEX(ProductGroups,COLUMN()/2-1))","v":""},null,{"$f":"IF(INDEX(ProductGroups,COLUMN()/2-1)=\"\",\"\",INDEX(ProductGroups,COLUMN()/2-1))","v":""},null,{"$f":"IF(INDEX(ProductGroups,COLUMN()/2-1)=\"\",\"\",INDEX(ProductGroups,COLUMN()/2-1))","v":""},null,{"$f":"IF(INDEX(ProductGroups,COLUMN()/2-1)=\"\",\"\",INDEX(ProductGroups,COLUMN()/2-1))","v":""},null,{"$f":"IF(INDEX(ProductGroups,COLUMN()/2-1)=\"\",\"\",INDEX(ProductGroups,COLUMN()/2-1))","v":""},null,{"$f":"IF(INDEX(ProductGroups,COLUMN()/2-1)=\"\",\"\",INDEX(ProductGroups,COLUMN()/2-1))","v":""},null,{"$f":"IF(INDEX(ProductGroups,COLUMN()/2-1)=\"\",\"\",INDEX(ProductGroups,COLUMN()/2-1))","v":""},null,{"$f":"IF(INDEX(ProductGroups,COLUMN()/2-1)=\"\",\"\",INDEX(ProductGroups,COLUMN()/2-1))","v":""},null,{"$f":"IF(INDEX(ProductGroups,COLUMN()/2-1)=\"\",\"\",INDEX(ProductGroups,COLUMN()/2-1))","v":""},null,{"$f":"IF(INDEX(ProductGroups,COLUMN()/2-1)=\"\",\"\",INDEX(ProductGroups,COLUMN()/2-1))","v":""},null,{"$f":"IF(INDEX(ProductGroups,COLUMN()/2-1)=\"\",\"\",INDEX(ProductGroups,COLUMN()/2-1))","v":""},null,{"$f":"IF(INDEX(ProductGroups,COLUMN()/2-1)=\"\",\"\",INDEX(ProductGroups,COLUMN()/2-1))","v":""},null,{"$f":"IF(INDEX(ProductGroups,COLUMN()/2-1)=\"\",\"\",INDEX(ProductGroups,COLUMN()/2-1))","v":""},null,{"$f":"IF(INDEX(ProductGroups,COLUMN()/2-1)=\"\",\"\",INDEX(ProductGroups,COLUMN()/2-1))","v":""},null,{"$f":"IF(INDEX(ProductGroups,COLUMN()/2-1)=\"\",\"\",INDEX(ProductGroups,COLUMN()/2-1))","v":""},null,{"$f":"IF(INDEX(ProductGroups,COLUMN()/2-1)=\"\",\"\",INDEX(ProductGroups,COLUMN()/2-1))","v":""},null,{"$f":"IF(INDEX(ProductGroups,COLUMN()/2-1)=\"\",\"\",INDEX(ProductGroups,COLUMN()/2-1))","v":""},null,{"$f":"IF(INDEX(ProductGroups,COLUMN()/2-1)=\"\",\"\",INDEX(ProductGroups,COLUMN()/2-1))","v":""},null,{"$f":"IF(INDEX(ProductGroups,COLUMN()/2-1)=\"\",\"\",INDEX(ProductGroups,COLUMN()/2-1))","v":""}]
[4,null,"Reminder of 'Risk' scores \n(0 = Not relevant; 1 = Low relevance; \n2 = Medium; 3 = Critical issue)","RISKS","RISKS - COMMENTS","RISKS","RISKS - COMMENTS","RISKS","RISKS - COMMENTS","RISKS","RISKS - COMMENTS","RISKS","RISKS - COMMENTS","RISKS","RISKS - COMMENTS","RISKS","RISKS - COMMENTS","RISKS","RISKS - COMMENTS","RISKS","RISKS - COMMENTS","RISKS","RISKS - COMMENTS","RISKS","RISKS - COMMENTS","RISKS","RISKS - COMMENTS","RISKS","RISKS - COMMENTS","RISKS","RISKS - COMMENTS","RISKS","RISKS - COMMENTS","RISKS","RISKS - COMMENTS","RISKS","RISKS - COMMENTS","RISKS","RISKS - COMMENTS","RISKS","RISKS - COMMENTS","RISKS","RISKS - COMMENTS","RISKS","RISKS - COMMENTS","RISKS","RISKS - COMMENTS","RISKS","RISKS - COMMENTS","RISKS","RISKS - COMMENTS","RISKS","RISKS - COMMENTS","RISKS","RISKS - COMMENTS","RISKS","RISKS - COMMENTS","RISKS","RISKS - COMMENTS","RISKS","RISKS - COMMENTS","RISKS","RISKS - COMMENTS","RISKS","RISKS - COMMENTS","RISKS","RISKS - COMMENTS","RISKS","RISKS - COMMENTS","RISKS","RISKS - COMMENTS","RISKS","RISKS - COMMENTS","RISKS","RISKS - COMMENTS","RISKS","RISKS - COMMENTS","RISKS","RISKS - COMMENTS","RISKS","RISKS - COMMENTS","RISKS","RISKS - COMMENTS"]
[null,"Environmental - RISKS & OPPS",{"$f":"IF(EnvIssues=\"\",\"\",EnvIssues)","v":"Climate Change"},{"$f":"Risks!D4","v":2},{"$f":"Risks!E4","v":"numbers of devices (Quanity of varyoing types), short lifespan, one component fails device binned."},{"$f":"Risks!F4","v":3},{"$f":"Risks!G4","v":"Hi levels of Electricity consumed in use, including air conditioning, raw materials and manufacturing."},{"$f":"Risks!H4","v":2},{"$f":"Risks!I4","v":"Clusters of routersrequire air conditioning and at this level have high energy use."},{"$f":"Risks!J4","v":3},{"$f":"Risks!K4","v":"Energy used (£200k/annum) extracting, manufacturing and disposal; using is substantially reduced through managed power schemes"},{"$f":"Risks!L4","v":3},{"$f":"Risks!M4","v":"Energy used, High levels of associated consumables. "},{"$f":"Risks!N4","v":3},{"$f":"Risks!O4","v":"Moving towards  individual ventilation of cages, fed by central ventilation, at the moment high energy consumption down to ventilation, duplication, high impact and volume"},{"$f":"Risks!P4","v":3},{"$f":"Risks!Q4","v":"Energy used - due to high numbers, extracting, manufacturing and disposal; "},{"$f":"Risks!R4","v":3},{"$f":"Risks!S4","v":"particularly in manufacturing, and raw materials stage"},{"$f":"Risks!T4","v":0},{"$f":"Risks!U4","v":"[Insert comments here]"},{"$f":"Risks!V4","v":0},{"$f":"Risks!W4","v":"[Insert comments here]"},{"$f":"Risks!X4","v":0},{"$f":"Risks!Y4","v":"[Insert comments here]"},{"$f":"Risks!Z4","v":0},{"$f":"Risks!AA4","v":"[Insert comments here]"},{"$f":"Risks!AB4","v":0},{"$f":"Risks!AC4","v":"[Insert comments here]"},{"$f":"Risks!AD4","v":0},{"$f":"Risks!AE4","v":"[Insert comments here]"},{"$f":"Risks!AF4","v":0},{"$f":"Risks!AG4","v":"[Insert comments here]"},{"$f":"Risks!AH4","v":0},{"$f":"Risks!AI4","v":"[Insert comments here]"},{"$f":"Risks!AJ4","v":0},{"$f":"Risks!AK4","v":"[Insert comments here]"},{"$f":"Risks!AL4","v":0},{"$f":"Risks!AM4","v":"[Insert comments here]"},{"$f":"Risks!AN4","v":0},{"$f":"Risks!AO4","v":"[Insert comments here]"},{"$f":"Risks!AP4","v":0},{"$f":"Risks!AQ4","v":"[Insert comments here]"},{"$f":"Risks!AR4","v":0},{"$f":"Risks!AS4","v":"[Insert comments here]"},{"$f":"Risks!AT4","v":0},{"$f":"Risks!AU4","v":"[Insert comments here]"},{"$f":"Risks!AV4","v":0},{"$f":"Risks!AW4","v":"[Insert comments here]"},{"$f":"Risks!AX4","v":0},{"$f":"Risks!AY4","v":"[Insert comments here]"},{"$f":"Risks!AZ4","v":0},{"$f":"Risks!BA4","v":"[Insert comments here]"},{"$f":"Risks!BB4","v":0},{"$f":"Risks!BC4","v":"[Insert comments here]"},{"$f":"Risks!BD4","v":0},{"$f":"Risks!BE4","v":"[Insert comments here]"},{"$f":"Risks!BF4","v":0},{"$f":"Risks!BG4","v":"[Insert comments here]"},{"$f":"Risks!BH4","v":0},{"$f":"Risks!BI4","v":"[Insert comments here]"},{"$f":"Risks!BJ4","v":0},{"$f":"Risks!BK4","v":"[Insert comments here]"},{"$f":"Risks!BL4","v":0},{"$f":"Risks!BM4","v":"[Insert comments here]"},{"$f":"Risks!BN4","v":0},{"$f":"Risks!BO4","v":"[Insert comments here]"},{"$f":"Risks!BP4","v":0},{"$f":"Risks!BQ4","v":"[Insert comments here]"},{"$f":"Risks!BR4","v":0},{"$f":"Risks!BS4","v":"[Insert comments here]"},{"$f":"Risks!BT4","v":0},{"$f":"Risks!BU4","v":"[Insert comments here]"},{"$f":"Risks!BV4","v":0},{"$f":"Risks!BW4","v":"[Insert comments here]"},{"$f":"Risks!BX4","v":0},{"$f":"Risks!BY4","v":"[Insert comments here]"},{"$f":"Risks!BZ4","v":0},{"$f":"Risks!CA4","v":"[Insert comments here]"},{"$f":"Risks!CB4","v":0},{"$f":"Risks!CC4","v":"[Insert comments here]"},{"$f":"Risks!CD4","v":0},{"$f":"Risks!CE4","v":"[Insert comments here]"},null,null,null,null,{"$f":"Risks!CJ4","v":0},{"$f":"Risks!CK4","v":"[Insert comments here]"}]
[null,"Scroll down to view all scores",{"$f":"IF(EnvIssues=\"\",\"\",EnvIssues)","v":"Materials"},{"$f":"Risks!D5","v":3},{"$f":"Risks!E5","v":"scarce minerals, ethical extraction, working conditions, conflict Minerals, Plastics (Virgin/reuse)"},{"$f":"Risks!F5","v":3},{"$f":"Risks!G5","v":"scarcity, ethical extraction, working conditions, conflict Minerals, Plastics (Virgin/reuse)"},{"$f":"Risks!H5","v":3},{"$f":"Risks!I5","v":"scarcity, ethical extraction, working conditions, conflict Minerals, Plastics (Virgin/reuse)"},{"$f":"Risks!J5","v":3},{"$f":"Risks!K5","v":"scarcity, ethical extraction, working conditions, conflict Minerals, Plastics (Virgin/reuse)"},{"$f":"Risks!L5","v":3},{"$f":"Risks!M5","v":"scarcity, ethical extraction, working conditions, conflict Minerals, Plastics (Virgin/reuse) also in consumables used. (base of inks and toners is not currently known). Virgin/recycle papers."},{"$f":"Risks!N5","v":1},{"$f":"Risks!O5","v":"Stainless steel, steel, polycarbonate, opportunities for recycling,  scarcity, ethical extraction, working conditions, conflict Mineral, more confidence in manufacturers - good practices already in place"},{"$f":"Risks!P5","v":3},{"$f":"Risks!Q5","v":"scarcity, ethical extraction, working conditions, conflict Minerals, Plastics (Virgin/reuse)"},{"$f":"Risks!R5","v":3},{"$f":"Risks!S5","v":"scarcity, ethical extraction, working conditions, conflict Minerals, Plastics (Virgin/reuse)"},{"$f":"Risks!T5","v":0},{"$f":"Risks!U5","v":"[Insert comments here]"},{"$f":"Risks!V5","v":0},{"$f":"Risks!W5","v":"[Insert comments here]"},{"$f":"Risks!X5","v":0},{"$f":"Risks!Y5","v":"[Insert comments here]"},{"$f":"Risks!Z5","v":0},{"$f":"Risks!AA5","v":"[Insert comments here]"},{"$f":"Risks!AB5","v":0},{"$f":"Risks!AC5","v":"[Insert comments here]"},{"$f":"Risks!AD5","v":0},{"$f":"Risks!AE5","v":"[Insert comments here]"},{"$f":"Risks!AF5","v":0},{"$f":"Risks!AG5","v":"[Insert comments here]"},{"$f":"Risks!AH5","v":0},{"$f":"Risks!AI5","v":"[Insert comments here]"},{"$f":"Risks!AJ5","v":0},{"$f":"Risks!AK5","v":"[Insert comments here]"},{"$f":"Risks!AL5","v":0},{"$f":"Risks!AM5","v":"[Insert comments here]"},{"$f":"Risks!AN5","v":0},{"$f":"Risks!AO5","v":"[Insert comments here]"},{"$f":"Risks!AP5","v":0},{"$f":"Risks!AQ5","v":"[Insert comments here]"},{"$f":"Risks!AR5","v":0},{"$f":"Risks!AS5","v":"[Insert comments here]"},{"$f":"Risks!AT5","v":0},{"$f":"Risks!AU5","v":"[Insert comments here]"},{"$f":"Risks!AV5","v":0},{"$f":"Risks!AW5","v":"[Insert comments here]"},{"$f":"Risks!AX5","v":0},{"$f":"Risks!AY5","v":"[Insert comments here]"},{"$f":"Risks!AZ5","v":0},{"$f":"Risks!BA5","v":"[Insert comments here]"},{"$f":"Risks!BB5","v":0},{"$f":"Risks!BC5","v":"[Insert comments here]"},{"$f":"Risks!BD5","v":0},{"$f":"Risks!BE5","v":"[Insert comments here]"},{"$f":"Risks!BF5","v":0},{"$f":"Risks!BG5","v":"[Insert comments here]"},{"$f":"Risks!BH5","v":0},{"$f":"Risks!BI5","v":"[Insert comments here]"},{"$f":"Risks!BJ5","v":0},{"$f":"Risks!BK5","v":"[Insert comments here]"},{"$f":"Risks!BL5","v":0},{"$f":"Risks!BM5","v":"[Insert comments here]"},{"$f":"Risks!BN5","v":0},{"$f":"Risks!BO5","v":"[Insert comments here]"},{"$f":"Risks!BP5","v":0},{"$f":"Risks!BQ5","v":"[Insert comments here]"},{"$f":"Risks!BR5","v":0},{"$f":"Risks!BS5","v":"[Insert comments here]"},{"$f":"Risks!BT5","v":0},{"$f":"Risks!BU5","v":"[Insert comments here]"},{"$f":"Risks!BV5","v":0},{"$f":"Risks!BW5","v":"[Insert comments here]"},{"$f":"Risks!BX5","v":0},{"$f":"Risks!BY5","v":"[Insert comments here]"},{"$f":"Risks!BZ5","v":0},{"$f":"Risks!CA5","v":"[Insert comments here]"},{"$f":"Risks!CB5","v":0},{"$f":"Risks!CC5","v":"[Insert comments here]"},{"$f":"Risks!CD5","v":0},{"$f":"Risks!CE5","v":"[Insert comments here]"},null,null,null,null,{"$f":"Risks!CJ5","v":0},{"$f":"Risks!CK5","v":"[Insert comments here]"}]
[null,null,{"$f":"IF(EnvIssues=\"\",\"\",EnvIssues)","v":"Waste"},{"$f":"Risks!D6","v":3},{"$f":"Risks!E6","v":"large numbers, seen as disposable, high fail rates. Heavily legislated with regard to end of life disposal. Polysterene/packaging."},{"$f":"Risks!F6","v":3},{"$f":"Risks!G6","v":"Complicated component mix, complex reuse/recycling processes required, large quantity of materials"},{"$f":"Risks!H6","v":3},{"$f":"Risks!I6","v":"Complicated component mix, complex reuse/recycling processes required, large quantity of materials"},{"$f":"Risks!J6","v":3},{"$f":"Risks!K6","v":"large numbers, seen as disposable, high fail rates. Heavily legislated with regard to end of life disposal. Polysterene/packaging."},{"$f":"Risks!L6","v":3},{"$f":"Risks!M6","v":"large numbers, seen as disposable, high fail rates. Heavily legislated with regard to end of life disposal. Polysterene/packaging."},{"$f":"Risks!N6","v":1},{"$f":"Risks!O6","v":"opoortunities for recycling, already a lot happening, similar level of legislation to WEEE"},{"$f":"Risks!P6","v":3},{"$f":"Risks!Q6","v":"large numbers,. Heavily legislated with regard to end of life disposal. Polysterene/packaging."},{"$f":"Risks!R6","v":3},{"$f":"Risks!S6","v":"large numbers, coumables, heavily legislated with regard to end of life disposal. Polysterene/packaging."},{"$f":"Risks!T6","v":0},{"$f":"Risks!U6","v":"[Insert comments here]"},{"$f":"Risks!V6","v":0},{"$f":"Risks!W6","v":"[Insert comments here]"},{"$f":"Risks!X6","v":0},{"$f":"Risks!Y6","v":"[Insert comments here]"},{"$f":"Risks!Z6","v":0},{"$f":"Risks!AA6","v":"[Insert comments here]"},{"$f":"Risks!AB6","v":0},{"$f":"Risks!AC6","v":"[Insert comments here]"},{"$f":"Risks!AD6","v":0},{"$f":"Risks!AE6","v":"[Insert comments here]"},{"$f":"Risks!AF6","v":0},{"$f":"Risks!AG6","v":"[Insert comments here]"},{"$f":"Risks!AH6","v":0},{"$f":"Risks!AI6","v":"[Insert comments here]"},{"$f":"Risks!AJ6","v":0},{"$f":"Risks!AK6","v":"[Insert comments here]"},{"$f":"Risks!AL6","v":0},{"$f":"Risks!AM6","v":"[Insert comments here]"},{"$f":"Risks!AN6","v":0},{"$f":"Risks!AO6","v":"[Insert comments here]"},{"$f":"Risks!AP6","v":0},{"$f":"Risks!AQ6","v":"[Insert comments here]"},{"$f":"Risks!AR6","v":0},{"$f":"Risks!AS6","v":"[Insert comments here]"},{"$f":"Risks!AT6","v":0},{"$f":"Risks!AU6","v":"[Insert comments here]"},{"$f":"Risks!AV6","v":0},{"$f":"Risks!AW6","v":"[Insert comments here]"},{"$f":"Risks!AX6","v":0},{"$f":"Risks!AY6","v":"[Insert comments here]"},{"$f":"Risks!AZ6","v":0},{"$f":"Risks!BA6","v":"[Insert comments here]"},{"$f":"Risks!BB6","v":0},{"$f":"Risks!BC6","v":"[Insert comments here]"},{"$f":"Risks!BD6","v":0},{"$f":"Risks!BE6","v":"[Insert comments here]"},{"$f":"Risks!BF6","v":0},{"$f":"Risks!BG6","v":"[Insert comments here]"},{"$f":"Risks!BH6","v":0},{"$f":"Risks!BI6","v":"[Insert comments here]"},{"$f":"Risks!BJ6","v":0},{"$f":"Risks!BK6","v":"[Insert comments here]"},{"$f":"Risks!BL6","v":0},{"$f":"Risks!BM6","v":"[Insert comments here]"},{"$f":"Risks!BN6","v":0},{"$f":"Risks!BO6","v":"[Insert comments here]"},{"$f":"Risks!BP6","v":0},{"$f":"Risks!BQ6","v":"[Insert comments here]"},{"$f":"Risks!BR6","v":0},{"$f":"Risks!BS6","v":"[Insert comments here]"},{"$f":"Risks!BT6","v":0},{"$f":"Risks!BU6","v":"[Insert comments here]"},{"$f":"Risks!BV6","v":0},{"$f":"Risks!BW6","v":"[Insert comments here]"},{"$f":"Risks!BX6","v":0},{"$f":"Risks!BY6","v":"[Insert comments here]"},{"$f":"Risks!BZ6","v":0},{"$f":"Risks!CA6","v":"[Insert comments here]"},{"$f":"Risks!CB6","v":0},{"$f":"Risks!CC6","v":"[Insert comments here]"},{"$f":"Risks!CD6","v":0},{"$f":"Risks!CE6","v":"[Insert comments here]"},null,null,null,null,{"$f":"Risks!CJ6","v":0},{"$f":"Risks!CK6","v":"[Insert comments here]"}]
[null,null,"Hazardous materials",{"$f":"Risks!D7","v":2},{"$f":"Risks!E7","v":"RoHS now standard in product\nExtraction of materials and manufacturing. Chemistry is however utilised in manufacturing process."},{"$f":"Risks!F7","v":2},{"$f":"Risks!G7","v":"RoHS now standard in product\nExtraction of materials and manufacturing. Chemistry is however utilised in manufacturing process."},{"$f":"Risks!H7","v":2},{"$f":"Risks!I7","v":"RoHS now standard in product\nExtraction of materials and manufacturing. Chemistry is however utilised in manufacturing process."},{"$f":"Risks!J7","v":2},{"$f":"Risks!K7","v":"RoHS now standard in product\nExtraction of materials and manufacturing. Chemistry is however utilised in manufacturing process."},{"$f":"Risks!L7","v":2},{"$f":"Risks!M7","v":"RoHS now standard in product\nExtraction of materials and manufacturing. Chemistry is however utilised in manufacturing process."},{"$f":"Risks!N7","v":3},{"$f":"Risks!O7","v":"still contain similar materials as ICT, require heavy duty sterilisation equipment, require COSHH assessments"},{"$f":"Risks!P7","v":2},{"$f":"Risks!Q7","v":"RoHS now standard in product\nExtraction of materials and manufacturing. Chemistry is however utilised in manufacturing process."},{"$f":"Risks!R7","v":3},{"$f":"Risks!S7","v":"RoHS now standard in product\nExtraction of materials and manufacturing. Chemistry is however utilised in manufacturing process. Commodity area directly includes hazardous chemicals"},{"$f":"Risks!T7","v":0},{"$f":"Risks!U7","v":"[Insert comments here]"},{"$f":"Risks!V7","v":0},{"$f":"Risks!W7","v":"[Insert comments here]"},{"$f":"Risks!X7","v":0},{"$f":"Risks!Y7","v":"[Insert comments here]"},{"$f":"Risks!Z7","v":0},{"$f":"Risks!AA7","v":"[Insert comments here]"},{"$f":"Risks!AB7","v":0},{"$f":"Risks!AC7","v":"[Insert comments here]"},{"$f":"Risks!AD7","v":0},{"$f":"Risks!AE7","v":"[Insert comments here]"},{"$f":"Risks!AF7","v":0},{"$f":"Risks!AG7","v":"[Insert comments here]"},{"$f":"Risks!AH7","v":0},{"$f":"Risks!AI7","v":"[Insert comments here]"},{"$f":"Risks!AJ7","v":0},{"$f":"Risks!AK7","v":"[Insert comments here]"},{"$f":"Risks!AL7","v":0},{"$f":"Risks!AM7","v":"[Insert comments here]"},{"$f":"Risks!AN7","v":0},{"$f":"Risks!AO7","v":"[Insert comments here]"},{"$f":"Risks!AP7","v":0},{"$f":"Risks!AQ7","v":"[Insert comments here]"},{"$f":"Risks!AR7","v":0},{"$f":"Risks!AS7","v":"[Insert comments here]"},{"$f":"Risks!AT7","v":0},{"$f":"Risks!AU7","v":"[Insert comments here]"},{"$f":"Risks!AV7","v":0},{"$f":"Risks!AW7","v":"[Insert comments here]"},{"$f":"Risks!AX7","v":0},{"$f":"Risks!AY7","v":"[Insert comments here]"},{"$f":"Risks!AZ7","v":0},{"$f":"Risks!BA7","v":"[Insert comments here]"},{"$f":"Risks!BB7","v":0},{"$f":"Risks!BC7","v":"[Insert comments here]"},{"$f":"Risks!BD7","v":0},{"$f":"Risks!BE7","v":"[Insert comments here]"},{"$f":"Risks!BF7","v":0},{"$f":"Risks!BG7","v":"[Insert comments here]"},{"$f":"Risks!BH7","v":0},{"$f":"Risks!BI7","v":"[Insert comments here]"},{"$f":"Risks!BJ7","v":0},{"$f":"Risks!BK7","v":"[Insert comments here]"},{"$f":"Risks!BL7","v":0},{"$f":"Risks!BM7","v":"[Insert comments here]"},{"$f":"Risks!BN7","v":0},{"$f":"Risks!BO7","v":"[Insert comments here]"},{"$f":"Risks!BP7","v":0},{"$f":"Risks!BQ7","v":"[Insert comments here]"},{"$f":"Risks!BR7","v":0},{"$f":"Risks!BS7","v":"[Insert comments here]"},{"$f":"Risks!BT7","v":0},{"$f":"Risks!BU7","v":"[Insert comments here]"},{"$f":"Risks!BV7","v":0},{"$f":"Risks!BW7","v":"[Insert comments here]"},{"$f":"Risks!BX7","v":0},{"$f":"Risks!BY7","v":"[Insert comments here]"},{"$f":"Risks!BZ7","v":0},{"$f":"Risks!CA7","v":"[Insert comments here]"},{"$f":"Risks!CB7","v":0},{"$f":"Risks!CC7","v":"[Insert comments here]"},{"$f":"Risks!CD7","v":0},{"$f":"Risks!CE7","v":"[Insert comments here]"},null,null,null,null,{"$f":"Risks!CJ7","v":0},{"$f":"Risks!CK7","v":"[Insert comments here]"}]
[null,null,"Biodiversity",{"$f":"Risks!D8","v":1},{"$f":"Risks!E8","v":"impact on mining  sites (International), illegal reclamation sites"},{"$f":"Risks!F8","v":1},{"$f":"Risks!G8","v":"Mineral extraction and energy use (in extraction and manufacturing) has a high impact on environment"},{"$f":"Risks!H8","v":1},{"$f":"Risks!I8","v":"Mineral extraction and energy use (in extraction and manufacturing) has a high impact on environment"},{"$f":"Risks!J8","v":1},{"$f":"Risks!K8","v":"impact on mining  sites (International), illegal reclamation sites"},{"$f":"Risks!L8","v":2},{"$f":"Risks!M8","v":"impact on mining  sites (International), illegal reclamation sites Deforest for virgin paper"},{"$f":"Risks!N8","v":1},{"$f":"Risks!O8","v":"impact on mining  sites (International), illegal reclamation sites"},{"$f":"Risks!P8","v":1},{"$f":"Risks!Q8","v":"impact on mining  sites (International), illegal reclamation sites"},{"$f":"Risks!R8","v":3},{"$f":"Risks!S8","v":"Cotton fields, impact on mining  sites (International), illegal reclamation sites, high direct impact"},{"$f":"Risks!T8","v":0},{"$f":"Risks!U8","v":"[Insert comments here]"},{"$f":"Risks!V8","v":0},{"$f":"Risks!W8","v":"[Insert comments here]"},{"$f":"Risks!X8","v":0},{"$f":"Risks!Y8","v":"[Insert comments here]"},{"$f":"Risks!Z8","v":0},{"$f":"Risks!AA8","v":"[Insert comments here]"},{"$f":"Risks!AB8","v":0},{"$f":"Risks!AC8","v":"[Insert comments here]"},{"$f":"Risks!AD8","v":0},{"$f":"Risks!AE8","v":"[Insert comments here]"},{"$f":"Risks!AF8","v":0},{"$f":"Risks!AG8","v":"[Insert comments here]"},{"$f":"Risks!AH8","v":0},{"$f":"Risks!AI8","v":"[Insert comments here]"},{"$f":"Risks!AJ8","v":0},{"$f":"Risks!AK8","v":"[Insert comments here]"},{"$f":"Risks!AL8","v":0},{"$f":"Risks!AM8","v":"[Insert comments here]"},{"$f":"Risks!AN8","v":0},{"$f":"Risks!AO8","v":"[Insert comments here]"},{"$f":"Risks!AP8","v":0},{"$f":"Risks!AQ8","v":"[Insert comments here]"},{"$f":"Risks!AR8","v":0},{"$f":"Risks!AS8","v":"[Insert comments here]"},{"$f":"Risks!AT8","v":0},{"$f":"Risks!AU8","v":"[Insert comments here]"},{"$f":"Risks!AV8","v":0},{"$f":"Risks!AW8","v":"[Insert comments here]"},{"$f":"Risks!AX8","v":0},{"$f":"Risks!AY8","v":"[Insert comments here]"},{"$f":"Risks!AZ8","v":0},{"$f":"Risks!BA8","v":"[Insert comments here]"},{"$f":"Risks!BB8","v":0},{"$f":"Risks!BC8","v":"[Insert comments here]"},{"$f":"Risks!BD8","v":0},{"$f":"Risks!BE8","v":"[Insert comments here]"},{"$f":"Risks!BF8","v":0},{"$f":"Risks!BG8","v":"[Insert comments here]"},{"$f":"Risks!BH8","v":0},{"$f":"Risks!BI8","v":"[Insert comments here]"},{"$f":"Risks!BJ8","v":0},{"$f":"Risks!BK8","v":"[Insert comments here]"},{"$f":"Risks!BL8","v":0},{"$f":"Risks!BM8","v":"[Insert comments here]"},{"$f":"Risks!BN8","v":0},{"$f":"Risks!BO8","v":"[Insert comments here]"},{"$f":"Risks!BP8","v":0},{"$f":"Risks!BQ8","v":"[Insert comments here]"},{"$f":"Risks!BR8","v":0},{"$f":"Risks!BS8","v":"[Insert comments here]"},{"$f":"Risks!BT8","v":0},{"$f":"Risks!BU8","v":"[Insert comments here]"},{"$f":"Risks!BV8","v":0},{"$f":"Risks!BW8","v":"[Insert comments here]"},{"$f":"Risks!BX8","v":0},{"$f":"Risks!BY8","v":"[Insert comments here]"},{"$f":"Risks!BZ8","v":0},{"$f":"Risks!CA8","v":"[Insert comments here]"},{"$f":"Risks!CB8","v":0},{"$f":"Risks!CC8","v":"[Insert comments here]"},{"$f":"Risks!CD8","v":0},{"$f":"Risks!CE8","v":"[Insert comments here]"},null,null,null,null,{"$f":"Risks!CJ8","v":0},{"$f":"Risks!CK8","v":"[Insert comments here]"}]
[null,null,"Heritage",{"$f":"Risks!D9","v":0},{"$f":"Risks!E9","v":"Protected areas in Scotland are not affected. "},{"$f":"Risks!F9","v":0},{"$f":"Risks!G9","v":"Possibly in refit of protected buildings "},{"$f":"Risks!H9","v":0},{"$f":"Risks!I9","v":"not relevant"},{"$f":"Risks!J9","v":0},{"$f":"Risks!K9","v":"Protected areas in Scotland are not affected. "},{"$f":"Risks!L9","v":0},{"$f":"Risks!M9","v":"Protected areas in Scotland are not affected. "},{"$f":"Risks!N9","v":0},{"$f":"Risks!O9","v":"Protected areas in Scotland are not affected. "},{"$f":"Risks!P9","v":0},{"$f":"Risks!Q9","v":"Protected areas in Scotland are not affected. "},{"$f":"Risks!R9","v":0},{"$f":"Risks!S9","v":"Protected areas in Scotland are not affected. "},{"$f":"Risks!T9","v":0},{"$f":"Risks!U9","v":"[Insert comments here]"},{"$f":"Risks!V9","v":0},{"$f":"Risks!W9","v":"[Insert comments here]"},{"$f":"Risks!X9","v":0},{"$f":"Risks!Y9","v":"[Insert comments here]"},{"$f":"Risks!Z9","v":0},{"$f":"Risks!AA9","v":"[Insert comments here]"},{"$f":"Risks!AB9","v":0},{"$f":"Risks!AC9","v":"[Insert comments here]"},{"$f":"Risks!AD9","v":0},{"$f":"Risks!AE9","v":"[Insert comments here]"},{"$f":"Risks!AF9","v":0},{"$f":"Risks!AG9","v":"[Insert comments here]"},{"$f":"Risks!AH9","v":0},{"$f":"Risks!AI9","v":"[Insert comments here]"},{"$f":"Risks!AJ9","v":0},{"$f":"Risks!AK9","v":"[Insert comments here]"},{"$f":"Risks!AL9","v":0},{"$f":"Risks!AM9","v":"[Insert comments here]"},{"$f":"Risks!AN9","v":0},{"$f":"Risks!AO9","v":"[Insert comments here]"},{"$f":"Risks!AP9","v":0},{"$f":"Risks!AQ9","v":"[Insert comments here]"},{"$f":"Risks!AR9","v":0},{"$f":"Risks!AS9","v":"[Insert comments here]"},{"$f":"Risks!AT9","v":0},{"$f":"Risks!AU9","v":"[Insert comments here]"},{"$f":"Risks!AV9","v":0},{"$f":"Risks!AW9","v":"[Insert comments here]"},{"$f":"Risks!AX9","v":0},{"$f":"Risks!AY9","v":"[Insert comments here]"},{"$f":"Risks!AZ9","v":0},{"$f":"Risks!BA9","v":"[Insert comments here]"},{"$f":"Risks!BB9","v":0},{"$f":"Risks!BC9","v":"[Insert comments here]"},{"$f":"Risks!BD9","v":0},{"$f":"Risks!BE9","v":"[Insert comments here]"},{"$f":"Risks!BF9","v":0},{"$f":"Risks!BG9","v":"[Insert comments here]"},{"$f":"Risks!BH9","v":0},{"$f":"Risks!BI9","v":"[Insert comments here]"},{"$f":"Risks!BJ9","v":0},{"$f":"Risks!BK9","v":"[Insert comments here]"},{"$f":"Risks!BL9","v":0},{"$f":"Risks!BM9","v":"[Insert comments here]"},{"$f":"Risks!BN9","v":0},{"$f":"Risks!BO9","v":"[Insert comments here]"},{"$f":"Risks!BP9","v":0},{"$f":"Risks!BQ9","v":"[Insert comments here]"},{"$f":"Risks!BR9","v":0},{"$f":"Risks!BS9","v":"[Insert comments here]"},{"$f":"Risks!BT9","v":0},{"$f":"Risks!BU9","v":"[Insert comments here]"},{"$f":"Risks!BV9","v":0},{"$f":"Risks!BW9","v":"[Insert comments here]"},{"$f":"Risks!BX9","v":0},{"$f":"Risks!BY9","v":"[Insert comments here]"},{"$f":"Risks!BZ9","v":0},{"$f":"Risks!CA9","v":"[Insert comments here]"},{"$f":"Risks!CB9","v":0},{"$f":"Risks!CC9","v":"[Insert comments here]"},{"$f":"Risks!CD9","v":0},{"$f":"Risks!CE9","v":"[Insert comments here]"},null,null,null,null,{"$f":"Risks!CJ9","v":0},{"$f":"Risks!CK9","v":"[Insert comments here]"}]
[null,null,"Water",{"$f":"Risks!D10","v":1},{"$f":"Risks!E10","v":"mostly in extraction, manufacturing and disposal, but less than in many other industries - comparatively low"},{"$f":"Risks!F10","v":1},{"$f":"Risks!G10","v":"Manufacturing and raw material extraction can have a big impact on water use and pollution"},{"$f":"Risks!H10","v":1},{"$f":"Risks!I10","v":"Manufacturing and raw material extraction can have a big impact on water use and pollution"},{"$f":"Risks!J10","v":1},{"$f":"Risks!K10","v":"mostly in extraction, manufacturing and disposal, but less than in many other industries - comparatively low"},{"$f":"Risks!L10","v":2},{"$f":"Risks!M10","v":"Water consumed re paper, mostly in milling process, manufacturing and disposal."},{"$f":"Risks!N10","v":2},{"$f":"Risks!O10","v":"cleaning and sterilisation, very water intesive"},{"$f":"Risks!P10","v":2},{"$f":"Risks!Q10","v":"mostly in extraction, manufacturing and disposal, but less than in many other industries - comparatively low"},{"$f":"Risks!R10","v":3},{"$f":"Risks!S10","v":"mostly in extraction, manufacturing and disposal, particularly high water consumption in cotton farming"},{"$f":"Risks!T10","v":0},{"$f":"Risks!U10","v":"[Insert comments here]"},{"$f":"Risks!V10","v":0},{"$f":"Risks!W10","v":"[Insert comments here]"},{"$f":"Risks!X10","v":0},{"$f":"Risks!Y10","v":"[Insert comments here]"},{"$f":"Risks!Z10","v":0},{"$f":"Risks!AA10","v":"[Insert comments here]"},{"$f":"Risks!AB10","v":0},{"$f":"Risks!AC10","v":"[Insert comments here]"},{"$f":"Risks!AD10","v":0},{"$f":"Risks!AE10","v":"[Insert comments here]"},{"$f":"Risks!AF10","v":0},{"$f":"Risks!AG10","v":"[Insert comments here]"},{"$f":"Risks!AH10","v":0},{"$f":"Risks!AI10","v":"[Insert comments here]"},{"$f":"Risks!AJ10","v":0},{"$f":"Risks!AK10","v":"[Insert comments here]"},{"$f":"Risks!AL10","v":0},{"$f":"Risks!AM10","v":"[Insert comments here]"},{"$f":"Risks!AN10","v":0},{"$f":"Risks!AO10","v":"[Insert comments here]"},{"$f":"Risks!AP10","v":0},{"$f":"Risks!AQ10","v":"[Insert comments here]"},{"$f":"Risks!AR10","v":0},{"$f":"Risks!AS10","v":"[Insert comments here]"},{"$f":"Risks!AT10","v":0},{"$f":"Risks!AU10","v":"[Insert comments here]"},{"$f":"Risks!AV10","v":0},{"$f":"Risks!AW10","v":"[Insert comments here]"},{"$f":"Risks!AX10","v":0},{"$f":"Risks!AY10","v":"[Insert comments here]"},{"$f":"Risks!AZ10","v":0},{"$f":"Risks!BA10","v":"[Insert comments here]"},{"$f":"Risks!BB10","v":0},{"$f":"Risks!BC10","v":"[Insert comments here]"},{"$f":"Risks!BD10","v":0},{"$f":"Risks!BE10","v":"[Insert comments here]"},{"$f":"Risks!BF10","v":0},{"$f":"Risks!BG10","v":"[Insert comments here]"},{"$f":"Risks!BH10","v":0},{"$f":"Risks!BI10","v":"[Insert comments here]"},{"$f":"Risks!BJ10","v":0},{"$f":"Risks!BK10","v":"[Insert comments here]"},{"$f":"Risks!BL10","v":0},{"$f":"Risks!BM10","v":"[Insert comments here]"},{"$f":"Risks!BN10","v":0},{"$f":"Risks!BO10","v":"[Insert comments here]"},{"$f":"Risks!BP10","v":0},{"$f":"Risks!BQ10","v":"[Insert comments here]"},{"$f":"Risks!BR10","v":0},{"$f":"Risks!BS10","v":"[Insert comments here]"},{"$f":"Risks!BT10","v":0},{"$f":"Risks!BU10","v":"[Insert comments here]"},{"$f":"Risks!BV10","v":0},{"$f":"Risks!BW10","v":"[Insert comments here]"},{"$f":"Risks!BX10","v":0},{"$f":"Risks!BY10","v":"[Insert comments here]"},{"$f":"Risks!BZ10","v":0},{"$f":"Risks!CA10","v":"[Insert comments here]"},{"$f":"Risks!CB10","v":0},{"$f":"Risks!CC10","v":"[Insert comments here]"},{"$f":"Risks!CD10","v":0},{"$f":"Risks!CE10","v":"[Insert comments here]"},null,null,null,null,{"$f":"Risks!CJ10","v":0},{"$f":"Risks!CK10","v":"[Insert comments here]"}]
[null,null,{"$f":"IF(EnvIssues=\"\",\"\",EnvIssues)","v":""},{"$f":"Risks!D11","v":0},{"$f":"Risks!E11","v":"[Insert comments here]"},{"$f":"Risks!F11","v":0},{"$f":"Risks!G11","v":"[Insert comments here]"},{"$f":"Risks!H11","v":0},{"$f":"Risks!I11","v":"[Insert comments here]"},{"$f":"Risks!J11","v":0},{"$f":"Risks!K11","v":"[Insert comments here]"},{"$f":"Risks!L11","v":0},{"$f":"Risks!M11","v":"[Insert comments here]"},{"$f":"Risks!N11","v":0},{"$f":"Risks!O11","v":"[Insert comments here]"},{"$f":"Risks!P11","v":0},{"$f":"Risks!Q11","v":"[Insert comments here]"},{"$f":"Risks!R11","v":0},{"$f":"Risks!S11","v":"[Insert comments here]"},{"$f":"Risks!T11","v":0},{"$f":"Risks!U11","v":"[Insert comments here]"},{"$f":"Risks!V11","v":0},{"$f":"Risks!W11","v":"[Insert comments here]"},{"$f":"Risks!X11","v":0},{"$f":"Risks!Y11","v":"[Insert comments here]"},{"$f":"Risks!Z11","v":0},{"$f":"Risks!AA11","v":"[Insert comments here]"},{"$f":"Risks!AB11","v":0},{"$f":"Risks!AC11","v":"[Insert comments here]"},{"$f":"Risks!AD11","v":0},{"$f":"Risks!AE11","v":"[Insert comments here]"},{"$f":"Risks!AF11","v":0},{"$f":"Risks!AG11","v":"[Insert comments here]"},{"$f":"Risks!AH11","v":0},{"$f":"Risks!AI11","v":"[Insert comments here]"},{"$f":"Risks!AJ11","v":0},{"$f":"Risks!AK11","v":"[Insert comments here]"},{"$f":"Risks!AL11","v":0},{"$f":"Risks!AM11","v":"[Insert comments here]"},{"$f":"Risks!AN11","v":0},{"$f":"Risks!AO11","v":"[Insert comments here]"},{"$f":"Risks!AP11","v":0},{"$f":"Risks!AQ11","v":"[Insert comments here]"},{"$f":"Risks!AR11","v":0},{"$f":"Risks!AS11","v":"[Insert comments here]"},{"$f":"Risks!AT11","v":0},{"$f":"Risks!AU11","v":"[Insert comments here]"},{"$f":"Risks!AV11","v":0},{"$f":"Risks!AW11","v":"[Insert comments here]"},{"$f":"Risks!AX11","v":0},{"$f":"Risks!AY11","v":"[Insert comments here]"},{"$f":"Risks!AZ11","v":0},{"$f":"Risks!BA11","v":"[Insert comments here]"},{"$f":"Risks!BB11","v":0},{"$f":"Risks!BC11","v":"[Insert comments here]"},{"$f":"Risks!BD11","v":0},{"$f":"Risks!BE11","v":"[Insert comments here]"},{"$f":"Risks!BF11","v":0},{"$f":"Risks!BG11","v":"[Insert comments here]"},{"$f":"Risks!BH11","v":0},{"$f":"Risks!BI11","v":"[Insert comments here]"},{"$f":"Risks!BJ11","v":0},{"$f":"Risks!BK11","v":"[Insert comments here]"},{"$f":"Risks!BL11","v":0},{"$f":"Risks!BM11","v":"[Insert comments here]"},{"$f":"Risks!BN11","v":0},{"$f":"Risks!BO11","v":"[Insert comments here]"},{"$f":"Risks!BP11","v":0},{"$f":"Risks!BQ11","v":"[Insert comments here]"},{"$f":"Risks!BR11","v":0},{"$f":"Risks!BS11","v":"[Insert comments here]"},{"$f":"Risks!BT11","v":0},{"$f":"Risks!BU11","v":"[Insert comments here]"},{"$f":"Risks!BV11","v":0},{"$f":"Risks!BW11","v":"[Insert comments here]"},{"$f":"Risks!BX11","v":0},{"$f":"Risks!BY11","v":"[Insert comments here]"},{"$f":"Risks!BZ11","v":0},{"$f":"Risks!CA11","v":"[Insert comments here]"},{"$f":"Risks!CB11","v":0},{"$f":"Risks!CC11","v":"[Insert comments here]"},{"$f":"Risks!CD11","v":0},{"$f":"Risks!CE11","v":"[Insert comments here]"},null,null,null,null,{"$f":"Risks!CJ11","v":0},{"$f":"Risks!CK11","v":"[Insert comments here]"}]
[null,null,"",{"$f":"Risks!D12","v":0},{"$f":"Risks!E12","v":"[Insert comments here]"},{"$f":"Risks!F12","v":0},{"$f":"Risks!G12","v":"[Insert comments here]"},{"$f":"Risks!H12","v":0},{"$f":"Risks!I12","v":"[Insert comments here]"},{"$f":"Risks!J12","v":0},{"$f":"Risks!K12","v":"[Insert comments here]"},{"$f":"Risks!L12","v":0},{"$f":"Risks!M12","v":"[Insert comments here]"},{"$f":"Risks!N12","v":0},{"$f":"Risks!O12","v":"[Insert comments here]"},{"$f":"Risks!P12","v":0},{"$f":"Risks!Q12","v":"[Insert comments here]"},{"$f":"Risks!R12","v":0},{"$f":"Risks!S12","v":"[Insert comments here]"},{"$f":"Risks!T12","v":0},{"$f":"Risks!U12","v":"[Insert comments here]"},{"$f":"Risks!V12","v":0},{"$f":"Risks!W12","v":"[Insert comments here]"},{"$f":"Risks!X12","v":0},{"$f":"Risks!Y12","v":"[Insert comments here]"},{"$f":"Risks!Z12","v":0},{"$f":"Risks!AA12","v":"[Insert comments here]"},{"$f":"Risks!AB12","v":0},{"$f":"Risks!AC12","v":"[Insert comments here]"},{"$f":"Risks!AD12","v":0},{"$f":"Risks!AE12","v":"[Insert comments here]"},{"$f":"Risks!AF12","v":0},{"$f":"Risks!AG12","v":"[Insert comments here]"},{"$f":"Risks!AH12","v":0},{"$f":"Risks!AI12","v":"[Insert comments here]"},{"$f":"Risks!AJ12","v":0},{"$f":"Risks!AK12","v":"[Insert comments here]"},{"$f":"Risks!AL12","v":0},{"$f":"Risks!AM12","v":"[Insert comments here]"},{"$f":"Risks!AN12","v":0},{"$f":"Risks!AO12","v":"[Insert comments here]"},{"$f":"Risks!AP12","v":0},{"$f":"Risks!AQ12","v":"[Insert comments here]"},{"$f":"Risks!AR12","v":0},{"$f":"Risks!AS12","v":"[Insert comments here]"},{"$f":"Risks!AT12","v":0},{"$f":"Risks!AU12","v":"[Insert comments here]"},{"$f":"Risks!AV12","v":0},{"$f":"Risks!AW12","v":"[Insert comments here]"},{"$f":"Risks!AX12","v":0},{"$f":"Risks!AY12","v":"[Insert comments here]"},{"$f":"Risks!AZ12","v":0},{"$f":"Risks!BA12","v":"[Insert comments here]"},{"$f":"Risks!BB12","v":0},{"$f":"Risks!BC12","v":"[Insert comments here]"},{"$f":"Risks!BD12","v":0},{"$f":"Risks!BE12","v":"[Insert comments here]"},{"$f":"Risks!BF12","v":0},{"$f":"Risks!BG12","v":"[Insert comments here]"},{"$f":"Risks!BH12","v":0},{"$f":"Risks!BI12","v":"[Insert comments here]"},{"$f":"Risks!BJ12","v":0},{"$f":"Risks!BK12","v":"[Insert comments here]"},{"$f":"Risks!BL12","v":0},{"$f":"Risks!BM12","v":"[Insert comments here]"},{"$f":"Risks!BN12","v":0},{"$f":"Risks!BO12","v":"[Insert comments here]"},{"$f":"Risks!BP12","v":0},{"$f":"Risks!BQ12","v":"[Insert comments here]"},{"$f":"Risks!BR12","v":0},{"$f":"Risks!BS12","v":"[Insert comments here]"},{"$f":"Risks!BT12","v":0},{"$f":"Risks!BU12","v":"[Insert comments here]"},{"$f":"Risks!BV12","v":0},{"$f":"Risks!BW12","v":"[Insert comments here]"},{"$f":"Risks!BX12","v":0},{"$f":"Risks!BY12","v":"[Insert comments here]"},{"$f":"Risks!BZ12","v":0},{"$f":"Risks!CA12","v":"[Insert comments here]"},{"$f":"Risks!CB12","v":0},{"$f":"Risks!CC12","v":"[Insert comments here]"},{"$f":"Risks!CD12","v":0},{"$f":"Risks!CE12","v":"[Insert comments here]"},null,null,null,null,{"$f":"Risks!CJ12","v":0},{"$f":"Risks!CK12","v":"[Insert comments here]"}]
[null,null,"",{"$f":"Risks!D13","v":0},{"$f":"Risks!E13","v":"[Insert comments here]"},{"$f":"Risks!F13","v":0},{"$f":"Risks!G13","v":"[Insert comments here]"},{"$f":"Risks!H13","v":0},{"$f":"Risks!I13","v":"[Insert comments here]"},{"$f":"Risks!J13","v":0},{"$f":"Risks!K13","v":"[Insert comments here]"},{"$f":"Risks!L13","v":0},{"$f":"Risks!M13","v":"[Insert comments here]"},{"$f":"Risks!N13","v":0},{"$f":"Risks!O13","v":"[Insert comments here]"},{"$f":"Risks!P13","v":0},{"$f":"Risks!Q13","v":"[Insert comments here]"},{"$f":"Risks!R13","v":0},{"$f":"Risks!S13","v":"[Insert comments here]"},{"$f":"Risks!T13","v":0},{"$f":"Risks!U13","v":"[Insert comments here]"},{"$f":"Risks!V13","v":0},{"$f":"Risks!W13","v":"[Insert comments here]"},{"$f":"Risks!X13","v":0},{"$f":"Risks!Y13","v":"[Insert comments here]"},{"$f":"Risks!Z13","v":0},{"$f":"Risks!AA13","v":"[Insert comments here]"},{"$f":"Risks!AB13","v":0},{"$f":"Risks!AC13","v":"[Insert comments here]"},{"$f":"Risks!AD13","v":0},{"$f":"Risks!AE13","v":"[Insert comments here]"},{"$f":"Risks!AF13","v":0},{"$f":"Risks!AG13","v":"[Insert comments here]"},{"$f":"Risks!AH13","v":0},{"$f":"Risks!AI13","v":"[Insert comments here]"},{"$f":"Risks!AJ13","v":0},{"$f":"Risks!AK13","v":"[Insert comments here]"},{"$f":"Risks!AL13","v":0},{"$f":"Risks!AM13","v":"[Insert comments here]"},{"$f":"Risks!AN13","v":0},{"$f":"Risks!AO13","v":"[Insert comments here]"},{"$f":"Risks!AP13","v":0},{"$f":"Risks!AQ13","v":"[Insert comments here]"},{"$f":"Risks!AR13","v":0},{"$f":"Risks!AS13","v":"[Insert comments here]"},{"$f":"Risks!AT13","v":0},{"$f":"Risks!AU13","v":"[Insert comments here]"},{"$f":"Risks!AV13","v":0},{"$f":"Risks!AW13","v":"[Insert comments here]"},{"$f":"Risks!AX13","v":0},{"$f":"Risks!AY13","v":"[Insert comments here]"},{"$f":"Risks!AZ13","v":0},{"$f":"Risks!BA13","v":"[Insert comments here]"},{"$f":"Risks!BB13","v":0},{"$f":"Risks!BC13","v":"[Insert comments here]"},{"$f":"Risks!BD13","v":0},{"$f":"Risks!BE13","v":"[Insert comments here]"},{"$f":"Risks!BF13","v":0},{"$f":"Risks!BG13","v":"[Insert comments here]"},{"$f":"Risks!BH13","v":0},{"$f":"Risks!BI13","v":"[Insert comments here]"},{"$f":"Risks!BJ13","v":0},{"$f":"Risks!BK13","v":"[Insert comments here]"},{"$f":"Risks!BL13","v":0},{"$f":"Risks!BM13","v":"[Insert comments here]"},{"$f":"Risks!BN13","v":0},{"$f":"Risks!BO13","v":"[Insert comments here]"},{"$f":"Risks!BP13","v":0},{"$f":"Risks!BQ13","v":"[Insert comments here]"},{"$f":"Risks!BR13","v":0},{"$f":"Risks!BS13","v":"[Insert comments here]"},{"$f":"Risks!BT13","v":0},{"$f":"Risks!BU13","v":"[Insert comments here]"},{"$f":"Risks!BV13","v":0},{"$f":"Risks!BW13","v":"[Insert comments here]"},{"$f":"Risks!BX13","v":0},{"$f":"Risks!BY13","v":"[Insert comments here]"},{"$f":"Risks!BZ13","v":0},{"$f":"Risks!CA13","v":"[Insert comments here]"},{"$f":"Risks!CB13","v":0},{"$f":"Risks!CC13","v":"[Insert comments here]"},{"$f":"Risks!CD13","v":0},{"$f":"Risks!CE13","v":"[Insert comments here]"},null,null,null,null,{"$f":"Risks!CJ13","v":0},{"$f":"Risks!CK13","v":"[Insert comments here]"}]
[null,null,"",{"$f":"Risks!D14","v":0},{"$f":"Risks!E14","v":"[Insert comments here]"},{"$f":"Risks!F14","v":0},{"$f":"Risks!G14","v":"[Insert comments here]"},{"$f":"Risks!H14","v":0},{"$f":"Risks!I14","v":"[Insert comments here]"},{"$f":"Risks!J14","v":0},{"$f":"Risks!K14","v":"[Insert comments here]"},{"$f":"Risks!L14","v":0},{"$f":"Risks!M14","v":"[Insert comments here]"},{"$f":"Risks!N14","v":0},{"$f":"Risks!O14","v":"[Insert comments here]"},{"$f":"Risks!P14","v":0},{"$f":"Risks!Q14","v":"[Insert comments here]"},{"$f":"Risks!R14","v":0},{"$f":"Risks!S14","v":"[Insert comments here]"},{"$f":"Risks!T14","v":0},{"$f":"Risks!U14","v":"[Insert comments here]"},{"$f":"Risks!V14","v":0},{"$f":"Risks!W14","v":"[Insert comments here]"},{"$f":"Risks!X14","v":0},{"$f":"Risks!Y14","v":"[Insert comments here]"},{"$f":"Risks!Z14","v":0},{"$f":"Risks!AA14","v":"[Insert comments here]"},{"$f":"Risks!AB14","v":0},{"$f":"Risks!AC14","v":"[Insert comments here]"},{"$f":"Risks!AD14","v":0},{"$f":"Risks!AE14","v":"[Insert comments here]"},{"$f":"Risks!AF14","v":0},{"$f":"Risks!AG14","v":"[Insert comments here]"},{"$f":"Risks!AH14","v":0},{"$f":"Risks!AI14","v":"[Insert comments here]"},{"$f":"Risks!AJ14","v":0},{"$f":"Risks!AK14","v":"[Insert comments here]"},{"$f":"Risks!AL14","v":0},{"$f":"Risks!AM14","v":"[Insert comments here]"},{"$f":"Risks!AN14","v":0},{"$f":"Risks!AO14","v":"[Insert comments here]"},{"$f":"Risks!AP14","v":0},{"$f":"Risks!AQ14","v":"[Insert comments here]"},{"$f":"Risks!AR14","v":0},{"$f":"Risks!AS14","v":"[Insert comments here]"},{"$f":"Risks!AT14","v":0},{"$f":"Risks!AU14","v":"[Insert comments here]"},{"$f":"Risks!AV14","v":0},{"$f":"Risks!AW14","v":"[Insert comments here]"},{"$f":"Risks!AX14","v":0},{"$f":"Risks!AY14","v":"[Insert comments here]"},{"$f":"Risks!AZ14","v":0},{"$f":"Risks!BA14","v":"[Insert comments here]"},{"$f":"Risks!BB14","v":0},{"$f":"Risks!BC14","v":"[Insert comments here]"},{"$f":"Risks!BD14","v":0},{"$f":"Risks!BE14","v":"[Insert comments here]"},{"$f":"Risks!BF14","v":0},{"$f":"Risks!BG14","v":"[Insert comments here]"},{"$f":"Risks!BH14","v":0},{"$f":"Risks!BI14","v":"[Insert comments here]"},{"$f":"Risks!BJ14","v":0},{"$f":"Risks!BK14","v":"[Insert comments here]"},{"$f":"Risks!BL14","v":0},{"$f":"Risks!BM14","v":"[Insert comments here]"},{"$f":"Risks!BN14","v":0},{"$f":"Risks!BO14","v":"[Insert comments here]"},{"$f":"Risks!BP14","v":0},{"$f":"Risks!BQ14","v":"[Insert comments here]"},{"$f":"Risks!BR14","v":0},{"$f":"Risks!BS14","v":"[Insert comments here]"},{"$f":"Risks!BT14","v":0},{"$f":"Risks!BU14","v":"[Insert comments here]"},{"$f":"Risks!BV14","v":0},{"$f":"Risks!BW14","v":"[Insert comments here]"},{"$f":"Risks!BX14","v":0},{"$f":"Risks!BY14","v":"[Insert comments here]"},{"$f":"Risks!BZ14","v":0},{"$f":"Risks!CA14","v":"[Insert comments here]"},{"$f":"Risks!CB14","v":0},{"$f":"Risks!CC14","v":"[Insert comments here]"},{"$f":"Risks!CD14","v":0},{"$f":"Risks!CE14","v":"[Insert comments here]"},null,null,null,null,{"$f":"Risks!CJ14","v":0},{"$f":"Risks!CK14","v":"[Insert comments here]"}]
[null,null,"",{"$f":"Risks!D15","v":0},{"$f":"Risks!E15","v":"[Insert comments here]"},{"$f":"Risks!F15","v":0},{"$f":"Risks!G15","v":"[Insert comments here]"},{"$f":"Risks!H15","v":0},{"$f":"Risks!I15","v":"[Insert comments here]"},{"$f":"Risks!J15","v":0},{"$f":"Risks!K15","v":"[Insert comments here]"},{"$f":"Risks!L15","v":0},{"$f":"Risks!M15","v":"[Insert comments here]"},{"$f":"Risks!N15","v":0},{"$f":"Risks!O15","v":"[Insert comments here]"},{"$f":"Risks!P15","v":0},{"$f":"Risks!Q15","v":"[Insert comments here]"},{"$f":"Risks!R15","v":0},{"$f":"Risks!S15","v":"[Insert comments here]"},{"$f":"Risks!T15","v":0},{"$f":"Risks!U15","v":"[Insert comments here]"},{"$f":"Risks!V15","v":0},{"$f":"Risks!W15","v":"[Insert comments here]"},{"$f":"Risks!X15","v":0},{"$f":"Risks!Y15","v":"[Insert comments here]"},{"$f":"Risks!Z15","v":0},{"$f":"Risks!AA15","v":"[Insert comments here]"},{"$f":"Risks!AB15","v":0},{"$f":"Risks!AC15","v":"[Insert comments here]"},{"$f":"Risks!AD15","v":0},{"$f":"Risks!AE15","v":"[Insert comments here]"},{"$f":"Risks!AF15","v":0},{"$f":"Risks!AG15","v":"[Insert comments here]"},{"$f":"Risks!AH15","v":0},{"$f":"Risks!AI15","v":"[Insert comments here]"},{"$f":"Risks!AJ15","v":0},{"$f":"Risks!AK15","v":"[Insert comments here]"},{"$f":"Risks!AL15","v":0},{"$f":"Risks!AM15","v":"[Insert comments here]"},{"$f":"Risks!AN15","v":0},{"$f":"Risks!AO15","v":"[Insert comments here]"},{"$f":"Risks!AP15","v":0},{"$f":"Risks!AQ15","v":"[Insert comments here]"},{"$f":"Risks!AR15","v":0},{"$f":"Risks!AS15","v":"[Insert comments here]"},{"$f":"Risks!AT15","v":0},{"$f":"Risks!AU15","v":"[Insert comments here]"},{"$f":"Risks!AV15","v":0},{"$f":"Risks!AW15","v":"[Insert comments here]"},{"$f":"Risks!AX15","v":0},{"$f":"Risks!AY15","v":"[Insert comments here]"},{"$f":"Risks!AZ15","v":0},{"$f":"Risks!BA15","v":"[Insert comments here]"},{"$f":"Risks!BB15","v":0},{"$f":"Risks!BC15","v":"[Insert comments here]"},{"$f":"Risks!BD15","v":0},{"$f":"Risks!BE15","v":"[Insert comments here]"},{"$f":"Risks!BF15","v":0},{"$f":"Risks!BG15","v":"[Insert comments here]"},{"$f":"Risks!BH15","v":0},{"$f":"Risks!BI15","v":"[Insert comments here]"},{"$f":"Risks!BJ15","v":0},{"$f":"Risks!BK15","v":"[Insert comments here]"},{"$f":"Risks!BL15","v":0},{"$f":"Risks!BM15","v":"[Insert comments here]"},{"$f":"Risks!BN15","v":0},{"$f":"Risks!BO15","v":"[Insert comments here]"},{"$f":"Risks!BP15","v":0},{"$f":"Risks!BQ15","v":"[Insert comments here]"},{"$f":"Risks!BR15","v":0},{"$f":"Risks!BS15","v":"[Insert comments here]"},{"$f":"Risks!BT15","v":0},{"$f":"Risks!BU15","v":"[Insert comments here]"},{"$f":"Risks!BV15","v":0},{"$f":"Risks!BW15","v":"[Insert comments here]"},{"$f":"Risks!BX15","v":0},{"$f":"Risks!BY15","v":"[Insert comments here]"},{"$f":"Risks!BZ15","v":0},{"$f":"Risks!CA15","v":"[Insert comments here]"},{"$f":"Risks!CB15","v":0},{"$f":"Risks!CC15","v":"[Insert comments here]"},{"$f":"Risks!CD15","v":0},{"$f":"Risks!CE15","v":"[Insert comments here]"},null,null,null,null,{"$f":"Risks!CJ15","v":0},{"$f":"Risks!CK15","v":"[Insert comments here]"}]
[null,null,"",{"$f":"Risks!D16","v":0},{"$f":"Risks!E16","v":"[Insert comments here]"},{"$f":"Risks!F16","v":0},{"$f":"Risks!G16","v":"[Insert comments here]"},{"$f":"Risks!H16","v":0},{"$f":"Risks!I16","v":"[Insert comments here]"},{"$f":"Risks!J16","v":0},{"$f":"Risks!K16","v":"[Insert comments here]"},{"$f":"Risks!L16","v":0},{"$f":"Risks!M16","v":"[Insert comments here]"},{"$f":"Risks!N16","v":0},{"$f":"Risks!O16","v":"[Insert comments here]"},{"$f":"Risks!P16","v":0},{"$f":"Risks!Q16","v":"[Insert comments here]"},{"$f":"Risks!R16","v":0},{"$f":"Risks!S16","v":"[Insert comments here]"},{"$f":"Risks!T16","v":0},{"$f":"Risks!U16","v":"[Insert comments here]"},{"$f":"Risks!V16","v":0},{"$f":"Risks!W16","v":"[Insert comments here]"},{"$f":"Risks!X16","v":0},{"$f":"Risks!Y16","v":"[Insert comments here]"},{"$f":"Risks!Z16","v":0},{"$f":"Risks!AA16","v":"[Insert comments here]"},{"$f":"Risks!AB16","v":0},{"$f":"Risks!AC16","v":"[Insert comments here]"},{"$f":"Risks!AD16","v":0},{"$f":"Risks!AE16","v":"[Insert comments here]"},{"$f":"Risks!AF16","v":0},{"$f":"Risks!AG16","v":"[Insert comments here]"},{"$f":"Risks!AH16","v":0},{"$f":"Risks!AI16","v":"[Insert comments here]"},{"$f":"Risks!AJ16","v":0},{"$f":"Risks!AK16","v":"[Insert comments here]"},{"$f":"Risks!AL16","v":0},{"$f":"Risks!AM16","v":"[Insert comments here]"},{"$f":"Risks!AN16","v":0},{"$f":"Risks!AO16","v":"[Insert comments here]"},{"$f":"Risks!AP16","v":0},{"$f":"Risks!AQ16","v":"[Insert comments here]"},{"$f":"Risks!AR16","v":0},{"$f":"Risks!AS16","v":"[Insert comments here]"},{"$f":"Risks!AT16","v":0},{"$f":"Risks!AU16","v":"[Insert comments here]"},{"$f":"Risks!AV16","v":0},{"$f":"Risks!AW16","v":"[Insert comments here]"},{"$f":"Risks!AX16","v":0},{"$f":"Risks!AY16","v":"[Insert comments here]"},{"$f":"Risks!AZ16","v":0},{"$f":"Risks!BA16","v":"[Insert comments here]"},{"$f":"Risks!BB16","v":0},{"$f":"Risks!BC16","v":"[Insert comments here]"},{"$f":"Risks!BD16","v":0},{"$f":"Risks!BE16","v":"[Insert comments here]"},{"$f":"Risks!BF16","v":0},{"$f":"Risks!BG16","v":"[Insert comments here]"},{"$f":"Risks!BH16","v":0},{"$f":"Risks!BI16","v":"[Insert comments here]"},{"$f":"Risks!BJ16","v":0},{"$f":"Risks!BK16","v":"[Insert comments here]"},{"$f":"Risks!BL16","v":0},{"$f":"Risks!BM16","v":"[Insert comments here]"},{"$f":"Risks!BN16","v":0},{"$f":"Risks!BO16","v":"[Insert comments here]"},{"$f":"Risks!BP16","v":0},{"$f":"Risks!BQ16","v":"[Insert comments here]"},{"$f":"Risks!BR16","v":0},{"$f":"Risks!BS16","v":"[Insert comments here]"},{"$f":"Risks!BT16","v":0},{"$f":"Risks!BU16","v":"[Insert comments here]"},{"$f":"Risks!BV16","v":0},{"$f":"Risks!BW16","v":"[Insert comments here]"},{"$f":"Risks!BX16","v":0},{"$f":"Risks!BY16","v":"[Insert comments here]"},{"$f":"Risks!BZ16","v":0},{"$f":"Risks!CA16","v":"[Insert comments here]"},{"$f":"Risks!CB16","v":0},{"$f":"Risks!CC16","v":"[Insert comments here]"},{"$f":"Risks!CD16","v":0},{"$f":"Risks!CE16","v":"[Insert comments here]"},null,null,null,null,{"$f":"Risks!CJ16","v":0},{"$f":"Risks!CK16","v":"[Insert comments here]"}]
[null,null,"",{"$f":"Risks!D17","v":0},{"$f":"Risks!E17","v":"[Insert comments here]"},{"$f":"Risks!F17","v":0},{"$f":"Risks!G17","v":"[Insert comments here]"},{"$f":"Risks!H17","v":0},{"$f":"Risks!I17","v":"[Insert comments here]"},{"$f":"Risks!J17","v":0},{"$f":"Risks!K17","v":"[Insert comments here]"},{"$f":"Risks!L17","v":0},{"$f":"Risks!M17","v":"[Insert comments here]"},{"$f":"Risks!N17","v":0},{"$f":"Risks!O17","v":"[Insert comments here]"},{"$f":"Risks!P17","v":0},{"$f":"Risks!Q17","v":"[Insert comments here]"},{"$f":"Risks!R17","v":0},{"$f":"Risks!S17","v":"[Insert comments here]"},{"$f":"Risks!T17","v":0},{"$f":"Risks!U17","v":"[Insert comments here]"},{"$f":"Risks!V17","v":0},{"$f":"Risks!W17","v":"[Insert comments here]"},{"$f":"Risks!X17","v":0},{"$f":"Risks!Y17","v":"[Insert comments here]"},{"$f":"Risks!Z17","v":0},{"$f":"Risks!AA17","v":"[Insert comments here]"},{"$f":"Risks!AB17","v":0},{"$f":"Risks!AC17","v":"[Insert comments here]"},{"$f":"Risks!AD17","v":0},{"$f":"Risks!AE17","v":"[Insert comments here]"},{"$f":"Risks!AF17","v":0},{"$f":"Risks!AG17","v":"[Insert comments here]"},{"$f":"Risks!AH17","v":0},{"$f":"Risks!AI17","v":"[Insert comments here]"},{"$f":"Risks!AJ17","v":0},{"$f":"Risks!AK17","v":"[Insert comments here]"},{"$f":"Risks!AL17","v":0},{"$f":"Risks!AM17","v":"[Insert comments here]"},{"$f":"Risks!AN17","v":0},{"$f":"Risks!AO17","v":"[Insert comments here]"},{"$f":"Risks!AP17","v":0},{"$f":"Risks!AQ17","v":"[Insert comments here]"},{"$f":"Risks!AR17","v":0},{"$f":"Risks!AS17","v":"[Insert comments here]"},{"$f":"Risks!AT17","v":0},{"$f":"Risks!AU17","v":"[Insert comments here]"},{"$f":"Risks!AV17","v":0},{"$f":"Risks!AW17","v":"[Insert comments here]"},{"$f":"Risks!AX17","v":0},{"$f":"Risks!AY17","v":"[Insert comments here]"},{"$f":"Risks!AZ17","v":0},{"$f":"Risks!BA17","v":"[Insert comments here]"},{"$f":"Risks!BB17","v":0},{"$f":"Risks!BC17","v":"[Insert comments here]"},{"$f":"Risks!BD17","v":0},{"$f":"Risks!BE17","v":"[Insert comments here]"},{"$f":"Risks!BF17","v":0},{"$f":"Risks!BG17","v":"[Insert comments here]"},{"$f":"Risks!BH17","v":0},{"$f":"Risks!BI17","v":"[Insert comments here]"},{"$f":"Risks!BJ17","v":0},{"$f":"Risks!BK17","v":"[Insert comments here]"},{"$f":"Risks!BL17","v":0},{"$f":"Risks!BM17","v":"[Insert comments here]"},{"$f":"Risks!BN17","v":0},{"$f":"Risks!BO17","v":"[Insert comments here]"},{"$f":"Risks!BP17","v":0},{"$f":"Risks!BQ17","v":"[Insert comments here]"},{"$f":"Risks!BR17","v":0},{"$f":"Risks!BS17","v":"[Insert comments here]"},{"$f":"Risks!BT17","v":0},{"$f":"Risks!BU17","v":"[Insert comments here]"},{"$f":"Risks!BV17","v":0},{"$f":"Risks!BW17","v":"[Insert comments here]"},{"$f":"Risks!BX17","v":0},{"$f":"Risks!BY17","v":"[Insert comments here]"},{"$f":"Risks!BZ17","v":0},{"$f":"Risks!CA17","v":"[Insert comments here]"},{"$f":"Risks!CB17","v":0},{"$f":"Risks!CC17","v":"[Insert comments here]"},{"$f":"Risks!CD17","v":0},{"$f":"Risks!CE17","v":"[Insert comments here]"},null,null,null,null,{"$f":"Risks!CJ17","v":0},{"$f":"Risks!CK17","v":"[Insert comments here]"}]
[null,null,"",{"$f":"Risks!D18","v":0},{"$f":"Risks!E18","v":"[Insert comments here]"},{"$f":"Risks!F18","v":0},{"$f":"Risks!G18","v":"[Insert comments here]"},{"$f":"Risks!H18","v":0},{"$f":"Risks!I18","v":"[Insert comments here]"},{"$f":"Risks!J18","v":0},{"$f":"Risks!K18","v":"[Insert comments here]"},{"$f":"Risks!L18","v":0},{"$f":"Risks!M18","v":"[Insert comments here]"},{"$f":"Risks!N18","v":0},{"$f":"Risks!O18","v":"[Insert comments here]"},{"$f":"Risks!P18","v":0},{"$f":"Risks!Q18","v":"[Insert comments here]"},{"$f":"Risks!R18","v":0},{"$f":"Risks!S18","v":"[Insert comments here]"},{"$f":"Risks!T18","v":0},{"$f":"Risks!U18","v":"[Insert comments here]"},{"$f":"Risks!V18","v":0},{"$f":"Risks!W18","v":"[Insert comments here]"},{"$f":"Risks!X18","v":0},{"$f":"Risks!Y18","v":"[Insert comments here]"},{"$f":"Risks!Z18","v":0},{"$f":"Risks!AA18","v":"[Insert comments here]"},{"$f":"Risks!AB18","v":0},{"$f":"Risks!AC18","v":"[Insert comments here]"},{"$f":"Risks!AD18","v":0},{"$f":"Risks!AE18","v":"[Insert comments here]"},{"$f":"Risks!AF18","v":0},{"$f":"Risks!AG18","v":"[Insert comments here]"},{"$f":"Risks!AH18","v":0},{"$f":"Risks!AI18","v":"[Insert comments here]"},{"$f":"Risks!AJ18","v":0},{"$f":"Risks!AK18","v":"[Insert comments here]"},{"$f":"Risks!AL18","v":0},{"$f":"Risks!AM18","v":"[Insert comments here]"},{"$f":"Risks!AN18","v":0},{"$f":"Risks!AO18","v":"[Insert comments here]"},{"$f":"Risks!AP18","v":0},{"$f":"Risks!AQ18","v":"[Insert comments here]"},{"$f":"Risks!AR18","v":0},{"$f":"Risks!AS18","v":"[Insert comments here]"},{"$f":"Risks!AT18","v":0},{"$f":"Risks!AU18","v":"[Insert comments here]"},{"$f":"Risks!AV18","v":0},{"$f":"Risks!AW18","v":"[Insert comments here]"},{"$f":"Risks!AX18","v":0},{"$f":"Risks!AY18","v":"[Insert comments here]"},{"$f":"Risks!AZ18","v":0},{"$f":"Risks!BA18","v":"[Insert comments here]"},{"$f":"Risks!BB18","v":0},{"$f":"Risks!BC18","v":"[Insert comments here]"},{"$f":"Risks!BD18","v":0},{"$f":"Risks!BE18","v":"[Insert comments here]"},{"$f":"Risks!BF18","v":0},{"$f":"Risks!BG18","v":"[Insert comments here]"},{"$f":"Risks!BH18","v":0},{"$f":"Risks!BI18","v":"[Insert comments here]"},{"$f":"Risks!BJ18","v":0},{"$f":"Risks!BK18","v":"[Insert comments here]"},{"$f":"Risks!BL18","v":0},{"$f":"Risks!BM18","v":"[Insert comments here]"},{"$f":"Risks!BN18","v":0},{"$f":"Risks!BO18","v":"[Insert comments here]"},{"$f":"Risks!BP18","v":0},{"$f":"Risks!BQ18","v":"[Insert comments here]"},{"$f":"Risks!BR18","v":0},{"$f":"Risks!BS18","v":"[Insert comments here]"},{"$f":"Risks!BT18","v":0},{"$f":"Risks!BU18","v":"[Insert comments here]"},{"$f":"Risks!BV18","v":0},{"$f":"Risks!BW18","v":"[Insert comments here]"},{"$f":"Risks!BX18","v":0},{"$f":"Risks!BY18","v":"[Insert comments here]"},{"$f":"Risks!BZ18","v":0},{"$f":"Risks!CA18","v":"[Insert comments here]"},{"$f":"Risks!CB18","v":0},{"$f":"Risks!CC18","v":"[Insert comments here]"},{"$f":"Risks!CD18","v":0},{"$f":"Risks!CE18","v":"[Insert comments here]"},null,null,null,null,{"$f":"Risks!CJ18","v":0},{"$f":"Risks!CK18","v":"[Insert comments here]"}]
[null,null,"",{"$f":"Risks!D19","v":0},{"$f":"Risks!E19","v":"[Insert comments here]"},{"$f":"Risks!F19","v":0},{"$f":"Risks!G19","v":"[Insert comments here]"},{"$f":"Risks!H19","v":0},{"$f":"Risks!I19","v":"[Insert comments here]"},{"$f":"Risks!J19","v":0},{"$f":"Risks!K19","v":"[Insert comments here]"},{"$f":"Risks!L19","v":0},{"$f":"Risks!M19","v":"[Insert comments here]"},{"$f":"Risks!N19","v":0},{"$f":"Risks!O19","v":"[Insert comments here]"},{"$f":"Risks!P19","v":0},{"$f":"Risks!Q19","v":"[Insert comments here]"},{"$f":"Risks!R19","v":0},{"$f":"Risks!S19","v":"[Insert comments here]"},{"$f":"Risks!T19","v":0},{"$f":"Risks!U19","v":"[Insert comments here]"},{"$f":"Risks!V19","v":0},{"$f":"Risks!W19","v":"[Insert comments here]"},{"$f":"Risks!X19","v":0},{"$f":"Risks!Y19","v":"[Insert comments here]"},{"$f":"Risks!Z19","v":0},{"$f":"Risks!AA19","v":"[Insert comments here]"},{"$f":"Risks!AB19","v":0},{"$f":"Risks!AC19","v":"[Insert comments here]"},{"$f":"Risks!AD19","v":0},{"$f":"Risks!AE19","v":"[Insert comments here]"},{"$f":"Risks!AF19","v":0},{"$f":"Risks!AG19","v":"[Insert comments here]"},{"$f":"Risks!AH19","v":0},{"$f":"Risks!AI19","v":"[Insert comments here]"},{"$f":"Risks!AJ19","v":0},{"$f":"Risks!AK19","v":"[Insert comments here]"},{"$f":"Risks!AL19","v":0},{"$f":"Risks!AM19","v":"[Insert comments here]"},{"$f":"Risks!AN19","v":0},{"$f":"Risks!AO19","v":"[Insert comments here]"},{"$f":"Risks!AP19","v":0},{"$f":"Risks!AQ19","v":"[Insert comments here]"},{"$f":"Risks!AR19","v":0},{"$f":"Risks!AS19","v":"[Insert comments here]"},{"$f":"Risks!AT19","v":0},{"$f":"Risks!AU19","v":"[Insert comments here]"},{"$f":"Risks!AV19","v":0},{"$f":"Risks!AW19","v":"[Insert comments here]"},{"$f":"Risks!AX19","v":0},{"$f":"Risks!AY19","v":"[Insert comments here]"},{"$f":"Risks!AZ19","v":0},{"$f":"Risks!BA19","v":"[Insert comments here]"},{"$f":"Risks!BB19","v":0},{"$f":"Risks!BC19","v":"[Insert comments here]"},{"$f":"Risks!BD19","v":0},{"$f":"Risks!BE19","v":"[Insert comments here]"},{"$f":"Risks!BF19","v":0},{"$f":"Risks!BG19","v":"[Insert comments here]"},{"$f":"Risks!BH19","v":0},{"$f":"Risks!BI19","v":"[Insert comments here]"},{"$f":"Risks!BJ19","v":0},{"$f":"Risks!BK19","v":"[Insert comments here]"},{"$f":"Risks!BL19","v":0},{"$f":"Risks!BM19","v":"[Insert comments here]"},{"$f":"Risks!BN19","v":0},{"$f":"Risks!BO19","v":"[Insert comments here]"},{"$f":"Risks!BP19","v":0},{"$f":"Risks!BQ19","v":"[Insert comments here]"},{"$f":"Risks!BR19","v":0},{"$f":"Risks!BS19","v":"[Insert comments here]"},{"$f":"Risks!BT19","v":0},{"$f":"Risks!BU19","v":"[Insert comments here]"},{"$f":"Risks!BV19","v":0},{"$f":"Risks!BW19","v":"[Insert comments here]"},{"$f":"Risks!BX19","v":0},{"$f":"Risks!BY19","v":"[Insert comments here]"},{"$f":"Risks!BZ19","v":0},{"$f":"Risks!CA19","v":"[Insert comments here]"},{"$f":"Risks!CB19","v":0},{"$f":"Risks!CC19","v":"[Insert comments here]"},{"$f":"Risks!CD19","v":0},{"$f":"Risks!CE19","v":"[Insert comments here]"},null,null,null,null,{"$f":"Risks!CJ19","v":0},{"$f":"Risks!CK19","v":"[Insert comments here]"}]
[null,null,"",{"$f":"Risks!D20","v":0},{"$f":"Risks!E20","v":"[Insert comments here]"},{"$f":"Risks!F20","v":0},{"$f":"Risks!G20","v":"[Insert comments here]"},{"$f":"Risks!H20","v":0},{"$f":"Risks!I20","v":"[Insert comments here]"},{"$f":"Risks!J20","v":0},{"$f":"Risks!K20","v":"[Insert comments here]"},{"$f":"Risks!L20","v":0},{"$f":"Risks!M20","v":"[Insert comments here]"},{"$f":"Risks!N20","v":0},{"$f":"Risks!O20","v":"[Insert comments here]"},{"$f":"Risks!P20","v":0},{"$f":"Risks!Q20","v":"[Insert comments here]"},{"$f":"Risks!R20","v":0},{"$f":"Risks!S20","v":"[Insert comments here]"},{"$f":"Risks!T20","v":0},{"$f":"Risks!U20","v":"[Insert comments here]"},{"$f":"Risks!V20","v":0},{"$f":"Risks!W20","v":"[Insert comments here]"},{"$f":"Risks!X20","v":0},{"$f":"Risks!Y20","v":"[Insert comments here]"},{"$f":"Risks!Z20","v":0},{"$f":"Risks!AA20","v":"[Insert comments here]"},{"$f":"Risks!AB20","v":0},{"$f":"Risks!AC20","v":"[Insert comments here]"},{"$f":"Risks!AD20","v":0},{"$f":"Risks!AE20","v":"[Insert comments here]"},{"$f":"Risks!AF20","v":0},{"$f":"Risks!AG20","v":"[Insert comments here]"},{"$f":"Risks!AH20","v":0},{"$f":"Risks!AI20","v":"[Insert comments here]"},{"$f":"Risks!AJ20","v":0},{"$f":"Risks!AK20","v":"[Insert comments here]"},{"$f":"Risks!AL20","v":0},{"$f":"Risks!AM20","v":"[Insert comments here]"},{"$f":"Risks!AN20","v":0},{"$f":"Risks!AO20","v":"[Insert comments here]"},{"$f":"Risks!AP20","v":0},{"$f":"Risks!AQ20","v":"[Insert comments here]"},{"$f":"Risks!AR20","v":0},{"$f":"Risks!AS20","v":"[Insert comments here]"},{"$f":"Risks!AT20","v":0},{"$f":"Risks!AU20","v":"[Insert comments here]"},{"$f":"Risks!AV20","v":0},{"$f":"Risks!AW20","v":"[Insert comments here]"},{"$f":"Risks!AX20","v":0},{"$f":"Risks!AY20","v":"[Insert comments here]"},{"$f":"Risks!AZ20","v":0},{"$f":"Risks!BA20","v":"[Insert comments here]"},{"$f":"Risks!BB20","v":0},{"$f":"Risks!BC20","v":"[Insert comments here]"},{"$f":"Risks!BD20","v":0},{"$f":"Risks!BE20","v":"[Insert comments here]"},{"$f":"Risks!BF20","v":0},{"$f":"Risks!BG20","v":"[Insert comments here]"},{"$f":"Risks!BH20","v":0},{"$f":"Risks!BI20","v":"[Insert comments here]"},{"$f":"Risks!BJ20","v":0},{"$f":"Risks!BK20","v":"[Insert comments here]"},{"$f":"Risks!BL20","v":0},{"$f":"Risks!BM20","v":"[Insert comments here]"},{"$f":"Risks!BN20","v":0},{"$f":"Risks!BO20","v":"[Insert comments here]"},{"$f":"Risks!BP20","v":0},{"$f":"Risks!BQ20","v":"[Insert comments here]"},{"$f":"Risks!BR20","v":0},{"$f":"Risks!BS20","v":"[Insert comments here]"},{"$f":"Risks!BT20","v":0},{"$f":"Risks!BU20","v":"[Insert comments here]"},{"$f":"Risks!BV20","v":0},{"$f":"Risks!BW20","v":"[Insert comments here]"},{"$f":"Risks!BX20","v":0},{"$f":"Risks!BY20","v":"[Insert comments here]"},{"$f":"Risks!BZ20","v":0},{"$f":"Risks!CA20","v":"[Insert comments here]"},{"$f":"Risks!CB20","v":0},{"$f":"Risks!CC20","v":"[Insert comments here]"},{"$f":"Risks!CD20","v":0},{"$f":"Risks!CE20","v":"[Insert comments here]"},null,null,null,null,{"$f":"Risks!CJ20","v":0},{"$f":"Risks!CK20","v":"[Insert comments here]"}]
[null,null,"",{"$f":"Risks!D21","v":0},{"$f":"Risks!E21","v":"[Insert comments here]"},{"$f":"Risks!F21","v":0},{"$f":"Risks!G21","v":"[Insert comments here]"},{"$f":"Risks!H21","v":0},{"$f":"Risks!I21","v":"[Insert comments here]"},{"$f":"Risks!J21","v":0},{"$f":"Risks!K21","v":"[Insert comments here]"},{"$f":"Risks!L21","v":0},{"$f":"Risks!M21","v":"[Insert comments here]"},{"$f":"Risks!N21","v":0},{"$f":"Risks!O21","v":"[Insert comments here]"},{"$f":"Risks!P21","v":0},{"$f":"Risks!Q21","v":"[Insert comments here]"},{"$f":"Risks!R21","v":0},{"$f":"Risks!S21","v":"[Insert comments here]"},{"$f":"Risks!T21","v":0},{"$f":"Risks!U21","v":"[Insert comments here]"},{"$f":"Risks!V21","v":0},{"$f":"Risks!W21","v":"[Insert comments here]"},{"$f":"Risks!X21","v":0},{"$f":"Risks!Y21","v":"[Insert comments here]"},{"$f":"Risks!Z21","v":0},{"$f":"Risks!AA21","v":"[Insert comments here]"},{"$f":"Risks!AB21","v":0},{"$f":"Risks!AC21","v":"[Insert comments here]"},{"$f":"Risks!AD21","v":0},{"$f":"Risks!AE21","v":"[Insert comments here]"},{"$f":"Risks!AF21","v":0},{"$f":"Risks!AG21","v":"[Insert comments here]"},{"$f":"Risks!AH21","v":0},{"$f":"Risks!AI21","v":"[Insert comments here]"},{"$f":"Risks!AJ21","v":0},{"$f":"Risks!AK21","v":"[Insert comments here]"},{"$f":"Risks!AL21","v":0},{"$f":"Risks!AM21","v":"[Insert comments here]"},{"$f":"Risks!AN21","v":0},{"$f":"Risks!AO21","v":"[Insert comments here]"},{"$f":"Risks!AP21","v":0},{"$f":"Risks!AQ21","v":"[Insert comments here]"},{"$f":"Risks!AR21","v":0},{"$f":"Risks!AS21","v":"[Insert comments here]"},{"$f":"Risks!AT21","v":0},{"$f":"Risks!AU21","v":"[Insert comments here]"},{"$f":"Risks!AV21","v":0},{"$f":"Risks!AW21","v":"[Insert comments here]"},{"$f":"Risks!AX21","v":0},{"$f":"Risks!AY21","v":"[Insert comments here]"},{"$f":"Risks!AZ21","v":0},{"$f":"Risks!BA21","v":"[Insert comments here]"},{"$f":"Risks!BB21","v":0},{"$f":"Risks!BC21","v":"[Insert comments here]"},{"$f":"Risks!BD21","v":0},{"$f":"Risks!BE21","v":"[Insert comments here]"},{"$f":"Risks!BF21","v":0},{"$f":"Risks!BG21","v":"[Insert comments here]"},{"$f":"Risks!BH21","v":0},{"$f":"Risks!BI21","v":"[Insert comments here]"},{"$f":"Risks!BJ21","v":0},{"$f":"Risks!BK21","v":"[Insert comments here]"},{"$f":"Risks!BL21","v":0},{"$f":"Risks!BM21","v":"[Insert comments here]"},{"$f":"Risks!BN21","v":0},{"$f":"Risks!BO21","v":"[Insert comments here]"},{"$f":"Risks!BP21","v":0},{"$f":"Risks!BQ21","v":"[Insert comments here]"},{"$f":"Risks!BR21","v":0},{"$f":"Risks!BS21","v":"[Insert comments here]"},{"$f":"Risks!BT21","v":0},{"$f":"Risks!BU21","v":"[Insert comments here]"},{"$f":"Risks!BV21","v":0},{"$f":"Risks!BW21","v":"[Insert comments here]"},{"$f":"Risks!BX21","v":0},{"$f":"Risks!BY21","v":"[Insert comments here]"},{"$f":"Risks!BZ21","v":0},{"$f":"Risks!CA21","v":"[Insert comments here]"},{"$f":"Risks!CB21","v":0},{"$f":"Risks!CC21","v":"[Insert comments here]"},{"$f":"Risks!CD21","v":0},{"$f":"Risks!CE21","v":"[Insert comments here]"},null,null,null,null,{"$f":"Risks!CJ21","v":0},{"$f":"Risks!CK21","v":"[Insert comments here]"}]
[null,null,"",{"$f":"Risks!D22","v":0},{"$f":"Risks!E22","v":"[Insert comments here]"},{"$f":"Risks!F22","v":0},{"$f":"Risks!G22","v":"[Insert comments here]"},{"$f":"Risks!H22","v":0},{"$f":"Risks!I22","v":"[Insert comments here]"},{"$f":"Risks!J22","v":0},{"$f":"Risks!K22","v":"[Insert comments here]"},{"$f":"Risks!L22","v":0},{"$f":"Risks!M22","v":"[Insert comments here]"},{"$f":"Risks!N22","v":0},{"$f":"Risks!O22","v":"[Insert comments here]"},{"$f":"Risks!P22","v":0},{"$f":"Risks!Q22","v":"[Insert comments here]"},{"$f":"Risks!R22","v":0},{"$f":"Risks!S22","v":"[Insert comments here]"},{"$f":"Risks!T22","v":0},{"$f":"Risks!U22","v":"[Insert comments here]"},{"$f":"Risks!V22","v":0},{"$f":"Risks!W22","v":"[Insert comments here]"},{"$f":"Risks!X22","v":0},{"$f":"Risks!Y22","v":"[Insert comments here]"},{"$f":"Risks!Z22","v":0},{"$f":"Risks!AA22","v":"[Insert comments here]"},{"$f":"Risks!AB22","v":0},{"$f":"Risks!AC22","v":"[Insert comments here]"},{"$f":"Risks!AD22","v":0},{"$f":"Risks!AE22","v":"[Insert comments here]"},{"$f":"Risks!AF22","v":0},{"$f":"Risks!AG22","v":"[Insert comments here]"},{"$f":"Risks!AH22","v":0},{"$f":"Risks!AI22","v":"[Insert comments here]"},{"$f":"Risks!AJ22","v":0},{"$f":"Risks!AK22","v":"[Insert comments here]"},{"$f":"Risks!AL22","v":0},{"$f":"Risks!AM22","v":"[Insert comments here]"},{"$f":"Risks!AN22","v":0},{"$f":"Risks!AO22","v":"[Insert comments here]"},{"$f":"Risks!AP22","v":0},{"$f":"Risks!AQ22","v":"[Insert comments here]"},{"$f":"Risks!AR22","v":0},{"$f":"Risks!AS22","v":"[Insert comments here]"},{"$f":"Risks!AT22","v":0},{"$f":"Risks!AU22","v":"[Insert comments here]"},{"$f":"Risks!AV22","v":0},{"$f":"Risks!AW22","v":"[Insert comments here]"},{"$f":"Risks!AX22","v":0},{"$f":"Risks!AY22","v":"[Insert comments here]"},{"$f":"Risks!AZ22","v":0},{"$f":"Risks!BA22","v":"[Insert comments here]"},{"$f":"Risks!BB22","v":0},{"$f":"Risks!BC22","v":"[Insert comments here]"},{"$f":"Risks!BD22","v":0},{"$f":"Risks!BE22","v":"[Insert comments here]"},{"$f":"Risks!BF22","v":0},{"$f":"Risks!BG22","v":"[Insert comments here]"},{"$f":"Risks!BH22","v":0},{"$f":"Risks!BI22","v":"[Insert comments here]"},{"$f":"Risks!BJ22","v":0},{"$f":"Risks!BK22","v":"[Insert comments here]"},{"$f":"Risks!BL22","v":0},{"$f":"Risks!BM22","v":"[Insert comments here]"},{"$f":"Risks!BN22","v":0},{"$f":"Risks!BO22","v":"[Insert comments here]"},{"$f":"Risks!BP22","v":0},{"$f":"Risks!BQ22","v":"[Insert comments here]"},{"$f":"Risks!BR22","v":0},{"$f":"Risks!BS22","v":"[Insert comments here]"},{"$f":"Risks!BT22","v":0},{"$f":"Risks!BU22","v":"[Insert comments here]"},{"$f":"Risks!BV22","v":0},{"$f":"Risks!BW22","v":"[Insert comments here]"},{"$f":"Risks!BX22","v":0},{"$f":"Risks!BY22","v":"[Insert comments here]"},{"$f":"Risks!BZ22","v":0},{"$f":"Risks!CA22","v":"[Insert comments here]"},{"$f":"Risks!CB22","v":0},{"$f":"Risks!CC22","v":"[Insert comments here]"},{"$f":"Risks!CD22","v":0},{"$f":"Risks!CE22","v":"[Insert comments here]"},null,null,null,null,{"$f":"Risks!CJ22","v":0},{"$f":"Risks!CK22","v":"[Insert comments here]"}]
[null,null,"",{"$f":"Risks!D23","v":0},{"$f":"Risks!E23","v":"[Insert comments here]"},{"$f":"Risks!F23","v":0},{"$f":"Risks!G23","v":"[Insert comments here]"},{"$f":"Risks!H23","v":0},{"$f":"Risks!I23","v":"[Insert comments here]"},{"$f":"Risks!J23","v":0},{"$f":"Risks!K23","v":"[Insert comments here]"},{"$f":"Risks!L23","v":0},{"$f":"Risks!M23","v":"[Insert comments here]"},{"$f":"Risks!N23","v":0},{"$f":"Risks!O23","v":"[Insert comments here]"},{"$f":"Risks!P23","v":0},{"$f":"Risks!Q23","v":"[Insert comments here]"},{"$f":"Risks!R23","v":0},{"$f":"Risks!S23","v":"[Insert comments here]"},{"$f":"Risks!T23","v":0},{"$f":"Risks!U23","v":"[Insert comments here]"},{"$f":"Risks!V23","v":0},{"$f":"Risks!W23","v":"[Insert comments here]"},{"$f":"Risks!X23","v":0},{"$f":"Risks!Y23","v":"[Insert comments here]"},{"$f":"Risks!Z23","v":0},{"$f":"Risks!AA23","v":"[Insert comments here]"},{"$f":"Risks!AB23","v":0},{"$f":"Risks!AC23","v":"[Insert comments here]"},{"$f":"Risks!AD23","v":0},{"$f":"Risks!AE23","v":"[Insert comments here]"},{"$f":"Risks!AF23","v":0},{"$f":"Risks!AG23","v":"[Insert comments here]"},{"$f":"Risks!AH23","v":0},{"$f":"Risks!AI23","v":"[Insert comments here]"},{"$f":"Risks!AJ23","v":0},{"$f":"Risks!AK23","v":"[Insert comments here]"},{"$f":"Risks!AL23","v":0},{"$f":"Risks!AM23","v":"[Insert comments here]"},{"$f":"Risks!AN23","v":0},{"$f":"Risks!AO23","v":"[Insert comments here]"},{"$f":"Risks!AP23","v":0},{"$f":"Risks!AQ23","v":"[Insert comments here]"},{"$f":"Risks!AR23","v":0},{"$f":"Risks!AS23","v":"[Insert comments here]"},{"$f":"Risks!AT23","v":0},{"$f":"Risks!AU23","v":"[Insert comments here]"},{"$f":"Risks!AV23","v":0},{"$f":"Risks!AW23","v":"[Insert comments here]"},{"$f":"Risks!AX23","v":0},{"$f":"Risks!AY23","v":"[Insert comments here]"},{"$f":"Risks!AZ23","v":0},{"$f":"Risks!BA23","v":"[Insert comments here]"},{"$f":"Risks!BB23","v":0},{"$f":"Risks!BC23","v":"[Insert comments here]"},{"$f":"Risks!BD23","v":0},{"$f":"Risks!BE23","v":"[Insert comments here]"},{"$f":"Risks!BF23","v":0},{"$f":"Risks!BG23","v":"[Insert comments here]"},{"$f":"Risks!BH23","v":0},{"$f":"Risks!BI23","v":"[Insert comments here]"},{"$f":"Risks!BJ23","v":0},{"$f":"Risks!BK23","v":"[Insert comments here]"},{"$f":"Risks!BL23","v":0},{"$f":"Risks!BM23","v":"[Insert comments here]"},{"$f":"Risks!BN23","v":0},{"$f":"Risks!BO23","v":"[Insert comments here]"},{"$f":"Risks!BP23","v":0},{"$f":"Risks!BQ23","v":"[Insert comments here]"},{"$f":"Risks!BR23","v":0},{"$f":"Risks!BS23","v":"[Insert comments here]"},{"$f":"Risks!BT23","v":0},{"$f":"Risks!BU23","v":"[Insert comments here]"},{"$f":"Risks!BV23","v":0},{"$f":"Risks!BW23","v":"[Insert comments here]"},{"$f":"Risks!BX23","v":0},{"$f":"Risks!BY23","v":"[Insert comments here]"},{"$f":"Risks!BZ23","v":0},{"$f":"Risks!CA23","v":"[Insert comments here]"},{"$f":"Risks!CB23","v":0},{"$f":"Risks!CC23","v":"[Insert comments here]"},{"$f":"Risks!CD23","v":0},{"$f":"Risks!CE23","v":"[Insert comments here]"},null,null,null,null,{"$f":"Risks!CJ23","v":0},{"$f":"Risks!CK23","v":"[Insert comments here]"}]
[]
[null,"Socio-economic - RISKS & OPPS",{"$f":"IF(INDEX(SocIssues,ROW()-ROW(C$24))=\"\",\"\",INDEX(SocIssues,ROW()-ROW(C$24)))","v":"Employment, skills and training"},{"$f":"Risks!D30","v":1},{"$f":"Risks!E30","v":"Introducing \"reuse\" may bring a opportunity to create new skills ops such as Circular Economy"},{"$f":"Risks!F30","v":1},{"$f":"Risks!G30","v":"Introducing \"reuse\" may bring a opportunity to create new skills ops such as Circular Economy"},{"$f":"Risks!H30","v":1},{"$f":"Risks!I30","v":"Introducing \"reuse\" may bring a opportunity to create new skills ops such as Circular Economy"},{"$f":"Risks!J30","v":1},{"$f":"Risks!K30","v":"Introducing \"reuse\" may bring a opportunity to create new skills ops such as Circular Economy"},{"$f":"Risks!L30","v":1},{"$f":"Risks!M30","v":"Introducing \"reuse\" may bring a opportunity to create new skills ops such as Circular Economy"},{"$f":"Risks!N30","v":1},{"$f":"Risks!O30","v":"Equipment requires highly skilled maintenance, suppliers now have local-based experts"},{"$f":"Risks!P30","v":0},{"$f":"Risks!Q30","v":"Low level of maturity and sophistication of market to reuse lab equipment, "},{"$f":"Risks!R30","v":1},{"$f":"Risks!S30","v":"Low level of oppportunity"},{"$f":"Risks!T30","v":0},{"$f":"Risks!U30","v":"[Insert comments here]"},{"$f":"Risks!V30","v":0},{"$f":"Risks!W30","v":"[Insert comments here]"},{"$f":"Risks!X30","v":0},{"$f":"Risks!Y30","v":"[Insert comments here]"},{"$f":"Risks!Z30","v":0},{"$f":"Risks!AA30","v":"[Insert comments here]"},{"$f":"Risks!AB30","v":0},{"$f":"Risks!AC30","v":"[Insert comments here]"},{"$f":"Risks!AD30","v":0},{"$f":"Risks!AE30","v":"[Insert comments here]"},{"$f":"Risks!AF30","v":0},{"$f":"Risks!AG30","v":"[Insert comments here]"},{"$f":"Risks!AH30","v":0},{"$f":"Risks!AI30","v":"[Insert comments here]"},{"$f":"Risks!AJ30","v":0},{"$f":"Risks!AK30","v":"[Insert comments here]"},{"$f":"Risks!AL30","v":0},{"$f":"Risks!AM30","v":"[Insert comments here]"},{"$f":"Risks!AN30","v":0},{"$f":"Risks!AO30","v":"[Insert comments here]"},{"$f":"Risks!AP30","v":0},{"$f":"Risks!AQ30","v":"[Insert comments here]"},{"$f":"Risks!AR30","v":0},{"$f":"Risks!AS30","v":"[Insert comments here]"},{"$f":"Risks!AT30","v":0},{"$f":"Risks!AU30","v":"[Insert comments here]"},{"$f":"Risks!AV30","v":0},{"$f":"Risks!AW30","v":"[Insert comments here]"},{"$f":"Risks!AX30","v":0},{"$f":"Risks!AY30","v":"[Insert comments here]"},{"$f":"Risks!AZ30","v":0},{"$f":"Risks!BA30","v":"[Insert comments here]"},{"$f":"Risks!BB30","v":0},{"$f":"Risks!BC30","v":"[Insert comments here]"},{"$f":"Risks!BD30","v":0},{"$f":"Risks!BE30","v":"[Insert comments here]"},{"$f":"Risks!BF30","v":0},{"$f":"Risks!BG30","v":"[Insert comments here]"},{"$f":"Risks!BH30","v":0},{"$f":"Risks!BI30","v":"[Insert comments here]"},{"$f":"Risks!BJ30","v":0},{"$f":"Risks!BK30","v":"[Insert comments here]"},{"$f":"Risks!BL30","v":0},{"$f":"Risks!BM30","v":"[Insert comments here]"},{"$f":"Risks!BN30","v":0},{"$f":"Risks!BO30","v":"[Insert comments here]"},{"$f":"Risks!BP30","v":0},{"$f":"Risks!BQ30","v":"[Insert comments here]"},{"$f":"Risks!BR30","v":0},{"$f":"Risks!BS30","v":"[Insert comments here]"},{"$f":"Risks!BT30","v":0},{"$f":"Risks!BU30","v":"[Insert comments here]"},{"$f":"Risks!BV30","v":0},{"$f":"Risks!BW30","v":"[Insert comments here]"},{"$f":"Risks!BX30","v":0},{"$f":"Risks!BY30","v":"[Insert comments here]"},{"$f":"Risks!BZ30","v":0},{"$f":"Risks!CA30","v":"[Insert comments here]"},{"$f":"Risks!CB30","v":0},{"$f":"Risks!CC30","v":"[Insert comments here]"},{"$f":"Risks!CD30","v":0},{"$f":"Risks!CE30","v":"[Insert comments here]"},null,null,null,null,{"$f":"Risks!CJ30","v":0},{"$f":"Risks!CK30","v":"[Insert comments here]"}]
[null,"Scroll down to view all scores",{"$f":"IF(INDEX(SocIssues,ROW()-ROW(C$24))=\"\",\"\",INDEX(SocIssues,ROW()-ROW(C$24)))","v":"Health and wellbeing"},{"$f":"Risks!D31","v":3},{"$f":"Risks!E31","v":"risks to workforce at all levels, risks in over-use"},{"$f":"Risks!F31","v":3},{"$f":"Risks!G31","v":"risks to workforce at all levels, risks in over-use"},{"$f":"Risks!H31","v":3},{"$f":"Risks!I31","v":"risks to workforce at all levels, risks in over-use"},{"$f":"Risks!J31","v":3},{"$f":"Risks!K31","v":"risks to workforce at all levels, risks in over-use"},{"$f":"Risks!L31","v":3},{"$f":"Risks!M31","v":"risks to workforce at all levels, risks in over-use"},{"$f":"Risks!N31","v":3},{"$f":"Risks!O31","v":"Critical to wellbeing of animals"},{"$f":"Risks!P31","v":3},{"$f":"Risks!Q31","v":"risks to workforce at all levels, risks in over-use, physical risks of burns (and cryo burns), rotating elements, biological and chemical handling risks,"},{"$f":"Risks!R31","v":3},{"$f":"Risks!S31","v":"risks to workforce at all levels, risks in over-use"},{"$f":"Risks!T31","v":0},{"$f":"Risks!U31","v":"[Insert comments here]"},{"$f":"Risks!V31","v":0},{"$f":"Risks!W31","v":"[Insert comments here]"},{"$f":"Risks!X31","v":0},{"$f":"Risks!Y31","v":"[Insert comments here]"},{"$f":"Risks!Z31","v":0},{"$f":"Risks!AA31","v":"[Insert comments here]"},{"$f":"Risks!AB31","v":0},{"$f":"Risks!AC31","v":"[Insert comments here]"},{"$f":"Risks!AD31","v":0},{"$f":"Risks!AE31","v":"[Insert comments here]"},{"$f":"Risks!AF31","v":0},{"$f":"Risks!AG31","v":"[Insert comments here]"},{"$f":"Risks!AH31","v":0},{"$f":"Risks!AI31","v":"[Insert comments here]"},{"$f":"Risks!AJ31","v":0},{"$f":"Risks!AK31","v":"[Insert comments here]"},{"$f":"Risks!AL31","v":0},{"$f":"Risks!AM31","v":"[Insert comments here]"},{"$f":"Risks!AN31","v":0},{"$f":"Risks!AO31","v":"[Insert comments here]"},{"$f":"Risks!AP31","v":0},{"$f":"Risks!AQ31","v":"[Insert comments here]"},{"$f":"Risks!AR31","v":0},{"$f":"Risks!AS31","v":"[Insert comments here]"},{"$f":"Risks!AT31","v":0},{"$f":"Risks!AU31","v":"[Insert comments here]"},{"$f":"Risks!AV31","v":0},{"$f":"Risks!AW31","v":"[Insert comments here]"},{"$f":"Risks!AX31","v":0},{"$f":"Risks!AY31","v":"[Insert comments here]"},{"$f":"Risks!AZ31","v":0},{"$f":"Risks!BA31","v":"[Insert comments here]"},{"$f":"Risks!BB31","v":0},{"$f":"Risks!BC31","v":"[Insert comments here]"},{"$f":"Risks!BD31","v":0},{"$f":"Risks!BE31","v":"[Insert comments here]"},{"$f":"Risks!BF31","v":0},{"$f":"Risks!BG31","v":"[Insert comments here]"},{"$f":"Risks!BH31","v":0},{"$f":"Risks!BI31","v":"[Insert comments here]"},{"$f":"Risks!BJ31","v":0},{"$f":"Risks!BK31","v":"[Insert comments here]"},{"$f":"Risks!BL31","v":0},{"$f":"Risks!BM31","v":"[Insert comments here]"},{"$f":"Risks!BN31","v":0},{"$f":"Risks!BO31","v":"[Insert comments here]"},{"$f":"Risks!BP31","v":0},{"$f":"Risks!BQ31","v":"[Insert comments here]"},{"$f":"Risks!BR31","v":0},{"$f":"Risks!BS31","v":"[Insert comments here]"},{"$f":"Risks!BT31","v":0},{"$f":"Risks!BU31","v":"[Insert comments here]"},{"$f":"Risks!BV31","v":0},{"$f":"Risks!BW31","v":"[Insert comments here]"},{"$f":"Risks!BX31","v":0},{"$f":"Risks!BY31","v":"[Insert comments here]"},{"$f":"Risks!BZ31","v":0},{"$f":"Risks!CA31","v":"[Insert comments here]"},{"$f":"Risks!CB31","v":0},{"$f":"Risks!CC31","v":"[Insert comments here]"},{"$f":"Risks!CD31","v":0},{"$f":"Risks!CE31","v":"[Insert comments here]"},null,null,null,null,{"$f":"Risks!CJ31","v":0},{"$f":"Risks!CK31","v":"[Insert comments here]"}]
[null,null,{"$f":"IF(INDEX(SocIssues,ROW()-ROW(C$24))=\"\",\"\",INDEX(SocIssues,ROW()-ROW(C$24)))","v":"Communities"},{"$f":"Risks!D32","v":3},{"$f":"Risks!E32","v":"risks mostly at extraction and manufacturing on a International 9not localised) scale"},{"$f":"Risks!F32","v":3},{"$f":"Risks!G32","v":"risks mostly at extraction and manufacturing on a International 9not localised) scale"},{"$f":"Risks!H32","v":3},{"$f":"Risks!I32","v":"risks mostly at extraction and manufacturing on a International 9not localised) scale"},{"$f":"Risks!J32","v":3},{"$f":"Risks!K32","v":"risks mostly at extraction and manufacturing on a International 9not localised) scale"},{"$f":"Risks!L32","v":3},{"$f":"Risks!M32","v":"risks mostly at extraction and manufacturing on a International (not localised) scale. Including forrestry use."},{"$f":"Risks!N32","v":3},{"$f":"Risks!O32","v":"Positive impact on local employment, risks mostly at extraction and manufacturing on a International 9not localised) scale"},{"$f":"Risks!P32","v":3},{"$f":"Risks!Q32","v":"risks mostly at extraction and manufacturing on a International 9not localised) scale"},{"$f":"Risks!R32","v":3},{"$f":"Risks!S32","v":"risks mostly at extraction and manufacturing on a International (not localised) scale. Including forrestry use."},{"$f":"Risks!T32","v":0},{"$f":"Risks!U32","v":"[Insert comments here]"},{"$f":"Risks!V32","v":0},{"$f":"Risks!W32","v":"[Insert comments here]"},{"$f":"Risks!X32","v":0},{"$f":"Risks!Y32","v":"[Insert comments here]"},{"$f":"Risks!Z32","v":0},{"$f":"Risks!AA32","v":"[Insert comments here]"},{"$f":"Risks!AB32","v":0},{"$f":"Risks!AC32","v":"[Insert comments here]"},{"$f":"Risks!AD32","v":0},{"$f":"Risks!AE32","v":"[Insert comments here]"},{"$f":"Risks!AF32","v":0},{"$f":"Risks!AG32","v":"[Insert comments here]"},{"$f":"Risks!AH32","v":0},{"$f":"Risks!AI32","v":"[Insert comments here]"},{"$f":"Risks!AJ32","v":0},{"$f":"Risks!AK32","v":"[Insert comments here]"},{"$f":"Risks!AL32","v":0},{"$f":"Risks!AM32","v":"[Insert comments here]"},{"$f":"Risks!AN32","v":0},{"$f":"Risks!AO32","v":"[Insert comments here]"},{"$f":"Risks!AP32","v":0},{"$f":"Risks!AQ32","v":"[Insert comments here]"},{"$f":"Risks!AR32","v":0},{"$f":"Risks!AS32","v":"[Insert comments here]"},{"$f":"Risks!AT32","v":0},{"$f":"Risks!AU32","v":"[Insert comments here]"},{"$f":"Risks!AV32","v":0},{"$f":"Risks!AW32","v":"[Insert comments here]"},{"$f":"Risks!AX32","v":0},{"$f":"Risks!AY32","v":"[Insert comments here]"},{"$f":"Risks!AZ32","v":0},{"$f":"Risks!BA32","v":"[Insert comments here]"},{"$f":"Risks!BB32","v":0},{"$f":"Risks!BC32","v":"[Insert comments here]"},{"$f":"Risks!BD32","v":0},{"$f":"Risks!BE32","v":"[Insert comments here]"},{"$f":"Risks!BF32","v":0},{"$f":"Risks!BG32","v":"[Insert comments here]"},{"$f":"Risks!BH32","v":0},{"$f":"Risks!BI32","v":"[Insert comments here]"},{"$f":"Risks!BJ32","v":0},{"$f":"Risks!BK32","v":"[Insert comments here]"},{"$f":"Risks!BL32","v":0},{"$f":"Risks!BM32","v":"[Insert comments here]"},{"$f":"Risks!BN32","v":0},{"$f":"Risks!BO32","v":"[Insert comments here]"},{"$f":"Risks!BP32","v":0},{"$f":"Risks!BQ32","v":"[Insert comments here]"},{"$f":"Risks!BR32","v":0},{"$f":"Risks!BS32","v":"[Insert comments here]"},{"$f":"Risks!BT32","v":0},{"$f":"Risks!BU32","v":"[Insert comments here]"},{"$f":"Risks!BV32","v":0},{"$f":"Risks!BW32","v":"[Insert comments here]"},{"$f":"Risks!BX32","v":0},{"$f":"Risks!BY32","v":"[Insert comments here]"},{"$f":"Risks!BZ32","v":0},{"$f":"Risks!CA32","v":"[Insert comments here]"},{"$f":"Risks!CB32","v":0},{"$f":"Risks!CC32","v":"[Insert comments here]"},{"$f":"Risks!CD32","v":0},{"$f":"Risks!CE32","v":"[Insert comments here]"},null,null,null,null,{"$f":"Risks!CJ32","v":0},{"$f":"Risks!CK32","v":"[Insert comments here]"}]
[null,null,"Security and crime",{"$f":"Risks!D33","v":3},{"$f":"Risks!E33","v":"particularly at raw materials & manufacturing, but also data security in use, theft, plus illegal dumping"},{"$f":"Risks!F33","v":3},{"$f":"Risks!G33","v":"particularly at raw materials & manufacturing, but also data security in use, theft, plus illegal dumping"},{"$f":"Risks!H33","v":3},{"$f":"Risks!I33","v":"particularly at raw materials & manufacturing, but also data security in use, theft, plus illegal dumping"},{"$f":"Risks!J33","v":3},{"$f":"Risks!K33","v":"particularly at raw materials & manufacturing, but also data security in use, theft, plus illegal dumping"},{"$f":"Risks!L33","v":3},{"$f":"Risks!M33","v":"particularly at raw materials & manufacturing, but also data security in use, theft, plus illegal dumping"},{"$f":"Risks!N33","v":3},{"$f":"Risks!O33","v":"Issues regarding security of animals and employees, "},{"$f":"Risks!P33","v":2},{"$f":"Risks!Q33","v":"particularly at raw materials & manufacturing, plus risks of illegal dumping, equipment does not hold data so no issues, "},{"$f":"Risks!R33","v":3},{"$f":"Risks!S33","v":"particularly at raw materials & manufacturing, but also data security in use, theft, plus illegal dumping, products are sometimes rebranded as EU-made, whereas could be made in sweatshops"},{"$f":"Risks!T33","v":0},{"$f":"Risks!U33","v":"[Insert comments here]"},{"$f":"Risks!V33","v":0},{"$f":"Risks!W33","v":"[Insert comments here]"},{"$f":"Risks!X33","v":0},{"$f":"Risks!Y33","v":"[Insert comments here]"},{"$f":"Risks!Z33","v":0},{"$f":"Risks!AA33","v":"[Insert comments here]"},{"$f":"Risks!AB33","v":0},{"$f":"Risks!AC33","v":"[Insert comments here]"},{"$f":"Risks!AD33","v":0},{"$f":"Risks!AE33","v":"[Insert comments here]"},{"$f":"Risks!AF33","v":0},{"$f":"Risks!AG33","v":"[Insert comments here]"},{"$f":"Risks!AH33","v":0},{"$f":"Risks!AI33","v":"[Insert comments here]"},{"$f":"Risks!AJ33","v":0},{"$f":"Risks!AK33","v":"[Insert comments here]"},{"$f":"Risks!AL33","v":0},{"$f":"Risks!AM33","v":"[Insert comments here]"},{"$f":"Risks!AN33","v":0},{"$f":"Risks!AO33","v":"[Insert comments here]"},{"$f":"Risks!AP33","v":0},{"$f":"Risks!AQ33","v":"[Insert comments here]"},{"$f":"Risks!AR33","v":0},{"$f":"Risks!AS33","v":"[Insert comments here]"},{"$f":"Risks!AT33","v":0},{"$f":"Risks!AU33","v":"[Insert comments here]"},{"$f":"Risks!AV33","v":0},{"$f":"Risks!AW33","v":"[Insert comments here]"},{"$f":"Risks!AX33","v":0},{"$f":"Risks!AY33","v":"[Insert comments here]"},{"$f":"Risks!AZ33","v":0},{"$f":"Risks!BA33","v":"[Insert comments here]"},{"$f":"Risks!BB33","v":0},{"$f":"Risks!BC33","v":"[Insert comments here]"},{"$f":"Risks!BD33","v":0},{"$f":"Risks!BE33","v":"[Insert comments here]"},{"$f":"Risks!BF33","v":0},{"$f":"Risks!BG33","v":"[Insert comments here]"},{"$f":"Risks!BH33","v":0},{"$f":"Risks!BI33","v":"[Insert comments here]"},{"$f":"Risks!BJ33","v":0},{"$f":"Risks!BK33","v":"[Insert comments here]"},{"$f":"Risks!BL33","v":0},{"$f":"Risks!BM33","v":"[Insert comments here]"},{"$f":"Risks!BN33","v":0},{"$f":"Risks!BO33","v":"[Insert comments here]"},{"$f":"Risks!BP33","v":0},{"$f":"Risks!BQ33","v":"[Insert comments here]"},{"$f":"Risks!BR33","v":0},{"$f":"Risks!BS33","v":"[Insert comments here]"},{"$f":"Risks!BT33","v":0},{"$f":"Risks!BU33","v":"[Insert comments here]"},{"$f":"Risks!BV33","v":0},{"$f":"Risks!BW33","v":"[Insert comments here]"},{"$f":"Risks!BX33","v":0},{"$f":"Risks!BY33","v":"[Insert comments here]"},{"$f":"Risks!BZ33","v":0},{"$f":"Risks!CA33","v":"[Insert comments here]"},{"$f":"Risks!CB33","v":0},{"$f":"Risks!CC33","v":"[Insert comments here]"},{"$f":"Risks!CD33","v":0},{"$f":"Risks!CE33","v":"[Insert comments here]"},null,null,null,null,{"$f":"Risks!CJ33","v":0},{"$f":"Risks!CK33","v":"[Insert comments here]"}]
[null,null,"Fairly and ethically traded",{"$f":"Risks!D34","v":3},{"$f":"Risks!E34","v":"risk of poor working conditionsin supply chain, conflict minerals introduced at supply chain level. Modern Slavery Risks in Supply Chain"},{"$f":"Risks!F34","v":3},{"$f":"Risks!G34","v":"risk of poor working conditionsin supply chain, conflict minerals introduced at supply chain level"},{"$f":"Risks!H34","v":3},{"$f":"Risks!I34","v":"risk of poor working conditionsin supply chain, conflict minerals introduced at supply chain level"},{"$f":"Risks!J34","v":3},{"$f":"Risks!K34","v":"risk of poor working conditionsin supply chain, conflict minerals introduced at supply chain level"},{"$f":"Risks!L34","v":3},{"$f":"Risks!M34","v":"risk of poor working conditionsin supply chain, conflict minerals introduced at supply chain level"},{"$f":"Risks!N34","v":2},{"$f":"Risks!O34","v":"risk of poor working conditionsin supply chain, conflict minerals introduced at supply chain level, more confidence in suppliers"},{"$f":"Risks!P34","v":3},{"$f":"Risks!Q34","v":"risk of poor working conditionsin supply chain, conflict minerals introduced at supply chain level"},{"$f":"Risks!R34","v":3},{"$f":"Risks!S34","v":"risk of poor working conditionsin supply chain, conflict minerals introduced at supply chain level"},{"$f":"Risks!T34","v":0},{"$f":"Risks!U34","v":"[Insert comments here]"},{"$f":"Risks!V34","v":0},{"$f":"Risks!W34","v":"[Insert comments here]"},{"$f":"Risks!X34","v":0},{"$f":"Risks!Y34","v":"[Insert comments here]"},{"$f":"Risks!Z34","v":0},{"$f":"Risks!AA34","v":"[Insert comments here]"},{"$f":"Risks!AB34","v":0},{"$f":"Risks!AC34","v":"[Insert comments here]"},{"$f":"Risks!AD34","v":0},{"$f":"Risks!AE34","v":"[Insert comments here]"},{"$f":"Risks!AF34","v":0},{"$f":"Risks!AG34","v":"[Insert comments here]"},{"$f":"Risks!AH34","v":0},{"$f":"Risks!AI34","v":"[Insert comments here]"},{"$f":"Risks!AJ34","v":0},{"$f":"Risks!AK34","v":"[Insert comments here]"},{"$f":"Risks!AL34","v":0},{"$f":"Risks!AM34","v":"[Insert comments here]"},{"$f":"Risks!AN34","v":0},{"$f":"Risks!AO34","v":"[Insert comments here]"},{"$f":"Risks!AP34","v":0},{"$f":"Risks!AQ34","v":"[Insert comments here]"},{"$f":"Risks!AR34","v":0},{"$f":"Risks!AS34","v":"[Insert comments here]"},{"$f":"Risks!AT34","v":0},{"$f":"Risks!AU34","v":"[Insert comments here]"},{"$f":"Risks!AV34","v":0},{"$f":"Risks!AW34","v":"[Insert comments here]"},{"$f":"Risks!AX34","v":0},{"$f":"Risks!AY34","v":"[Insert comments here]"},{"$f":"Risks!AZ34","v":0},{"$f":"Risks!BA34","v":"[Insert comments here]"},{"$f":"Risks!BB34","v":0},{"$f":"Risks!BC34","v":"[Insert comments here]"},{"$f":"Risks!BD34","v":0},{"$f":"Risks!BE34","v":"[Insert comments here]"},{"$f":"Risks!BF34","v":0},{"$f":"Risks!BG34","v":"[Insert comments here]"},{"$f":"Risks!BH34","v":0},{"$f":"Risks!BI34","v":"[Insert comments here]"},{"$f":"Risks!BJ34","v":0},{"$f":"Risks!BK34","v":"[Insert comments here]"},{"$f":"Risks!BL34","v":0},{"$f":"Risks!BM34","v":"[Insert comments here]"},{"$f":"Risks!BN34","v":0},{"$f":"Risks!BO34","v":"[Insert comments here]"},{"$f":"Risks!BP34","v":0},{"$f":"Risks!BQ34","v":"[Insert comments here]"},{"$f":"Risks!BR34","v":0},{"$f":"Risks!BS34","v":"[Insert comments here]"},{"$f":"Risks!BT34","v":0},{"$f":"Risks!BU34","v":"[Insert comments here]"},{"$f":"Risks!BV34","v":0},{"$f":"Risks!BW34","v":"[Insert comments here]"},{"$f":"Risks!BX34","v":0},{"$f":"Risks!BY34","v":"[Insert comments here]"},{"$f":"Risks!BZ34","v":0},{"$f":"Risks!CA34","v":"[Insert comments here]"},{"$f":"Risks!CB34","v":0},{"$f":"Risks!CC34","v":"[Insert comments here]"},{"$f":"Risks!CD34","v":0},{"$f":"Risks!CE34","v":"[Insert comments here]"},null,null,null,null,{"$f":"Risks!CJ34","v":0},{"$f":"Risks!CK34","v":"[Insert comments here]"}]
[null,null,"Equality",{"$f":"Risks!D35","v":2},{"$f":"Risks!E35","v":"high risks at raw and manufacturing levels, disability issues in use"},{"$f":"Risks!F35","v":2},{"$f":"Risks!G35","v":"high risks at raw and manufacturing levels, disability issues in use"},{"$f":"Risks!H35","v":2},{"$f":"Risks!I35","v":"high risks at raw and manufacturing levels, disability issues in use"},{"$f":"Risks!J35","v":2},{"$f":"Risks!K35","v":"high risks at raw and manufacturing levels, disability issues in use"},{"$f":"Risks!L35","v":2},{"$f":"Risks!M35","v":"high risks at raw and manufacturing levels, disability issues in use"},{"$f":"Risks!N35","v":1},{"$f":"Risks!O35","v":"more confidence in suppliers"},{"$f":"Risks!P35","v":2},{"$f":"Risks!Q35","v":"high risks at raw and manufacturing levels, disability issues in use, similar to ICT"},{"$f":"Risks!R35","v":3},{"$f":"Risks!S35","v":"very high risks at raw and manufacturing levels, disability issues in use,"},{"$f":"Risks!T35","v":0},{"$f":"Risks!U35","v":"[Insert comments here]"},{"$f":"Risks!V35","v":0},{"$f":"Risks!W35","v":"[Insert comments here]"},{"$f":"Risks!X35","v":0},{"$f":"Risks!Y35","v":"[Insert comments here]"},{"$f":"Risks!Z35","v":0},{"$f":"Risks!AA35","v":"[Insert comments here]"},{"$f":"Risks!AB35","v":0},{"$f":"Risks!AC35","v":"[Insert comments here]"},{"$f":"Risks!AD35","v":0},{"$f":"Risks!AE35","v":"[Insert comments here]"},{"$f":"Risks!AF35","v":0},{"$f":"Risks!AG35","v":"[Insert comments here]"},{"$f":"Risks!AH35","v":0},{"$f":"Risks!AI35","v":"[Insert comments here]"},{"$f":"Risks!AJ35","v":0},{"$f":"Risks!AK35","v":"[Insert comments here]"},{"$f":"Risks!AL35","v":0},{"$f":"Risks!AM35","v":"[Insert comments here]"},{"$f":"Risks!AN35","v":0},{"$f":"Risks!AO35","v":"[Insert comments here]"},{"$f":"Risks!AP35","v":0},{"$f":"Risks!AQ35","v":"[Insert comments here]"},{"$f":"Risks!AR35","v":0},{"$f":"Risks!AS35","v":"[Insert comments here]"},{"$f":"Risks!AT35","v":0},{"$f":"Risks!AU35","v":"[Insert comments here]"},{"$f":"Risks!AV35","v":0},{"$f":"Risks!AW35","v":"[Insert comments here]"},{"$f":"Risks!AX35","v":0},{"$f":"Risks!AY35","v":"[Insert comments here]"},{"$f":"Risks!AZ35","v":0},{"$f":"Risks!BA35","v":"[Insert comments here]"},{"$f":"Risks!BB35","v":0},{"$f":"Risks!BC35","v":"[Insert comments here]"},{"$f":"Risks!BD35","v":0},{"$f":"Risks!BE35","v":"[Insert comments here]"},{"$f":"Risks!BF35","v":0},{"$f":"Risks!BG35","v":"[Insert comments here]"},{"$f":"Risks!BH35","v":0},{"$f":"Risks!BI35","v":"[Insert comments here]"},{"$f":"Risks!BJ35","v":0},{"$f":"Risks!BK35","v":"[Insert comments here]"},{"$f":"Risks!BL35","v":0},{"$f":"Risks!BM35","v":"[Insert comments here]"},{"$f":"Risks!BN35","v":0},{"$f":"Risks!BO35","v":"[Insert comments here]"},{"$f":"Risks!BP35","v":0},{"$f":"Risks!BQ35","v":"[Insert comments here]"},{"$f":"Risks!BR35","v":0},{"$f":"Risks!BS35","v":"[Insert comments here]"},{"$f":"Risks!BT35","v":0},{"$f":"Risks!BU35","v":"[Insert comments here]"},{"$f":"Risks!BV35","v":0},{"$f":"Risks!BW35","v":"[Insert comments here]"},{"$f":"Risks!BX35","v":0},{"$f":"Risks!BY35","v":"[Insert comments here]"},{"$f":"Risks!BZ35","v":0},{"$f":"Risks!CA35","v":"[Insert comments here]"},{"$f":"Risks!CB35","v":0},{"$f":"Risks!CC35","v":"[Insert comments here]"},{"$f":"Risks!CD35","v":0},{"$f":"Risks!CE35","v":"[Insert comments here]"},null,null,null,null,{"$f":"Risks!CJ35","v":0},{"$f":"Risks!CK35","v":"[Insert comments here]"}]
[null,null,"Fair Work",{"$f":"Risks!D36","v":1},{"$f":"Risks!E36","v":"In-Direct 2nd tier call centre staff may have non fair working environments"},{"$f":"Risks!F36","v":0},{"$f":"Risks!G36","v":"not relevant"},{"$f":"Risks!H36","v":0},{"$f":"Risks!I36","v":"not relevant"},{"$f":"Risks!J36","v":1},{"$f":"Risks!K36","v":"In-Direct 2nd tier call centre staff may have non fair working environments"},{"$f":"Risks!L36","v":1},{"$f":"Risks!M36","v":"In-Direct 2nd tier call centre staff may have non fair working environments"},{"$f":"Risks!N36","v":0},{"$f":"Risks!O36","v":"not relevant"},{"$f":"Risks!P36","v":0},{"$f":"Risks!Q36","v":"not relevant"},{"$f":"Risks!R36","v":0},{"$f":"Risks!S36","v":"not relevant"},{"$f":"Risks!T36","v":0},{"$f":"Risks!U36","v":"[Insert comments here]"},{"$f":"Risks!V36","v":0},{"$f":"Risks!W36","v":"[Insert comments here]"},{"$f":"Risks!X36","v":0},{"$f":"Risks!Y36","v":"[Insert comments here]"},{"$f":"Risks!Z36","v":0},{"$f":"Risks!AA36","v":"[Insert comments here]"},{"$f":"Risks!AB36","v":0},{"$f":"Risks!AC36","v":"[Insert comments here]"},{"$f":"Risks!AD36","v":0},{"$f":"Risks!AE36","v":"[Insert comments here]"},{"$f":"Risks!AF36","v":0},{"$f":"Risks!AG36","v":"[Insert comments here]"},{"$f":"Risks!AH36","v":0},{"$f":"Risks!AI36","v":"[Insert comments here]"},{"$f":"Risks!AJ36","v":0},{"$f":"Risks!AK36","v":"[Insert comments here]"},{"$f":"Risks!AL36","v":0},{"$f":"Risks!AM36","v":"[Insert comments here]"},{"$f":"Risks!AN36","v":0},{"$f":"Risks!AO36","v":"[Insert comments here]"},{"$f":"Risks!AP36","v":0},{"$f":"Risks!AQ36","v":"[Insert comments here]"},{"$f":"Risks!AR36","v":0},{"$f":"Risks!AS36","v":"[Insert comments here]"},{"$f":"Risks!AT36","v":0},{"$f":"Risks!AU36","v":"[Insert comments here]"},{"$f":"Risks!AV36","v":0},{"$f":"Risks!AW36","v":"[Insert comments here]"},{"$f":"Risks!AX36","v":0},{"$f":"Risks!AY36","v":"[Insert comments here]"},{"$f":"Risks!AZ36","v":0},{"$f":"Risks!BA36","v":"[Insert comments here]"},{"$f":"Risks!BB36","v":0},{"$f":"Risks!BC36","v":"[Insert comments here]"},{"$f":"Risks!BD36","v":0},{"$f":"Risks!BE36","v":"[Insert comments here]"},{"$f":"Risks!BF36","v":0},{"$f":"Risks!BG36","v":"[Insert comments here]"},{"$f":"Risks!BH36","v":0},{"$f":"Risks!BI36","v":"[Insert comments here]"},{"$f":"Risks!BJ36","v":0},{"$f":"Risks!BK36","v":"[Insert comments here]"},{"$f":"Risks!BL36","v":0},{"$f":"Risks!BM36","v":"[Insert comments here]"},{"$f":"Risks!BN36","v":0},{"$f":"Risks!BO36","v":"[Insert comments here]"},{"$f":"Risks!BP36","v":0},{"$f":"Risks!BQ36","v":"[Insert comments here]"},{"$f":"Risks!BR36","v":0},{"$f":"Risks!BS36","v":"[Insert comments here]"},{"$f":"Risks!BT36","v":0},{"$f":"Risks!BU36","v":"[Insert comments here]"},{"$f":"Risks!BV36","v":0},{"$f":"Risks!BW36","v":"[Insert comments here]"},{"$f":"Risks!BX36","v":0},{"$f":"Risks!BY36","v":"[Insert comments here]"},{"$f":"Risks!BZ36","v":0},{"$f":"Risks!CA36","v":"[Insert comments here]"},{"$f":"Risks!CB36","v":0},{"$f":"Risks!CC36","v":"[Insert comments here]"},{"$f":"Risks!CD36","v":0},{"$f":"Risks!CE36","v":"[Insert comments here]"},null,null,null,null,{"$f":"Risks!CJ36","v":0},{"$f":"Risks!CK36","v":"[Insert comments here]"}]
[null,null,"",{"$f":"Risks!D37","v":0},{"$f":"Risks!E37","v":"[Insert comments here]"},{"$f":"Risks!F37","v":0},{"$f":"Risks!G37","v":"[Insert comments here]"},{"$f":"Risks!H37","v":0},{"$f":"Risks!I37","v":"[Insert comments here]"},{"$f":"Risks!J37","v":0},{"$f":"Risks!K37","v":"[Insert comments here]"},{"$f":"Risks!L37","v":0},{"$f":"Risks!M37","v":"[Insert comments here]"},{"$f":"Risks!N37","v":0},{"$f":"Risks!O37","v":"[Insert comments here]"},{"$f":"Risks!P37","v":0},{"$f":"Risks!Q37","v":"[Insert comments here]"},{"$f":"Risks!R37","v":0},{"$f":"Risks!S37","v":"[Insert comments here]"},{"$f":"Risks!T37","v":0},{"$f":"Risks!U37","v":"[Insert comments here]"},{"$f":"Risks!V37","v":0},{"$f":"Risks!W37","v":"[Insert comments here]"},{"$f":"Risks!X37","v":0},{"$f":"Risks!Y37","v":"[Insert comments here]"},{"$f":"Risks!Z37","v":0},{"$f":"Risks!AA37","v":"[Insert comments here]"},{"$f":"Risks!AB37","v":0},{"$f":"Risks!AC37","v":"[Insert comments here]"},{"$f":"Risks!AD37","v":0},{"$f":"Risks!AE37","v":"[Insert comments here]"},{"$f":"Risks!AF37","v":0},{"$f":"Risks!AG37","v":"[Insert comments here]"},{"$f":"Risks!AH37","v":0},{"$f":"Risks!AI37","v":"[Insert comments here]"},{"$f":"Risks!AJ37","v":0},{"$f":"Risks!AK37","v":"[Insert comments here]"},{"$f":"Risks!AL37","v":0},{"$f":"Risks!AM37","v":"[Insert comments here]"},{"$f":"Risks!AN37","v":0},{"$f":"Risks!AO37","v":"[Insert comments here]"},{"$f":"Risks!AP37","v":0},{"$f":"Risks!AQ37","v":"[Insert comments here]"},{"$f":"Risks!AR37","v":0},{"$f":"Risks!AS37","v":"[Insert comments here]"},{"$f":"Risks!AT37","v":0},{"$f":"Risks!AU37","v":"[Insert comments here]"},{"$f":"Risks!AV37","v":0},{"$f":"Risks!AW37","v":"[Insert comments here]"},{"$f":"Risks!AX37","v":0},{"$f":"Risks!AY37","v":"[Insert comments here]"},{"$f":"Risks!AZ37","v":0},{"$f":"Risks!BA37","v":"[Insert comments here]"},{"$f":"Risks!BB37","v":0},{"$f":"Risks!BC37","v":"[Insert comments here]"},{"$f":"Risks!BD37","v":0},{"$f":"Risks!BE37","v":"[Insert comments here]"},{"$f":"Risks!BF37","v":0},{"$f":"Risks!BG37","v":"[Insert comments here]"},{"$f":"Risks!BH37","v":0},{"$f":"Risks!BI37","v":"[Insert comments here]"},{"$f":"Risks!BJ37","v":0},{"$f":"Risks!BK37","v":"[Insert comments here]"},{"$f":"Risks!BL37","v":0},{"$f":"Risks!BM37","v":"[Insert comments here]"},{"$f":"Risks!BN37","v":0},{"$f":"Risks!BO37","v":"[Insert comments here]"},{"$f":"Risks!BP37","v":0},{"$f":"Risks!BQ37","v":"[Insert comments here]"},{"$f":"Risks!BR37","v":0},{"$f":"Risks!BS37","v":"[Insert comments here]"},{"$f":"Risks!BT37","v":0},{"$f":"Risks!BU37","v":"[Insert comments here]"},{"$f":"Risks!BV37","v":0},{"$f":"Risks!BW37","v":"[Insert comments here]"},{"$f":"Risks!BX37","v":0},{"$f":"Risks!BY37","v":"[Insert comments here]"},{"$f":"Risks!BZ37","v":0},{"$f":"Risks!CA37","v":"[Insert comments here]"},{"$f":"Risks!CB37","v":0},{"$f":"Risks!CC37","v":"[Insert comments here]"},{"$f":"Risks!CD37","v":0},{"$f":"Risks!CE37","v":"[Insert comments here]"},null,null,null,null,{"$f":"Risks!CJ37","v":0},{"$f":"Risks!CK37","v":"[Insert comments here]"}]
[null,null,"",{"$f":"Risks!D38","v":0},{"$f":"Risks!E38","v":"[Insert comments here]"},{"$f":"Risks!F38","v":0},{"$f":"Risks!G38","v":"[Insert comments here]"},{"$f":"Risks!H38","v":0},{"$f":"Risks!I38","v":"[Insert comments here]"},{"$f":"Risks!J38","v":0},{"$f":"Risks!K38","v":"[Insert comments here]"},{"$f":"Risks!L38","v":0},{"$f":"Risks!M38","v":"[Insert comments here]"},{"$f":"Risks!N38","v":0},{"$f":"Risks!O38","v":"[Insert comments here]"},{"$f":"Risks!P38","v":0},{"$f":"Risks!Q38","v":"[Insert comments here]"},{"$f":"Risks!R38","v":0},{"$f":"Risks!S38","v":"[Insert comments here]"},{"$f":"Risks!T38","v":0},{"$f":"Risks!U38","v":"[Insert comments here]"},{"$f":"Risks!V38","v":0},{"$f":"Risks!W38","v":"[Insert comments here]"},{"$f":"Risks!X38","v":0},{"$f":"Risks!Y38","v":"[Insert comments here]"},{"$f":"Risks!Z38","v":0},{"$f":"Risks!AA38","v":"[Insert comments here]"},{"$f":"Risks!AB38","v":0},{"$f":"Risks!AC38","v":"[Insert comments here]"},{"$f":"Risks!AD38","v":0},{"$f":"Risks!AE38","v":"[Insert comments here]"},{"$f":"Risks!AF38","v":0},{"$f":"Risks!AG38","v":"[Insert comments here]"},{"$f":"Risks!AH38","v":0},{"$f":"Risks!AI38","v":"[Insert comments here]"},{"$f":"Risks!AJ38","v":0},{"$f":"Risks!AK38","v":"[Insert comments here]"},{"$f":"Risks!AL38","v":0},{"$f":"Risks!AM38","v":"[Insert comments here]"},{"$f":"Risks!AN38","v":0},{"$f":"Risks!AO38","v":"[Insert comments here]"},{"$f":"Risks!AP38","v":0},{"$f":"Risks!AQ38","v":"[Insert comments here]"},{"$f":"Risks!AR38","v":0},{"$f":"Risks!AS38","v":"[Insert comments here]"},{"$f":"Risks!AT38","v":0},{"$f":"Risks!AU38","v":"[Insert comments here]"},{"$f":"Risks!AV38","v":0},{"$f":"Risks!AW38","v":"[Insert comments here]"},{"$f":"Risks!AX38","v":0},{"$f":"Risks!AY38","v":"[Insert comments here]"},{"$f":"Risks!AZ38","v":0},{"$f":"Risks!BA38","v":"[Insert comments here]"},{"$f":"Risks!BB38","v":0},{"$f":"Risks!BC38","v":"[Insert comments here]"},{"$f":"Risks!BD38","v":0},{"$f":"Risks!BE38","v":"[Insert comments here]"},{"$f":"Risks!BF38","v":0},{"$f":"Risks!BG38","v":"[Insert comments here]"},{"$f":"Risks!BH38","v":0},{"$f":"Risks!BI38","v":"[Insert comments here]"},{"$f":"Risks!BJ38","v":0},{"$f":"Risks!BK38","v":"[Insert comments here]"},{"$f":"Risks!BL38","v":0},{"$f":"Risks!BM38","v":"[Insert comments here]"},{"$f":"Risks!BN38","v":0},{"$f":"Risks!BO38","v":"[Insert comments here]"},{"$f":"Risks!BP38","v":0},{"$f":"Risks!BQ38","v":"[Insert comments here]"},{"$f":"Risks!BR38","v":0},{"$f":"Risks!BS38","v":"[Insert comments here]"},{"$f":"Risks!BT38","v":0},{"$f":"Risks!BU38","v":"[Insert comments here]"},{"$f":"Risks!BV38","v":0},{"$f":"Risks!BW38","v":"[Insert comments here]"},{"$f":"Risks!BX38","v":0},{"$f":"Risks!BY38","v":"[Insert comments here]"},{"$f":"Risks!BZ38","v":0},{"$f":"Risks!CA38","v":"[Insert comments here]"},{"$f":"Risks!CB38","v":0},{"$f":"Risks!CC38","v":"[Insert comments here]"},{"$f":"Risks!CD38","v":0},{"$f":"Risks!CE38","v":"[Insert comments here]"},null,null,null,null,{"$f":"Risks!CJ38","v":0},{"$f":"Risks!CK38","v":"[Insert comments here]"}]
[null,null,"",{"$f":"Risks!D39","v":0},{"$f":"Risks!E39","v":"[Insert comments here]"},{"$f":"Risks!F39","v":0},{"$f":"Risks!G39","v":"[Insert comments here]"},{"$f":"Risks!H39","v":0},{"$f":"Risks!I39","v":"[Insert comments here]"},{"$f":"Risks!J39","v":0},{"$f":"Risks!K39","v":"[Insert comments here]"},{"$f":"Risks!L39","v":0},{"$f":"Risks!M39","v":"[Insert comments here]"},{"$f":"Risks!N39","v":0},{"$f":"Risks!O39","v":"[Insert comments here]"},{"$f":"Risks!P39","v":0},{"$f":"Risks!Q39","v":"[Insert comments here]"},{"$f":"Risks!R39","v":0},{"$f":"Risks!S39","v":"[Insert comments here]"},{"$f":"Risks!T39","v":0},{"$f":"Risks!U39","v":"[Insert comments here]"},{"$f":"Risks!V39","v":0},{"$f":"Risks!W39","v":"[Insert comments here]"},{"$f":"Risks!X39","v":0},{"$f":"Risks!Y39","v":"[Insert comments here]"},{"$f":"Risks!Z39","v":0},{"$f":"Risks!AA39","v":"[Insert comments here]"},{"$f":"Risks!AB39","v":0},{"$f":"Risks!AC39","v":"[Insert comments here]"},{"$f":"Risks!AD39","v":0},{"$f":"Risks!AE39","v":"[Insert comments here]"},{"$f":"Risks!AF39","v":0},{"$f":"Risks!AG39","v":"[Insert comments here]"},{"$f":"Risks!AH39","v":0},{"$f":"Risks!AI39","v":"[Insert comments here]"},{"$f":"Risks!AJ39","v":0},{"$f":"Risks!AK39","v":"[Insert comments here]"},{"$f":"Risks!AL39","v":0},{"$f":"Risks!AM39","v":"[Insert comments here]"},{"$f":"Risks!AN39","v":0},{"$f":"Risks!AO39","v":"[Insert comments here]"},{"$f":"Risks!AP39","v":0},{"$f":"Risks!AQ39","v":"[Insert comments here]"},{"$f":"Risks!AR39","v":0},{"$f":"Risks!AS39","v":"[Insert comments here]"},{"$f":"Risks!AT39","v":0},{"$f":"Risks!AU39","v":"[Insert comments here]"},{"$f":"Risks!AV39","v":0},{"$f":"Risks!AW39","v":"[Insert comments here]"},{"$f":"Risks!AX39","v":0},{"$f":"Risks!AY39","v":"[Insert comments here]"},{"$f":"Risks!AZ39","v":0},{"$f":"Risks!BA39","v":"[Insert comments here]"},{"$f":"Risks!BB39","v":0},{"$f":"Risks!BC39","v":"[Insert comments here]"},{"$f":"Risks!BD39","v":0},{"$f":"Risks!BE39","v":"[Insert comments here]"},{"$f":"Risks!BF39","v":0},{"$f":"Risks!BG39","v":"[Insert comments here]"},{"$f":"Risks!BH39","v":0},{"$f":"Risks!BI39","v":"[Insert comments here]"},{"$f":"Risks!BJ39","v":0},{"$f":"Risks!BK39","v":"[Insert comments here]"},{"$f":"Risks!BL39","v":0},{"$f":"Risks!BM39","v":"[Insert comments here]"},{"$f":"Risks!BN39","v":0},{"$f":"Risks!BO39","v":"[Insert comments here]"},{"$f":"Risks!BP39","v":0},{"$f":"Risks!BQ39","v":"[Insert comments here]"},{"$f":"Risks!BR39","v":0},{"$f":"Risks!BS39","v":"[Insert comments here]"},{"$f":"Risks!BT39","v":0},{"$f":"Risks!BU39","v":"[Insert comments here]"},{"$f":"Risks!BV39","v":0},{"$f":"Risks!BW39","v":"[Insert comments here]"},{"$f":"Risks!BX39","v":0},{"$f":"Risks!BY39","v":"[Insert comments here]"},{"$f":"Risks!BZ39","v":0},{"$f":"Risks!CA39","v":"[Insert comments here]"},{"$f":"Risks!CB39","v":0},{"$f":"Risks!CC39","v":"[Insert comments here]"},{"$f":"Risks!CD39","v":0},{"$f":"Risks!CE39","v":"[Insert comments here]"},null,null,null,null,{"$f":"Risks!CJ39","v":0},{"$f":"Risks!CK39","v":"[Insert comments here]"}]
[null,null,"",{"$f":"Risks!D40","v":0},{"$f":"Risks!E40","v":"[Insert comments here]"},{"$f":"Risks!F40","v":0},{"$f":"Risks!G40","v":"[Insert comments here]"},{"$f":"Risks!H40","v":0},{"$f":"Risks!I40","v":"[Insert comments here]"},{"$f":"Risks!J40","v":0},{"$f":"Risks!K40","v":"[Insert comments here]"},{"$f":"Risks!L40","v":0},{"$f":"Risks!M40","v":"[Insert comments here]"},{"$f":"Risks!N40","v":0},{"$f":"Risks!O40","v":"[Insert comments here]"},{"$f":"Risks!P40","v":0},{"$f":"Risks!Q40","v":"[Insert comments here]"},{"$f":"Risks!R40","v":0},{"$f":"Risks!S40","v":"[Insert comments here]"},{"$f":"Risks!T40","v":0},{"$f":"Risks!U40","v":"[Insert comments here]"},{"$f":"Risks!V40","v":0},{"$f":"Risks!W40","v":"[Insert comments here]"},{"$f":"Risks!X40","v":0},{"$f":"Risks!Y40","v":"[Insert comments here]"},{"$f":"Risks!Z40","v":0},{"$f":"Risks!AA40","v":"[Insert comments here]"},{"$f":"Risks!AB40","v":0},{"$f":"Risks!AC40","v":"[Insert comments here]"},{"$f":"Risks!AD40","v":0},{"$f":"Risks!AE40","v":"[Insert comments here]"},{"$f":"Risks!AF40","v":0},{"$f":"Risks!AG40","v":"[Insert comments here]"},{"$f":"Risks!AH40","v":0},{"$f":"Risks!AI40","v":"[Insert comments here]"},{"$f":"Risks!AJ40","v":0},{"$f":"Risks!AK40","v":"[Insert comments here]"},{"$f":"Risks!AL40","v":0},{"$f":"Risks!AM40","v":"[Insert comments here]"},{"$f":"Risks!AN40","v":0},{"$f":"Risks!AO40","v":"[Insert comments here]"},{"$f":"Risks!AP40","v":0},{"$f":"Risks!AQ40","v":"[Insert comments here]"},{"$f":"Risks!AR40","v":0},{"$f":"Risks!AS40","v":"[Insert comments here]"},{"$f":"Risks!AT40","v":0},{"$f":"Risks!AU40","v":"[Insert comments here]"},{"$f":"Risks!AV40","v":0},{"$f":"Risks!AW40","v":"[Insert comments here]"},{"$f":"Risks!AX40","v":0},{"$f":"Risks!AY40","v":"[Insert comments here]"},{"$f":"Risks!AZ40","v":0},{"$f":"Risks!BA40","v":"[Insert comments here]"},{"$f":"Risks!BB40","v":0},{"$f":"Risks!BC40","v":"[Insert comments here]"},{"$f":"Risks!BD40","v":0},{"$f":"Risks!BE40","v":"[Insert comments here]"},{"$f":"Risks!BF40","v":0},{"$f":"Risks!BG40","v":"[Insert comments here]"},{"$f":"Risks!BH40","v":0},{"$f":"Risks!BI40","v":"[Insert comments here]"},{"$f":"Risks!BJ40","v":0},{"$f":"Risks!BK40","v":"[Insert comments here]"},{"$f":"Risks!BL40","v":0},{"$f":"Risks!BM40","v":"[Insert comments here]"},{"$f":"Risks!BN40","v":0},{"$f":"Risks!BO40","v":"[Insert comments here]"},{"$f":"Risks!BP40","v":0},{"$f":"Risks!BQ40","v":"[Insert comments here]"},{"$f":"Risks!BR40","v":0},{"$f":"Risks!BS40","v":"[Insert comments here]"},{"$f":"Risks!BT40","v":0},{"$f":"Risks!BU40","v":"[Insert comments here]"},{"$f":"Risks!BV40","v":0},{"$f":"Risks!BW40","v":"[Insert comments here]"},{"$f":"Risks!BX40","v":0},{"$f":"Risks!BY40","v":"[Insert comments here]"},{"$f":"Risks!BZ40","v":0},{"$f":"Risks!CA40","v":"[Insert comments here]"},{"$f":"Risks!CB40","v":0},{"$f":"Risks!CC40","v":"[Insert comments here]"},{"$f":"Risks!CD40","v":0},{"$f":"Risks!CE40","v":"[Insert comments here]"},null,null,null,null,{"$f":"Risks!CJ40","v":0},{"$f":"Risks!CK40","v":"[Insert comments here]"}]
[null,null,"",{"$f":"Risks!D41","v":0},{"$f":"Risks!E41","v":"[Insert comments here]"},{"$f":"Risks!F41","v":0},{"$f":"Risks!G41","v":"[Insert comments here]"},{"$f":"Risks!H41","v":0},{"$f":"Risks!I41","v":"[Insert comments here]"},{"$f":"Risks!J41","v":0},{"$f":"Risks!K41","v":"[Insert comments here]"},{"$f":"Risks!L41","v":0},{"$f":"Risks!M41","v":"[Insert comments here]"},{"$f":"Risks!N41","v":0},{"$f":"Risks!O41","v":"[Insert comments here]"},{"$f":"Risks!P41","v":0},{"$f":"Risks!Q41","v":"[Insert comments here]"},{"$f":"Risks!R41","v":0},{"$f":"Risks!S41","v":"[Insert comments here]"},{"$f":"Risks!T41","v":0},{"$f":"Risks!U41","v":"[Insert comments here]"},{"$f":"Risks!V41","v":0},{"$f":"Risks!W41","v":"[Insert comments here]"},{"$f":"Risks!X41","v":0},{"$f":"Risks!Y41","v":"[Insert comments here]"},{"$f":"Risks!Z41","v":0},{"$f":"Risks!AA41","v":"[Insert comments here]"},{"$f":"Risks!AB41","v":0},{"$f":"Risks!AC41","v":"[Insert comments here]"},{"$f":"Risks!AD41","v":0},{"$f":"Risks!AE41","v":"[Insert comments here]"},{"$f":"Risks!AF41","v":0},{"$f":"Risks!AG41","v":"[Insert comments here]"},{"$f":"Risks!AH41","v":0},{"$f":"Risks!AI41","v":"[Insert comments here]"},{"$f":"Risks!AJ41","v":0},{"$f":"Risks!AK41","v":"[Insert comments here]"},{"$f":"Risks!AL41","v":0},{"$f":"Risks!AM41","v":"[Insert comments here]"},{"$f":"Risks!AN41","v":0},{"$f":"Risks!AO41","v":"[Insert comments here]"},{"$f":"Risks!AP41","v":0},{"$f":"Risks!AQ41","v":"[Insert comments here]"},{"$f":"Risks!AR41","v":0},{"$f":"Risks!AS41","v":"[Insert comments here]"},{"$f":"Risks!AT41","v":0},{"$f":"Risks!AU41","v":"[Insert comments here]"},{"$f":"Risks!AV41","v":0},{"$f":"Risks!AW41","v":"[Insert comments here]"},{"$f":"Risks!AX41","v":0},{"$f":"Risks!AY41","v":"[Insert comments here]"},{"$f":"Risks!AZ41","v":0},{"$f":"Risks!BA41","v":"[Insert comments here]"},{"$f":"Risks!BB41","v":0},{"$f":"Risks!BC41","v":"[Insert comments here]"},{"$f":"Risks!BD41","v":0},{"$f":"Risks!BE41","v":"[Insert comments here]"},{"$f":"Risks!BF41","v":0},{"$f":"Risks!BG41","v":"[Insert comments here]"},{"$f":"Risks!BH41","v":0},{"$f":"Risks!BI41","v":"[Insert comments here]"},{"$f":"Risks!BJ41","v":0},{"$f":"Risks!BK41","v":"[Insert comments here]"},{"$f":"Risks!BL41","v":0},{"$f":"Risks!BM41","v":"[Insert comments here]"},{"$f":"Risks!BN41","v":0},{"$f":"Risks!BO41","v":"[Insert comments here]"},{"$f":"Risks!BP41","v":0},{"$f":"Risks!BQ41","v":"[Insert comments here]"},{"$f":"Risks!BR41","v":0},{"$f":"Risks!BS41","v":"[Insert comments here]"},{"$f":"Risks!BT41","v":0},{"$f":"Risks!BU41","v":"[Insert comments here]"},{"$f":"Risks!BV41","v":0},{"$f":"Risks!BW41","v":"[Insert comments here]"},{"$f":"Risks!BX41","v":0},{"$f":"Risks!BY41","v":"[Insert comments here]"},{"$f":"Risks!BZ41","v":0},{"$f":"Risks!CA41","v":"[Insert comments here]"},{"$f":"Risks!CB41","v":0},{"$f":"Risks!CC41","v":"[Insert comments here]"},{"$f":"Risks!CD41","v":0},{"$f":"Risks!CE41","v":"[Insert comments here]"},null,null,null,null,{"$f":"Risks!CJ41","v":0},{"$f":"Risks!CK41","v":"[Insert comments here]"}]
[null,null,"",{"$f":"Risks!D42","v":0},{"$f":"Risks!E42","v":"[Insert comments here]"},{"$f":"Risks!F42","v":0},{"$f":"Risks!G42","v":"[Insert comments here]"},{"$f":"Risks!H42","v":0},{"$f":"Risks!I42","v":"[Insert comments here]"},{"$f":"Risks!J42","v":0},{"$f":"Risks!K42","v":"[Insert comments here]"},{"$f":"Risks!L42","v":0},{"$f":"Risks!M42","v":"[Insert comments here]"},{"$f":"Risks!N42","v":0},{"$f":"Risks!O42","v":"[Insert comments here]"},{"$f":"Risks!P42","v":0},{"$f":"Risks!Q42","v":"[Insert comments here]"},{"$f":"Risks!R42","v":0},{"$f":"Risks!S42","v":"[Insert comments here]"},{"$f":"Risks!T42","v":0},{"$f":"Risks!U42","v":"[Insert comments here]"},{"$f":"Risks!V42","v":0},{"$f":"Risks!W42","v":"[Insert comments here]"},{"$f":"Risks!X42","v":0},{"$f":"Risks!Y42","v":"[Insert comments here]"},{"$f":"Risks!Z42","v":0},{"$f":"Risks!AA42","v":"[Insert comments here]"},{"$f":"Risks!AB42","v":0},{"$f":"Risks!AC42","v":"[Insert comments here]"},{"$f":"Risks!AD42","v":0},{"$f":"Risks!AE42","v":"[Insert comments here]"},{"$f":"Risks!AF42","v":0},{"$f":"Risks!AG42","v":"[Insert comments here]"},{"$f":"Risks!AH42","v":0},{"$f":"Risks!AI42","v":"[Insert comments here]"},{"$f":"Risks!AJ42","v":0},{"$f":"Risks!AK42","v":"[Insert comments here]"},{"$f":"Risks!AL42","v":0},{"$f":"Risks!AM42","v":"[Insert comments here]"},{"$f":"Risks!AN42","v":0},{"$f":"Risks!AO42","v":"[Insert comments here]"},{"$f":"Risks!AP42","v":0},{"$f":"Risks!AQ42","v":"[Insert comments here]"},{"$f":"Risks!AR42","v":0},{"$f":"Risks!AS42","v":"[Insert comments here]"},{"$f":"Risks!AT42","v":0},{"$f":"Risks!AU42","v":"[Insert comments here]"},{"$f":"Risks!AV42","v":0},{"$f":"Risks!AW42","v":"[Insert comments here]"},{"$f":"Risks!AX42","v":0},{"$f":"Risks!AY42","v":"[Insert comments here]"},{"$f":"Risks!AZ42","v":0},{"$f":"Risks!BA42","v":"[Insert comments here]"},{"$f":"Risks!BB42","v":0},{"$f":"Risks!BC42","v":"[Insert comments here]"},{"$f":"Risks!BD42","v":0},{"$f":"Risks!BE42","v":"[Insert comments here]"},{"$f":"Risks!BF42","v":0},{"$f":"Risks!BG42","v":"[Insert comments here]"},{"$f":"Risks!BH42","v":0},{"$f":"Risks!BI42","v":"[Insert comments here]"},{"$f":"Risks!BJ42","v":0},{"$f":"Risks!BK42","v":"[Insert comments here]"},{"$f":"Risks!BL42","v":0},{"$f":"Risks!BM42","v":"[Insert comments here]"},{"$f":"Risks!BN42","v":0},{"$f":"Risks!BO42","v":"[Insert comments here]"},{"$f":"Risks!BP42","v":0},{"$f":"Risks!BQ42","v":"[Insert comments here]"},{"$f":"Risks!BR42","v":0},{"$f":"Risks!BS42","v":"[Insert comments here]"},{"$f":"Risks!BT42","v":0},{"$f":"Risks!BU42","v":"[Insert comments here]"},{"$f":"Risks!BV42","v":0},{"$f":"Risks!BW42","v":"[Insert comments here]"},{"$f":"Risks!BX42","v":0},{"$f":"Risks!BY42","v":"[Insert comments here]"},{"$f":"Risks!BZ42","v":0},{"$f":"Risks!CA42","v":"[Insert comments here]"},{"$f":"Risks!CB42","v":0},{"$f":"Risks!CC42","v":"[Insert comments here]"},{"$f":"Risks!CD42","v":0},{"$f":"Risks!CE42","v":"[Insert comments here]"},null,null,null,null,{"$f":"Risks!CJ42","v":0},{"$f":"Risks!CK42","v":"[Insert comments here]"}]
[null,null,"",{"$f":"Risks!D43","v":0},{"$f":"Risks!E43","v":"[Insert comments here]"},{"$f":"Risks!F43","v":0},{"$f":"Risks!G43","v":"[Insert comments here]"},{"$f":"Risks!H43","v":0},{"$f":"Risks!I43","v":"[Insert comments here]"},{"$f":"Risks!J43","v":0},{"$f":"Risks!K43","v":"[Insert comments here]"},{"$f":"Risks!L43","v":0},{"$f":"Risks!M43","v":"[Insert comments here]"},{"$f":"Risks!N43","v":0},{"$f":"Risks!O43","v":"[Insert comments here]"},{"$f":"Risks!P43","v":0},{"$f":"Risks!Q43","v":"[Insert comments here]"},{"$f":"Risks!R43","v":0},{"$f":"Risks!S43","v":"[Insert comments here]"},{"$f":"Risks!T43","v":0},{"$f":"Risks!U43","v":"[Insert comments here]"},{"$f":"Risks!V43","v":0},{"$f":"Risks!W43","v":"[Insert comments here]"},{"$f":"Risks!X43","v":0},{"$f":"Risks!Y43","v":"[Insert comments here]"},{"$f":"Risks!Z43","v":0},{"$f":"Risks!AA43","v":"[Insert comments here]"},{"$f":"Risks!AB43","v":0},{"$f":"Risks!AC43","v":"[Insert comments here]"},{"$f":"Risks!AD43","v":0},{"$f":"Risks!AE43","v":"[Insert comments here]"},{"$f":"Risks!AF43","v":0},{"$f":"Risks!AG43","v":"[Insert comments here]"},{"$f":"Risks!AH43","v":0},{"$f":"Risks!AI43","v":"[Insert comments here]"},{"$f":"Risks!AJ43","v":0},{"$f":"Risks!AK43","v":"[Insert comments here]"},{"$f":"Risks!AL43","v":0},{"$f":"Risks!AM43","v":"[Insert comments here]"},{"$f":"Risks!AN43","v":0},{"$f":"Risks!AO43","v":"[Insert comments here]"},{"$f":"Risks!AP43","v":0},{"$f":"Risks!AQ43","v":"[Insert comments here]"},{"$f":"Risks!AR43","v":0},{"$f":"Risks!AS43","v":"[Insert comments here]"},{"$f":"Risks!AT43","v":0},{"$f":"Risks!AU43","v":"[Insert comments here]"},{"$f":"Risks!AV43","v":0},{"$f":"Risks!AW43","v":"[Insert comments here]"},{"$f":"Risks!AX43","v":0},{"$f":"Risks!AY43","v":"[Insert comments here]"},{"$f":"Risks!AZ43","v":0},{"$f":"Risks!BA43","v":"[Insert comments here]"},{"$f":"Risks!BB43","v":0},{"$f":"Risks!BC43","v":"[Insert comments here]"},{"$f":"Risks!BD43","v":0},{"$f":"Risks!BE43","v":"[Insert comments here]"},{"$f":"Risks!BF43","v":0},{"$f":"Risks!BG43","v":"[Insert comments here]"},{"$f":"Risks!BH43","v":0},{"$f":"Risks!BI43","v":"[Insert comments here]"},{"$f":"Risks!BJ43","v":0},{"$f":"Risks!BK43","v":"[Insert comments here]"},{"$f":"Risks!BL43","v":0},{"$f":"Risks!BM43","v":"[Insert comments here]"},{"$f":"Risks!BN43","v":0},{"$f":"Risks!BO43","v":"[Insert comments here]"},{"$f":"Risks!BP43","v":0},{"$f":"Risks!BQ43","v":"[Insert comments here]"},{"$f":"Risks!BR43","v":0},{"$f":"Risks!BS43","v":"[Insert comments here]"},{"$f":"Risks!BT43","v":0},{"$f":"Risks!BU43","v":"[Insert comments here]"},{"$f":"Risks!BV43","v":0},{"$f":"Risks!BW43","v":"[Insert comments here]"},{"$f":"Risks!BX43","v":0},{"$f":"Risks!BY43","v":"[Insert comments here]"},{"$f":"Risks!BZ43","v":0},{"$f":"Risks!CA43","v":"[Insert comments here]"},{"$f":"Risks!CB43","v":0},{"$f":"Risks!CC43","v":"[Insert comments here]"},{"$f":"Risks!CD43","v":0},{"$f":"Risks!CE43","v":"[Insert comments here]"},null,null,null,null,{"$f":"Risks!CJ43","v":0},{"$f":"Risks!CK43","v":"[Insert comments here]"}]
[null,null,"",{"$f":"Risks!D44","v":0},{"$f":"Risks!E44","v":"[Insert comments here]"},{"$f":"Risks!F44","v":0},{"$f":"Risks!G44","v":"[Insert comments here]"},{"$f":"Risks!H44","v":0},{"$f":"Risks!I44","v":"[Insert comments here]"},{"$f":"Risks!J44","v":0},{"$f":"Risks!K44","v":"[Insert comments here]"},{"$f":"Risks!L44","v":0},{"$f":"Risks!M44","v":"[Insert comments here]"},{"$f":"Risks!N44","v":0},{"$f":"Risks!O44","v":"[Insert comments here]"},{"$f":"Risks!P44","v":0},{"$f":"Risks!Q44","v":"[Insert comments here]"},{"$f":"Risks!R44","v":0},{"$f":"Risks!S44","v":"[Insert comments here]"},{"$f":"Risks!T44","v":0},{"$f":"Risks!U44","v":"[Insert comments here]"},{"$f":"Risks!V44","v":0},{"$f":"Risks!W44","v":"[Insert comments here]"},{"$f":"Risks!X44","v":0},{"$f":"Risks!Y44","v":"[Insert comments here]"},{"$f":"Risks!Z44","v":0},{"$f":"Risks!AA44","v":"[Insert comments here]"},{"$f":"Risks!AB44","v":0},{"$f":"Risks!AC44","v":"[Insert comments here]"},{"$f":"Risks!AD44","v":0},{"$f":"Risks!AE44","v":"[Insert comments here]"},{"$f":"Risks!AF44","v":0},{"$f":"Risks!AG44","v":"[Insert comments here]"},{"$f":"Risks!AH44","v":0},{"$f":"Risks!AI44","v":"[Insert comments here]"},{"$f":"Risks!AJ44","v":0},{"$f":"Risks!AK44","v":"[Insert comments here]"},{"$f":"Risks!AL44","v":0},{"$f":"Risks!AM44","v":"[Insert comments here]"},{"$f":"Risks!AN44","v":0},{"$f":"Risks!AO44","v":"[Insert comments here]"},{"$f":"Risks!AP44","v":0},{"$f":"Risks!AQ44","v":"[Insert comments here]"},{"$f":"Risks!AR44","v":0},{"$f":"Risks!AS44","v":"[Insert comments here]"},{"$f":"Risks!AT44","v":0},{"$f":"Risks!AU44","v":"[Insert comments here]"},{"$f":"Risks!AV44","v":0},{"$f":"Risks!AW44","v":"[Insert comments here]"},{"$f":"Risks!AX44","v":0},{"$f":"Risks!AY44","v":"[Insert comments here]"},{"$f":"Risks!AZ44","v":0},{"$f":"Risks!BA44","v":"[Insert comments here]"},{"$f":"Risks!BB44","v":0},{"$f":"Risks!BC44","v":"[Insert comments here]"},{"$f":"Risks!BD44","v":0},{"$f":"Risks!BE44","v":"[Insert comments here]"},{"$f":"Risks!BF44","v":0},{"$f":"Risks!BG44","v":"[Insert comments here]"},{"$f":"Risks!BH44","v":0},{"$f":"Risks!BI44","v":"[Insert comments here]"},{"$f":"Risks!BJ44","v":0},{"$f":"Risks!BK44","v":"[Insert comments here]"},{"$f":"Risks!BL44","v":0},{"$f":"Risks!BM44","v":"[Insert comments here]"},{"$f":"Risks!BN44","v":0},{"$f":"Risks!BO44","v":"[Insert comments here]"},{"$f":"Risks!BP44","v":0},{"$f":"Risks!BQ44","v":"[Insert comments here]"},{"$f":"Risks!BR44","v":0},{"$f":"Risks!BS44","v":"[Insert comments here]"},{"$f":"Risks!BT44","v":0},{"$f":"Risks!BU44","v":"[Insert comments here]"},{"$f":"Risks!BV44","v":0},{"$f":"Risks!BW44","v":"[Insert comments here]"},{"$f":"Risks!BX44","v":0},{"$f":"Risks!BY44","v":"[Insert comments here]"},{"$f":"Risks!BZ44","v":0},{"$f":"Risks!CA44","v":"[Insert comments here]"},{"$f":"Risks!CB44","v":0},{"$f":"Risks!CC44","v":"[Insert comments here]"},{"$f":"Risks!CD44","v":0},{"$f":"Risks!CE44","v":"[Insert comments here]"},null,null,null,null,{"$f":"Risks!CJ44","v":0},{"$f":"Risks!CK44","v":"[Insert comments here]"}]
[null,null,"",{"$f":"Risks!D45","v":0},{"$f":"Risks!E45","v":"[Insert comments here]"},{"$f":"Risks!F45","v":0},{"$f":"Risks!G45","v":"[Insert comments here]"},{"$f":"Risks!H45","v":0},{"$f":"Risks!I45","v":"[Insert comments here]"},{"$f":"Risks!J45","v":0},{"$f":"Risks!K45","v":"[Insert comments here]"},{"$f":"Risks!L45","v":0},{"$f":"Risks!M45","v":"[Insert comments here]"},{"$f":"Risks!N45","v":0},{"$f":"Risks!O45","v":"[Insert comments here]"},{"$f":"Risks!P45","v":0},{"$f":"Risks!Q45","v":"[Insert comments here]"},{"$f":"Risks!R45","v":0},{"$f":"Risks!S45","v":"[Insert comments here]"},{"$f":"Risks!T45","v":0},{"$f":"Risks!U45","v":"[Insert comments here]"},{"$f":"Risks!V45","v":0},{"$f":"Risks!W45","v":"[Insert comments here]"},{"$f":"Risks!X45","v":0},{"$f":"Risks!Y45","v":"[Insert comments here]"},{"$f":"Risks!Z45","v":0},{"$f":"Risks!AA45","v":"[Insert comments here]"},{"$f":"Risks!AB45","v":0},{"$f":"Risks!AC45","v":"[Insert comments here]"},{"$f":"Risks!AD45","v":0},{"$f":"Risks!AE45","v":"[Insert comments here]"},{"$f":"Risks!AF45","v":0},{"$f":"Risks!AG45","v":"[Insert comments here]"},{"$f":"Risks!AH45","v":0},{"$f":"Risks!AI45","v":"[Insert comments here]"},{"$f":"Risks!AJ45","v":0},{"$f":"Risks!AK45","v":"[Insert comments here]"},{"$f":"Risks!AL45","v":0},{"$f":"Risks!AM45","v":"[Insert comments here]"},{"$f":"Risks!AN45","v":0},{"$f":"Risks!AO45","v":"[Insert comments here]"},{"$f":"Risks!AP45","v":0},{"$f":"Risks!AQ45","v":"[Insert comments here]"},{"$f":"Risks!AR45","v":0},{"$f":"Risks!AS45","v":"[Insert comments here]"},{"$f":"Risks!AT45","v":0},{"$f":"Risks!AU45","v":"[Insert comments here]"},{"$f":"Risks!AV45","v":0},{"$f":"Risks!AW45","v":"[Insert comments here]"},{"$f":"Risks!AX45","v":0},{"$f":"Risks!AY45","v":"[Insert comments here]"},{"$f":"Risks!AZ45","v":0},{"$f":"Risks!BA45","v":"[Insert comments here]"},{"$f":"Risks!BB45","v":0},{"$f":"Risks!BC45","v":"[Insert comments here]"},{"$f":"Risks!BD45","v":0},{"$f":"Risks!BE45","v":"[Insert comments here]"},{"$f":"Risks!BF45","v":0},{"$f":"Risks!BG45","v":"[Insert comments here]"},{"$f":"Risks!BH45","v":0},{"$f":"Risks!BI45","v":"[Insert comments here]"},{"$f":"Risks!BJ45","v":0},{"$f":"Risks!BK45","v":"[Insert comments here]"},{"$f":"Risks!BL45","v":0},{"$f":"Risks!BM45","v":"[Insert comments here]"},{"$f":"Risks!BN45","v":0},{"$f":"Risks!BO45","v":"[Insert comments here]"},{"$f":"Risks!BP45","v":0},{"$f":"Risks!BQ45","v":"[Insert comments here]"},{"$f":"Risks!BR45","v":0},{"$f":"Risks!BS45","v":"[Insert comments here]"},{"$f":"Risks!BT45","v":0},{"$f":"Risks!BU45","v":"[Insert comments here]"},{"$f":"Risks!BV45","v":0},{"$f":"Risks!BW45","v":"[Insert comments here]"},{"$f":"Risks!BX45","v":0},{"$f":"Risks!BY45","v":"[Insert comments here]"},{"$f":"Risks!BZ45","v":0},{"$f":"Risks!CA45","v":"[Insert comments here]"},{"$f":"Risks!CB45","v":0},{"$f":"Risks!CC45","v":"[Insert comments here]"},{"$f":"Risks!CD45","v":0},{"$f":"Risks!CE45","v":"[Insert comments here]"},null,null,null,null,{"$f":"Risks!CJ45","v":0},{"$f":"Risks!CK45","v":"[Insert comments here]"}]
[null,null,"",{"$f":"Risks!D46","v":0},{"$f":"Risks!E46","v":"[Insert comments here]"},{"$f":"Risks!F46","v":0},{"$f":"Risks!G46","v":"[Insert comments here]"},{"$f":"Risks!H46","v":0},{"$f":"Risks!I46","v":"[Insert comments here]"},{"$f":"Risks!J46","v":0},{"$f":"Risks!K46","v":"[Insert comments here]"},{"$f":"Risks!L46","v":0},{"$f":"Risks!M46","v":"[Insert comments here]"},{"$f":"Risks!N46","v":0},{"$f":"Risks!O46","v":"[Insert comments here]"},{"$f":"Risks!P46","v":0},{"$f":"Risks!Q46","v":"[Insert comments here]"},{"$f":"Risks!R46","v":0},{"$f":"Risks!S46","v":"[Insert comments here]"},{"$f":"Risks!T46","v":0},{"$f":"Risks!U46","v":"[Insert comments here]"},{"$f":"Risks!V46","v":0},{"$f":"Risks!W46","v":"[Insert comments here]"},{"$f":"Risks!X46","v":0},{"$f":"Risks!Y46","v":"[Insert comments here]"},{"$f":"Risks!Z46","v":0},{"$f":"Risks!AA46","v":"[Insert comments here]"},{"$f":"Risks!AB46","v":0},{"$f":"Risks!AC46","v":"[Insert comments here]"},{"$f":"Risks!AD46","v":0},{"$f":"Risks!AE46","v":"[Insert comments here]"},{"$f":"Risks!AF46","v":0},{"$f":"Risks!AG46","v":"[Insert comments here]"},{"$f":"Risks!AH46","v":0},{"$f":"Risks!AI46","v":"[Insert comments here]"},{"$f":"Risks!AJ46","v":0},{"$f":"Risks!AK46","v":"[Insert comments here]"},{"$f":"Risks!AL46","v":0},{"$f":"Risks!AM46","v":"[Insert comments here]"},{"$f":"Risks!AN46","v":0},{"$f":"Risks!AO46","v":"[Insert comments here]"},{"$f":"Risks!AP46","v":0},{"$f":"Risks!AQ46","v":"[Insert comments here]"},{"$f":"Risks!AR46","v":0},{"$f":"Risks!AS46","v":"[Insert comments here]"},{"$f":"Risks!AT46","v":0},{"$f":"Risks!AU46","v":"[Insert comments here]"},{"$f":"Risks!AV46","v":0},{"$f":"Risks!AW46","v":"[Insert comments here]"},{"$f":"Risks!AX46","v":0},{"$f":"Risks!AY46","v":"[Insert comments here]"},{"$f":"Risks!AZ46","v":0},{"$f":"Risks!BA46","v":"[Insert comments here]"},{"$f":"Risks!BB46","v":0},{"$f":"Risks!BC46","v":"[Insert comments here]"},{"$f":"Risks!BD46","v":0},{"$f":"Risks!BE46","v":"[Insert comments here]"},{"$f":"Risks!BF46","v":0},{"$f":"Risks!BG46","v":"[Insert comments here]"},{"$f":"Risks!BH46","v":0},{"$f":"Risks!BI46","v":"[Insert comments here]"},{"$f":"Risks!BJ46","v":0},{"$f":"Risks!BK46","v":"[Insert comments here]"},{"$f":"Risks!BL46","v":0},{"$f":"Risks!BM46","v":"[Insert comments here]"},{"$f":"Risks!BN46","v":0},{"$f":"Risks!BO46","v":"[Insert comments here]"},{"$f":"Risks!BP46","v":0},{"$f":"Risks!BQ46","v":"[Insert comments here]"},{"$f":"Risks!BR46","v":0},{"$f":"Risks!BS46","v":"[Insert comments here]"},{"$f":"Risks!BT46","v":0},{"$f":"Risks!BU46","v":"[Insert comments here]"},{"$f":"Risks!BV46","v":0},{"$f":"Risks!BW46","v":"[Insert comments here]"},{"$f":"Risks!BX46","v":0},{"$f":"Risks!BY46","v":"[Insert comments here]"},{"$f":"Risks!BZ46","v":0},{"$f":"Risks!CA46","v":"[Insert comments here]"},{"$f":"Risks!CB46","v":0},{"$f":"Risks!CC46","v":"[Insert comments here]"},{"$f":"Risks!CD46","v":0},{"$f":"Risks!CE46","v":"[Insert comments here]"},null,null,null,null,{"$f":"Risks!CJ46","v":0},{"$f":"Risks!CK46","v":"[Insert comments here]"}]
[null,null,"",{"$f":"Risks!D47","v":0},{"$f":"Risks!E47","v":"[Insert comments here]"},{"$f":"Risks!F47","v":0},{"$f":"Risks!G47","v":"[Insert comments here]"},{"$f":"Risks!H47","v":0},{"$f":"Risks!I47","v":"[Insert comments here]"},{"$f":"Risks!J47","v":0},{"$f":"Risks!K47","v":"[Insert comments here]"},{"$f":"Risks!L47","v":0},{"$f":"Risks!M47","v":"[Insert comments here]"},{"$f":"Risks!N47","v":0},{"$f":"Risks!O47","v":"[Insert comments here]"},{"$f":"Risks!P47","v":0},{"$f":"Risks!Q47","v":"[Insert comments here]"},{"$f":"Risks!R47","v":0},{"$f":"Risks!S47","v":"[Insert comments here]"},{"$f":"Risks!T47","v":0},{"$f":"Risks!U47","v":"[Insert comments here]"},{"$f":"Risks!V47","v":0},{"$f":"Risks!W47","v":"[Insert comments here]"},{"$f":"Risks!X47","v":0},{"$f":"Risks!Y47","v":"[Insert comments here]"},{"$f":"Risks!Z47","v":0},{"$f":"Risks!AA47","v":"[Insert comments here]"},{"$f":"Risks!AB47","v":0},{"$f":"Risks!AC47","v":"[Insert comments here]"},{"$f":"Risks!AD47","v":0},{"$f":"Risks!AE47","v":"[Insert comments here]"},{"$f":"Risks!AF47","v":0},{"$f":"Risks!AG47","v":"[Insert comments here]"},{"$f":"Risks!AH47","v":0},{"$f":"Risks!AI47","v":"[Insert comments here]"},{"$f":"Risks!AJ47","v":0},{"$f":"Risks!AK47","v":"[Insert comments here]"},{"$f":"Risks!AL47","v":0},{"$f":"Risks!AM47","v":"[Insert comments here]"},{"$f":"Risks!AN47","v":0},{"$f":"Risks!AO47","v":"[Insert comments here]"},{"$f":"Risks!AP47","v":0},{"$f":"Risks!AQ47","v":"[Insert comments here]"},{"$f":"Risks!AR47","v":0},{"$f":"Risks!AS47","v":"[Insert comments here]"},{"$f":"Risks!AT47","v":0},{"$f":"Risks!AU47","v":"[Insert comments here]"},{"$f":"Risks!AV47","v":0},{"$f":"Risks!AW47","v":"[Insert comments here]"},{"$f":"Risks!AX47","v":0},{"$f":"Risks!AY47","v":"[Insert comments here]"},{"$f":"Risks!AZ47","v":0},{"$f":"Risks!BA47","v":"[Insert comments here]"},{"$f":"Risks!BB47","v":0},{"$f":"Risks!BC47","v":"[Insert comments here]"},{"$f":"Risks!BD47","v":0},{"$f":"Risks!BE47","v":"[Insert comments here]"},{"$f":"Risks!BF47","v":0},{"$f":"Risks!BG47","v":"[Insert comments here]"},{"$f":"Risks!BH47","v":0},{"$f":"Risks!BI47","v":"[Insert comments here]"},{"$f":"Risks!BJ47","v":0},{"$f":"Risks!BK47","v":"[Insert comments here]"},{"$f":"Risks!BL47","v":0},{"$f":"Risks!BM47","v":"[Insert comments here]"},{"$f":"Risks!BN47","v":0},{"$f":"Risks!BO47","v":"[Insert comments here]"},{"$f":"Risks!BP47","v":0},{"$f":"Risks!BQ47","v":"[Insert comments here]"},{"$f":"Risks!BR47","v":0},{"$f":"Risks!BS47","v":"[Insert comments here]"},{"$f":"Risks!BT47","v":0},{"$f":"Risks!BU47","v":"[Insert comments here]"},{"$f":"Risks!BV47","v":0},{"$f":"Risks!BW47","v":"[Insert comments here]"},{"$f":"Risks!BX47","v":0},{"$f":"Risks!BY47","v":"[Insert comments here]"},{"$f":"Risks!BZ47","v":0},{"$f":"Risks!CA47","v":"[Insert comments here]"},{"$f":"Risks!CB47","v":0},{"$f":"Risks!CC47","v":"[Insert comments here]"},{"$f":"Risks!CD47","v":0},{"$f":"Risks!CE47","v":"[Insert comments here]"},null,null,null,null,{"$f":"Risks!CJ47","v":0},{"$f":"Risks!CK47","v":"[Insert comments here]"}]
[null,null,"",{"$f":"Risks!D48","v":0},{"$f":"Risks!E48","v":"[Insert comments here]"},{"$f":"Risks!F48","v":0},{"$f":"Risks!G48","v":"[Insert comments here]"},{"$f":"Risks!H48","v":0},{"$f":"Risks!I48","v":"[Insert comments here]"},{"$f":"Risks!J48","v":0},{"$f":"Risks!K48","v":"[Insert comments here]"},{"$f":"Risks!L48","v":0},{"$f":"Risks!M48","v":"[Insert comments here]"},{"$f":"Risks!N48","v":0},{"$f":"Risks!O48","v":"[Insert comments here]"},{"$f":"Risks!P48","v":0},{"$f":"Risks!Q48","v":"[Insert comments here]"},{"$f":"Risks!R48","v":0},{"$f":"Risks!S48","v":"[Insert comments here]"},{"$f":"Risks!T48","v":0},{"$f":"Risks!U48","v":"[Insert comments here]"},{"$f":"Risks!V48","v":0},{"$f":"Risks!W48","v":"[Insert comments here]"},{"$f":"Risks!X48","v":0},{"$f":"Risks!Y48","v":"[Insert comments here]"},{"$f":"Risks!Z48","v":0},{"$f":"Risks!AA48","v":"[Insert comments here]"},{"$f":"Risks!AB48","v":0},{"$f":"Risks!AC48","v":"[Insert comments here]"},{"$f":"Risks!AD48","v":0},{"$f":"Risks!AE48","v":"[Insert comments here]"},{"$f":"Risks!AF48","v":0},{"$f":"Risks!AG48","v":"[Insert comments here]"},{"$f":"Risks!AH48","v":0},{"$f":"Risks!AI48","v":"[Insert comments here]"},{"$f":"Risks!AJ48","v":0},{"$f":"Risks!AK48","v":"[Insert comments here]"},{"$f":"Risks!AL48","v":0},{"$f":"Risks!AM48","v":"[Insert comments here]"},{"$f":"Risks!AN48","v":0},{"$f":"Risks!AO48","v":"[Insert comments here]"},{"$f":"Risks!AP48","v":0},{"$f":"Risks!AQ48","v":"[Insert comments here]"},{"$f":"Risks!AR48","v":0},{"$f":"Risks!AS48","v":"[Insert comments here]"},{"$f":"Risks!AT48","v":0},{"$f":"Risks!AU48","v":"[Insert comments here]"},{"$f":"Risks!AV48","v":0},{"$f":"Risks!AW48","v":"[Insert comments here]"},{"$f":"Risks!AX48","v":0},{"$f":"Risks!AY48","v":"[Insert comments here]"},{"$f":"Risks!AZ48","v":0},{"$f":"Risks!BA48","v":"[Insert comments here]"},{"$f":"Risks!BB48","v":0},{"$f":"Risks!BC48","v":"[Insert comments here]"},{"$f":"Risks!BD48","v":0},{"$f":"Risks!BE48","v":"[Insert comments here]"},{"$f":"Risks!BF48","v":0},{"$f":"Risks!BG48","v":"[Insert comments here]"},{"$f":"Risks!BH48","v":0},{"$f":"Risks!BI48","v":"[Insert comments here]"},{"$f":"Risks!BJ48","v":0},{"$f":"Risks!BK48","v":"[Insert comments here]"},{"$f":"Risks!BL48","v":0},{"$f":"Risks!BM48","v":"[Insert comments here]"},{"$f":"Risks!BN48","v":0},{"$f":"Risks!BO48","v":"[Insert comments here]"},{"$f":"Risks!BP48","v":0},{"$f":"Risks!BQ48","v":"[Insert comments here]"},{"$f":"Risks!BR48","v":0},{"$f":"Risks!BS48","v":"[Insert comments here]"},{"$f":"Risks!BT48","v":0},{"$f":"Risks!BU48","v":"[Insert comments here]"},{"$f":"Risks!BV48","v":0},{"$f":"Risks!BW48","v":"[Insert comments here]"},{"$f":"Risks!BX48","v":0},{"$f":"Risks!BY48","v":"[Insert comments here]"},{"$f":"Risks!BZ48","v":0},{"$f":"Risks!CA48","v":"[Insert comments here]"},{"$f":"Risks!CB48","v":0},{"$f":"Risks!CC48","v":"[Insert comments here]"},{"$f":"Risks!CD48","v":0},{"$f":"Risks!CE48","v":"[Insert comments here]"},null,null,null,null,{"$f":"Risks!CJ48","v":0},{"$f":"Risks!CK48","v":"[Insert comments here]"}]
[null,null,"",{"$f":"Risks!D49","v":0},{"$f":"Risks!E49","v":"[Insert comments here]"},{"$f":"Risks!F49","v":0},{"$f":"Risks!G49","v":"[Insert comments here]"},{"$f":"Risks!H49","v":0},{"$f":"Risks!I49","v":"[Insert comments here]"},{"$f":"Risks!J49","v":0},{"$f":"Risks!K49","v":"[Insert comments here]"},{"$f":"Risks!L49","v":0},{"$f":"Risks!M49","v":"[Insert comments here]"},{"$f":"Risks!N49","v":0},{"$f":"Risks!O49","v":"[Insert comments here]"},{"$f":"Risks!P49","v":0},{"$f":"Risks!Q49","v":"[Insert comments here]"},{"$f":"Risks!R49","v":0},{"$f":"Risks!S49","v":"[Insert comments here]"},{"$f":"Risks!T49","v":0},{"$f":"Risks!U49","v":"[Insert comments here]"},{"$f":"Risks!V49","v":0},{"$f":"Risks!W49","v":"[Insert comments here]"},{"$f":"Risks!X49","v":0},{"$f":"Risks!Y49","v":"[Insert comments here]"},{"$f":"Risks!Z49","v":0},{"$f":"Risks!AA49","v":"[Insert comments here]"},{"$f":"Risks!AB49","v":0},{"$f":"Risks!AC49","v":"[Insert comments here]"},{"$f":"Risks!AD49","v":0},{"$f":"Risks!AE49","v":"[Insert comments here]"},{"$f":"Risks!AF49","v":0},{"$f":"Risks!AG49","v":"[Insert comments here]"},{"$f":"Risks!AH49","v":0},{"$f":"Risks!AI49","v":"[Insert comments here]"},{"$f":"Risks!AJ49","v":0},{"$f":"Risks!AK49","v":"[Insert comments here]"},{"$f":"Risks!AL49","v":0},{"$f":"Risks!AM49","v":"[Insert comments here]"},{"$f":"Risks!AN49","v":0},{"$f":"Risks!AO49","v":"[Insert comments here]"},{"$f":"Risks!AP49","v":0},{"$f":"Risks!AQ49","v":"[Insert comments here]"},{"$f":"Risks!AR49","v":0},{"$f":"Risks!AS49","v":"[Insert comments here]"},{"$f":"Risks!AT49","v":0},{"$f":"Risks!AU49","v":"[Insert comments here]"},{"$f":"Risks!AV49","v":0},{"$f":"Risks!AW49","v":"[Insert comments here]"},{"$f":"Risks!AX49","v":0},{"$f":"Risks!AY49","v":"[Insert comments here]"},{"$f":"Risks!AZ49","v":0},{"$f":"Risks!BA49","v":"[Insert comments here]"},{"$f":"Risks!BB49","v":0},{"$f":"Risks!BC49","v":"[Insert comments here]"},{"$f":"Risks!BD49","v":0},{"$f":"Risks!BE49","v":"[Insert comments here]"},{"$f":"Risks!BF49","v":0},{"$f":"Risks!BG49","v":"[Insert comments here]"},{"$f":"Risks!BH49","v":0},{"$f":"Risks!BI49","v":"[Insert comments here]"},{"$f":"Risks!BJ49","v":0},{"$f":"Risks!BK49","v":"[Insert comments here]"},{"$f":"Risks!BL49","v":0},{"$f":"Risks!BM49","v":"[Insert comments here]"},{"$f":"Risks!BN49","v":0},{"$f":"Risks!BO49","v":"[Insert comments here]"},{"$f":"Risks!BP49","v":0},{"$f":"Risks!BQ49","v":"[Insert comments here]"},{"$f":"Risks!BR49","v":0},{"$f":"Risks!BS49","v":"[Insert comments here]"},{"$f":"Risks!BT49","v":0},{"$f":"Risks!BU49","v":"[Insert comments here]"},{"$f":"Risks!BV49","v":0},{"$f":"Risks!BW49","v":"[Insert comments here]"},{"$f":"Risks!BX49","v":0},{"$f":"Risks!BY49","v":"[Insert comments here]"},{"$f":"Risks!BZ49","v":0},{"$f":"Risks!CA49","v":"[Insert comments here]"},{"$f":"Risks!CB49","v":0},{"$f":"Risks!CC49","v":"[Insert comments here]"},{"$f":"Risks!CD49","v":0},{"$f":"Risks!CE49","v":"[Insert comments here]"},null,null,null,null,{"$f":"Risks!CJ49","v":0},{"$f":"Risks!CK49","v":"[Insert comments here]"}]
[]
[null,null,"Reminder of 'Scope' scores:\n(0= None; 1 = a little; 2 = medium; 3 = a lot)","SCOPE","SCOPE - COMMENTS","SCOPE","SCOPE - COMMENTS","SCOPE","SCOPE - COMMENTS","SCOPE","SCOPE - COMMENTS","SCOPE","SCOPE - COMMENTS","SCOPE","SCOPE - COMMENTS","SCOPE","SCOPE - COMMENTS","SCOPE","SCOPE - COMMENTS","SCOPE","SCOPE - COMMENTS","SCOPE","SCOPE - COMMENTS","SCOPE","SCOPE - COMMENTS","SCOPE","SCOPE - COMMENTS","SCOPE","SCOPE - COMMENTS","SCOPE","SCOPE - COMMENTS","SCOPE","SCOPE - COMMENTS","SCOPE","SCOPE - COMMENTS","SCOPE","SCOPE - COMMENTS","SCOPE","SCOPE - COMMENTS","SCOPE","SCOPE - COMMENTS","SCOPE","SCOPE - COMMENTS","SCOPE","SCOPE - COMMENTS","SCOPE","SCOPE - COMMENTS","SCOPE","SCOPE - COMMENTS","SCOPE","SCOPE - COMMENTS","SCOPE","SCOPE - COMMENTS","SCOPE","SCOPE - COMMENTS","SCOPE","SCOPE - COMMENTS","SCOPE","SCOPE - COMMENTS","SCOPE","SCOPE - COMMENTS","SCOPE","SCOPE - COMMENTS","SCOPE","SCOPE - COMMENTS","SCOPE","SCOPE - COMMENTS","SCOPE","SCOPE - COMMENTS","SCOPE","SCOPE - COMMENTS","SCOPE","SCOPE - COMMENTS","SCOPE","SCOPE - COMMENTS","SCOPE","SCOPE - COMMENTS","SCOPE","SCOPE - COMMENTS","SCOPE","SCOPE - COMMENTS","SCOPE","SCOPE - COMMENTS",null,null,null,null,"SCOPE","SCOPE - COMMENTS"]
[null,"Environmental - SCOPE",{"$f":"IF(INDEX(EnvIssues,ROW()-ROW(C$46))=\"\",\"\",INDEX(EnvIssues,ROW()-ROW(C$46)))","v":"Climate Change"},{"$f":"Scope!D4","v":2},{"$f":"Scope!E4","v":"Scope to enable reuse and enable personal mobile technology to be used and access the Universitys system. Engage with Industry within scope, to develop more appropriate products"},{"$f":"Scope!F4","v":3},{"$f":"Scope!G4","v":"Scope to enable reuse  Engage with Industry within scope, to address reduction in energy during use."},{"$f":"Scope!H4","v":3},{"$f":"Scope!I4","v":"Scope to enable reuse of components  Engage with Industry within scope, to address reduction in energy during use."},{"$f":"Scope!J4","v":3},{"$f":"Scope!K4","v":"Increase Thin Client use.  Scope to enable reuse and enable personal mobile technology to be used and access the Universitys system. Engage with Industry within scope, to develop more appropriate products"},{"$f":"Scope!L4","v":2},{"$f":"Scope!M4","v":"Reduce devices, Reduce use. Reduce paper and consumable use. "},{"$f":"Scope!N4","v":3},{"$f":"Scope!O4","v":"Moving towards  individual ventilation of cages, limit room ventilation, improve building services deisgn"},{"$f":"Scope!P4","v":3},{"$f":"Scope!Q4","v":"A lot of opportunity to improve, especially procedural or behavioural aspects, opportunities to centralise or share, "},{"$f":"Scope!R4","v":3},{"$f":"Scope!S4","v":"Opportunities to influence the market to improve practices and/or change materials"},{"$f":"Scope!T4","v":"0"},{"$f":"Scope!U4","v":"[Insert comments here]"},{"$f":"Scope!V4","v":"0"},{"$f":"Scope!W4","v":"[Insert comments here]"},{"$f":"Scope!X4","v":"0"},{"$f":"Scope!Y4","v":"[Insert comments here]"},{"$f":"Scope!Z4","v":"0"},{"$f":"Scope!AA4","v":"[Insert comments here]"},{"$f":"Scope!AB4","v":"0"},{"$f":"Scope!AC4","v":"[Insert comments here]"},{"$f":"Scope!AD4","v":"0"},{"$f":"Scope!AE4","v":"[Insert comments here]"},{"$f":"Scope!AF4","v":"0"},{"$f":"Scope!AG4","v":"[Insert comments here]"},{"$f":"Scope!AH4","v":"0"},{"$f":"Scope!AI4","v":"[Insert comments here]"},{"$f":"Scope!AJ4","v":"0"},{"$f":"Scope!AK4","v":"[Insert comments here]"},{"$f":"Scope!AL4","v":"0"},{"$f":"Scope!AM4","v":"[Insert comments here]"},{"$f":"Scope!AN4","v":"0"},{"$f":"Scope!AO4","v":"[Insert comments here]"},{"$f":"Scope!AP4","v":"0"},{"$f":"Scope!AQ4","v":"[Insert comments here]"},{"$f":"Scope!AR4","v":"0"},{"$f":"Scope!AS4","v":"[Insert comments here]"},{"$f":"Scope!AT4","v":"0"},{"$f":"Scope!AU4","v":"[Insert comments here]"},{"$f":"Scope!AV4","v":"0"},{"$f":"Scope!AW4","v":"[Insert comments here]"},{"$f":"Scope!AX4","v":"0"},{"$f":"Scope!AY4","v":"[Insert comments here]"},{"$f":"Scope!AZ4","v":"0"},{"$f":"Scope!BA4","v":"[Insert comments here]"},{"$f":"Scope!BB4","v":"0"},{"$f":"Scope!BC4","v":"[Insert comments here]"},{"$f":"Scope!BD4","v":"0"},{"$f":"Scope!BE4","v":"[Insert comments here]"},{"$f":"Scope!BF4","v":"0"},{"$f":"Scope!BG4","v":"[Insert comments here]"},{"$f":"Scope!BH4","v":"0"},{"$f":"Scope!BI4","v":"[Insert comments here]"},{"$f":"Scope!BJ4","v":"0"},{"$f":"Scope!BK4","v":"[Insert comments here]"},{"$f":"Scope!BL4","v":"0"},{"$f":"Scope!BM4","v":"[Insert comments here]"},{"$f":"Scope!BN4","v":"0"},{"$f":"Scope!BO4","v":"[Insert comments here]"},{"$f":"Scope!BP4","v":"0"},{"$f":"Scope!BQ4","v":"[Insert comments here]"},{"$f":"Scope!BR4","v":"0"},{"$f":"Scope!BS4","v":"[Insert comments here]"},{"$f":"Scope!BT4","v":"0"},{"$f":"Scope!BU4","v":"[Insert comments here]"},{"$f":"Scope!BV4","v":"0"},{"$f":"Scope!BW4","v":"[Insert comments here]"},{"$f":"Scope!BX4","v":"0"},{"$f":"Scope!BY4","v":"[Insert comments here]"},{"$f":"Scope!BZ4","v":"0"},{"$f":"Scope!CA4","v":"[Insert comments here]"},{"$f":"Scope!CB4","v":"0"},{"$f":"Scope!CC4","v":"[Insert comments here]"},{"$f":"Scope!CD4","v":"0"},{"$f":"Scope!CE4","v":"[Insert comments here]"},null,null,null,null,{"$f":"Scope!CJ4","v":"0"},{"$f":"Scope!CK4","v":"[Insert comments here]"}]
[null,"Scroll down to view all scores","Materials",{"$f":"Scope!D5","v":3},{"$f":"Scope!E5","v":"Promote devices that are in market to address reduction in scarce and conflict minerals. Work with R&D in industry to research future technology."},{"$f":"Scope!F5","v":1},{"$f":"Scope!G5","v":"Work with R&D in industry to research future technology."},{"$f":"Scope!H5","v":0},{"$f":"Scope!I5","v":"Minimal Scope"},{"$f":"Scope!J5","v":3},{"$f":"Scope!K5","v":"Promote devices that are in market to address reduction in scarce and conflict minerals. Work with R&D in industry to research future technology."},{"$f":"Scope!L5","v":1},{"$f":"Scope!M5","v":"Reduction in consumables. Reuse of devices. Types of paper. Investigate toner supply chain."},{"$f":"Scope!N5","v":2},{"$f":"Scope!O5","v":"Scope to recycle more, build remanufacturing/recycling of old equipment into contracts"},{"$f":"Scope!P5","v":2},{"$f":"Scope!Q5","v":"Opportunity to work with suppliers , share and centralise equipment  "},{"$f":"Scope!R5","v":3},{"$f":"Scope!S5","v":"Opportunities to influence the market to improve practices and/or change materials"},{"$f":"Scope!T5","v":"0"},{"$f":"Scope!U5","v":"[Insert comments here]"},{"$f":"Scope!V5","v":"0"},{"$f":"Scope!W5","v":"[Insert comments here]"},{"$f":"Scope!X5","v":"0"},{"$f":"Scope!Y5","v":"[Insert comments here]"},{"$f":"Scope!Z5","v":"0"},{"$f":"Scope!AA5","v":"[Insert comments here]"},{"$f":"Scope!AB5","v":"0"},{"$f":"Scope!AC5","v":"[Insert comments here]"},{"$f":"Scope!AD5","v":"0"},{"$f":"Scope!AE5","v":"[Insert comments here]"},{"$f":"Scope!AF5","v":"0"},{"$f":"Scope!AG5","v":"[Insert comments here]"},{"$f":"Scope!AH5","v":"0"},{"$f":"Scope!AI5","v":"[Insert comments here]"},{"$f":"Scope!AJ5","v":"0"},{"$f":"Scope!AK5","v":"[Insert comments here]"},{"$f":"Scope!AL5","v":"0"},{"$f":"Scope!AM5","v":"[Insert comments here]"},{"$f":"Scope!AN5","v":"0"},{"$f":"Scope!AO5","v":"[Insert comments here]"},{"$f":"Scope!AP5","v":"0"},{"$f":"Scope!AQ5","v":"[Insert comments here]"},{"$f":"Scope!AR5","v":"0"},{"$f":"Scope!AS5","v":"[Insert comments here]"},{"$f":"Scope!AT5","v":"0"},{"$f":"Scope!AU5","v":"[Insert comments here]"},{"$f":"Scope!AV5","v":"0"},{"$f":"Scope!AW5","v":"[Insert comments here]"},{"$f":"Scope!AX5","v":"0"},{"$f":"Scope!AY5","v":"[Insert comments here]"},{"$f":"Scope!AZ5","v":"0"},{"$f":"Scope!BA5","v":"[Insert comments here]"},{"$f":"Scope!BB5","v":"0"},{"$f":"Scope!BC5","v":"[Insert comments here]"},{"$f":"Scope!BD5","v":"0"},{"$f":"Scope!BE5","v":"[Insert comments here]"},{"$f":"Scope!BF5","v":"0"},{"$f":"Scope!BG5","v":"[Insert comments here]"},{"$f":"Scope!BH5","v":"0"},{"$f":"Scope!BI5","v":"[Insert comments here]"},{"$f":"Scope!BJ5","v":"0"},{"$f":"Scope!BK5","v":"[Insert comments here]"},{"$f":"Scope!BL5","v":"0"},{"$f":"Scope!BM5","v":"[Insert comments here]"},{"$f":"Scope!BN5","v":"0"},{"$f":"Scope!BO5","v":"[Insert comments here]"},{"$f":"Scope!BP5","v":"0"},{"$f":"Scope!BQ5","v":"[Insert comments here]"},{"$f":"Scope!BR5","v":"0"},{"$f":"Scope!BS5","v":"[Insert comments here]"},{"$f":"Scope!BT5","v":"0"},{"$f":"Scope!BU5","v":"[Insert comments here]"},{"$f":"Scope!BV5","v":"0"},{"$f":"Scope!BW5","v":"[Insert comments here]"},{"$f":"Scope!BX5","v":"0"},{"$f":"Scope!BY5","v":"[Insert comments here]"},{"$f":"Scope!BZ5","v":"0"},{"$f":"Scope!CA5","v":"[Insert comments here]"},{"$f":"Scope!CB5","v":"0"},{"$f":"Scope!CC5","v":"[Insert comments here]"},{"$f":"Scope!CD5","v":"0"},{"$f":"Scope!CE5","v":"[Insert comments here]"},null,null,null,null,{"$f":"Scope!CJ5","v":"0"},{"$f":"Scope!CK5","v":"[Insert comments here]"}]
[null,null,"Waste",{"$f":"Scope!D6","v":3},{"$f":"Scope!E6","v":"Promote reuse (at varying levels of the Life Cycle) . Engage suppliers with packaging risk reduction. "},{"$f":"Scope!F6","v":1},{"$f":"Scope!G6","v":"Promote reuse (at varying levels of the Life Cycle) . "},{"$f":"Scope!H6","v":1},{"$f":"Scope!I6","v":"Promote reuse (at varying levels of the Life Cycle) . "},{"$f":"Scope!J6","v":3},{"$f":"Scope!K6","v":"Promote reuse (at varying levels of the Life Cycle) . Engage suppliers with packaging risk reduction. "},{"$f":"Scope!L6","v":1},{"$f":"Scope!M6","v":"MFD uplifts are in place but printers are not reused."},{"$f":"Scope!N6","v":2},{"$f":"Scope!O6","v":"Scope to recycle and reuse more, build remanufacturing/recycling of old equipment into contracts"},{"$f":"Scope!P6","v":3},{"$f":"Scope!Q6","v":"Promote reuse, engage with suppliers to reduce pacakaging"},{"$f":"Scope!R6","v":1},{"$f":"Scope!S6","v":"Area well developed, little scope to reuse "},{"$f":"Scope!T6","v":"0"},{"$f":"Scope!U6","v":"[Insert comments here]"},{"$f":"Scope!V6","v":"0"},{"$f":"Scope!W6","v":"[Insert comments here]"},{"$f":"Scope!X6","v":"0"},{"$f":"Scope!Y6","v":"[Insert comments here]"},{"$f":"Scope!Z6","v":"0"},{"$f":"Scope!AA6","v":"[Insert comments here]"},{"$f":"Scope!AB6","v":"0"},{"$f":"Scope!AC6","v":"[Insert comments here]"},{"$f":"Scope!AD6","v":"0"},{"$f":"Scope!AE6","v":"[Insert comments here]"},{"$f":"Scope!AF6","v":"0"},{"$f":"Scope!AG6","v":"[Insert comments here]"},{"$f":"Scope!AH6","v":"0"},{"$f":"Scope!AI6","v":"[Insert comments here]"},{"$f":"Scope!AJ6","v":"0"},{"$f":"Scope!AK6","v":"[Insert comments here]"},{"$f":"Scope!AL6","v":"0"},{"$f":"Scope!AM6","v":"[Insert comments here]"},{"$f":"Scope!AN6","v":"0"},{"$f":"Scope!AO6","v":"[Insert comments here]"},{"$f":"Scope!AP6","v":"0"},{"$f":"Scope!AQ6","v":"[Insert comments here]"},{"$f":"Scope!AR6","v":"0"},{"$f":"Scope!AS6","v":"[Insert comments here]"},{"$f":"Scope!AT6","v":"0"},{"$f":"Scope!AU6","v":"[Insert comments here]"},{"$f":"Scope!AV6","v":"0"},{"$f":"Scope!AW6","v":"[Insert comments here]"},{"$f":"Scope!AX6","v":"0"},{"$f":"Scope!AY6","v":"[Insert comments here]"},{"$f":"Scope!AZ6","v":"0"},{"$f":"Scope!BA6","v":"[Insert comments here]"},{"$f":"Scope!BB6","v":"0"},{"$f":"Scope!BC6","v":"[Insert comments here]"},{"$f":"Scope!BD6","v":"0"},{"$f":"Scope!BE6","v":"[Insert comments here]"},{"$f":"Scope!BF6","v":"0"},{"$f":"Scope!BG6","v":"[Insert comments here]"},{"$f":"Scope!BH6","v":"0"},{"$f":"Scope!BI6","v":"[Insert comments here]"},{"$f":"Scope!BJ6","v":"0"},{"$f":"Scope!BK6","v":"[Insert comments here]"},{"$f":"Scope!BL6","v":"0"},{"$f":"Scope!BM6","v":"[Insert comments here]"},{"$f":"Scope!BN6","v":"0"},{"$f":"Scope!BO6","v":"[Insert comments here]"},{"$f":"Scope!BP6","v":"0"},{"$f":"Scope!BQ6","v":"[Insert comments here]"},{"$f":"Scope!BR6","v":"0"},{"$f":"Scope!BS6","v":"[Insert comments here]"},{"$f":"Scope!BT6","v":"0"},{"$f":"Scope!BU6","v":"[Insert comments here]"},{"$f":"Scope!BV6","v":"0"},{"$f":"Scope!BW6","v":"[Insert comments here]"},{"$f":"Scope!BX6","v":"0"},{"$f":"Scope!BY6","v":"[Insert comments here]"},{"$f":"Scope!BZ6","v":"0"},{"$f":"Scope!CA6","v":"[Insert comments here]"},{"$f":"Scope!CB6","v":"0"},{"$f":"Scope!CC6","v":"[Insert comments here]"},{"$f":"Scope!CD6","v":"0"},{"$f":"Scope!CE6","v":"[Insert comments here]"},null,null,null,null,{"$f":"Scope!CJ6","v":"0"},{"$f":"Scope!CK6","v":"[Insert comments here]"}]
[null,null,"Hazardous materials",{"$f":"Scope!D7","v":1},{"$f":"Scope!E7","v":"EW is utilised to monitoring factory conditions (with regard to chemical use)"},{"$f":"Scope!F7","v":1},{"$f":"Scope!G7","v":"EW is utilised to monitoring factory conditions (with regard to chemical use)"},{"$f":"Scope!H7","v":1},{"$f":"Scope!I7","v":"EW is utilised to monitoring factory conditions (with regard to chemical use)"},{"$f":"Scope!J7","v":1},{"$f":"Scope!K7","v":"EW is utilised to monitoring factory conditions (with regard to chemical use)"},{"$f":"Scope!L7","v":2},{"$f":"Scope!M7","v":"Toners use and end of life need further analysis."},{"$f":"Scope!N7","v":1},{"$f":"Scope!O7","v":"Little scope outwith of legislation or current procedures, some scope to research less harmful cleaning products"},{"$f":"Scope!P7","v":1},{"$f":"Scope!Q7","v":"EW is utilised to monitoring factory conditions (with regard to chemical use)"},{"$f":"Scope!R7","v":1},{"$f":"Scope!S7","v":"Little scope outwith of legislation or current procedures, some scope to research less harmful cleaning products"},{"$f":"Scope!T7","v":"0"},{"$f":"Scope!U7","v":"[Insert comments here]"},{"$f":"Scope!V7","v":"0"},{"$f":"Scope!W7","v":"[Insert comments here]"},{"$f":"Scope!X7","v":"0"},{"$f":"Scope!Y7","v":"[Insert comments here]"},{"$f":"Scope!Z7","v":"0"},{"$f":"Scope!AA7","v":"[Insert comments here]"},{"$f":"Scope!AB7","v":"0"},{"$f":"Scope!AC7","v":"[Insert comments here]"},{"$f":"Scope!AD7","v":"0"},{"$f":"Scope!AE7","v":"[Insert comments here]"},{"$f":"Scope!AF7","v":"0"},{"$f":"Scope!AG7","v":"[Insert comments here]"},{"$f":"Scope!AH7","v":"0"},{"$f":"Scope!AI7","v":"[Insert comments here]"},{"$f":"Scope!AJ7","v":"0"},{"$f":"Scope!AK7","v":"[Insert comments here]"},{"$f":"Scope!AL7","v":"0"},{"$f":"Scope!AM7","v":"[Insert comments here]"},{"$f":"Scope!AN7","v":"0"},{"$f":"Scope!AO7","v":"[Insert comments here]"},{"$f":"Scope!AP7","v":"0"},{"$f":"Scope!AQ7","v":"[Insert comments here]"},{"$f":"Scope!AR7","v":"0"},{"$f":"Scope!AS7","v":"[Insert comments here]"},{"$f":"Scope!AT7","v":"0"},{"$f":"Scope!AU7","v":"[Insert comments here]"},{"$f":"Scope!AV7","v":"0"},{"$f":"Scope!AW7","v":"[Insert comments here]"},{"$f":"Scope!AX7","v":"0"},{"$f":"Scope!AY7","v":"[Insert comments here]"},{"$f":"Scope!AZ7","v":"0"},{"$f":"Scope!BA7","v":"[Insert comments here]"},{"$f":"Scope!BB7","v":"0"},{"$f":"Scope!BC7","v":"[Insert comments here]"},{"$f":"Scope!BD7","v":"0"},{"$f":"Scope!BE7","v":"[Insert comments here]"},{"$f":"Scope!BF7","v":"0"},{"$f":"Scope!BG7","v":"[Insert comments here]"},{"$f":"Scope!BH7","v":"0"},{"$f":"Scope!BI7","v":"[Insert comments here]"},{"$f":"Scope!BJ7","v":"0"},{"$f":"Scope!BK7","v":"[Insert comments here]"},{"$f":"Scope!BL7","v":"0"},{"$f":"Scope!BM7","v":"[Insert comments here]"},{"$f":"Scope!BN7","v":"0"},{"$f":"Scope!BO7","v":"[Insert comments here]"},{"$f":"Scope!BP7","v":"0"},{"$f":"Scope!BQ7","v":"[Insert comments here]"},{"$f":"Scope!BR7","v":"0"},{"$f":"Scope!BS7","v":"[Insert comments here]"},{"$f":"Scope!BT7","v":"0"},{"$f":"Scope!BU7","v":"[Insert comments here]"},{"$f":"Scope!BV7","v":"0"},{"$f":"Scope!BW7","v":"[Insert comments here]"},{"$f":"Scope!BX7","v":"0"},{"$f":"Scope!BY7","v":"[Insert comments here]"},{"$f":"Scope!BZ7","v":"0"},{"$f":"Scope!CA7","v":"[Insert comments here]"},{"$f":"Scope!CB7","v":"0"},{"$f":"Scope!CC7","v":"[Insert comments here]"},{"$f":"Scope!CD7","v":"0"},{"$f":"Scope!CE7","v":"[Insert comments here]"},null,null,null,null,{"$f":"Scope!CJ7","v":"0"},{"$f":"Scope!CK7","v":"[Insert comments here]"}]
[null,null,"Biodiversity",{"$f":"Scope!D8","v":0},{"$f":"Scope!E8","v":"Minimal Scope outwith the current legislation"},{"$f":"Scope!F8","v":0},{"$f":"Scope!G8","v":"Minimal Scope outwith the current legislation"},{"$f":"Scope!H8","v":0},{"$f":"Scope!I8","v":"Minimal Scope outwith the current legislation"},{"$f":"Scope!J8","v":0},{"$f":"Scope!K8","v":"Minimal Scope outwith the current legislation"},{"$f":"Scope!L8","v":0},{"$f":"Scope!M8","v":"Minimal Scope outwith the current legislation"},{"$f":"Scope!N8","v":0},{"$f":"Scope!O8","v":"Minimal Scope outwith the current legislation"},{"$f":"Scope!P8","v":0},{"$f":"Scope!Q8","v":"Minimal Scope outwith the current legislation"},{"$f":"Scope!R8","v":0},{"$f":"Scope!S8","v":"Minimal Scope outwith the current legislation"},{"$f":"Scope!T8","v":"0"},{"$f":"Scope!U8","v":"[Insert comments here]"},{"$f":"Scope!V8","v":"0"},{"$f":"Scope!W8","v":"[Insert comments here]"},{"$f":"Scope!X8","v":"0"},{"$f":"Scope!Y8","v":"[Insert comments here]"},{"$f":"Scope!Z8","v":"0"},{"$f":"Scope!AA8","v":"[Insert comments here]"},{"$f":"Scope!AB8","v":"0"},{"$f":"Scope!AC8","v":"[Insert comments here]"},{"$f":"Scope!AD8","v":"0"},{"$f":"Scope!AE8","v":"[Insert comments here]"},{"$f":"Scope!AF8","v":"0"},{"$f":"Scope!AG8","v":"[Insert comments here]"},{"$f":"Scope!AH8","v":"0"},{"$f":"Scope!AI8","v":"[Insert comments here]"},{"$f":"Scope!AJ8","v":"0"},{"$f":"Scope!AK8","v":"[Insert comments here]"},{"$f":"Scope!AL8","v":"0"},{"$f":"Scope!AM8","v":"[Insert comments here]"},{"$f":"Scope!AN8","v":"0"},{"$f":"Scope!AO8","v":"[Insert comments here]"},{"$f":"Scope!AP8","v":"0"},{"$f":"Scope!AQ8","v":"[Insert comments here]"},{"$f":"Scope!AR8","v":"0"},{"$f":"Scope!AS8","v":"[Insert comments here]"},{"$f":"Scope!AT8","v":"0"},{"$f":"Scope!AU8","v":"[Insert comments here]"},{"$f":"Scope!AV8","v":"0"},{"$f":"Scope!AW8","v":"[Insert comments here]"},{"$f":"Scope!AX8","v":"0"},{"$f":"Scope!AY8","v":"[Insert comments here]"},{"$f":"Scope!AZ8","v":"0"},{"$f":"Scope!BA8","v":"[Insert comments here]"},{"$f":"Scope!BB8","v":"0"},{"$f":"Scope!BC8","v":"[Insert comments here]"},{"$f":"Scope!BD8","v":"0"},{"$f":"Scope!BE8","v":"[Insert comments here]"},{"$f":"Scope!BF8","v":"0"},{"$f":"Scope!BG8","v":"[Insert comments here]"},{"$f":"Scope!BH8","v":"0"},{"$f":"Scope!BI8","v":"[Insert comments here]"},{"$f":"Scope!BJ8","v":"0"},{"$f":"Scope!BK8","v":"[Insert comments here]"},{"$f":"Scope!BL8","v":"0"},{"$f":"Scope!BM8","v":"[Insert comments here]"},{"$f":"Scope!BN8","v":"0"},{"$f":"Scope!BO8","v":"[Insert comments here]"},{"$f":"Scope!BP8","v":"0"},{"$f":"Scope!BQ8","v":"[Insert comments here]"},{"$f":"Scope!BR8","v":"0"},{"$f":"Scope!BS8","v":"[Insert comments here]"},{"$f":"Scope!BT8","v":"0"},{"$f":"Scope!BU8","v":"[Insert comments here]"},{"$f":"Scope!BV8","v":"0"},{"$f":"Scope!BW8","v":"[Insert comments here]"},{"$f":"Scope!BX8","v":"0"},{"$f":"Scope!BY8","v":"[Insert comments here]"},{"$f":"Scope!BZ8","v":"0"},{"$f":"Scope!CA8","v":"[Insert comments here]"},{"$f":"Scope!CB8","v":"0"},{"$f":"Scope!CC8","v":"[Insert comments here]"},{"$f":"Scope!CD8","v":"0"},{"$f":"Scope!CE8","v":"[Insert comments here]"},null,null,null,null,{"$f":"Scope!CJ8","v":"0"},{"$f":"Scope!CK8","v":"[Insert comments here]"}]
[null,null,"Heritage",{"$f":"Scope!D9","v":"0"},{"$f":"Scope!E9","v":"Minimal Scope"},{"$f":"Scope!F9","v":"0"},{"$f":"Scope!G9","v":"Minimal Scope"},{"$f":"Scope!H9","v":"0"},{"$f":"Scope!I9","v":"Minimal Scope"},{"$f":"Scope!J9","v":"0"},{"$f":"Scope!K9","v":"Minimal Scope"},{"$f":"Scope!L9","v":0},{"$f":"Scope!M9","v":"Minimal Scope"},{"$f":"Scope!N9","v":0},{"$f":"Scope!O9","v":"Minimal Scope outwith the current legislation"},{"$f":"Scope!P9","v":"0"},{"$f":"Scope!Q9","v":"[Insert comments here]"},{"$f":"Scope!R9","v":"0"},{"$f":"Scope!S9","v":"[Insert comments here]"},{"$f":"Scope!T9","v":"0"},{"$f":"Scope!U9","v":"[Insert comments here]"},{"$f":"Scope!V9","v":"0"},{"$f":"Scope!W9","v":"[Insert comments here]"},{"$f":"Scope!X9","v":"0"},{"$f":"Scope!Y9","v":"[Insert comments here]"},{"$f":"Scope!Z9","v":"0"},{"$f":"Scope!AA9","v":"[Insert comments here]"},{"$f":"Scope!AB9","v":"0"},{"$f":"Scope!AC9","v":"[Insert comments here]"},{"$f":"Scope!AD9","v":"0"},{"$f":"Scope!AE9","v":"[Insert comments here]"},{"$f":"Scope!AF9","v":"0"},{"$f":"Scope!AG9","v":"[Insert comments here]"},{"$f":"Scope!AH9","v":"0"},{"$f":"Scope!AI9","v":"[Insert comments here]"},{"$f":"Scope!AJ9","v":"0"},{"$f":"Scope!AK9","v":"[Insert comments here]"},{"$f":"Scope!AL9","v":"0"},{"$f":"Scope!AM9","v":"[Insert comments here]"},{"$f":"Scope!AN9","v":"0"},{"$f":"Scope!AO9","v":"[Insert comments here]"},{"$f":"Scope!AP9","v":"0"},{"$f":"Scope!AQ9","v":"[Insert comments here]"},{"$f":"Scope!AR9","v":"0"},{"$f":"Scope!AS9","v":"[Insert comments here]"},{"$f":"Scope!AT9","v":"0"},{"$f":"Scope!AU9","v":"[Insert comments here]"},{"$f":"Scope!AV9","v":"0"},{"$f":"Scope!AW9","v":"[Insert comments here]"},{"$f":"Scope!AX9","v":"0"},{"$f":"Scope!AY9","v":"[Insert comments here]"},{"$f":"Scope!AZ9","v":"0"},{"$f":"Scope!BA9","v":"[Insert comments here]"},{"$f":"Scope!BB9","v":"0"},{"$f":"Scope!BC9","v":"[Insert comments here]"},{"$f":"Scope!BD9","v":"0"},{"$f":"Scope!BE9","v":"[Insert comments here]"},{"$f":"Scope!BF9","v":"0"},{"$f":"Scope!BG9","v":"[Insert comments here]"},{"$f":"Scope!BH9","v":"0"},{"$f":"Scope!BI9","v":"[Insert comments here]"},{"$f":"Scope!BJ9","v":"0"},{"$f":"Scope!BK9","v":"[Insert comments here]"},{"$f":"Scope!BL9","v":"0"},{"$f":"Scope!BM9","v":"[Insert comments here]"},{"$f":"Scope!BN9","v":"0"},{"$f":"Scope!BO9","v":"[Insert comments here]"},{"$f":"Scope!BP9","v":"0"},{"$f":"Scope!BQ9","v":"[Insert comments here]"},{"$f":"Scope!BR9","v":"0"},{"$f":"Scope!BS9","v":"[Insert comments here]"},{"$f":"Scope!BT9","v":"0"},{"$f":"Scope!BU9","v":"[Insert comments here]"},{"$f":"Scope!BV9","v":"0"},{"$f":"Scope!BW9","v":"[Insert comments here]"},{"$f":"Scope!BX9","v":"0"},{"$f":"Scope!BY9","v":"[Insert comments here]"},{"$f":"Scope!BZ9","v":"0"},{"$f":"Scope!CA9","v":"[Insert comments here]"},{"$f":"Scope!CB9","v":"0"},{"$f":"Scope!CC9","v":"[Insert comments here]"},{"$f":"Scope!CD9","v":"0"},{"$f":"Scope!CE9","v":"[Insert comments here]"},null,null,null,null,{"$f":"Scope!CJ9","v":"0"},{"$f":"Scope!CK9","v":"[Insert comments here]"}]
[null,null,"Water",{"$f":"Scope!D10","v":0},{"$f":"Scope!E10","v":"Minimal Scope"},{"$f":"Scope!F10","v":0},{"$f":"Scope!G10","v":"Minimal Scope"},{"$f":"Scope!H10","v":0},{"$f":"Scope!I10","v":"Minimal Scope"},{"$f":"Scope!J10","v":0},{"$f":"Scope!K10","v":"Minimal Scope"},{"$f":"Scope!L10","v":0},{"$f":"Scope!M10","v":"Minimal Scope"},{"$f":"Scope!N10","v":1},{"$f":"Scope!O10","v":"Some scope to reduce amount of water used in washing, market already quite mature"},{"$f":"Scope!P10","v":1},{"$f":"Scope!Q10","v":"Scope with regards to DI water, move to centralised systems"},{"$f":"Scope!R10","v":0},{"$f":"Scope!S10","v":"Minimal Scope"},{"$f":"Scope!T10","v":"0"},{"$f":"Scope!U10","v":"[Insert comments here]"},{"$f":"Scope!V10","v":"0"},{"$f":"Scope!W10","v":"[Insert comments here]"},{"$f":"Scope!X10","v":"0"},{"$f":"Scope!Y10","v":"[Insert comments here]"},{"$f":"Scope!Z10","v":"0"},{"$f":"Scope!AA10","v":"[Insert comments here]"},{"$f":"Scope!AB10","v":"0"},{"$f":"Scope!AC10","v":"[Insert comments here]"},{"$f":"Scope!AD10","v":"0"},{"$f":"Scope!AE10","v":"[Insert comments here]"},{"$f":"Scope!AF10","v":"0"},{"$f":"Scope!AG10","v":"[Insert comments here]"},{"$f":"Scope!AH10","v":"0"},{"$f":"Scope!AI10","v":"[Insert comments here]"},{"$f":"Scope!AJ10","v":"0"},{"$f":"Scope!AK10","v":"[Insert comments here]"},{"$f":"Scope!AL10","v":"0"},{"$f":"Scope!AM10","v":"[Insert comments here]"},{"$f":"Scope!AN10","v":"0"},{"$f":"Scope!AO10","v":"[Insert comments here]"},{"$f":"Scope!AP10","v":"0"},{"$f":"Scope!AQ10","v":"[Insert comments here]"},{"$f":"Scope!AR10","v":"0"},{"$f":"Scope!AS10","v":"[Insert comments here]"},{"$f":"Scope!AT10","v":"0"},{"$f":"Scope!AU10","v":"[Insert comments here]"},{"$f":"Scope!AV10","v":"0"},{"$f":"Scope!AW10","v":"[Insert comments here]"},{"$f":"Scope!AX10","v":"0"},{"$f":"Scope!AY10","v":"[Insert comments here]"},{"$f":"Scope!AZ10","v":"0"},{"$f":"Scope!BA10","v":"[Insert comments here]"},{"$f":"Scope!BB10","v":"0"},{"$f":"Scope!BC10","v":"[Insert comments here]"},{"$f":"Scope!BD10","v":"0"},{"$f":"Scope!BE10","v":"[Insert comments here]"},{"$f":"Scope!BF10","v":"0"},{"$f":"Scope!BG10","v":"[Insert comments here]"},{"$f":"Scope!BH10","v":"0"},{"$f":"Scope!BI10","v":"[Insert comments here]"},{"$f":"Scope!BJ10","v":"0"},{"$f":"Scope!BK10","v":"[Insert comments here]"},{"$f":"Scope!BL10","v":"0"},{"$f":"Scope!BM10","v":"[Insert comments here]"},{"$f":"Scope!BN10","v":"0"},{"$f":"Scope!BO10","v":"[Insert comments here]"},{"$f":"Scope!BP10","v":"0"},{"$f":"Scope!BQ10","v":"[Insert comments here]"},{"$f":"Scope!BR10","v":"0"},{"$f":"Scope!BS10","v":"[Insert comments here]"},{"$f":"Scope!BT10","v":"0"},{"$f":"Scope!BU10","v":"[Insert comments here]"},{"$f":"Scope!BV10","v":"0"},{"$f":"Scope!BW10","v":"[Insert comments here]"},{"$f":"Scope!BX10","v":"0"},{"$f":"Scope!BY10","v":"[Insert comments here]"},{"$f":"Scope!BZ10","v":"0"},{"$f":"Scope!CA10","v":"[Insert comments here]"},{"$f":"Scope!CB10","v":"0"},{"$f":"Scope!CC10","v":"[Insert comments here]"},{"$f":"Scope!CD10","v":"0"},{"$f":"Scope!CE10","v":"[Insert comments here]"},null,null,null,null,{"$f":"Scope!CJ10","v":"0"},{"$f":"Scope!CK10","v":"[Insert comments here]"}]
[null,null,"",{"$f":"Scope!D11","v":"0"},{"$f":"Scope!E11","v":"[Insert comments here]"},{"$f":"Scope!F11","v":"0"},{"$f":"Scope!G11","v":"[Insert comments here]"},{"$f":"Scope!H11","v":"0"},{"$f":"Scope!I11","v":"[Insert comments here]"},{"$f":"Scope!J11","v":"0"},{"$f":"Scope!K11","v":"[Insert comments here]"},{"$f":"Scope!L11","v":"0"},{"$f":"Scope!M11","v":"[Insert comments here]"},{"$f":"Scope!N11","v":"0"},{"$f":"Scope!O11","v":"[Insert comments here]"},{"$f":"Scope!P11","v":"0"},{"$f":"Scope!Q11","v":"[Insert comments here]"},{"$f":"Scope!R11","v":"0"},{"$f":"Scope!S11","v":"[Insert comments here]"},{"$f":"Scope!T11","v":"0"},{"$f":"Scope!U11","v":"[Insert comments here]"},{"$f":"Scope!V11","v":"0"},{"$f":"Scope!W11","v":"[Insert comments here]"},{"$f":"Scope!X11","v":"0"},{"$f":"Scope!Y11","v":"[Insert comments here]"},{"$f":"Scope!Z11","v":"0"},{"$f":"Scope!AA11","v":"[Insert comments here]"},{"$f":"Scope!AB11","v":"0"},{"$f":"Scope!AC11","v":"[Insert comments here]"},{"$f":"Scope!AD11","v":"0"},{"$f":"Scope!AE11","v":"[Insert comments here]"},{"$f":"Scope!AF11","v":"0"},{"$f":"Scope!AG11","v":"[Insert comments here]"},{"$f":"Scope!AH11","v":"0"},{"$f":"Scope!AI11","v":"[Insert comments here]"},{"$f":"Scope!AJ11","v":"0"},{"$f":"Scope!AK11","v":"[Insert comments here]"},{"$f":"Scope!AL11","v":"0"},{"$f":"Scope!AM11","v":"[Insert comments here]"},{"$f":"Scope!AN11","v":"0"},{"$f":"Scope!AO11","v":"[Insert comments here]"},{"$f":"Scope!AP11","v":"0"},{"$f":"Scope!AQ11","v":"[Insert comments here]"},{"$f":"Scope!AR11","v":"0"},{"$f":"Scope!AS11","v":"[Insert comments here]"},{"$f":"Scope!AT11","v":"0"},{"$f":"Scope!AU11","v":"[Insert comments here]"},{"$f":"Scope!AV11","v":"0"},{"$f":"Scope!AW11","v":"[Insert comments here]"},{"$f":"Scope!AX11","v":"0"},{"$f":"Scope!AY11","v":"[Insert comments here]"},{"$f":"Scope!AZ11","v":"0"},{"$f":"Scope!BA11","v":"[Insert comments here]"},{"$f":"Scope!BB11","v":"0"},{"$f":"Scope!BC11","v":"[Insert comments here]"},{"$f":"Scope!BD11","v":"0"},{"$f":"Scope!BE11","v":"[Insert comments here]"},{"$f":"Scope!BF11","v":"0"},{"$f":"Scope!BG11","v":"[Insert comments here]"},{"$f":"Scope!BH11","v":"0"},{"$f":"Scope!BI11","v":"[Insert comments here]"},{"$f":"Scope!BJ11","v":"0"},{"$f":"Scope!BK11","v":"[Insert comments here]"},{"$f":"Scope!BL11","v":"0"},{"$f":"Scope!BM11","v":"[Insert comments here]"},{"$f":"Scope!BN11","v":"0"},{"$f":"Scope!BO11","v":"[Insert comments here]"},{"$f":"Scope!BP11","v":"0"},{"$f":"Scope!BQ11","v":"[Insert comments here]"},{"$f":"Scope!BR11","v":"0"},{"$f":"Scope!BS11","v":"[Insert comments here]"},{"$f":"Scope!BT11","v":"0"},{"$f":"Scope!BU11","v":"[Insert comments here]"},{"$f":"Scope!BV11","v":"0"},{"$f":"Scope!BW11","v":"[Insert comments here]"},{"$f":"Scope!BX11","v":"0"},{"$f":"Scope!BY11","v":"[Insert comments here]"},{"$f":"Scope!BZ11","v":"0"},{"$f":"Scope!CA11","v":"[Insert comments here]"},{"$f":"Scope!CB11","v":"0"},{"$f":"Scope!CC11","v":"[Insert comments here]"},{"$f":"Scope!CD11","v":"0"},{"$f":"Scope!CE11","v":"[Insert comments here]"},null,null,null,null,{"$f":"Scope!CJ11","v":"0"},{"$f":"Scope!CK11","v":"[Insert comments here]"}]
[null,null,"",{"$f":"Scope!D12","v":"0"},{"$f":"Scope!E12","v":"[Insert comments here]"},{"$f":"Scope!F12","v":"0"},{"$f":"Scope!G12","v":"[Insert comments here]"},{"$f":"Scope!H12","v":"0"},{"$f":"Scope!I12","v":"[Insert comments here]"},{"$f":"Scope!J12","v":"0"},{"$f":"Scope!K12","v":"[Insert comments here]"},{"$f":"Scope!L12","v":"0"},{"$f":"Scope!M12","v":"[Insert comments here]"},{"$f":"Scope!N12","v":"0"},{"$f":"Scope!O12","v":"[Insert comments here]"},{"$f":"Scope!P12","v":"0"},{"$f":"Scope!Q12","v":"[Insert comments here]"},{"$f":"Scope!R12","v":"0"},{"$f":"Scope!S12","v":"[Insert comments here]"},{"$f":"Scope!T12","v":"0"},{"$f":"Scope!U12","v":"[Insert comments here]"},{"$f":"Scope!V12","v":"0"},{"$f":"Scope!W12","v":"[Insert comments here]"},{"$f":"Scope!X12","v":"0"},{"$f":"Scope!Y12","v":"[Insert comments here]"},{"$f":"Scope!Z12","v":"0"},{"$f":"Scope!AA12","v":"[Insert comments here]"},{"$f":"Scope!AB12","v":"0"},{"$f":"Scope!AC12","v":"[Insert comments here]"},{"$f":"Scope!AD12","v":"0"},{"$f":"Scope!AE12","v":"[Insert comments here]"},{"$f":"Scope!AF12","v":"0"},{"$f":"Scope!AG12","v":"[Insert comments here]"},{"$f":"Scope!AH12","v":"0"},{"$f":"Scope!AI12","v":"[Insert comments here]"},{"$f":"Scope!AJ12","v":"0"},{"$f":"Scope!AK12","v":"[Insert comments here]"},{"$f":"Scope!AL12","v":"0"},{"$f":"Scope!AM12","v":"[Insert comments here]"},{"$f":"Scope!AN12","v":"0"},{"$f":"Scope!AO12","v":"[Insert comments here]"},{"$f":"Scope!AP12","v":"0"},{"$f":"Scope!AQ12","v":"[Insert comments here]"},{"$f":"Scope!AR12","v":"0"},{"$f":"Scope!AS12","v":"[Insert comments here]"},{"$f":"Scope!AT12","v":"0"},{"$f":"Scope!AU12","v":"[Insert comments here]"},{"$f":"Scope!AV12","v":"0"},{"$f":"Scope!AW12","v":"[Insert comments here]"},{"$f":"Scope!AX12","v":"0"},{"$f":"Scope!AY12","v":"[Insert comments here]"},{"$f":"Scope!AZ12","v":"0"},{"$f":"Scope!BA12","v":"[Insert comments here]"},{"$f":"Scope!BB12","v":"0"},{"$f":"Scope!BC12","v":"[Insert comments here]"},{"$f":"Scope!BD12","v":"0"},{"$f":"Scope!BE12","v":"[Insert comments here]"},{"$f":"Scope!BF12","v":"0"},{"$f":"Scope!BG12","v":"[Insert comments here]"},{"$f":"Scope!BH12","v":"0"},{"$f":"Scope!BI12","v":"[Insert comments here]"},{"$f":"Scope!BJ12","v":"0"},{"$f":"Scope!BK12","v":"[Insert comments here]"},{"$f":"Scope!BL12","v":"0"},{"$f":"Scope!BM12","v":"[Insert comments here]"},{"$f":"Scope!BN12","v":"0"},{"$f":"Scope!BO12","v":"[Insert comments here]"},{"$f":"Scope!BP12","v":"0"},{"$f":"Scope!BQ12","v":"[Insert comments here]"},{"$f":"Scope!BR12","v":"0"},{"$f":"Scope!BS12","v":"[Insert comments here]"},{"$f":"Scope!BT12","v":"0"},{"$f":"Scope!BU12","v":"[Insert comments here]"},{"$f":"Scope!BV12","v":"0"},{"$f":"Scope!BW12","v":"[Insert comments here]"},{"$f":"Scope!BX12","v":"0"},{"$f":"Scope!BY12","v":"[Insert comments here]"},{"$f":"Scope!BZ12","v":"0"},{"$f":"Scope!CA12","v":"[Insert comments here]"},{"$f":"Scope!CB12","v":"0"},{"$f":"Scope!CC12","v":"[Insert comments here]"},{"$f":"Scope!CD12","v":"0"},{"$f":"Scope!CE12","v":"[Insert comments here]"},null,null,null,null,{"$f":"Scope!CJ12","v":"0"},{"$f":"Scope!CK12","v":"[Insert comments here]"}]
[null,null,"",{"$f":"Scope!D13","v":"0"},{"$f":"Scope!E13","v":"[Insert comments here]"},{"$f":"Scope!F13","v":"0"},{"$f":"Scope!G13","v":"[Insert comments here]"},{"$f":"Scope!H13","v":"0"},{"$f":"Scope!I13","v":"[Insert comments here]"},{"$f":"Scope!J13","v":"0"},{"$f":"Scope!K13","v":"[Insert comments here]"},{"$f":"Scope!L13","v":"0"},{"$f":"Scope!M13","v":"[Insert comments here]"},{"$f":"Scope!N13","v":"0"},{"$f":"Scope!O13","v":"[Insert comments here]"},{"$f":"Scope!P13","v":"0"},{"$f":"Scope!Q13","v":"[Insert comments here]"},{"$f":"Scope!R13","v":"0"},{"$f":"Scope!S13","v":"[Insert comments here]"},{"$f":"Scope!T13","v":"0"},{"$f":"Scope!U13","v":"[Insert comments here]"},{"$f":"Scope!V13","v":"0"},{"$f":"Scope!W13","v":"[Insert comments here]"},{"$f":"Scope!X13","v":"0"},{"$f":"Scope!Y13","v":"[Insert comments here]"},{"$f":"Scope!Z13","v":"0"},{"$f":"Scope!AA13","v":"[Insert comments here]"},{"$f":"Scope!AB13","v":"0"},{"$f":"Scope!AC13","v":"[Insert comments here]"},{"$f":"Scope!AD13","v":"0"},{"$f":"Scope!AE13","v":"[Insert comments here]"},{"$f":"Scope!AF13","v":"0"},{"$f":"Scope!AG13","v":"[Insert comments here]"},{"$f":"Scope!AH13","v":"0"},{"$f":"Scope!AI13","v":"[Insert comments here]"},{"$f":"Scope!AJ13","v":"0"},{"$f":"Scope!AK13","v":"[Insert comments here]"},{"$f":"Scope!AL13","v":"0"},{"$f":"Scope!AM13","v":"[Insert comments here]"},{"$f":"Scope!AN13","v":"0"},{"$f":"Scope!AO13","v":"[Insert comments here]"},{"$f":"Scope!AP13","v":"0"},{"$f":"Scope!AQ13","v":"[Insert comments here]"},{"$f":"Scope!AR13","v":"0"},{"$f":"Scope!AS13","v":"[Insert comments here]"},{"$f":"Scope!AT13","v":"0"},{"$f":"Scope!AU13","v":"[Insert comments here]"},{"$f":"Scope!AV13","v":"0"},{"$f":"Scope!AW13","v":"[Insert comments here]"},{"$f":"Scope!AX13","v":"0"},{"$f":"Scope!AY13","v":"[Insert comments here]"},{"$f":"Scope!AZ13","v":"0"},{"$f":"Scope!BA13","v":"[Insert comments here]"},{"$f":"Scope!BB13","v":"0"},{"$f":"Scope!BC13","v":"[Insert comments here]"},{"$f":"Scope!BD13","v":"0"},{"$f":"Scope!BE13","v":"[Insert comments here]"},{"$f":"Scope!BF13","v":"0"},{"$f":"Scope!BG13","v":"[Insert comments here]"},{"$f":"Scope!BH13","v":"0"},{"$f":"Scope!BI13","v":"[Insert comments here]"},{"$f":"Scope!BJ13","v":"0"},{"$f":"Scope!BK13","v":"[Insert comments here]"},{"$f":"Scope!BL13","v":"0"},{"$f":"Scope!BM13","v":"[Insert comments here]"},{"$f":"Scope!BN13","v":"0"},{"$f":"Scope!BO13","v":"[Insert comments here]"},{"$f":"Scope!BP13","v":"0"},{"$f":"Scope!BQ13","v":"[Insert comments here]"},{"$f":"Scope!BR13","v":"0"},{"$f":"Scope!BS13","v":"[Insert comments here]"},{"$f":"Scope!BT13","v":"0"},{"$f":"Scope!BU13","v":"[Insert comments here]"},{"$f":"Scope!BV13","v":"0"},{"$f":"Scope!BW13","v":"[Insert comments here]"},{"$f":"Scope!BX13","v":"0"},{"$f":"Scope!BY13","v":"[Insert comments here]"},{"$f":"Scope!BZ13","v":"0"},{"$f":"Scope!CA13","v":"[Insert comments here]"},{"$f":"Scope!CB13","v":"0"},{"$f":"Scope!CC13","v":"[Insert comments here]"},{"$f":"Scope!CD13","v":"0"},{"$f":"Scope!CE13","v":"[Insert comments here]"},null,null,null,null,{"$f":"Scope!CJ13","v":"0"},{"$f":"Scope!CK13","v":"[Insert comments here]"}]
[null,null,"",{"$f":"Scope!D14","v":"0"},{"$f":"Scope!E14","v":"[Insert comments here]"},{"$f":"Scope!F14","v":"0"},{"$f":"Scope!G14","v":"[Insert comments here]"},{"$f":"Scope!H14","v":"0"},{"$f":"Scope!I14","v":"[Insert comments here]"},{"$f":"Scope!J14","v":"0"},{"$f":"Scope!K14","v":"[Insert comments here]"},{"$f":"Scope!L14","v":"0"},{"$f":"Scope!M14","v":"[Insert comments here]"},{"$f":"Scope!N14","v":"0"},{"$f":"Scope!O14","v":"[Insert comments here]"},{"$f":"Scope!P14","v":"0"},{"$f":"Scope!Q14","v":"[Insert comments here]"},{"$f":"Scope!R14","v":"0"},{"$f":"Scope!S14","v":"[Insert comments here]"},{"$f":"Scope!T14","v":"0"},{"$f":"Scope!U14","v":"[Insert comments here]"},{"$f":"Scope!V14","v":"0"},{"$f":"Scope!W14","v":"[Insert comments here]"},{"$f":"Scope!X14","v":"0"},{"$f":"Scope!Y14","v":"[Insert comments here]"},{"$f":"Scope!Z14","v":"0"},{"$f":"Scope!AA14","v":"[Insert comments here]"},{"$f":"Scope!AB14","v":"0"},{"$f":"Scope!AC14","v":"[Insert comments here]"},{"$f":"Scope!AD14","v":"0"},{"$f":"Scope!AE14","v":"[Insert comments here]"},{"$f":"Scope!AF14","v":"0"},{"$f":"Scope!AG14","v":"[Insert comments here]"},{"$f":"Scope!AH14","v":"0"},{"$f":"Scope!AI14","v":"[Insert comments here]"},{"$f":"Scope!AJ14","v":"0"},{"$f":"Scope!AK14","v":"[Insert comments here]"},{"$f":"Scope!AL14","v":"0"},{"$f":"Scope!AM14","v":"[Insert comments here]"},{"$f":"Scope!AN14","v":"0"},{"$f":"Scope!AO14","v":"[Insert comments here]"},{"$f":"Scope!AP14","v":"0"},{"$f":"Scope!AQ14","v":"[Insert comments here]"},{"$f":"Scope!AR14","v":"0"},{"$f":"Scope!AS14","v":"[Insert comments here]"},{"$f":"Scope!AT14","v":"0"},{"$f":"Scope!AU14","v":"[Insert comments here]"},{"$f":"Scope!AV14","v":"0"},{"$f":"Scope!AW14","v":"[Insert comments here]"},{"$f":"Scope!AX14","v":"0"},{"$f":"Scope!AY14","v":"[Insert comments here]"},{"$f":"Scope!AZ14","v":"0"},{"$f":"Scope!BA14","v":"[Insert comments here]"},{"$f":"Scope!BB14","v":"0"},{"$f":"Scope!BC14","v":"[Insert comments here]"},{"$f":"Scope!BD14","v":"0"},{"$f":"Scope!BE14","v":"[Insert comments here]"},{"$f":"Scope!BF14","v":"0"},{"$f":"Scope!BG14","v":"[Insert comments here]"},{"$f":"Scope!BH14","v":"0"},{"$f":"Scope!BI14","v":"[Insert comments here]"},{"$f":"Scope!BJ14","v":"0"},{"$f":"Scope!BK14","v":"[Insert comments here]"},{"$f":"Scope!BL14","v":"0"},{"$f":"Scope!BM14","v":"[Insert comments here]"},{"$f":"Scope!BN14","v":"0"},{"$f":"Scope!BO14","v":"[Insert comments here]"},{"$f":"Scope!BP14","v":"0"},{"$f":"Scope!BQ14","v":"[Insert comments here]"},{"$f":"Scope!BR14","v":"0"},{"$f":"Scope!BS14","v":"[Insert comments here]"},{"$f":"Scope!BT14","v":"0"},{"$f":"Scope!BU14","v":"[Insert comments here]"},{"$f":"Scope!BV14","v":"0"},{"$f":"Scope!BW14","v":"[Insert comments here]"},{"$f":"Scope!BX14","v":"0"},{"$f":"Scope!BY14","v":"[Insert comments here]"},{"$f":"Scope!BZ14","v":"0"},{"$f":"Scope!CA14","v":"[Insert comments here]"},{"$f":"Scope!CB14","v":"0"},{"$f":"Scope!CC14","v":"[Insert comments here]"},{"$f":"Scope!CD14","v":"0"},{"$f":"Scope!CE14","v":"[Insert comments here]"},null,null,null,null,{"$f":"Scope!CJ14","v":"0"},{"$f":"Scope!CK14","v":"[Insert comments here]"}]
[null,null,"",{"$f":"Scope!D15","v":"0"},{"$f":"Scope!E15","v":"[Insert comments here]"},{"$f":"Scope!F15","v":"0"},{"$f":"Scope!G15","v":"[Insert comments here]"},{"$f":"Scope!H15","v":"0"},{"$f":"Scope!I15","v":"[Insert comments here]"},{"$f":"Scope!J15","v":"0"},{"$f":"Scope!K15","v":"[Insert comments here]"},{"$f":"Scope!L15","v":"0"},{"$f":"Scope!M15","v":"[Insert comments here]"},{"$f":"Scope!N15","v":"0"},{"$f":"Scope!O15","v":"[Insert comments here]"},{"$f":"Scope!P15","v":"0"},{"$f":"Scope!Q15","v":"[Insert comments here]"},{"$f":"Scope!R15","v":"0"},{"$f":"Scope!S15","v":"[Insert comments here]"},{"$f":"Scope!T15","v":"0"},{"$f":"Scope!U15","v":"[Insert comments here]"},{"$f":"Scope!V15","v":"0"},{"$f":"Scope!W15","v":"[Insert comments here]"},{"$f":"Scope!X15","v":"0"},{"$f":"Scope!Y15","v":"[Insert comments here]"},{"$f":"Scope!Z15","v":"0"},{"$f":"Scope!AA15","v":"[Insert comments here]"},{"$f":"Scope!AB15","v":"0"},{"$f":"Scope!AC15","v":"[Insert comments here]"},{"$f":"Scope!AD15","v":"0"},{"$f":"Scope!AE15","v":"[Insert comments here]"},{"$f":"Scope!AF15","v":"0"},{"$f":"Scope!AG15","v":"[Insert comments here]"},{"$f":"Scope!AH15","v":"0"},{"$f":"Scope!AI15","v":"[Insert comments here]"},{"$f":"Scope!AJ15","v":"0"},{"$f":"Scope!AK15","v":"[Insert comments here]"},{"$f":"Scope!AL15","v":"0"},{"$f":"Scope!AM15","v":"[Insert comments here]"},{"$f":"Scope!AN15","v":"0"},{"$f":"Scope!AO15","v":"[Insert comments here]"},{"$f":"Scope!AP15","v":"0"},{"$f":"Scope!AQ15","v":"[Insert comments here]"},{"$f":"Scope!AR15","v":"0"},{"$f":"Scope!AS15","v":"[Insert comments here]"},{"$f":"Scope!AT15","v":"0"},{"$f":"Scope!AU15","v":"[Insert comments here]"},{"$f":"Scope!AV15","v":"0"},{"$f":"Scope!AW15","v":"[Insert comments here]"},{"$f":"Scope!AX15","v":"0"},{"$f":"Scope!AY15","v":"[Insert comments here]"},{"$f":"Scope!AZ15","v":"0"},{"$f":"Scope!BA15","v":"[Insert comments here]"},{"$f":"Scope!BB15","v":"0"},{"$f":"Scope!BC15","v":"[Insert comments here]"},{"$f":"Scope!BD15","v":"0"},{"$f":"Scope!BE15","v":"[Insert comments here]"},{"$f":"Scope!BF15","v":"0"},{"$f":"Scope!BG15","v":"[Insert comments here]"},{"$f":"Scope!BH15","v":"0"},{"$f":"Scope!BI15","v":"[Insert comments here]"},{"$f":"Scope!BJ15","v":"0"},{"$f":"Scope!BK15","v":"[Insert comments here]"},{"$f":"Scope!BL15","v":"0"},{"$f":"Scope!BM15","v":"[Insert comments here]"},{"$f":"Scope!BN15","v":"0"},{"$f":"Scope!BO15","v":"[Insert comments here]"},{"$f":"Scope!BP15","v":"0"},{"$f":"Scope!BQ15","v":"[Insert comments here]"},{"$f":"Scope!BR15","v":"0"},{"$f":"Scope!BS15","v":"[Insert comments here]"},{"$f":"Scope!BT15","v":"0"},{"$f":"Scope!BU15","v":"[Insert comments here]"},{"$f":"Scope!BV15","v":"0"},{"$f":"Scope!BW15","v":"[Insert comments here]"},{"$f":"Scope!BX15","v":"0"},{"$f":"Scope!BY15","v":"[Insert comments here]"},{"$f":"Scope!BZ15","v":"0"},{"$f":"Scope!CA15","v":"[Insert comments here]"},{"$f":"Scope!CB15","v":"0"},{"$f":"Scope!CC15","v":"[Insert comments here]"},{"$f":"Scope!CD15","v":"0"},{"$f":"Scope!CE15","v":"[Insert comments here]"},null,null,null,null,{"$f":"Scope!CJ15","v":"0"},{"$f":"Scope!CK15","v":"[Insert comments here]"}]
[null,null,"",{"$f":"Scope!D16","v":"0"},{"$f":"Scope!E16","v":"[Insert comments here]"},{"$f":"Scope!F16","v":"0"},{"$f":"Scope!G16","v":"[Insert comments here]"},{"$f":"Scope!H16","v":"0"},{"$f":"Scope!I16","v":"[Insert comments here]"},{"$f":"Scope!J16","v":"0"},{"$f":"Scope!K16","v":"[Insert comments here]"},{"$f":"Scope!L16","v":"0"},{"$f":"Scope!M16","v":"[Insert comments here]"},{"$f":"Scope!N16","v":"0"},{"$f":"Scope!O16","v":"[Insert comments here]"},{"$f":"Scope!P16","v":"0"},{"$f":"Scope!Q16","v":"[Insert comments here]"},{"$f":"Scope!R16","v":"0"},{"$f":"Scope!S16","v":"[Insert comments here]"},{"$f":"Scope!T16","v":"0"},{"$f":"Scope!U16","v":"[Insert comments here]"},{"$f":"Scope!V16","v":"0"},{"$f":"Scope!W16","v":"[Insert comments here]"},{"$f":"Scope!X16","v":"0"},{"$f":"Scope!Y16","v":"[Insert comments here]"},{"$f":"Scope!Z16","v":"0"},{"$f":"Scope!AA16","v":"[Insert comments here]"},{"$f":"Scope!AB16","v":"0"},{"$f":"Scope!AC16","v":"[Insert comments here]"},{"$f":"Scope!AD16","v":"0"},{"$f":"Scope!AE16","v":"[Insert comments here]"},{"$f":"Scope!AF16","v":"0"},{"$f":"Scope!AG16","v":"[Insert comments here]"},{"$f":"Scope!AH16","v":"0"},{"$f":"Scope!AI16","v":"[Insert comments here]"},{"$f":"Scope!AJ16","v":"0"},{"$f":"Scope!AK16","v":"[Insert comments here]"},{"$f":"Scope!AL16","v":"0"},{"$f":"Scope!AM16","v":"[Insert comments here]"},{"$f":"Scope!AN16","v":"0"},{"$f":"Scope!AO16","v":"[Insert comments here]"},{"$f":"Scope!AP16","v":"0"},{"$f":"Scope!AQ16","v":"[Insert comments here]"},{"$f":"Scope!AR16","v":"0"},{"$f":"Scope!AS16","v":"[Insert comments here]"},{"$f":"Scope!AT16","v":"0"},{"$f":"Scope!AU16","v":"[Insert comments here]"},{"$f":"Scope!AV16","v":"0"},{"$f":"Scope!AW16","v":"[Insert comments here]"},{"$f":"Scope!AX16","v":"0"},{"$f":"Scope!AY16","v":"[Insert comments here]"},{"$f":"Scope!AZ16","v":"0"},{"$f":"Scope!BA16","v":"[Insert comments here]"},{"$f":"Scope!BB16","v":"0"},{"$f":"Scope!BC16","v":"[Insert comments here]"},{"$f":"Scope!BD16","v":"0"},{"$f":"Scope!BE16","v":"[Insert comments here]"},{"$f":"Scope!BF16","v":"0"},{"$f":"Scope!BG16","v":"[Insert comments here]"},{"$f":"Scope!BH16","v":"0"},{"$f":"Scope!BI16","v":"[Insert comments here]"},{"$f":"Scope!BJ16","v":"0"},{"$f":"Scope!BK16","v":"[Insert comments here]"},{"$f":"Scope!BL16","v":"0"},{"$f":"Scope!BM16","v":"[Insert comments here]"},{"$f":"Scope!BN16","v":"0"},{"$f":"Scope!BO16","v":"[Insert comments here]"},{"$f":"Scope!BP16","v":"0"},{"$f":"Scope!BQ16","v":"[Insert comments here]"},{"$f":"Scope!BR16","v":"0"},{"$f":"Scope!BS16","v":"[Insert comments here]"},{"$f":"Scope!BT16","v":"0"},{"$f":"Scope!BU16","v":"[Insert comments here]"},{"$f":"Scope!BV16","v":"0"},{"$f":"Scope!BW16","v":"[Insert comments here]"},{"$f":"Scope!BX16","v":"0"},{"$f":"Scope!BY16","v":"[Insert comments here]"},{"$f":"Scope!BZ16","v":"0"},{"$f":"Scope!CA16","v":"[Insert comments here]"},{"$f":"Scope!CB16","v":"0"},{"$f":"Scope!CC16","v":"[Insert comments here]"},{"$f":"Scope!CD16","v":"0"},{"$f":"Scope!CE16","v":"[Insert comments here]"},null,null,null,null,{"$f":"Scope!CJ16","v":"0"},{"$f":"Scope!CK16","v":"[Insert comments here]"}]
[null,null,"",{"$f":"Scope!D17","v":"0"},{"$f":"Scope!E17","v":"[Insert comments here]"},{"$f":"Scope!F17","v":"0"},{"$f":"Scope!G17","v":"[Insert comments here]"},{"$f":"Scope!H17","v":"0"},{"$f":"Scope!I17","v":"[Insert comments here]"},{"$f":"Scope!J17","v":"0"},{"$f":"Scope!K17","v":"[Insert comments here]"},{"$f":"Scope!L17","v":"0"},{"$f":"Scope!M17","v":"[Insert comments here]"},{"$f":"Scope!N17","v":"0"},{"$f":"Scope!O17","v":"[Insert comments here]"},{"$f":"Scope!P17","v":"0"},{"$f":"Scope!Q17","v":"[Insert comments here]"},{"$f":"Scope!R17","v":"0"},{"$f":"Scope!S17","v":"[Insert comments here]"},{"$f":"Scope!T17","v":"0"},{"$f":"Scope!U17","v":"[Insert comments here]"},{"$f":"Scope!V17","v":"0"},{"$f":"Scope!W17","v":"[Insert comments here]"},{"$f":"Scope!X17","v":"0"},{"$f":"Scope!Y17","v":"[Insert comments here]"},{"$f":"Scope!Z17","v":"0"},{"$f":"Scope!AA17","v":"[Insert comments here]"},{"$f":"Scope!AB17","v":"0"},{"$f":"Scope!AC17","v":"[Insert comments here]"},{"$f":"Scope!AD17","v":"0"},{"$f":"Scope!AE17","v":"[Insert comments here]"},{"$f":"Scope!AF17","v":"0"},{"$f":"Scope!AG17","v":"[Insert comments here]"},{"$f":"Scope!AH17","v":"0"},{"$f":"Scope!AI17","v":"[Insert comments here]"},{"$f":"Scope!AJ17","v":"0"},{"$f":"Scope!AK17","v":"[Insert comments here]"},{"$f":"Scope!AL17","v":"0"},{"$f":"Scope!AM17","v":"[Insert comments here]"},{"$f":"Scope!AN17","v":"0"},{"$f":"Scope!AO17","v":"[Insert comments here]"},{"$f":"Scope!AP17","v":"0"},{"$f":"Scope!AQ17","v":"[Insert comments here]"},{"$f":"Scope!AR17","v":"0"},{"$f":"Scope!AS17","v":"[Insert comments here]"},{"$f":"Scope!AT17","v":"0"},{"$f":"Scope!AU17","v":"[Insert comments here]"},{"$f":"Scope!AV17","v":"0"},{"$f":"Scope!AW17","v":"[Insert comments here]"},{"$f":"Scope!AX17","v":"0"},{"$f":"Scope!AY17","v":"[Insert comments here]"},{"$f":"Scope!AZ17","v":"0"},{"$f":"Scope!BA17","v":"[Insert comments here]"},{"$f":"Scope!BB17","v":"0"},{"$f":"Scope!BC17","v":"[Insert comments here]"},{"$f":"Scope!BD17","v":"0"},{"$f":"Scope!BE17","v":"[Insert comments here]"},{"$f":"Scope!BF17","v":"0"},{"$f":"Scope!BG17","v":"[Insert comments here]"},{"$f":"Scope!BH17","v":"0"},{"$f":"Scope!BI17","v":"[Insert comments here]"},{"$f":"Scope!BJ17","v":"0"},{"$f":"Scope!BK17","v":"[Insert comments here]"},{"$f":"Scope!BL17","v":"0"},{"$f":"Scope!BM17","v":"[Insert comments here]"},{"$f":"Scope!BN17","v":"0"},{"$f":"Scope!BO17","v":"[Insert comments here]"},{"$f":"Scope!BP17","v":"0"},{"$f":"Scope!BQ17","v":"[Insert comments here]"},{"$f":"Scope!BR17","v":"0"},{"$f":"Scope!BS17","v":"[Insert comments here]"},{"$f":"Scope!BT17","v":"0"},{"$f":"Scope!BU17","v":"[Insert comments here]"},{"$f":"Scope!BV17","v":"0"},{"$f":"Scope!BW17","v":"[Insert comments here]"},{"$f":"Scope!BX17","v":"0"},{"$f":"Scope!BY17","v":"[Insert comments here]"},{"$f":"Scope!BZ17","v":"0"},{"$f":"Scope!CA17","v":"[Insert comments here]"},{"$f":"Scope!CB17","v":"0"},{"$f":"Scope!CC17","v":"[Insert comments here]"},{"$f":"Scope!CD17","v":"0"},{"$f":"Scope!CE17","v":"[Insert comments here]"},null,null,null,null,{"$f":"Scope!CJ17","v":"0"},{"$f":"Scope!CK17","v":"[Insert comments here]"}]
[null,null,"",{"$f":"Scope!D18","v":"0"},{"$f":"Scope!E18","v":"[Insert comments here]"},{"$f":"Scope!F18","v":"0"},{"$f":"Scope!G18","v":"[Insert comments here]"},{"$f":"Scope!H18","v":"0"},{"$f":"Scope!I18","v":"[Insert comments here]"},{"$f":"Scope!J18","v":"0"},{"$f":"Scope!K18","v":"[Insert comments here]"},{"$f":"Scope!L18","v":"0"},{"$f":"Scope!M18","v":"[Insert comments here]"},{"$f":"Scope!N18","v":"0"},{"$f":"Scope!O18","v":"[Insert comments here]"},{"$f":"Scope!P18","v":"0"},{"$f":"Scope!Q18","v":"[Insert comments here]"},{"$f":"Scope!R18","v":"0"},{"$f":"Scope!S18","v":"[Insert comments here]"},{"$f":"Scope!T18","v":"0"},{"$f":"Scope!U18","v":"[Insert comments here]"},{"$f":"Scope!V18","v":"0"},{"$f":"Scope!W18","v":"[Insert comments here]"},{"$f":"Scope!X18","v":"0"},{"$f":"Scope!Y18","v":"[Insert comments here]"},{"$f":"Scope!Z18","v":"0"},{"$f":"Scope!AA18","v":"[Insert comments here]"},{"$f":"Scope!AB18","v":"0"},{"$f":"Scope!AC18","v":"[Insert comments here]"},{"$f":"Scope!AD18","v":"0"},{"$f":"Scope!AE18","v":"[Insert comments here]"},{"$f":"Scope!AF18","v":"0"},{"$f":"Scope!AG18","v":"[Insert comments here]"},{"$f":"Scope!AH18","v":"0"},{"$f":"Scope!AI18","v":"[Insert comments here]"},{"$f":"Scope!AJ18","v":"0"},{"$f":"Scope!AK18","v":"[Insert comments here]"},{"$f":"Scope!AL18","v":"0"},{"$f":"Scope!AM18","v":"[Insert comments here]"},{"$f":"Scope!AN18","v":"0"},{"$f":"Scope!AO18","v":"[Insert comments here]"},{"$f":"Scope!AP18","v":"0"},{"$f":"Scope!AQ18","v":"[Insert comments here]"},{"$f":"Scope!AR18","v":"0"},{"$f":"Scope!AS18","v":"[Insert comments here]"},{"$f":"Scope!AT18","v":"0"},{"$f":"Scope!AU18","v":"[Insert comments here]"},{"$f":"Scope!AV18","v":"0"},{"$f":"Scope!AW18","v":"[Insert comments here]"},{"$f":"Scope!AX18","v":"0"},{"$f":"Scope!AY18","v":"[Insert comments here]"},{"$f":"Scope!AZ18","v":"0"},{"$f":"Scope!BA18","v":"[Insert comments here]"},{"$f":"Scope!BB18","v":"0"},{"$f":"Scope!BC18","v":"[Insert comments here]"},{"$f":"Scope!BD18","v":"0"},{"$f":"Scope!BE18","v":"[Insert comments here]"},{"$f":"Scope!BF18","v":"0"},{"$f":"Scope!BG18","v":"[Insert comments here]"},{"$f":"Scope!BH18","v":"0"},{"$f":"Scope!BI18","v":"[Insert comments here]"},{"$f":"Scope!BJ18","v":"0"},{"$f":"Scope!BK18","v":"[Insert comments here]"},{"$f":"Scope!BL18","v":"0"},{"$f":"Scope!BM18","v":"[Insert comments here]"},{"$f":"Scope!BN18","v":"0"},{"$f":"Scope!BO18","v":"[Insert comments here]"},{"$f":"Scope!BP18","v":"0"},{"$f":"Scope!BQ18","v":"[Insert comments here]"},{"$f":"Scope!BR18","v":"0"},{"$f":"Scope!BS18","v":"[Insert comments here]"},{"$f":"Scope!BT18","v":"0"},{"$f":"Scope!BU18","v":"[Insert comments here]"},{"$f":"Scope!BV18","v":"0"},{"$f":"Scope!BW18","v":"[Insert comments here]"},{"$f":"Scope!BX18","v":"0"},{"$f":"Scope!BY18","v":"[Insert comments here]"},{"$f":"Scope!BZ18","v":"0"},{"$f":"Scope!CA18","v":"[Insert comments here]"},{"$f":"Scope!CB18","v":"0"},{"$f":"Scope!CC18","v":"[Insert comments here]"},{"$f":"Scope!CD18","v":"0"},{"$f":"Scope!CE18","v":"[Insert comments here]"},null,null,null,null,{"$f":"Scope!CJ18","v":"0"},{"$f":"Scope!CK18","v":"[Insert comments here]"}]
[null,null,"",{"$f":"Scope!D19","v":"0"},{"$f":"Scope!E19","v":"[Insert comments here]"},{"$f":"Scope!F19","v":"0"},{"$f":"Scope!G19","v":"[Insert comments here]"},{"$f":"Scope!H19","v":"0"},{"$f":"Scope!I19","v":"[Insert comments here]"},{"$f":"Scope!J19","v":"0"},{"$f":"Scope!K19","v":"[Insert comments here]"},{"$f":"Scope!L19","v":"0"},{"$f":"Scope!M19","v":"[Insert comments here]"},{"$f":"Scope!N19","v":"0"},{"$f":"Scope!O19","v":"[Insert comments here]"},{"$f":"Scope!P19","v":"0"},{"$f":"Scope!Q19","v":"[Insert comments here]"},{"$f":"Scope!R19","v":"0"},{"$f":"Scope!S19","v":"[Insert comments here]"},{"$f":"Scope!T19","v":"0"},{"$f":"Scope!U19","v":"[Insert comments here]"},{"$f":"Scope!V19","v":"0"},{"$f":"Scope!W19","v":"[Insert comments here]"},{"$f":"Scope!X19","v":"0"},{"$f":"Scope!Y19","v":"[Insert comments here]"},{"$f":"Scope!Z19","v":"0"},{"$f":"Scope!AA19","v":"[Insert comments here]"},{"$f":"Scope!AB19","v":"0"},{"$f":"Scope!AC19","v":"[Insert comments here]"},{"$f":"Scope!AD19","v":"0"},{"$f":"Scope!AE19","v":"[Insert comments here]"},{"$f":"Scope!AF19","v":"0"},{"$f":"Scope!AG19","v":"[Insert comments here]"},{"$f":"Scope!AH19","v":"0"},{"$f":"Scope!AI19","v":"[Insert comments here]"},{"$f":"Scope!AJ19","v":"0"},{"$f":"Scope!AK19","v":"[Insert comments here]"},{"$f":"Scope!AL19","v":"0"},{"$f":"Scope!AM19","v":"[Insert comments here]"},{"$f":"Scope!AN19","v":"0"},{"$f":"Scope!AO19","v":"[Insert comments here]"},{"$f":"Scope!AP19","v":"0"},{"$f":"Scope!AQ19","v":"[Insert comments here]"},{"$f":"Scope!AR19","v":"0"},{"$f":"Scope!AS19","v":"[Insert comments here]"},{"$f":"Scope!AT19","v":"0"},{"$f":"Scope!AU19","v":"[Insert comments here]"},{"$f":"Scope!AV19","v":"0"},{"$f":"Scope!AW19","v":"[Insert comments here]"},{"$f":"Scope!AX19","v":"0"},{"$f":"Scope!AY19","v":"[Insert comments here]"},{"$f":"Scope!AZ19","v":"0"},{"$f":"Scope!BA19","v":"[Insert comments here]"},{"$f":"Scope!BB19","v":"0"},{"$f":"Scope!BC19","v":"[Insert comments here]"},{"$f":"Scope!BD19","v":"0"},{"$f":"Scope!BE19","v":"[Insert comments here]"},{"$f":"Scope!BF19","v":"0"},{"$f":"Scope!BG19","v":"[Insert comments here]"},{"$f":"Scope!BH19","v":"0"},{"$f":"Scope!BI19","v":"[Insert comments here]"},{"$f":"Scope!BJ19","v":"0"},{"$f":"Scope!BK19","v":"[Insert comments here]"},{"$f":"Scope!BL19","v":"0"},{"$f":"Scope!BM19","v":"[Insert comments here]"},{"$f":"Scope!BN19","v":"0"},{"$f":"Scope!BO19","v":"[Insert comments here]"},{"$f":"Scope!BP19","v":"0"},{"$f":"Scope!BQ19","v":"[Insert comments here]"},{"$f":"Scope!BR19","v":"0"},{"$f":"Scope!BS19","v":"[Insert comments here]"},{"$f":"Scope!BT19","v":"0"},{"$f":"Scope!BU19","v":"[Insert comments here]"},{"$f":"Scope!BV19","v":"0"},{"$f":"Scope!BW19","v":"[Insert comments here]"},{"$f":"Scope!BX19","v":"0"},{"$f":"Scope!BY19","v":"[Insert comments here]"},{"$f":"Scope!BZ19","v":"0"},{"$f":"Scope!CA19","v":"[Insert comments here]"},{"$f":"Scope!CB19","v":"0"},{"$f":"Scope!CC19","v":"[Insert comments here]"},{"$f":"Scope!CD19","v":"0"},{"$f":"Scope!CE19","v":"[Insert comments here]"},null,null,null,null,{"$f":"Scope!CJ19","v":"0"},{"$f":"Scope!CK19","v":"[Insert comments here]"}]
[null,null,"",{"$f":"Scope!D20","v":"0"},{"$f":"Scope!E20","v":"[Insert comments here]"},{"$f":"Scope!F20","v":"0"},{"$f":"Scope!G20","v":"[Insert comments here]"},{"$f":"Scope!H20","v":"0"},{"$f":"Scope!I20","v":"[Insert comments here]"},{"$f":"Scope!J20","v":"0"},{"$f":"Scope!K20","v":"[Insert comments here]"},{"$f":"Scope!L20","v":"0"},{"$f":"Scope!M20","v":"[Insert comments here]"},{"$f":"Scope!N20","v":"0"},{"$f":"Scope!O20","v":"[Insert comments here]"},{"$f":"Scope!P20","v":"0"},{"$f":"Scope!Q20","v":"[Insert comments here]"},{"$f":"Scope!R20","v":"0"},{"$f":"Scope!S20","v":"[Insert comments here]"},{"$f":"Scope!T20","v":"0"},{"$f":"Scope!U20","v":"[Insert comments here]"},{"$f":"Scope!V20","v":"0"},{"$f":"Scope!W20","v":"[Insert comments here]"},{"$f":"Scope!X20","v":"0"},{"$f":"Scope!Y20","v":"[Insert comments here]"},{"$f":"Scope!Z20","v":"0"},{"$f":"Scope!AA20","v":"[Insert comments here]"},{"$f":"Scope!AB20","v":"0"},{"$f":"Scope!AC20","v":"[Insert comments here]"},{"$f":"Scope!AD20","v":"0"},{"$f":"Scope!AE20","v":"[Insert comments here]"},{"$f":"Scope!AF20","v":"0"},{"$f":"Scope!AG20","v":"[Insert comments here]"},{"$f":"Scope!AH20","v":"0"},{"$f":"Scope!AI20","v":"[Insert comments here]"},{"$f":"Scope!AJ20","v":"0"},{"$f":"Scope!AK20","v":"[Insert comments here]"},{"$f":"Scope!AL20","v":"0"},{"$f":"Scope!AM20","v":"[Insert comments here]"},{"$f":"Scope!AN20","v":"0"},{"$f":"Scope!AO20","v":"[Insert comments here]"},{"$f":"Scope!AP20","v":"0"},{"$f":"Scope!AQ20","v":"[Insert comments here]"},{"$f":"Scope!AR20","v":"0"},{"$f":"Scope!AS20","v":"[Insert comments here]"},{"$f":"Scope!AT20","v":"0"},{"$f":"Scope!AU20","v":"[Insert comments here]"},{"$f":"Scope!AV20","v":"0"},{"$f":"Scope!AW20","v":"[Insert comments here]"},{"$f":"Scope!AX20","v":"0"},{"$f":"Scope!AY20","v":"[Insert comments here]"},{"$f":"Scope!AZ20","v":"0"},{"$f":"Scope!BA20","v":"[Insert comments here]"},{"$f":"Scope!BB20","v":"0"},{"$f":"Scope!BC20","v":"[Insert comments here]"},{"$f":"Scope!BD20","v":"0"},{"$f":"Scope!BE20","v":"[Insert comments here]"},{"$f":"Scope!BF20","v":"0"},{"$f":"Scope!BG20","v":"[Insert comments here]"},{"$f":"Scope!BH20","v":"0"},{"$f":"Scope!BI20","v":"[Insert comments here]"},{"$f":"Scope!BJ20","v":"0"},{"$f":"Scope!BK20","v":"[Insert comments here]"},{"$f":"Scope!BL20","v":"0"},{"$f":"Scope!BM20","v":"[Insert comments here]"},{"$f":"Scope!BN20","v":"0"},{"$f":"Scope!BO20","v":"[Insert comments here]"},{"$f":"Scope!BP20","v":"0"},{"$f":"Scope!BQ20","v":"[Insert comments here]"},{"$f":"Scope!BR20","v":"0"},{"$f":"Scope!BS20","v":"[Insert comments here]"},{"$f":"Scope!BT20","v":"0"},{"$f":"Scope!BU20","v":"[Insert comments here]"},{"$f":"Scope!BV20","v":"0"},{"$f":"Scope!BW20","v":"[Insert comments here]"},{"$f":"Scope!BX20","v":"0"},{"$f":"Scope!BY20","v":"[Insert comments here]"},{"$f":"Scope!BZ20","v":"0"},{"$f":"Scope!CA20","v":"[Insert comments here]"},{"$f":"Scope!CB20","v":"0"},{"$f":"Scope!CC20","v":"[Insert comments here]"},{"$f":"Scope!CD20","v":"0"},{"$f":"Scope!CE20","v":"[Insert comments here]"},null,null,null,null,{"$f":"Scope!CJ20","v":"0"},{"$f":"Scope!CK20","v":"[Insert comments here]"}]
[null,null,"",{"$f":"Scope!D21","v":"0"},{"$f":"Scope!E21","v":"[Insert comments here]"},{"$f":"Scope!F21","v":"0"},{"$f":"Scope!G21","v":"[Insert comments here]"},{"$f":"Scope!H21","v":"0"},{"$f":"Scope!I21","v":"[Insert comments here]"},{"$f":"Scope!J21","v":"0"},{"$f":"Scope!K21","v":"[Insert comments here]"},{"$f":"Scope!L21","v":"0"},{"$f":"Scope!M21","v":"[Insert comments here]"},{"$f":"Scope!N21","v":"0"},{"$f":"Scope!O21","v":"[Insert comments here]"},{"$f":"Scope!P21","v":"0"},{"$f":"Scope!Q21","v":"[Insert comments here]"},{"$f":"Scope!R21","v":"0"},{"$f":"Scope!S21","v":"[Insert comments here]"},{"$f":"Scope!T21","v":"0"},{"$f":"Scope!U21","v":"[Insert comments here]"},{"$f":"Scope!V21","v":"0"},{"$f":"Scope!W21","v":"[Insert comments here]"},{"$f":"Scope!X21","v":"0"},{"$f":"Scope!Y21","v":"[Insert comments here]"},{"$f":"Scope!Z21","v":"0"},{"$f":"Scope!AA21","v":"[Insert comments here]"},{"$f":"Scope!AB21","v":"0"},{"$f":"Scope!AC21","v":"[Insert comments here]"},{"$f":"Scope!AD21","v":"0"},{"$f":"Scope!AE21","v":"[Insert comments here]"},{"$f":"Scope!AF21","v":"0"},{"$f":"Scope!AG21","v":"[Insert comments here]"},{"$f":"Scope!AH21","v":"0"},{"$f":"Scope!AI21","v":"[Insert comments here]"},{"$f":"Scope!AJ21","v":"0"},{"$f":"Scope!AK21","v":"[Insert comments here]"},{"$f":"Scope!AL21","v":"0"},{"$f":"Scope!AM21","v":"[Insert comments here]"},{"$f":"Scope!AN21","v":"0"},{"$f":"Scope!AO21","v":"[Insert comments here]"},{"$f":"Scope!AP21","v":"0"},{"$f":"Scope!AQ21","v":"[Insert comments here]"},{"$f":"Scope!AR21","v":"0"},{"$f":"Scope!AS21","v":"[Insert comments here]"},{"$f":"Scope!AT21","v":"0"},{"$f":"Scope!AU21","v":"[Insert comments here]"},{"$f":"Scope!AV21","v":"0"},{"$f":"Scope!AW21","v":"[Insert comments here]"},{"$f":"Scope!AX21","v":"0"},{"$f":"Scope!AY21","v":"[Insert comments here]"},{"$f":"Scope!AZ21","v":"0"},{"$f":"Scope!BA21","v":"[Insert comments here]"},{"$f":"Scope!BB21","v":"0"},{"$f":"Scope!BC21","v":"[Insert comments here]"},{"$f":"Scope!BD21","v":"0"},{"$f":"Scope!BE21","v":"[Insert comments here]"},{"$f":"Scope!BF21","v":"0"},{"$f":"Scope!BG21","v":"[Insert comments here]"},{"$f":"Scope!BH21","v":"0"},{"$f":"Scope!BI21","v":"[Insert comments here]"},{"$f":"Scope!BJ21","v":"0"},{"$f":"Scope!BK21","v":"[Insert comments here]"},{"$f":"Scope!BL21","v":"0"},{"$f":"Scope!BM21","v":"[Insert comments here]"},{"$f":"Scope!BN21","v":"0"},{"$f":"Scope!BO21","v":"[Insert comments here]"},{"$f":"Scope!BP21","v":"0"},{"$f":"Scope!BQ21","v":"[Insert comments here]"},{"$f":"Scope!BR21","v":"0"},{"$f":"Scope!BS21","v":"[Insert comments here]"},{"$f":"Scope!BT21","v":"0"},{"$f":"Scope!BU21","v":"[Insert comments here]"},{"$f":"Scope!BV21","v":"0"},{"$f":"Scope!BW21","v":"[Insert comments here]"},{"$f":"Scope!BX21","v":"0"},{"$f":"Scope!BY21","v":"[Insert comments here]"},{"$f":"Scope!BZ21","v":"0"},{"$f":"Scope!CA21","v":"[Insert comments here]"},{"$f":"Scope!CB21","v":"0"},{"$f":"Scope!CC21","v":"[Insert comments here]"},{"$f":"Scope!CD21","v":"0"},{"$f":"Scope!CE21","v":"[Insert comments here]"},null,null,null,null,{"$f":"Scope!CJ21","v":"0"},{"$f":"Scope!CK21","v":"[Insert comments here]"}]
[null,null,"",{"$f":"Scope!D22","v":"0"},{"$f":"Scope!E22","v":"[Insert comments here]"},{"$f":"Scope!F22","v":"0"},{"$f":"Scope!G22","v":"[Insert comments here]"},{"$f":"Scope!H22","v":"0"},{"$f":"Scope!I22","v":"[Insert comments here]"},{"$f":"Scope!J22","v":"0"},{"$f":"Scope!K22","v":"[Insert comments here]"},{"$f":"Scope!L22","v":"0"},{"$f":"Scope!M22","v":"[Insert comments here]"},{"$f":"Scope!N22","v":"0"},{"$f":"Scope!O22","v":"[Insert comments here]"},{"$f":"Scope!P22","v":"0"},{"$f":"Scope!Q22","v":"[Insert comments here]"},{"$f":"Scope!R22","v":"0"},{"$f":"Scope!S22","v":"[Insert comments here]"},{"$f":"Scope!T22","v":"0"},{"$f":"Scope!U22","v":"[Insert comments here]"},{"$f":"Scope!V22","v":"0"},{"$f":"Scope!W22","v":"[Insert comments here]"},{"$f":"Scope!X22","v":"0"},{"$f":"Scope!Y22","v":"[Insert comments here]"},{"$f":"Scope!Z22","v":"0"},{"$f":"Scope!AA22","v":"[Insert comments here]"},{"$f":"Scope!AB22","v":"0"},{"$f":"Scope!AC22","v":"[Insert comments here]"},{"$f":"Scope!AD22","v":"0"},{"$f":"Scope!AE22","v":"[Insert comments here]"},{"$f":"Scope!AF22","v":"0"},{"$f":"Scope!AG22","v":"[Insert comments here]"},{"$f":"Scope!AH22","v":"0"},{"$f":"Scope!AI22","v":"[Insert comments here]"},{"$f":"Scope!AJ22","v":"0"},{"$f":"Scope!AK22","v":"[Insert comments here]"},{"$f":"Scope!AL22","v":"0"},{"$f":"Scope!AM22","v":"[Insert comments here]"},{"$f":"Scope!AN22","v":"0"},{"$f":"Scope!AO22","v":"[Insert comments here]"},{"$f":"Scope!AP22","v":"0"},{"$f":"Scope!AQ22","v":"[Insert comments here]"},{"$f":"Scope!AR22","v":"0"},{"$f":"Scope!AS22","v":"[Insert comments here]"},{"$f":"Scope!AT22","v":"0"},{"$f":"Scope!AU22","v":"[Insert comments here]"},{"$f":"Scope!AV22","v":"0"},{"$f":"Scope!AW22","v":"[Insert comments here]"},{"$f":"Scope!AX22","v":"0"},{"$f":"Scope!AY22","v":"[Insert comments here]"},{"$f":"Scope!AZ22","v":"0"},{"$f":"Scope!BA22","v":"[Insert comments here]"},{"$f":"Scope!BB22","v":"0"},{"$f":"Scope!BC22","v":"[Insert comments here]"},{"$f":"Scope!BD22","v":"0"},{"$f":"Scope!BE22","v":"[Insert comments here]"},{"$f":"Scope!BF22","v":"0"},{"$f":"Scope!BG22","v":"[Insert comments here]"},{"$f":"Scope!BH22","v":"0"},{"$f":"Scope!BI22","v":"[Insert comments here]"},{"$f":"Scope!BJ22","v":"0"},{"$f":"Scope!BK22","v":"[Insert comments here]"},{"$f":"Scope!BL22","v":"0"},{"$f":"Scope!BM22","v":"[Insert comments here]"},{"$f":"Scope!BN22","v":"0"},{"$f":"Scope!BO22","v":"[Insert comments here]"},{"$f":"Scope!BP22","v":"0"},{"$f":"Scope!BQ22","v":"[Insert comments here]"},{"$f":"Scope!BR22","v":"0"},{"$f":"Scope!BS22","v":"[Insert comments here]"},{"$f":"Scope!BT22","v":"0"},{"$f":"Scope!BU22","v":"[Insert comments here]"},{"$f":"Scope!BV22","v":"0"},{"$f":"Scope!BW22","v":"[Insert comments here]"},{"$f":"Scope!BX22","v":"0"},{"$f":"Scope!BY22","v":"[Insert comments here]"},{"$f":"Scope!BZ22","v":"0"},{"$f":"Scope!CA22","v":"[Insert comments here]"},{"$f":"Scope!CB22","v":"0"},{"$f":"Scope!CC22","v":"[Insert comments here]"},{"$f":"Scope!CD22","v":"0"},{"$f":"Scope!CE22","v":"[Insert comments here]"},null,null,null,null,{"$f":"Scope!CJ22","v":"0"},{"$f":"Scope!CK22","v":"[Insert comments here]"}]
[null,null,"",{"$f":"Scope!D23","v":"0"},{"$f":"Scope!E23","v":"[Insert comments here]"},{"$f":"Scope!F23","v":"0"},{"$f":"Scope!G23","v":"[Insert comments here]"},{"$f":"Scope!H23","v":"0"},{"$f":"Scope!I23","v":"[Insert comments here]"},{"$f":"Scope!J23","v":"0"},{"$f":"Scope!K23","v":"[Insert comments here]"},{"$f":"Scope!L23","v":"0"},{"$f":"Scope!M23","v":"[Insert comments here]"},{"$f":"Scope!N23","v":"0"},{"$f":"Scope!O23","v":"[Insert comments here]"},{"$f":"Scope!P23","v":"0"},{"$f":"Scope!Q23","v":"[Insert comments here]"},{"$f":"Scope!R23","v":"0"},{"$f":"Scope!S23","v":"[Insert comments here]"},{"$f":"Scope!T23","v":"0"},{"$f":"Scope!U23","v":"[Insert comments here]"},{"$f":"Scope!V23","v":"0"},{"$f":"Scope!W23","v":"[Insert comments here]"},{"$f":"Scope!X23","v":"0"},{"$f":"Scope!Y23","v":"[Insert comments here]"},{"$f":"Scope!Z23","v":"0"},{"$f":"Scope!AA23","v":"[Insert comments here]"},{"$f":"Scope!AB23","v":"0"},{"$f":"Scope!AC23","v":"[Insert comments here]"},{"$f":"Scope!AD23","v":"0"},{"$f":"Scope!AE23","v":"[Insert comments here]"},{"$f":"Scope!AF23","v":"0"},{"$f":"Scope!AG23","v":"[Insert comments here]"},{"$f":"Scope!AH23","v":"0"},{"$f":"Scope!AI23","v":"[Insert comments here]"},{"$f":"Scope!AJ23","v":"0"},{"$f":"Scope!AK23","v":"[Insert comments here]"},{"$f":"Scope!AL23","v":"0"},{"$f":"Scope!AM23","v":"[Insert comments here]"},{"$f":"Scope!AN23","v":"0"},{"$f":"Scope!AO23","v":"[Insert comments here]"},{"$f":"Scope!AP23","v":"0"},{"$f":"Scope!AQ23","v":"[Insert comments here]"},{"$f":"Scope!AR23","v":"0"},{"$f":"Scope!AS23","v":"[Insert comments here]"},{"$f":"Scope!AT23","v":"0"},{"$f":"Scope!AU23","v":"[Insert comments here]"},{"$f":"Scope!AV23","v":"0"},{"$f":"Scope!AW23","v":"[Insert comments here]"},{"$f":"Scope!AX23","v":"0"},{"$f":"Scope!AY23","v":"[Insert comments here]"},{"$f":"Scope!AZ23","v":"0"},{"$f":"Scope!BA23","v":"[Insert comments here]"},{"$f":"Scope!BB23","v":"0"},{"$f":"Scope!BC23","v":"[Insert comments here]"},{"$f":"Scope!BD23","v":"0"},{"$f":"Scope!BE23","v":"[Insert comments here]"},{"$f":"Scope!BF23","v":"0"},{"$f":"Scope!BG23","v":"[Insert comments here]"},{"$f":"Scope!BH23","v":"0"},{"$f":"Scope!BI23","v":"[Insert comments here]"},{"$f":"Scope!BJ23","v":"0"},{"$f":"Scope!BK23","v":"[Insert comments here]"},{"$f":"Scope!BL23","v":"0"},{"$f":"Scope!BM23","v":"[Insert comments here]"},{"$f":"Scope!BN23","v":"0"},{"$f":"Scope!BO23","v":"[Insert comments here]"},{"$f":"Scope!BP23","v":"0"},{"$f":"Scope!BQ23","v":"[Insert comments here]"},{"$f":"Scope!BR23","v":"0"},{"$f":"Scope!BS23","v":"[Insert comments here]"},{"$f":"Scope!BT23","v":"0"},{"$f":"Scope!BU23","v":"[Insert comments here]"},{"$f":"Scope!BV23","v":"0"},{"$f":"Scope!BW23","v":"[Insert comments here]"},{"$f":"Scope!BX23","v":"0"},{"$f":"Scope!BY23","v":"[Insert comments here]"},{"$f":"Scope!BZ23","v":"0"},{"$f":"Scope!CA23","v":"[Insert comments here]"},{"$f":"Scope!CB23","v":"0"},{"$f":"Scope!CC23","v":"[Insert comments here]"},{"$f":"Scope!CD23","v":"0"},{"$f":"Scope!CE23","v":"[Insert comments here]"},null,null,null,null,{"$f":"Scope!CJ23","v":"0"},{"$f":"Scope!CK23","v":"[Insert comments here]"}]
[]
[null,null,"Reminder of 'Scope' scores:\n(0= None; 1 = a little; 2 = medium; 3 = a lot)","SCOPE","SCOPE - COMMENTS","SCOPE","SCOPE - COMMENTS","SCOPE","SCOPE - COMMENTS","SCOPE","SCOPE - COMMENTS","SCOPE","SCOPE - COMMENTS","SCOPE","SCOPE - COMMENTS","SCOPE","SCOPE - COMMENTS","SCOPE","SCOPE - COMMENTS","SCOPE","SCOPE - COMMENTS","SCOPE","SCOPE - COMMENTS","SCOPE","SCOPE - COMMENTS","SCOPE","SCOPE - COMMENTS","SCOPE","SCOPE - COMMENTS","SCOPE","SCOPE - COMMENTS","SCOPE","SCOPE - COMMENTS","SCOPE","SCOPE - COMMENTS","SCOPE","SCOPE - COMMENTS","SCOPE","SCOPE - COMMENTS","SCOPE","SCOPE - COMMENTS","SCOPE","SCOPE - COMMENTS","SCOPE","SCOPE - COMMENTS","SCOPE","SCOPE - COMMENTS","SCOPE","SCOPE - COMMENTS","SCOPE","SCOPE - COMMENTS","SCOPE","SCOPE - COMMENTS","SCOPE","SCOPE - COMMENTS","SCOPE","SCOPE - COMMENTS","SCOPE","SCOPE - COMMENTS","SCOPE","SCOPE - COMMENTS","SCOPE","SCOPE - COMMENTS","SCOPE","SCOPE - COMMENTS","SCOPE","SCOPE - COMMENTS","SCOPE","SCOPE - COMMENTS","SCOPE","SCOPE - COMMENTS","SCOPE","SCOPE - COMMENTS","SCOPE","SCOPE - COMMENTS","SCOPE","SCOPE - COMMENTS","SCOPE","SCOPE - COMMENTS","SCOPE","SCOPE - COMMENTS","SCOPE","SCOPE - COMMENTS",null,null,null,null,"SCOPE","SCOPE - COMMENTS"]
[null,"Socio-economic - SCOPE",{"$f":"IF(INDEX(SocIssues,ROW()-ROW(C$68))=\"\",\"\",INDEX(SocIssues,ROW()-ROW(C$68)))","v":"Employment, skills and training"},{"$f":"Scope!D25","v":3},{"$f":"Scope!E25","v":"Introducing \"reuse\"  opportunity to create new skills ops such as Circular Economy. Working with small recycling and reuse projects"},{"$f":"Scope!F25","v":1},{"$f":"Scope!G25","v":"Introducing \"reuse\"  opportunity to create new skills ops such as Circular Economy. Working with samll recycling and reuse projects"},{"$f":"Scope!H25","v":0},{"$f":"Scope!I25","v":"Minimal Scope"},{"$f":"Scope!J25","v":3},{"$f":"Scope!K25","v":"Introducing \"reuse\"  opportunity to create new skills ops such as Circular Economy. Working with small recycling and reuse projects"},{"$f":"Scope!L25","v":0},{"$f":"Scope!M25","v":"Minimal Scope"},{"$f":"Scope!N25","v":2},{"$f":"Scope!O25","v":"Scope to influence suppliers to create new positions"},{"$f":"Scope!P25","v":"0"},{"$f":"Scope!Q25","v":"[Insert comments here]"},{"$f":"Scope!R25","v":1},{"$f":"Scope!S25","v":"Low level of oppportunity"},{"$f":"Scope!T25","v":"0"},{"$f":"Scope!U25","v":"[Insert comments here]"},{"$f":"Scope!V25","v":"0"},{"$f":"Scope!W25","v":"[Insert comments here]"},{"$f":"Scope!X25","v":"0"},{"$f":"Scope!Y25","v":"[Insert comments here]"},{"$f":"Scope!Z25","v":"0"},{"$f":"Scope!AA25","v":"[Insert comments here]"},{"$f":"Scope!AB25","v":"0"},{"$f":"Scope!AC25","v":"[Insert comments here]"},{"$f":"Scope!AD25","v":"0"},{"$f":"Scope!AE25","v":"[Insert comments here]"},{"$f":"Scope!AF25","v":"0"},{"$f":"Scope!AG25","v":"[Insert comments here]"},{"$f":"Scope!AH25","v":"0"},{"$f":"Scope!AI25","v":"[Insert comments here]"},{"$f":"Scope!AJ25","v":"0"},{"$f":"Scope!AK25","v":"[Insert comments here]"},{"$f":"Scope!AL25","v":"0"},{"$f":"Scope!AM25","v":"[Insert comments here]"},{"$f":"Scope!AN25","v":"0"},{"$f":"Scope!AO25","v":"[Insert comments here]"},{"$f":"Scope!AP25","v":"0"},{"$f":"Scope!AQ25","v":"[Insert comments here]"},{"$f":"Scope!AR25","v":"0"},{"$f":"Scope!AS25","v":"[Insert comments here]"},{"$f":"Scope!AT25","v":"0"},{"$f":"Scope!AU25","v":"[Insert comments here]"},{"$f":"Scope!AV25","v":"0"},{"$f":"Scope!AW25","v":"[Insert comments here]"},{"$f":"Scope!AX25","v":"0"},{"$f":"Scope!AY25","v":"[Insert comments here]"},{"$f":"Scope!AZ25","v":"0"},{"$f":"Scope!BA25","v":"[Insert comments here]"},{"$f":"Scope!BB25","v":"0"},{"$f":"Scope!BC25","v":"[Insert comments here]"},{"$f":"Scope!BD25","v":"0"},{"$f":"Scope!BE25","v":"[Insert comments here]"},{"$f":"Scope!BF25","v":"0"},{"$f":"Scope!BG25","v":"[Insert comments here]"},{"$f":"Scope!BH25","v":"0"},{"$f":"Scope!BI25","v":"[Insert comments here]"},{"$f":"Scope!BJ25","v":"0"},{"$f":"Scope!BK25","v":"[Insert comments here]"},{"$f":"Scope!BL25","v":"0"},{"$f":"Scope!BM25","v":"[Insert comments here]"},{"$f":"Scope!BN25","v":"0"},{"$f":"Scope!BO25","v":"[Insert comments here]"},{"$f":"Scope!BP25","v":"0"},{"$f":"Scope!BQ25","v":"[Insert comments here]"},{"$f":"Scope!BR25","v":"0"},{"$f":"Scope!BS25","v":"[Insert comments here]"},{"$f":"Scope!BT25","v":"0"},{"$f":"Scope!BU25","v":"[Insert comments here]"},{"$f":"Scope!BV25","v":"0"},{"$f":"Scope!BW25","v":"[Insert comments here]"},{"$f":"Scope!BX25","v":"0"},{"$f":"Scope!BY25","v":"[Insert comments here]"},{"$f":"Scope!BZ25","v":"0"},{"$f":"Scope!CA25","v":"[Insert comments here]"},{"$f":"Scope!CB25","v":"0"},{"$f":"Scope!CC25","v":"[Insert comments here]"},{"$f":"Scope!CD25","v":"0"},{"$f":"Scope!CE25","v":"[Insert comments here]"},null,null,null,null,{"$f":"Scope!CJ25","v":"0"},{"$f":"Scope!CK25","v":"[Insert comments here]"}]
[null,"Scroll down to view all scores","Health and wellbeing",{"$f":"Scope!D26","v":1},{"$f":"Scope!E26","v":"risks to workforce at all levels through use of final product in working environment. Health and Safety."},{"$f":"Scope!F26","v":0},{"$f":"Scope!G26","v":"Not Applicable"},{"$f":"Scope!H26","v":0},{"$f":"Scope!I26","v":"Minimal Scope"},{"$f":"Scope!J26","v":1},{"$f":"Scope!K26","v":"risks to workforce at all levels through use of final product in working environment. Health and Safety."},{"$f":"Scope!L26","v":1},{"$f":"Scope!M26","v":"Raise awareness of toners and chemicals in devices. "},{"$f":"Scope!N26","v":3},{"$f":"Scope!O26","v":"Looking at scope to introduce robotics"},{"$f":"Scope!P26","v":1},{"$f":"Scope!Q26","v":"risks to workforce at all levels through use of final product in working environment. Health and Safety."},{"$f":"Scope!R26","v":0},{"$f":"Scope!S26","v":"Minimal Scope outwith the current legislation and procedures"},{"$f":"Scope!T26","v":"0"},{"$f":"Scope!U26","v":"[Insert comments here]"},{"$f":"Scope!V26","v":"0"},{"$f":"Scope!W26","v":"[Insert comments here]"},{"$f":"Scope!X26","v":"0"},{"$f":"Scope!Y26","v":"[Insert comments here]"},{"$f":"Scope!Z26","v":"0"},{"$f":"Scope!AA26","v":"[Insert comments here]"},{"$f":"Scope!AB26","v":"0"},{"$f":"Scope!AC26","v":"[Insert comments here]"},{"$f":"Scope!AD26","v":"0"},{"$f":"Scope!AE26","v":"[Insert comments here]"},{"$f":"Scope!AF26","v":"0"},{"$f":"Scope!AG26","v":"[Insert comments here]"},{"$f":"Scope!AH26","v":"0"},{"$f":"Scope!AI26","v":"[Insert comments here]"},{"$f":"Scope!AJ26","v":"0"},{"$f":"Scope!AK26","v":"[Insert comments here]"},{"$f":"Scope!AL26","v":"0"},{"$f":"Scope!AM26","v":"[Insert comments here]"},{"$f":"Scope!AN26","v":"0"},{"$f":"Scope!AO26","v":"[Insert comments here]"},{"$f":"Scope!AP26","v":"0"},{"$f":"Scope!AQ26","v":"[Insert comments here]"},{"$f":"Scope!AR26","v":"0"},{"$f":"Scope!AS26","v":"[Insert comments here]"},{"$f":"Scope!AT26","v":"0"},{"$f":"Scope!AU26","v":"[Insert comments here]"},{"$f":"Scope!AV26","v":"0"},{"$f":"Scope!AW26","v":"[Insert comments here]"},{"$f":"Scope!AX26","v":"0"},{"$f":"Scope!AY26","v":"[Insert comments here]"},{"$f":"Scope!AZ26","v":"0"},{"$f":"Scope!BA26","v":"[Insert comments here]"},{"$f":"Scope!BB26","v":"0"},{"$f":"Scope!BC26","v":"[Insert comments here]"},{"$f":"Scope!BD26","v":"0"},{"$f":"Scope!BE26","v":"[Insert comments here]"},{"$f":"Scope!BF26","v":"0"},{"$f":"Scope!BG26","v":"[Insert comments here]"},{"$f":"Scope!BH26","v":"0"},{"$f":"Scope!BI26","v":"[Insert comments here]"},{"$f":"Scope!BJ26","v":"0"},{"$f":"Scope!BK26","v":"[Insert comments here]"},{"$f":"Scope!BL26","v":"0"},{"$f":"Scope!BM26","v":"[Insert comments here]"},{"$f":"Scope!BN26","v":"0"},{"$f":"Scope!BO26","v":"[Insert comments here]"},{"$f":"Scope!BP26","v":"0"},{"$f":"Scope!BQ26","v":"[Insert comments here]"},{"$f":"Scope!BR26","v":"0"},{"$f":"Scope!BS26","v":"[Insert comments here]"},{"$f":"Scope!BT26","v":"0"},{"$f":"Scope!BU26","v":"[Insert comments here]"},{"$f":"Scope!BV26","v":"0"},{"$f":"Scope!BW26","v":"[Insert comments here]"},{"$f":"Scope!BX26","v":"0"},{"$f":"Scope!BY26","v":"[Insert comments here]"},{"$f":"Scope!BZ26","v":"0"},{"$f":"Scope!CA26","v":"[Insert comments here]"},{"$f":"Scope!CB26","v":"0"},{"$f":"Scope!CC26","v":"[Insert comments here]"},{"$f":"Scope!CD26","v":"0"},{"$f":"Scope!CE26","v":"[Insert comments here]"},null,null,null,null,{"$f":"Scope!CJ26","v":"0"},{"$f":"Scope!CK26","v":"[Insert comments here]"}]
[null,null,"Communities",{"$f":"Scope!D27","v":1},{"$f":"Scope!E27","v":"EW is utilised to monitoring the conditions and the impact of their communities."},{"$f":"Scope!F27","v":1},{"$f":"Scope!G27","v":"EW is utilised to monitoring the conditions and the impact of their communities."},{"$f":"Scope!H27","v":1},{"$f":"Scope!I27","v":"EW is utilised to monitoring the conditions and the impact of their communities."},{"$f":"Scope!J27","v":1},{"$f":"Scope!K27","v":"EW is utilised to monitoring the conditions and the impact of their communities."},{"$f":"Scope!L27","v":1},{"$f":"Scope!M27","v":"EW is utilised to monitoring the conditions and the impact of their communities."},{"$f":"Scope!N27","v":1},{"$f":"Scope!O27","v":"CHECK if EW will do this for us"},{"$f":"Scope!P27","v":1},{"$f":"Scope!Q27","v":"CHECK if EW will do this for us"},{"$f":"Scope!R27","v":1},{"$f":"Scope!S27","v":"CHECK if EW will do this for us"},{"$f":"Scope!T27","v":"0"},{"$f":"Scope!U27","v":"[Insert comments here]"},{"$f":"Scope!V27","v":"0"},{"$f":"Scope!W27","v":"[Insert comments here]"},{"$f":"Scope!X27","v":"0"},{"$f":"Scope!Y27","v":"[Insert comments here]"},{"$f":"Scope!Z27","v":"0"},{"$f":"Scope!AA27","v":"[Insert comments here]"},{"$f":"Scope!AB27","v":"0"},{"$f":"Scope!AC27","v":"[Insert comments here]"},{"$f":"Scope!AD27","v":"0"},{"$f":"Scope!AE27","v":"[Insert comments here]"},{"$f":"Scope!AF27","v":"0"},{"$f":"Scope!AG27","v":"[Insert comments here]"},{"$f":"Scope!AH27","v":"0"},{"$f":"Scope!AI27","v":"[Insert comments here]"},{"$f":"Scope!AJ27","v":"0"},{"$f":"Scope!AK27","v":"[Insert comments here]"},{"$f":"Scope!AL27","v":"0"},{"$f":"Scope!AM27","v":"[Insert comments here]"},{"$f":"Scope!AN27","v":"0"},{"$f":"Scope!AO27","v":"[Insert comments here]"},{"$f":"Scope!AP27","v":"0"},{"$f":"Scope!AQ27","v":"[Insert comments here]"},{"$f":"Scope!AR27","v":"0"},{"$f":"Scope!AS27","v":"[Insert comments here]"},{"$f":"Scope!AT27","v":"0"},{"$f":"Scope!AU27","v":"[Insert comments here]"},{"$f":"Scope!AV27","v":"0"},{"$f":"Scope!AW27","v":"[Insert comments here]"},{"$f":"Scope!AX27","v":"0"},{"$f":"Scope!AY27","v":"[Insert comments here]"},{"$f":"Scope!AZ27","v":"0"},{"$f":"Scope!BA27","v":"[Insert comments here]"},{"$f":"Scope!BB27","v":"0"},{"$f":"Scope!BC27","v":"[Insert comments here]"},{"$f":"Scope!BD27","v":"0"},{"$f":"Scope!BE27","v":"[Insert comments here]"},{"$f":"Scope!BF27","v":"0"},{"$f":"Scope!BG27","v":"[Insert comments here]"},{"$f":"Scope!BH27","v":"0"},{"$f":"Scope!BI27","v":"[Insert comments here]"},{"$f":"Scope!BJ27","v":"0"},{"$f":"Scope!BK27","v":"[Insert comments here]"},{"$f":"Scope!BL27","v":"0"},{"$f":"Scope!BM27","v":"[Insert comments here]"},{"$f":"Scope!BN27","v":"0"},{"$f":"Scope!BO27","v":"[Insert comments here]"},{"$f":"Scope!BP27","v":"0"},{"$f":"Scope!BQ27","v":"[Insert comments here]"},{"$f":"Scope!BR27","v":"0"},{"$f":"Scope!BS27","v":"[Insert comments here]"},{"$f":"Scope!BT27","v":"0"},{"$f":"Scope!BU27","v":"[Insert comments here]"},{"$f":"Scope!BV27","v":"0"},{"$f":"Scope!BW27","v":"[Insert comments here]"},{"$f":"Scope!BX27","v":"0"},{"$f":"Scope!BY27","v":"[Insert comments here]"},{"$f":"Scope!BZ27","v":"0"},{"$f":"Scope!CA27","v":"[Insert comments here]"},{"$f":"Scope!CB27","v":"0"},{"$f":"Scope!CC27","v":"[Insert comments here]"},{"$f":"Scope!CD27","v":"0"},{"$f":"Scope!CE27","v":"[Insert comments here]"},null,null,null,null,{"$f":"Scope!CJ27","v":"0"},{"$f":"Scope!CK27","v":"[Insert comments here]"}]
[null,null,"Security and crime",{"$f":"Scope!D28","v":1},{"$f":"Scope!E28","v":"B2P security enforcing security of devices with minimal personal input/setting"},{"$f":"Scope!F28","v":1},{"$f":"Scope!G28","v":"B2P security enforcing security of devices with minimal personal input/setting"},{"$f":"Scope!H28","v":1},{"$f":"Scope!I28","v":"B2P security enforcing security of devices with minimal personal input/setting"},{"$f":"Scope!J28","v":1},{"$f":"Scope!K28","v":"B2P security enforcing security of devices with minimal personal input/setting"},{"$f":"Scope!L28","v":1},{"$f":"Scope!M28","v":"B2P security enforcing security of devices with minimal personal input/setting"},{"$f":"Scope!N28","v":0},{"$f":"Scope!O28","v":"little scope, strong procedures"},{"$f":"Scope!P28","v":0},{"$f":"Scope!Q28","v":"little scope, strong procedures"},{"$f":"Scope!R28","v":1},{"$f":"Scope!S28","v":"Some opportunity to work with suppliers"},{"$f":"Scope!T28","v":"0"},{"$f":"Scope!U28","v":"[Insert comments here]"},{"$f":"Scope!V28","v":"0"},{"$f":"Scope!W28","v":"[Insert comments here]"},{"$f":"Scope!X28","v":"0"},{"$f":"Scope!Y28","v":"[Insert comments here]"},{"$f":"Scope!Z28","v":"0"},{"$f":"Scope!AA28","v":"[Insert comments here]"},{"$f":"Scope!AB28","v":"0"},{"$f":"Scope!AC28","v":"[Insert comments here]"},{"$f":"Scope!AD28","v":"0"},{"$f":"Scope!AE28","v":"[Insert comments here]"},{"$f":"Scope!AF28","v":"0"},{"$f":"Scope!AG28","v":"[Insert comments here]"},{"$f":"Scope!AH28","v":"0"},{"$f":"Scope!AI28","v":"[Insert comments here]"},{"$f":"Scope!AJ28","v":"0"},{"$f":"Scope!AK28","v":"[Insert comments here]"},{"$f":"Scope!AL28","v":"0"},{"$f":"Scope!AM28","v":"[Insert comments here]"},{"$f":"Scope!AN28","v":"0"},{"$f":"Scope!AO28","v":"[Insert comments here]"},{"$f":"Scope!AP28","v":"0"},{"$f":"Scope!AQ28","v":"[Insert comments here]"},{"$f":"Scope!AR28","v":"0"},{"$f":"Scope!AS28","v":"[Insert comments here]"},{"$f":"Scope!AT28","v":"0"},{"$f":"Scope!AU28","v":"[Insert comments here]"},{"$f":"Scope!AV28","v":"0"},{"$f":"Scope!AW28","v":"[Insert comments here]"},{"$f":"Scope!AX28","v":"0"},{"$f":"Scope!AY28","v":"[Insert comments here]"},{"$f":"Scope!AZ28","v":"0"},{"$f":"Scope!BA28","v":"[Insert comments here]"},{"$f":"Scope!BB28","v":"0"},{"$f":"Scope!BC28","v":"[Insert comments here]"},{"$f":"Scope!BD28","v":"0"},{"$f":"Scope!BE28","v":"[Insert comments here]"},{"$f":"Scope!BF28","v":"0"},{"$f":"Scope!BG28","v":"[Insert comments here]"},{"$f":"Scope!BH28","v":"0"},{"$f":"Scope!BI28","v":"[Insert comments here]"},{"$f":"Scope!BJ28","v":"0"},{"$f":"Scope!BK28","v":"[Insert comments here]"},{"$f":"Scope!BL28","v":"0"},{"$f":"Scope!BM28","v":"[Insert comments here]"},{"$f":"Scope!BN28","v":"0"},{"$f":"Scope!BO28","v":"[Insert comments here]"},{"$f":"Scope!BP28","v":"0"},{"$f":"Scope!BQ28","v":"[Insert comments here]"},{"$f":"Scope!BR28","v":"0"},{"$f":"Scope!BS28","v":"[Insert comments here]"},{"$f":"Scope!BT28","v":"0"},{"$f":"Scope!BU28","v":"[Insert comments here]"},{"$f":"Scope!BV28","v":"0"},{"$f":"Scope!BW28","v":"[Insert comments here]"},{"$f":"Scope!BX28","v":"0"},{"$f":"Scope!BY28","v":"[Insert comments here]"},{"$f":"Scope!BZ28","v":"0"},{"$f":"Scope!CA28","v":"[Insert comments here]"},{"$f":"Scope!CB28","v":"0"},{"$f":"Scope!CC28","v":"[Insert comments here]"},{"$f":"Scope!CD28","v":"0"},{"$f":"Scope!CE28","v":"[Insert comments here]"},null,null,null,null,{"$f":"Scope!CJ28","v":"0"},{"$f":"Scope!CK28","v":"[Insert comments here]"}]
[null,null,"Fairly and ethically traded",{"$f":"Scope!D29","v":2},{"$f":"Scope!E29","v":"Develop further with EW to communicate research and outcomes. More engagement regarding conflict minerals with Industry."},{"$f":"Scope!F29","v":2},{"$f":"Scope!G29","v":"Develop further with EW to communicate research and outcomes. More engagement regarding conflict minerals with Industry."},{"$f":"Scope!H29","v":2},{"$f":"Scope!I29","v":"Develop further with EW to communicate research and outcomes. More engagement regarding conflict minerals with Industry."},{"$f":"Scope!J29","v":2},{"$f":"Scope!K29","v":"Develop further with EW to communicate research and outcomes. More engagement regarding conflict minerals with Industry."},{"$f":"Scope!L29","v":2},{"$f":"Scope!M29","v":"Develop further with EW to communicate research and outcomes. More engagement regarding conflict minerals with Industry."},{"$f":"Scope!N29","v":2},{"$f":"Scope!O29","v":"CHECK if EW will do this for us"},{"$f":"Scope!P29","v":2},{"$f":"Scope!Q29","v":"CHECK if EW will do this for us"},{"$f":"Scope!R29","v":2},{"$f":"Scope!S29","v":"CHECK if EW will do this for us"},{"$f":"Scope!T29","v":"0"},{"$f":"Scope!U29","v":"[Insert comments here]"},{"$f":"Scope!V29","v":"0"},{"$f":"Scope!W29","v":"[Insert comments here]"},{"$f":"Scope!X29","v":"0"},{"$f":"Scope!Y29","v":"[Insert comments here]"},{"$f":"Scope!Z29","v":"0"},{"$f":"Scope!AA29","v":"[Insert comments here]"},{"$f":"Scope!AB29","v":"0"},{"$f":"Scope!AC29","v":"[Insert comments here]"},{"$f":"Scope!AD29","v":"0"},{"$f":"Scope!AE29","v":"[Insert comments here]"},{"$f":"Scope!AF29","v":"0"},{"$f":"Scope!AG29","v":"[Insert comments here]"},{"$f":"Scope!AH29","v":"0"},{"$f":"Scope!AI29","v":"[Insert comments here]"},{"$f":"Scope!AJ29","v":"0"},{"$f":"Scope!AK29","v":"[Insert comments here]"},{"$f":"Scope!AL29","v":"0"},{"$f":"Scope!AM29","v":"[Insert comments here]"},{"$f":"Scope!AN29","v":"0"},{"$f":"Scope!AO29","v":"[Insert comments here]"},{"$f":"Scope!AP29","v":"0"},{"$f":"Scope!AQ29","v":"[Insert comments here]"},{"$f":"Scope!AR29","v":"0"},{"$f":"Scope!AS29","v":"[Insert comments here]"},{"$f":"Scope!AT29","v":"0"},{"$f":"Scope!AU29","v":"[Insert comments here]"},{"$f":"Scope!AV29","v":"0"},{"$f":"Scope!AW29","v":"[Insert comments here]"},{"$f":"Scope!AX29","v":"0"},{"$f":"Scope!AY29","v":"[Insert comments here]"},{"$f":"Scope!AZ29","v":"0"},{"$f":"Scope!BA29","v":"[Insert comments here]"},{"$f":"Scope!BB29","v":"0"},{"$f":"Scope!BC29","v":"[Insert comments here]"},{"$f":"Scope!BD29","v":"0"},{"$f":"Scope!BE29","v":"[Insert comments here]"},{"$f":"Scope!BF29","v":"0"},{"$f":"Scope!BG29","v":"[Insert comments here]"},{"$f":"Scope!BH29","v":"0"},{"$f":"Scope!BI29","v":"[Insert comments here]"},{"$f":"Scope!BJ29","v":"0"},{"$f":"Scope!BK29","v":"[Insert comments here]"},{"$f":"Scope!BL29","v":"0"},{"$f":"Scope!BM29","v":"[Insert comments here]"},{"$f":"Scope!BN29","v":"0"},{"$f":"Scope!BO29","v":"[Insert comments here]"},{"$f":"Scope!BP29","v":"0"},{"$f":"Scope!BQ29","v":"[Insert comments here]"},{"$f":"Scope!BR29","v":"0"},{"$f":"Scope!BS29","v":"[Insert comments here]"},{"$f":"Scope!BT29","v":"0"},{"$f":"Scope!BU29","v":"[Insert comments here]"},{"$f":"Scope!BV29","v":"0"},{"$f":"Scope!BW29","v":"[Insert comments here]"},{"$f":"Scope!BX29","v":"0"},{"$f":"Scope!BY29","v":"[Insert comments here]"},{"$f":"Scope!BZ29","v":"0"},{"$f":"Scope!CA29","v":"[Insert comments here]"},{"$f":"Scope!CB29","v":"0"},{"$f":"Scope!CC29","v":"[Insert comments here]"},{"$f":"Scope!CD29","v":"0"},{"$f":"Scope!CE29","v":"[Insert comments here]"},null,null,null,null,{"$f":"Scope!CJ29","v":"0"},{"$f":"Scope!CK29","v":"[Insert comments here]"}]
[null,null,"Equality",{"$f":"Scope!D30","v":2},{"$f":"Scope!E30","v":"Improve accessibility to systems for end users. Utilise EW to raise and report awraeness of equality in supply chain."},{"$f":"Scope!F30","v":2},{"$f":"Scope!G30","v":"Utilise EW to raise and report awareness of equality in supply chain."},{"$f":"Scope!H30","v":2},{"$f":"Scope!I30","v":"Utilise EW to raise and report awareness of equality in supply chain."},{"$f":"Scope!J30","v":2},{"$f":"Scope!K30","v":"Improve accessibility to systems for end users. Utilise EW to raise and report awraeness of equality in supply chain."},{"$f":"Scope!L30","v":2},{"$f":"Scope!M30","v":"Utilise EW to raise and report awareness of equality in supply chain."},{"$f":"Scope!N30","v":2},{"$f":"Scope!O30","v":"CHECK if EW will do this for us"},{"$f":"Scope!P30","v":2},{"$f":"Scope!Q30","v":"CHECK if EW will do this for us"},{"$f":"Scope!R30","v":2},{"$f":"Scope!S30","v":"CHECK if EW will do this for us"},{"$f":"Scope!T30","v":"0"},{"$f":"Scope!U30","v":"[Insert comments here]"},{"$f":"Scope!V30","v":"0"},{"$f":"Scope!W30","v":"[Insert comments here]"},{"$f":"Scope!X30","v":"0"},{"$f":"Scope!Y30","v":"[Insert comments here]"},{"$f":"Scope!Z30","v":"0"},{"$f":"Scope!AA30","v":"[Insert comments here]"},{"$f":"Scope!AB30","v":"0"},{"$f":"Scope!AC30","v":"[Insert comments here]"},{"$f":"Scope!AD30","v":"0"},{"$f":"Scope!AE30","v":"[Insert comments here]"},{"$f":"Scope!AF30","v":"0"},{"$f":"Scope!AG30","v":"[Insert comments here]"},{"$f":"Scope!AH30","v":"0"},{"$f":"Scope!AI30","v":"[Insert comments here]"},{"$f":"Scope!AJ30","v":"0"},{"$f":"Scope!AK30","v":"[Insert comments here]"},{"$f":"Scope!AL30","v":"0"},{"$f":"Scope!AM30","v":"[Insert comments here]"},{"$f":"Scope!AN30","v":"0"},{"$f":"Scope!AO30","v":"[Insert comments here]"},{"$f":"Scope!AP30","v":"0"},{"$f":"Scope!AQ30","v":"[Insert comments here]"},{"$f":"Scope!AR30","v":"0"},{"$f":"Scope!AS30","v":"[Insert comments here]"},{"$f":"Scope!AT30","v":"0"},{"$f":"Scope!AU30","v":"[Insert comments here]"},{"$f":"Scope!AV30","v":"0"},{"$f":"Scope!AW30","v":"[Insert comments here]"},{"$f":"Scope!AX30","v":"0"},{"$f":"Scope!AY30","v":"[Insert comments here]"},{"$f":"Scope!AZ30","v":"0"},{"$f":"Scope!BA30","v":"[Insert comments here]"},{"$f":"Scope!BB30","v":"0"},{"$f":"Scope!BC30","v":"[Insert comments here]"},{"$f":"Scope!BD30","v":"0"},{"$f":"Scope!BE30","v":"[Insert comments here]"},{"$f":"Scope!BF30","v":"0"},{"$f":"Scope!BG30","v":"[Insert comments here]"},{"$f":"Scope!BH30","v":"0"},{"$f":"Scope!BI30","v":"[Insert comments here]"},{"$f":"Scope!BJ30","v":"0"},{"$f":"Scope!BK30","v":"[Insert comments here]"},{"$f":"Scope!BL30","v":"0"},{"$f":"Scope!BM30","v":"[Insert comments here]"},{"$f":"Scope!BN30","v":"0"},{"$f":"Scope!BO30","v":"[Insert comments here]"},{"$f":"Scope!BP30","v":"0"},{"$f":"Scope!BQ30","v":"[Insert comments here]"},{"$f":"Scope!BR30","v":"0"},{"$f":"Scope!BS30","v":"[Insert comments here]"},{"$f":"Scope!BT30","v":"0"},{"$f":"Scope!BU30","v":"[Insert comments here]"},{"$f":"Scope!BV30","v":"0"},{"$f":"Scope!BW30","v":"[Insert comments here]"},{"$f":"Scope!BX30","v":"0"},{"$f":"Scope!BY30","v":"[Insert comments here]"},{"$f":"Scope!BZ30","v":"0"},{"$f":"Scope!CA30","v":"[Insert comments here]"},{"$f":"Scope!CB30","v":"0"},{"$f":"Scope!CC30","v":"[Insert comments here]"},{"$f":"Scope!CD30","v":"0"},{"$f":"Scope!CE30","v":"[Insert comments here]"},null,null,null,null,{"$f":"Scope!CJ30","v":"0"},{"$f":"Scope!CK30","v":"[Insert comments here]"}]
[null,null,"Fair Work",{"$f":"Scope!D31","v":1},{"$f":"Scope!E31","v":"Investigate where this occurs in direct sales and seek to inform aligned values."},{"$f":"Scope!F31","v":0},{"$f":"Scope!G31","v":"Minimal Scope"},{"$f":"Scope!H31","v":0},{"$f":"Scope!I31","v":"Minimal Scope"},{"$f":"Scope!J31","v":1},{"$f":"Scope!K31","v":"Investigate where this occurs in direct sales and seek to inform aligned values."},{"$f":"Scope!L31","v":0},{"$f":"Scope!M31","v":"Minimal Scope"},{"$f":"Scope!N31","v":"0"},{"$f":"Scope!O31","v":"[Insert comments here]"},{"$f":"Scope!P31","v":"0"},{"$f":"Scope!Q31","v":"[Insert comments here]"},{"$f":"Scope!R31","v":0},{"$f":"Scope!S31","v":"not relevant"},{"$f":"Scope!T31","v":"0"},{"$f":"Scope!U31","v":"[Insert comments here]"},{"$f":"Scope!V31","v":"0"},{"$f":"Scope!W31","v":"[Insert comments here]"},{"$f":"Scope!X31","v":"0"},{"$f":"Scope!Y31","v":"[Insert comments here]"},{"$f":"Scope!Z31","v":"0"},{"$f":"Scope!AA31","v":"[Insert comments here]"},{"$f":"Scope!AB31","v":"0"},{"$f":"Scope!AC31","v":"[Insert comments here]"},{"$f":"Scope!AD31","v":"0"},{"$f":"Scope!AE31","v":"[Insert comments here]"},{"$f":"Scope!AF31","v":"0"},{"$f":"Scope!AG31","v":"[Insert comments here]"},{"$f":"Scope!AH31","v":"0"},{"$f":"Scope!AI31","v":"[Insert comments here]"},{"$f":"Scope!AJ31","v":"0"},{"$f":"Scope!AK31","v":"[Insert comments here]"},{"$f":"Scope!AL31","v":"0"},{"$f":"Scope!AM31","v":"[Insert comments here]"},{"$f":"Scope!AN31","v":"0"},{"$f":"Scope!AO31","v":"[Insert comments here]"},{"$f":"Scope!AP31","v":"0"},{"$f":"Scope!AQ31","v":"[Insert comments here]"},{"$f":"Scope!AR31","v":"0"},{"$f":"Scope!AS31","v":"[Insert comments here]"},{"$f":"Scope!AT31","v":"0"},{"$f":"Scope!AU31","v":"[Insert comments here]"},{"$f":"Scope!AV31","v":"0"},{"$f":"Scope!AW31","v":"[Insert comments here]"},{"$f":"Scope!AX31","v":"0"},{"$f":"Scope!AY31","v":"[Insert comments here]"},{"$f":"Scope!AZ31","v":"0"},{"$f":"Scope!BA31","v":"[Insert comments here]"},{"$f":"Scope!BB31","v":"0"},{"$f":"Scope!BC31","v":"[Insert comments here]"},{"$f":"Scope!BD31","v":"0"},{"$f":"Scope!BE31","v":"[Insert comments here]"},{"$f":"Scope!BF31","v":"0"},{"$f":"Scope!BG31","v":"[Insert comments here]"},{"$f":"Scope!BH31","v":"0"},{"$f":"Scope!BI31","v":"[Insert comments here]"},{"$f":"Scope!BJ31","v":"0"},{"$f":"Scope!BK31","v":"[Insert comments here]"},{"$f":"Scope!BL31","v":"0"},{"$f":"Scope!BM31","v":"[Insert comments here]"},{"$f":"Scope!BN31","v":"0"},{"$f":"Scope!BO31","v":"[Insert comments here]"},{"$f":"Scope!BP31","v":"0"},{"$f":"Scope!BQ31","v":"[Insert comments here]"},{"$f":"Scope!BR31","v":"0"},{"$f":"Scope!BS31","v":"[Insert comments here]"},{"$f":"Scope!BT31","v":"0"},{"$f":"Scope!BU31","v":"[Insert comments here]"},{"$f":"Scope!BV31","v":"0"},{"$f":"Scope!BW31","v":"[Insert comments here]"},{"$f":"Scope!BX31","v":"0"},{"$f":"Scope!BY31","v":"[Insert comments here]"},{"$f":"Scope!BZ31","v":"0"},{"$f":"Scope!CA31","v":"[Insert comments here]"},{"$f":"Scope!CB31","v":"0"},{"$f":"Scope!CC31","v":"[Insert comments here]"},{"$f":"Scope!CD31","v":"0"},{"$f":"Scope!CE31","v":"[Insert comments here]"},null,null,null,null,{"$f":"Scope!CJ31","v":"0"},{"$f":"Scope!CK31","v":"[Insert comments here]"}]
[null,null,"",{"$f":"Scope!D32","v":"0"},{"$f":"Scope!E32","v":"[Insert comments here]"},{"$f":"Scope!F32","v":"0"},{"$f":"Scope!G32","v":"[Insert comments here]"},{"$f":"Scope!H32","v":"0"},{"$f":"Scope!I32","v":"[Insert comments here]"},{"$f":"Scope!J32","v":"0"},{"$f":"Scope!K32","v":"[Insert comments here]"},{"$f":"Scope!L32","v":"0"},{"$f":"Scope!M32","v":"[Insert comments here]"},{"$f":"Scope!N32","v":"0"},{"$f":"Scope!O32","v":"[Insert comments here]"},{"$f":"Scope!P32","v":"0"},{"$f":"Scope!Q32","v":"[Insert comments here]"},{"$f":"Scope!R32","v":"0"},{"$f":"Scope!S32","v":"[Insert comments here]"},{"$f":"Scope!T32","v":"0"},{"$f":"Scope!U32","v":"[Insert comments here]"},{"$f":"Scope!V32","v":"0"},{"$f":"Scope!W32","v":"[Insert comments here]"},{"$f":"Scope!X32","v":"0"},{"$f":"Scope!Y32","v":"[Insert comments here]"},{"$f":"Scope!Z32","v":"0"},{"$f":"Scope!AA32","v":"[Insert comments here]"},{"$f":"Scope!AB32","v":"0"},{"$f":"Scope!AC32","v":"[Insert comments here]"},{"$f":"Scope!AD32","v":"0"},{"$f":"Scope!AE32","v":"[Insert comments here]"},{"$f":"Scope!AF32","v":"0"},{"$f":"Scope!AG32","v":"[Insert comments here]"},{"$f":"Scope!AH32","v":"0"},{"$f":"Scope!AI32","v":"[Insert comments here]"},{"$f":"Scope!AJ32","v":"0"},{"$f":"Scope!AK32","v":"[Insert comments here]"},{"$f":"Scope!AL32","v":"0"},{"$f":"Scope!AM32","v":"[Insert comments here]"},{"$f":"Scope!AN32","v":"0"},{"$f":"Scope!AO32","v":"[Insert comments here]"},{"$f":"Scope!AP32","v":"0"},{"$f":"Scope!AQ32","v":"[Insert comments here]"},{"$f":"Scope!AR32","v":"0"},{"$f":"Scope!AS32","v":"[Insert comments here]"},{"$f":"Scope!AT32","v":"0"},{"$f":"Scope!AU32","v":"[Insert comments here]"},{"$f":"Scope!AV32","v":"0"},{"$f":"Scope!AW32","v":"[Insert comments here]"},{"$f":"Scope!AX32","v":"0"},{"$f":"Scope!AY32","v":"[Insert comments here]"},{"$f":"Scope!AZ32","v":"0"},{"$f":"Scope!BA32","v":"[Insert comments here]"},{"$f":"Scope!BB32","v":"0"},{"$f":"Scope!BC32","v":"[Insert comments here]"},{"$f":"Scope!BD32","v":"0"},{"$f":"Scope!BE32","v":"[Insert comments here]"},{"$f":"Scope!BF32","v":"0"},{"$f":"Scope!BG32","v":"[Insert comments here]"},{"$f":"Scope!BH32","v":"0"},{"$f":"Scope!BI32","v":"[Insert comments here]"},{"$f":"Scope!BJ32","v":"0"},{"$f":"Scope!BK32","v":"[Insert comments here]"},{"$f":"Scope!BL32","v":"0"},{"$f":"Scope!BM32","v":"[Insert comments here]"},{"$f":"Scope!BN32","v":"0"},{"$f":"Scope!BO32","v":"[Insert comments here]"},{"$f":"Scope!BP32","v":"0"},{"$f":"Scope!BQ32","v":"[Insert comments here]"},{"$f":"Scope!BR32","v":"0"},{"$f":"Scope!BS32","v":"[Insert comments here]"},{"$f":"Scope!BT32","v":"0"},{"$f":"Scope!BU32","v":"[Insert comments here]"},{"$f":"Scope!BV32","v":"0"},{"$f":"Scope!BW32","v":"[Insert comments here]"},{"$f":"Scope!BX32","v":"0"},{"$f":"Scope!BY32","v":"[Insert comments here]"},{"$f":"Scope!BZ32","v":"0"},{"$f":"Scope!CA32","v":"[Insert comments here]"},{"$f":"Scope!CB32","v":"0"},{"$f":"Scope!CC32","v":"[Insert comments here]"},{"$f":"Scope!CD32","v":"0"},{"$f":"Scope!CE32","v":"[Insert comments here]"},null,null,null,null,{"$f":"Scope!CJ32","v":"0"},{"$f":"Scope!CK32","v":"[Insert comments here]"}]
[null,null,"",{"$f":"Scope!D33","v":"0"},{"$f":"Scope!E33","v":"[Insert comments here]"},{"$f":"Scope!F33","v":"0"},{"$f":"Scope!G33","v":"[Insert comments here]"},{"$f":"Scope!H33","v":"0"},{"$f":"Scope!I33","v":"[Insert comments here]"},{"$f":"Scope!J33","v":"0"},{"$f":"Scope!K33","v":"[Insert comments here]"},{"$f":"Scope!L33","v":"0"},{"$f":"Scope!M33","v":"[Insert comments here]"},{"$f":"Scope!N33","v":"0"},{"$f":"Scope!O33","v":"[Insert comments here]"},{"$f":"Scope!P33","v":"0"},{"$f":"Scope!Q33","v":"[Insert comments here]"},{"$f":"Scope!R33","v":"0"},{"$f":"Scope!S33","v":"[Insert comments here]"},{"$f":"Scope!T33","v":"0"},{"$f":"Scope!U33","v":"[Insert comments here]"},{"$f":"Scope!V33","v":"0"},{"$f":"Scope!W33","v":"[Insert comments here]"},{"$f":"Scope!X33","v":"0"},{"$f":"Scope!Y33","v":"[Insert comments here]"},{"$f":"Scope!Z33","v":"0"},{"$f":"Scope!AA33","v":"[Insert comments here]"},{"$f":"Scope!AB33","v":"0"},{"$f":"Scope!AC33","v":"[Insert comments here]"},{"$f":"Scope!AD33","v":"0"},{"$f":"Scope!AE33","v":"[Insert comments here]"},{"$f":"Scope!AF33","v":"0"},{"$f":"Scope!AG33","v":"[Insert comments here]"},{"$f":"Scope!AH33","v":"0"},{"$f":"Scope!AI33","v":"[Insert comments here]"},{"$f":"Scope!AJ33","v":"0"},{"$f":"Scope!AK33","v":"[Insert comments here]"},{"$f":"Scope!AL33","v":"0"},{"$f":"Scope!AM33","v":"[Insert comments here]"},{"$f":"Scope!AN33","v":"0"},{"$f":"Scope!AO33","v":"[Insert comments here]"},{"$f":"Scope!AP33","v":"0"},{"$f":"Scope!AQ33","v":"[Insert comments here]"},{"$f":"Scope!AR33","v":"0"},{"$f":"Scope!AS33","v":"[Insert comments here]"},{"$f":"Scope!AT33","v":"0"},{"$f":"Scope!AU33","v":"[Insert comments here]"},{"$f":"Scope!AV33","v":"0"},{"$f":"Scope!AW33","v":"[Insert comments here]"},{"$f":"Scope!AX33","v":"0"},{"$f":"Scope!AY33","v":"[Insert comments here]"},{"$f":"Scope!AZ33","v":"0"},{"$f":"Scope!BA33","v":"[Insert comments here]"},{"$f":"Scope!BB33","v":"0"},{"$f":"Scope!BC33","v":"[Insert comments here]"},{"$f":"Scope!BD33","v":"0"},{"$f":"Scope!BE33","v":"[Insert comments here]"},{"$f":"Scope!BF33","v":"0"},{"$f":"Scope!BG33","v":"[Insert comments here]"},{"$f":"Scope!BH33","v":"0"},{"$f":"Scope!BI33","v":"[Insert comments here]"},{"$f":"Scope!BJ33","v":"0"},{"$f":"Scope!BK33","v":"[Insert comments here]"},{"$f":"Scope!BL33","v":"0"},{"$f":"Scope!BM33","v":"[Insert comments here]"},{"$f":"Scope!BN33","v":"0"},{"$f":"Scope!BO33","v":"[Insert comments here]"},{"$f":"Scope!BP33","v":"0"},{"$f":"Scope!BQ33","v":"[Insert comments here]"},{"$f":"Scope!BR33","v":"0"},{"$f":"Scope!BS33","v":"[Insert comments here]"},{"$f":"Scope!BT33","v":"0"},{"$f":"Scope!BU33","v":"[Insert comments here]"},{"$f":"Scope!BV33","v":"0"},{"$f":"Scope!BW33","v":"[Insert comments here]"},{"$f":"Scope!BX33","v":"0"},{"$f":"Scope!BY33","v":"[Insert comments here]"},{"$f":"Scope!BZ33","v":"0"},{"$f":"Scope!CA33","v":"[Insert comments here]"},{"$f":"Scope!CB33","v":"0"},{"$f":"Scope!CC33","v":"[Insert comments here]"},{"$f":"Scope!CD33","v":"0"},{"$f":"Scope!CE33","v":"[Insert comments here]"},null,null,null,null,{"$f":"Scope!CJ33","v":"0"},{"$f":"Scope!CK33","v":"[Insert comments here]"}]
[null,null,"",{"$f":"Scope!D34","v":"0"},{"$f":"Scope!E34","v":"[Insert comments here]"},{"$f":"Scope!F34","v":"0"},{"$f":"Scope!G34","v":"[Insert comments here]"},{"$f":"Scope!H34","v":"0"},{"$f":"Scope!I34","v":"[Insert comments here]"},{"$f":"Scope!J34","v":"0"},{"$f":"Scope!K34","v":"[Insert comments here]"},{"$f":"Scope!L34","v":"0"},{"$f":"Scope!M34","v":"[Insert comments here]"},{"$f":"Scope!N34","v":"0"},{"$f":"Scope!O34","v":"[Insert comments here]"},{"$f":"Scope!P34","v":"0"},{"$f":"Scope!Q34","v":"[Insert comments here]"},{"$f":"Scope!R34","v":"0"},{"$f":"Scope!S34","v":"[Insert comments here]"},{"$f":"Scope!T34","v":"0"},{"$f":"Scope!U34","v":"[Insert comments here]"},{"$f":"Scope!V34","v":"0"},{"$f":"Scope!W34","v":"[Insert comments here]"},{"$f":"Scope!X34","v":"0"},{"$f":"Scope!Y34","v":"[Insert comments here]"},{"$f":"Scope!Z34","v":"0"},{"$f":"Scope!AA34","v":"[Insert comments here]"},{"$f":"Scope!AB34","v":"0"},{"$f":"Scope!AC34","v":"[Insert comments here]"},{"$f":"Scope!AD34","v":"0"},{"$f":"Scope!AE34","v":"[Insert comments here]"},{"$f":"Scope!AF34","v":"0"},{"$f":"Scope!AG34","v":"[Insert comments here]"},{"$f":"Scope!AH34","v":"0"},{"$f":"Scope!AI34","v":"[Insert comments here]"},{"$f":"Scope!AJ34","v":"0"},{"$f":"Scope!AK34","v":"[Insert comments here]"},{"$f":"Scope!AL34","v":"0"},{"$f":"Scope!AM34","v":"[Insert comments here]"},{"$f":"Scope!AN34","v":"0"},{"$f":"Scope!AO34","v":"[Insert comments here]"},{"$f":"Scope!AP34","v":"0"},{"$f":"Scope!AQ34","v":"[Insert comments here]"},{"$f":"Scope!AR34","v":"0"},{"$f":"Scope!AS34","v":"[Insert comments here]"},{"$f":"Scope!AT34","v":"0"},{"$f":"Scope!AU34","v":"[Insert comments here]"},{"$f":"Scope!AV34","v":"0"},{"$f":"Scope!AW34","v":"[Insert comments here]"},{"$f":"Scope!AX34","v":"0"},{"$f":"Scope!AY34","v":"[Insert comments here]"},{"$f":"Scope!AZ34","v":"0"},{"$f":"Scope!BA34","v":"[Insert comments here]"},{"$f":"Scope!BB34","v":"0"},{"$f":"Scope!BC34","v":"[Insert comments here]"},{"$f":"Scope!BD34","v":"0"},{"$f":"Scope!BE34","v":"[Insert comments here]"},{"$f":"Scope!BF34","v":"0"},{"$f":"Scope!BG34","v":"[Insert comments here]"},{"$f":"Scope!BH34","v":"0"},{"$f":"Scope!BI34","v":"[Insert comments here]"},{"$f":"Scope!BJ34","v":"0"},{"$f":"Scope!BK34","v":"[Insert comments here]"},{"$f":"Scope!BL34","v":"0"},{"$f":"Scope!BM34","v":"[Insert comments here]"},{"$f":"Scope!BN34","v":"0"},{"$f":"Scope!BO34","v":"[Insert comments here]"},{"$f":"Scope!BP34","v":"0"},{"$f":"Scope!BQ34","v":"[Insert comments here]"},{"$f":"Scope!BR34","v":"0"},{"$f":"Scope!BS34","v":"[Insert comments here]"},{"$f":"Scope!BT34","v":"0"},{"$f":"Scope!BU34","v":"[Insert comments here]"},{"$f":"Scope!BV34","v":"0"},{"$f":"Scope!BW34","v":"[Insert comments here]"},{"$f":"Scope!BX34","v":"0"},{"$f":"Scope!BY34","v":"[Insert comments here]"},{"$f":"Scope!BZ34","v":"0"},{"$f":"Scope!CA34","v":"[Insert comments here]"},{"$f":"Scope!CB34","v":"0"},{"$f":"Scope!CC34","v":"[Insert comments here]"},{"$f":"Scope!CD34","v":"0"},{"$f":"Scope!CE34","v":"[Insert comments here]"},null,null,null,null,{"$f":"Scope!CJ34","v":"0"},{"$f":"Scope!CK34","v":"[Insert comments here]"}]
[null,null,"",{"$f":"Scope!D35","v":"0"},{"$f":"Scope!E35","v":"[Insert comments here]"},{"$f":"Scope!F35","v":"0"},{"$f":"Scope!G35","v":"[Insert comments here]"},{"$f":"Scope!H35","v":"0"},{"$f":"Scope!I35","v":"[Insert comments here]"},{"$f":"Scope!J35","v":"0"},{"$f":"Scope!K35","v":"[Insert comments here]"},{"$f":"Scope!L35","v":"0"},{"$f":"Scope!M35","v":"[Insert comments here]"},{"$f":"Scope!N35","v":"0"},{"$f":"Scope!O35","v":"[Insert comments here]"},{"$f":"Scope!P35","v":"0"},{"$f":"Scope!Q35","v":"[Insert comments here]"},{"$f":"Scope!R35","v":"0"},{"$f":"Scope!S35","v":"[Insert comments here]"},{"$f":"Scope!T35","v":"0"},{"$f":"Scope!U35","v":"[Insert comments here]"},{"$f":"Scope!V35","v":"0"},{"$f":"Scope!W35","v":"[Insert comments here]"},{"$f":"Scope!X35","v":"0"},{"$f":"Scope!Y35","v":"[Insert comments here]"},{"$f":"Scope!Z35","v":"0"},{"$f":"Scope!AA35","v":"[Insert comments here]"},{"$f":"Scope!AB35","v":"0"},{"$f":"Scope!AC35","v":"[Insert comments here]"},{"$f":"Scope!AD35","v":"0"},{"$f":"Scope!AE35","v":"[Insert comments here]"},{"$f":"Scope!AF35","v":"0"},{"$f":"Scope!AG35","v":"[Insert comments here]"},{"$f":"Scope!AH35","v":"0"},{"$f":"Scope!AI35","v":"[Insert comments here]"},{"$f":"Scope!AJ35","v":"0"},{"$f":"Scope!AK35","v":"[Insert comments here]"},{"$f":"Scope!AL35","v":"0"},{"$f":"Scope!AM35","v":"[Insert comments here]"},{"$f":"Scope!AN35","v":"0"},{"$f":"Scope!AO35","v":"[Insert comments here]"},{"$f":"Scope!AP35","v":"0"},{"$f":"Scope!AQ35","v":"[Insert comments here]"},{"$f":"Scope!AR35","v":"0"},{"$f":"Scope!AS35","v":"[Insert comments here]"},{"$f":"Scope!AT35","v":"0"},{"$f":"Scope!AU35","v":"[Insert comments here]"},{"$f":"Scope!AV35","v":"0"},{"$f":"Scope!AW35","v":"[Insert comments here]"},{"$f":"Scope!AX35","v":"0"},{"$f":"Scope!AY35","v":"[Insert comments here]"},{"$f":"Scope!AZ35","v":"0"},{"$f":"Scope!BA35","v":"[Insert comments here]"},{"$f":"Scope!BB35","v":"0"},{"$f":"Scope!BC35","v":"[Insert comments here]"},{"$f":"Scope!BD35","v":"0"},{"$f":"Scope!BE35","v":"[Insert comments here]"},{"$f":"Scope!BF35","v":"0"},{"$f":"Scope!BG35","v":"[Insert comments here]"},{"$f":"Scope!BH35","v":"0"},{"$f":"Scope!BI35","v":"[Insert comments here]"},{"$f":"Scope!BJ35","v":"0"},{"$f":"Scope!BK35","v":"[Insert comments here]"},{"$f":"Scope!BL35","v":"0"},{"$f":"Scope!BM35","v":"[Insert comments here]"},{"$f":"Scope!BN35","v":"0"},{"$f":"Scope!BO35","v":"[Insert comments here]"},{"$f":"Scope!BP35","v":"0"},{"$f":"Scope!BQ35","v":"[Insert comments here]"},{"$f":"Scope!BR35","v":"0"},{"$f":"Scope!BS35","v":"[Insert comments here]"},{"$f":"Scope!BT35","v":"0"},{"$f":"Scope!BU35","v":"[Insert comments here]"},{"$f":"Scope!BV35","v":"0"},{"$f":"Scope!BW35","v":"[Insert comments here]"},{"$f":"Scope!BX35","v":"0"},{"$f":"Scope!BY35","v":"[Insert comments here]"},{"$f":"Scope!BZ35","v":"0"},{"$f":"Scope!CA35","v":"[Insert comments here]"},{"$f":"Scope!CB35","v":"0"},{"$f":"Scope!CC35","v":"[Insert comments here]"},{"$f":"Scope!CD35","v":"0"},{"$f":"Scope!CE35","v":"[Insert comments here]"},null,null,null,null,{"$f":"Scope!CJ35","v":"0"},{"$f":"Scope!CK35","v":"[Insert comments here]"}]
[null,null,"",{"$f":"Scope!D36","v":"0"},{"$f":"Scope!E36","v":"[Insert comments here]"},{"$f":"Scope!F36","v":"0"},{"$f":"Scope!G36","v":"[Insert comments here]"},{"$f":"Scope!H36","v":"0"},{"$f":"Scope!I36","v":"[Insert comments here]"},{"$f":"Scope!J36","v":"0"},{"$f":"Scope!K36","v":"[Insert comments here]"},{"$f":"Scope!L36","v":"0"},{"$f":"Scope!M36","v":"[Insert comments here]"},{"$f":"Scope!N36","v":"0"},{"$f":"Scope!O36","v":"[Insert comments here]"},{"$f":"Scope!P36","v":"0"},{"$f":"Scope!Q36","v":"[Insert comments here]"},{"$f":"Scope!R36","v":"0"},{"$f":"Scope!S36","v":"[Insert comments here]"},{"$f":"Scope!T36","v":"0"},{"$f":"Scope!U36","v":"[Insert comments here]"},{"$f":"Scope!V36","v":"0"},{"$f":"Scope!W36","v":"[Insert comments here]"},{"$f":"Scope!X36","v":"0"},{"$f":"Scope!Y36","v":"[Insert comments here]"},{"$f":"Scope!Z36","v":"0"},{"$f":"Scope!AA36","v":"[Insert comments here]"},{"$f":"Scope!AB36","v":"0"},{"$f":"Scope!AC36","v":"[Insert comments here]"},{"$f":"Scope!AD36","v":"0"},{"$f":"Scope!AE36","v":"[Insert comments here]"},{"$f":"Scope!AF36","v":"0"},{"$f":"Scope!AG36","v":"[Insert comments here]"},{"$f":"Scope!AH36","v":"0"},{"$f":"Scope!AI36","v":"[Insert comments here]"},{"$f":"Scope!AJ36","v":"0"},{"$f":"Scope!AK36","v":"[Insert comments here]"},{"$f":"Scope!AL36","v":"0"},{"$f":"Scope!AM36","v":"[Insert comments here]"},{"$f":"Scope!AN36","v":"0"},{"$f":"Scope!AO36","v":"[Insert comments here]"},{"$f":"Scope!AP36","v":"0"},{"$f":"Scope!AQ36","v":"[Insert comments here]"},{"$f":"Scope!AR36","v":"0"},{"$f":"Scope!AS36","v":"[Insert comments here]"},{"$f":"Scope!AT36","v":"0"},{"$f":"Scope!AU36","v":"[Insert comments here]"},{"$f":"Scope!AV36","v":"0"},{"$f":"Scope!AW36","v":"[Insert comments here]"},{"$f":"Scope!AX36","v":"0"},{"$f":"Scope!AY36","v":"[Insert comments here]"},{"$f":"Scope!AZ36","v":"0"},{"$f":"Scope!BA36","v":"[Insert comments here]"},{"$f":"Scope!BB36","v":"0"},{"$f":"Scope!BC36","v":"[Insert comments here]"},{"$f":"Scope!BD36","v":"0"},{"$f":"Scope!BE36","v":"[Insert comments here]"},{"$f":"Scope!BF36","v":"0"},{"$f":"Scope!BG36","v":"[Insert comments here]"},{"$f":"Scope!BH36","v":"0"},{"$f":"Scope!BI36","v":"[Insert comments here]"},{"$f":"Scope!BJ36","v":"0"},{"$f":"Scope!BK36","v":"[Insert comments here]"},{"$f":"Scope!BL36","v":"0"},{"$f":"Scope!BM36","v":"[Insert comments here]"},{"$f":"Scope!BN36","v":"0"},{"$f":"Scope!BO36","v":"[Insert comments here]"},{"$f":"Scope!BP36","v":"0"},{"$f":"Scope!BQ36","v":"[Insert comments here]"},{"$f":"Scope!BR36","v":"0"},{"$f":"Scope!BS36","v":"[Insert comments here]"},{"$f":"Scope!BT36","v":"0"},{"$f":"Scope!BU36","v":"[Insert comments here]"},{"$f":"Scope!BV36","v":"0"},{"$f":"Scope!BW36","v":"[Insert comments here]"},{"$f":"Scope!BX36","v":"0"},{"$f":"Scope!BY36","v":"[Insert comments here]"},{"$f":"Scope!BZ36","v":"0"},{"$f":"Scope!CA36","v":"[Insert comments here]"},{"$f":"Scope!CB36","v":"0"},{"$f":"Scope!CC36","v":"[Insert comments here]"},{"$f":"Scope!CD36","v":"0"},{"$f":"Scope!CE36","v":"[Insert comments here]"},null,null,null,null,{"$f":"Scope!CJ36","v":"0"},{"$f":"Scope!CK36","v":"[Insert comments here]"}]
[null,null,"",{"$f":"Scope!D37","v":"0"},{"$f":"Scope!E37","v":"[Insert comments here]"},{"$f":"Scope!F37","v":"0"},{"$f":"Scope!G37","v":"[Insert comments here]"},{"$f":"Scope!H37","v":"0"},{"$f":"Scope!I37","v":"[Insert comments here]"},{"$f":"Scope!J37","v":"0"},{"$f":"Scope!K37","v":"[Insert comments here]"},{"$f":"Scope!L37","v":"0"},{"$f":"Scope!M37","v":"[Insert comments here]"},{"$f":"Scope!N37","v":"0"},{"$f":"Scope!O37","v":"[Insert comments here]"},{"$f":"Scope!P37","v":"0"},{"$f":"Scope!Q37","v":"[Insert comments here]"},{"$f":"Scope!R37","v":"0"},{"$f":"Scope!S37","v":"[Insert comments here]"},{"$f":"Scope!T37","v":"0"},{"$f":"Scope!U37","v":"[Insert comments here]"},{"$f":"Scope!V37","v":"0"},{"$f":"Scope!W37","v":"[Insert comments here]"},{"$f":"Scope!X37","v":"0"},{"$f":"Scope!Y37","v":"[Insert comments here]"},{"$f":"Scope!Z37","v":"0"},{"$f":"Scope!AA37","v":"[Insert comments here]"},{"$f":"Scope!AB37","v":"0"},{"$f":"Scope!AC37","v":"[Insert comments here]"},{"$f":"Scope!AD37","v":"0"},{"$f":"Scope!AE37","v":"[Insert comments here]"},{"$f":"Scope!AF37","v":"0"},{"$f":"Scope!AG37","v":"[Insert comments here]"},{"$f":"Scope!AH37","v":"0"},{"$f":"Scope!AI37","v":"[Insert comments here]"},{"$f":"Scope!AJ37","v":"0"},{"$f":"Scope!AK37","v":"[Insert comments here]"},{"$f":"Scope!AL37","v":"0"},{"$f":"Scope!AM37","v":"[Insert comments here]"},{"$f":"Scope!AN37","v":"0"},{"$f":"Scope!AO37","v":"[Insert comments here]"},{"$f":"Scope!AP37","v":"0"},{"$f":"Scope!AQ37","v":"[Insert comments here]"},{"$f":"Scope!AR37","v":"0"},{"$f":"Scope!AS37","v":"[Insert comments here]"},{"$f":"Scope!AT37","v":"0"},{"$f":"Scope!AU37","v":"[Insert comments here]"},{"$f":"Scope!AV37","v":"0"},{"$f":"Scope!AW37","v":"[Insert comments here]"},{"$f":"Scope!AX37","v":"0"},{"$f":"Scope!AY37","v":"[Insert comments here]"},{"$f":"Scope!AZ37","v":"0"},{"$f":"Scope!BA37","v":"[Insert comments here]"},{"$f":"Scope!BB37","v":"0"},{"$f":"Scope!BC37","v":"[Insert comments here]"},{"$f":"Scope!BD37","v":"0"},{"$f":"Scope!BE37","v":"[Insert comments here]"},{"$f":"Scope!BF37","v":"0"},{"$f":"Scope!BG37","v":"[Insert comments here]"},{"$f":"Scope!BH37","v":"0"},{"$f":"Scope!BI37","v":"[Insert comments here]"},{"$f":"Scope!BJ37","v":"0"},{"$f":"Scope!BK37","v":"[Insert comments here]"},{"$f":"Scope!BL37","v":"0"},{"$f":"Scope!BM37","v":"[Insert comments here]"},{"$f":"Scope!BN37","v":"0"},{"$f":"Scope!BO37","v":"[Insert comments here]"},{"$f":"Scope!BP37","v":"0"},{"$f":"Scope!BQ37","v":"[Insert comments here]"},{"$f":"Scope!BR37","v":"0"},{"$f":"Scope!BS37","v":"[Insert comments here]"},{"$f":"Scope!BT37","v":"0"},{"$f":"Scope!BU37","v":"[Insert comments here]"},{"$f":"Scope!BV37","v":"0"},{"$f":"Scope!BW37","v":"[Insert comments here]"},{"$f":"Scope!BX37","v":"0"},{"$f":"Scope!BY37","v":"[Insert comments here]"},{"$f":"Scope!BZ37","v":"0"},{"$f":"Scope!CA37","v":"[Insert comments here]"},{"$f":"Scope!CB37","v":"0"},{"$f":"Scope!CC37","v":"[Insert comments here]"},{"$f":"Scope!CD37","v":"0"},{"$f":"Scope!CE37","v":"[Insert comments here]"},null,null,null,null,{"$f":"Scope!CJ37","v":"0"},{"$f":"Scope!CK37","v":"[Insert comments here]"}]
[null,null,"",{"$f":"Scope!D38","v":"0"},{"$f":"Scope!E38","v":"[Insert comments here]"},{"$f":"Scope!F38","v":"0"},{"$f":"Scope!G38","v":"[Insert comments here]"},{"$f":"Scope!H38","v":"0"},{"$f":"Scope!I38","v":"[Insert comments here]"},{"$f":"Scope!J38","v":"0"},{"$f":"Scope!K38","v":"[Insert comments here]"},{"$f":"Scope!L38","v":"0"},{"$f":"Scope!M38","v":"[Insert comments here]"},{"$f":"Scope!N38","v":"0"},{"$f":"Scope!O38","v":"[Insert comments here]"},{"$f":"Scope!P38","v":"0"},{"$f":"Scope!Q38","v":"[Insert comments here]"},{"$f":"Scope!R38","v":"0"},{"$f":"Scope!S38","v":"[Insert comments here]"},{"$f":"Scope!T38","v":"0"},{"$f":"Scope!U38","v":"[Insert comments here]"},{"$f":"Scope!V38","v":"0"},{"$f":"Scope!W38","v":"[Insert comments here]"},{"$f":"Scope!X38","v":"0"},{"$f":"Scope!Y38","v":"[Insert comments here]"},{"$f":"Scope!Z38","v":"0"},{"$f":"Scope!AA38","v":"[Insert comments here]"},{"$f":"Scope!AB38","v":"0"},{"$f":"Scope!AC38","v":"[Insert comments here]"},{"$f":"Scope!AD38","v":"0"},{"$f":"Scope!AE38","v":"[Insert comments here]"},{"$f":"Scope!AF38","v":"0"},{"$f":"Scope!AG38","v":"[Insert comments here]"},{"$f":"Scope!AH38","v":"0"},{"$f":"Scope!AI38","v":"[Insert comments here]"},{"$f":"Scope!AJ38","v":"0"},{"$f":"Scope!AK38","v":"[Insert comments here]"},{"$f":"Scope!AL38","v":"0"},{"$f":"Scope!AM38","v":"[Insert comments here]"},{"$f":"Scope!AN38","v":"0"},{"$f":"Scope!AO38","v":"[Insert comments here]"},{"$f":"Scope!AP38","v":"0"},{"$f":"Scope!AQ38","v":"[Insert comments here]"},{"$f":"Scope!AR38","v":"0"},{"$f":"Scope!AS38","v":"[Insert comments here]"},{"$f":"Scope!AT38","v":"0"},{"$f":"Scope!AU38","v":"[Insert comments here]"},{"$f":"Scope!AV38","v":"0"},{"$f":"Scope!AW38","v":"[Insert comments here]"},{"$f":"Scope!AX38","v":"0"},{"$f":"Scope!AY38","v":"[Insert comments here]"},{"$f":"Scope!AZ38","v":"0"},{"$f":"Scope!BA38","v":"[Insert comments here]"},{"$f":"Scope!BB38","v":"0"},{"$f":"Scope!BC38","v":"[Insert comments here]"},{"$f":"Scope!BD38","v":"0"},{"$f":"Scope!BE38","v":"[Insert comments here]"},{"$f":"Scope!BF38","v":"0"},{"$f":"Scope!BG38","v":"[Insert comments here]"},{"$f":"Scope!BH38","v":"0"},{"$f":"Scope!BI38","v":"[Insert comments here]"},{"$f":"Scope!BJ38","v":"0"},{"$f":"Scope!BK38","v":"[Insert comments here]"},{"$f":"Scope!BL38","v":"0"},{"$f":"Scope!BM38","v":"[Insert comments here]"},{"$f":"Scope!BN38","v":"0"},{"$f":"Scope!BO38","v":"[Insert comments here]"},{"$f":"Scope!BP38","v":"0"},{"$f":"Scope!BQ38","v":"[Insert comments here]"},{"$f":"Scope!BR38","v":"0"},{"$f":"Scope!BS38","v":"[Insert comments here]"},{"$f":"Scope!BT38","v":"0"},{"$f":"Scope!BU38","v":"[Insert comments here]"},{"$f":"Scope!BV38","v":"0"},{"$f":"Scope!BW38","v":"[Insert comments here]"},{"$f":"Scope!BX38","v":"0"},{"$f":"Scope!BY38","v":"[Insert comments here]"},{"$f":"Scope!BZ38","v":"0"},{"$f":"Scope!CA38","v":"[Insert comments here]"},{"$f":"Scope!CB38","v":"0"},{"$f":"Scope!CC38","v":"[Insert comments here]"},{"$f":"Scope!CD38","v":"0"},{"$f":"Scope!CE38","v":"[Insert comments here]"},null,null,null,null,{"$f":"Scope!CJ38","v":"0"},{"$f":"Scope!CK38","v":"[Insert comments here]"}]
[null,null,"",{"$f":"Scope!D39","v":"0"},{"$f":"Scope!E39","v":"[Insert comments here]"},{"$f":"Scope!F39","v":"0"},{"$f":"Scope!G39","v":"[Insert comments here]"},{"$f":"Scope!H39","v":"0"},{"$f":"Scope!I39","v":"[Insert comments here]"},{"$f":"Scope!J39","v":"0"},{"$f":"Scope!K39","v":"[Insert comments here]"},{"$f":"Scope!L39","v":"0"},{"$f":"Scope!M39","v":"[Insert comments here]"},{"$f":"Scope!N39","v":"0"},{"$f":"Scope!O39","v":"[Insert comments here]"},{"$f":"Scope!P39","v":"0"},{"$f":"Scope!Q39","v":"[Insert comments here]"},{"$f":"Scope!R39","v":"0"},{"$f":"Scope!S39","v":"[Insert comments here]"},{"$f":"Scope!T39","v":"0"},{"$f":"Scope!U39","v":"[Insert comments here]"},{"$f":"Scope!V39","v":"0"},{"$f":"Scope!W39","v":"[Insert comments here]"},{"$f":"Scope!X39","v":"0"},{"$f":"Scope!Y39","v":"[Insert comments here]"},{"$f":"Scope!Z39","v":"0"},{"$f":"Scope!AA39","v":"[Insert comments here]"},{"$f":"Scope!AB39","v":"0"},{"$f":"Scope!AC39","v":"[Insert comments here]"},{"$f":"Scope!AD39","v":"0"},{"$f":"Scope!AE39","v":"[Insert comments here]"},{"$f":"Scope!AF39","v":"0"},{"$f":"Scope!AG39","v":"[Insert comments here]"},{"$f":"Scope!AH39","v":"0"},{"$f":"Scope!AI39","v":"[Insert comments here]"},{"$f":"Scope!AJ39","v":"0"},{"$f":"Scope!AK39","v":"[Insert comments here]"},{"$f":"Scope!AL39","v":"0"},{"$f":"Scope!AM39","v":"[Insert comments here]"},{"$f":"Scope!AN39","v":"0"},{"$f":"Scope!AO39","v":"[Insert comments here]"},{"$f":"Scope!AP39","v":"0"},{"$f":"Scope!AQ39","v":"[Insert comments here]"},{"$f":"Scope!AR39","v":"0"},{"$f":"Scope!AS39","v":"[Insert comments here]"},{"$f":"Scope!AT39","v":"0"},{"$f":"Scope!AU39","v":"[Insert comments here]"},{"$f":"Scope!AV39","v":"0"},{"$f":"Scope!AW39","v":"[Insert comments here]"},{"$f":"Scope!AX39","v":"0"},{"$f":"Scope!AY39","v":"[Insert comments here]"},{"$f":"Scope!AZ39","v":"0"},{"$f":"Scope!BA39","v":"[Insert comments here]"},{"$f":"Scope!BB39","v":"0"},{"$f":"Scope!BC39","v":"[Insert comments here]"},{"$f":"Scope!BD39","v":"0"},{"$f":"Scope!BE39","v":"[Insert comments here]"},{"$f":"Scope!BF39","v":"0"},{"$f":"Scope!BG39","v":"[Insert comments here]"},{"$f":"Scope!BH39","v":"0"},{"$f":"Scope!BI39","v":"[Insert comments here]"},{"$f":"Scope!BJ39","v":"0"},{"$f":"Scope!BK39","v":"[Insert comments here]"},{"$f":"Scope!BL39","v":"0"},{"$f":"Scope!BM39","v":"[Insert comments here]"},{"$f":"Scope!BN39","v":"0"},{"$f":"Scope!BO39","v":"[Insert comments here]"},{"$f":"Scope!BP39","v":"0"},{"$f":"Scope!BQ39","v":"[Insert comments here]"},{"$f":"Scope!BR39","v":"0"},{"$f":"Scope!BS39","v":"[Insert comments here]"},{"$f":"Scope!BT39","v":"0"},{"$f":"Scope!BU39","v":"[Insert comments here]"},{"$f":"Scope!BV39","v":"0"},{"$f":"Scope!BW39","v":"[Insert comments here]"},{"$f":"Scope!BX39","v":"0"},{"$f":"Scope!BY39","v":"[Insert comments here]"},{"$f":"Scope!BZ39","v":"0"},{"$f":"Scope!CA39","v":"[Insert comments here]"},{"$f":"Scope!CB39","v":"0"},{"$f":"Scope!CC39","v":"[Insert comments here]"},{"$f":"Scope!CD39","v":"0"},{"$f":"Scope!CE39","v":"[Insert comments here]"},null,null,null,null,{"$f":"Scope!CJ39","v":"0"},{"$f":"Scope!CK39","v":"[Insert comments here]"}]
[null,null,"",{"$f":"Scope!D40","v":"0"},{"$f":"Scope!E40","v":"[Insert comments here]"},{"$f":"Scope!F40","v":"0"},{"$f":"Scope!G40","v":"[Insert comments here]"},{"$f":"Scope!H40","v":"0"},{"$f":"Scope!I40","v":"[Insert comments here]"},{"$f":"Scope!J40","v":"0"},{"$f":"Scope!K40","v":"[Insert comments here]"},{"$f":"Scope!L40","v":"0"},{"$f":"Scope!M40","v":"[Insert comments here]"},{"$f":"Scope!N40","v":"0"},{"$f":"Scope!O40","v":"[Insert comments here]"},{"$f":"Scope!P40","v":"0"},{"$f":"Scope!Q40","v":"[Insert comments here]"},{"$f":"Scope!R40","v":"0"},{"$f":"Scope!S40","v":"[Insert comments here]"},{"$f":"Scope!T40","v":"0"},{"$f":"Scope!U40","v":"[Insert comments here]"},{"$f":"Scope!V40","v":"0"},{"$f":"Scope!W40","v":"[Insert comments here]"},{"$f":"Scope!X40","v":"0"},{"$f":"Scope!Y40","v":"[Insert comments here]"},{"$f":"Scope!Z40","v":"0"},{"$f":"Scope!AA40","v":"[Insert comments here]"},{"$f":"Scope!AB40","v":"0"},{"$f":"Scope!AC40","v":"[Insert comments here]"},{"$f":"Scope!AD40","v":"0"},{"$f":"Scope!AE40","v":"[Insert comments here]"},{"$f":"Scope!AF40","v":"0"},{"$f":"Scope!AG40","v":"[Insert comments here]"},{"$f":"Scope!AH40","v":"0"},{"$f":"Scope!AI40","v":"[Insert comments here]"},{"$f":"Scope!AJ40","v":"0"},{"$f":"Scope!AK40","v":"[Insert comments here]"},{"$f":"Scope!AL40","v":"0"},{"$f":"Scope!AM40","v":"[Insert comments here]"},{"$f":"Scope!AN40","v":"0"},{"$f":"Scope!AO40","v":"[Insert comments here]"},{"$f":"Scope!AP40","v":"0"},{"$f":"Scope!AQ40","v":"[Insert comments here]"},{"$f":"Scope!AR40","v":"0"},{"$f":"Scope!AS40","v":"[Insert comments here]"},{"$f":"Scope!AT40","v":"0"},{"$f":"Scope!AU40","v":"[Insert comments here]"},{"$f":"Scope!AV40","v":"0"},{"$f":"Scope!AW40","v":"[Insert comments here]"},{"$f":"Scope!AX40","v":"0"},{"$f":"Scope!AY40","v":"[Insert comments here]"},{"$f":"Scope!AZ40","v":"0"},{"$f":"Scope!BA40","v":"[Insert comments here]"},{"$f":"Scope!BB40","v":"0"},{"$f":"Scope!BC40","v":"[Insert comments here]"},{"$f":"Scope!BD40","v":"0"},{"$f":"Scope!BE40","v":"[Insert comments here]"},{"$f":"Scope!BF40","v":"0"},{"$f":"Scope!BG40","v":"[Insert comments here]"},{"$f":"Scope!BH40","v":"0"},{"$f":"Scope!BI40","v":"[Insert comments here]"},{"$f":"Scope!BJ40","v":"0"},{"$f":"Scope!BK40","v":"[Insert comments here]"},{"$f":"Scope!BL40","v":"0"},{"$f":"Scope!BM40","v":"[Insert comments here]"},{"$f":"Scope!BN40","v":"0"},{"$f":"Scope!BO40","v":"[Insert comments here]"},{"$f":"Scope!BP40","v":"0"},{"$f":"Scope!BQ40","v":"[Insert comments here]"},{"$f":"Scope!BR40","v":"0"},{"$f":"Scope!BS40","v":"[Insert comments here]"},{"$f":"Scope!BT40","v":"0"},{"$f":"Scope!BU40","v":"[Insert comments here]"},{"$f":"Scope!BV40","v":"0"},{"$f":"Scope!BW40","v":"[Insert comments here]"},{"$f":"Scope!BX40","v":"0"},{"$f":"Scope!BY40","v":"[Insert comments here]"},{"$f":"Scope!BZ40","v":"0"},{"$f":"Scope!CA40","v":"[Insert comments here]"},{"$f":"Scope!CB40","v":"0"},{"$f":"Scope!CC40","v":"[Insert comments here]"},{"$f":"Scope!CD40","v":"0"},{"$f":"Scope!CE40","v":"[Insert comments here]"},null,null,null,null,{"$f":"Scope!CJ40","v":"0"},{"$f":"Scope!CK40","v":"[Insert comments here]"}]
[null,null,"",{"$f":"Scope!D41","v":"0"},{"$f":"Scope!E41","v":"[Insert comments here]"},{"$f":"Scope!F41","v":"0"},{"$f":"Scope!G41","v":"[Insert comments here]"},{"$f":"Scope!H41","v":"0"},{"$f":"Scope!I41","v":"[Insert comments here]"},{"$f":"Scope!J41","v":"0"},{"$f":"Scope!K41","v":"[Insert comments here]"},{"$f":"Scope!L41","v":"0"},{"$f":"Scope!M41","v":"[Insert comments here]"},{"$f":"Scope!N41","v":"0"},{"$f":"Scope!O41","v":"[Insert comments here]"},{"$f":"Scope!P41","v":"0"},{"$f":"Scope!Q41","v":"[Insert comments here]"},{"$f":"Scope!R41","v":"0"},{"$f":"Scope!S41","v":"[Insert comments here]"},{"$f":"Scope!T41","v":"0"},{"$f":"Scope!U41","v":"[Insert comments here]"},{"$f":"Scope!V41","v":"0"},{"$f":"Scope!W41","v":"[Insert comments here]"},{"$f":"Scope!X41","v":"0"},{"$f":"Scope!Y41","v":"[Insert comments here]"},{"$f":"Scope!Z41","v":"0"},{"$f":"Scope!AA41","v":"[Insert comments here]"},{"$f":"Scope!AB41","v":"0"},{"$f":"Scope!AC41","v":"[Insert comments here]"},{"$f":"Scope!AD41","v":"0"},{"$f":"Scope!AE41","v":"[Insert comments here]"},{"$f":"Scope!AF41","v":"0"},{"$f":"Scope!AG41","v":"[Insert comments here]"},{"$f":"Scope!AH41","v":"0"},{"$f":"Scope!AI41","v":"[Insert comments here]"},{"$f":"Scope!AJ41","v":"0"},{"$f":"Scope!AK41","v":"[Insert comments here]"},{"$f":"Scope!AL41","v":"0"},{"$f":"Scope!AM41","v":"[Insert comments here]"},{"$f":"Scope!AN41","v":"0"},{"$f":"Scope!AO41","v":"[Insert comments here]"},{"$f":"Scope!AP41","v":"0"},{"$f":"Scope!AQ41","v":"[Insert comments here]"},{"$f":"Scope!AR41","v":"0"},{"$f":"Scope!AS41","v":"[Insert comments here]"},{"$f":"Scope!AT41","v":"0"},{"$f":"Scope!AU41","v":"[Insert comments here]"},{"$f":"Scope!AV41","v":"0"},{"$f":"Scope!AW41","v":"[Insert comments here]"},{"$f":"Scope!AX41","v":"0"},{"$f":"Scope!AY41","v":"[Insert comments here]"},{"$f":"Scope!AZ41","v":"0"},{"$f":"Scope!BA41","v":"[Insert comments here]"},{"$f":"Scope!BB41","v":"0"},{"$f":"Scope!BC41","v":"[Insert comments here]"},{"$f":"Scope!BD41","v":"0"},{"$f":"Scope!BE41","v":"[Insert comments here]"},{"$f":"Scope!BF41","v":"0"},{"$f":"Scope!BG41","v":"[Insert comments here]"},{"$f":"Scope!BH41","v":"0"},{"$f":"Scope!BI41","v":"[Insert comments here]"},{"$f":"Scope!BJ41","v":"0"},{"$f":"Scope!BK41","v":"[Insert comments here]"},{"$f":"Scope!BL41","v":"0"},{"$f":"Scope!BM41","v":"[Insert comments here]"},{"$f":"Scope!BN41","v":"0"},{"$f":"Scope!BO41","v":"[Insert comments here]"},{"$f":"Scope!BP41","v":"0"},{"$f":"Scope!BQ41","v":"[Insert comments here]"},{"$f":"Scope!BR41","v":"0"},{"$f":"Scope!BS41","v":"[Insert comments here]"},{"$f":"Scope!BT41","v":"0"},{"$f":"Scope!BU41","v":"[Insert comments here]"},{"$f":"Scope!BV41","v":"0"},{"$f":"Scope!BW41","v":"[Insert comments here]"},{"$f":"Scope!BX41","v":"0"},{"$f":"Scope!BY41","v":"[Insert comments here]"},{"$f":"Scope!BZ41","v":"0"},{"$f":"Scope!CA41","v":"[Insert comments here]"},{"$f":"Scope!CB41","v":"0"},{"$f":"Scope!CC41","v":"[Insert comments here]"},{"$f":"Scope!CD41","v":"0"},{"$f":"Scope!CE41","v":"[Insert comments here]"},null,null,null,null,{"$f":"Scope!CJ41","v":"0"},{"$f":"Scope!CK41","v":"[Insert comments here]"}]
[null,null,"",{"$f":"Scope!D42","v":"0"},{"$f":"Scope!E42","v":"[Insert comments here]"},{"$f":"Scope!F42","v":"0"},{"$f":"Scope!G42","v":"[Insert comments here]"},{"$f":"Scope!H42","v":"0"},{"$f":"Scope!I42","v":"[Insert comments here]"},{"$f":"Scope!J42","v":"0"},{"$f":"Scope!K42","v":"[Insert comments here]"},{"$f":"Scope!L42","v":"0"},{"$f":"Scope!M42","v":"[Insert comments here]"},{"$f":"Scope!N42","v":"0"},{"$f":"Scope!O42","v":"[Insert comments here]"},{"$f":"Scope!P42","v":"0"},{"$f":"Scope!Q42","v":"[Insert comments here]"},{"$f":"Scope!R42","v":"0"},{"$f":"Scope!S42","v":"[Insert comments here]"},{"$f":"Scope!T42","v":"0"},{"$f":"Scope!U42","v":"[Insert comments here]"},{"$f":"Scope!V42","v":"0"},{"$f":"Scope!W42","v":"[Insert comments here]"},{"$f":"Scope!X42","v":"0"},{"$f":"Scope!Y42","v":"[Insert comments here]"},{"$f":"Scope!Z42","v":"0"},{"$f":"Scope!AA42","v":"[Insert comments here]"},{"$f":"Scope!AB42","v":"0"},{"$f":"Scope!AC42","v":"[Insert comments here]"},{"$f":"Scope!AD42","v":"0"},{"$f":"Scope!AE42","v":"[Insert comments here]"},{"$f":"Scope!AF42","v":"0"},{"$f":"Scope!AG42","v":"[Insert comments here]"},{"$f":"Scope!AH42","v":"0"},{"$f":"Scope!AI42","v":"[Insert comments here]"},{"$f":"Scope!AJ42","v":"0"},{"$f":"Scope!AK42","v":"[Insert comments here]"},{"$f":"Scope!AL42","v":"0"},{"$f":"Scope!AM42","v":"[Insert comments here]"},{"$f":"Scope!AN42","v":"0"},{"$f":"Scope!AO42","v":"[Insert comments here]"},{"$f":"Scope!AP42","v":"0"},{"$f":"Scope!AQ42","v":"[Insert comments here]"},{"$f":"Scope!AR42","v":"0"},{"$f":"Scope!AS42","v":"[Insert comments here]"},{"$f":"Scope!AT42","v":"0"},{"$f":"Scope!AU42","v":"[Insert comments here]"},{"$f":"Scope!AV42","v":"0"},{"$f":"Scope!AW42","v":"[Insert comments here]"},{"$f":"Scope!AX42","v":"0"},{"$f":"Scope!AY42","v":"[Insert comments here]"},{"$f":"Scope!AZ42","v":"0"},{"$f":"Scope!BA42","v":"[Insert comments here]"},{"$f":"Scope!BB42","v":"0"},{"$f":"Scope!BC42","v":"[Insert comments here]"},{"$f":"Scope!BD42","v":"0"},{"$f":"Scope!BE42","v":"[Insert comments here]"},{"$f":"Scope!BF42","v":"0"},{"$f":"Scope!BG42","v":"[Insert comments here]"},{"$f":"Scope!BH42","v":"0"},{"$f":"Scope!BI42","v":"[Insert comments here]"},{"$f":"Scope!BJ42","v":"0"},{"$f":"Scope!BK42","v":"[Insert comments here]"},{"$f":"Scope!BL42","v":"0"},{"$f":"Scope!BM42","v":"[Insert comments here]"},{"$f":"Scope!BN42","v":"0"},{"$f":"Scope!BO42","v":"[Insert comments here]"},{"$f":"Scope!BP42","v":"0"},{"$f":"Scope!BQ42","v":"[Insert comments here]"},{"$f":"Scope!BR42","v":"0"},{"$f":"Scope!BS42","v":"[Insert comments here]"},{"$f":"Scope!BT42","v":"0"},{"$f":"Scope!BU42","v":"[Insert comments here]"},{"$f":"Scope!BV42","v":"0"},{"$f":"Scope!BW42","v":"[Insert comments here]"},{"$f":"Scope!BX42","v":"0"},{"$f":"Scope!BY42","v":"[Insert comments here]"},{"$f":"Scope!BZ42","v":"0"},{"$f":"Scope!CA42","v":"[Insert comments here]"},{"$f":"Scope!CB42","v":"0"},{"$f":"Scope!CC42","v":"[Insert comments here]"},{"$f":"Scope!CD42","v":"0"},{"$f":"Scope!CE42","v":"[Insert comments here]"},null,null,null,null,{"$f":"Scope!CJ42","v":"0"},{"$f":"Scope!CK42","v":"[Insert comments here]"}]
[null,null,"",{"$f":"Scope!D43","v":"0"},{"$f":"Scope!E43","v":"[Insert comments here]"},{"$f":"Scope!F43","v":"0"},{"$f":"Scope!G43","v":"[Insert comments here]"},{"$f":"Scope!H43","v":"0"},{"$f":"Scope!I43","v":"[Insert comments here]"},{"$f":"Scope!J43","v":"0"},{"$f":"Scope!K43","v":"[Insert comments here]"},{"$f":"Scope!L43","v":"0"},{"$f":"Scope!M43","v":"[Insert comments here]"},{"$f":"Scope!N43","v":"0"},{"$f":"Scope!O43","v":"[Insert comments here]"},{"$f":"Scope!P43","v":"0"},{"$f":"Scope!Q43","v":"[Insert comments here]"},{"$f":"Scope!R43","v":"0"},{"$f":"Scope!S43","v":"[Insert comments here]"},{"$f":"Scope!T43","v":"0"},{"$f":"Scope!U43","v":"[Insert comments here]"},{"$f":"Scope!V43","v":"0"},{"$f":"Scope!W43","v":"[Insert comments here]"},{"$f":"Scope!X43","v":"0"},{"$f":"Scope!Y43","v":"[Insert comments here]"},{"$f":"Scope!Z43","v":"0"},{"$f":"Scope!AA43","v":"[Insert comments here]"},{"$f":"Scope!AB43","v":"0"},{"$f":"Scope!AC43","v":"[Insert comments here]"},{"$f":"Scope!AD43","v":"0"},{"$f":"Scope!AE43","v":"[Insert comments here]"},{"$f":"Scope!AF43","v":"0"},{"$f":"Scope!AG43","v":"[Insert comments here]"},{"$f":"Scope!AH43","v":"0"},{"$f":"Scope!AI43","v":"[Insert comments here]"},{"$f":"Scope!AJ43","v":"0"},{"$f":"Scope!AK43","v":"[Insert comments here]"},{"$f":"Scope!AL43","v":"0"},{"$f":"Scope!AM43","v":"[Insert comments here]"},{"$f":"Scope!AN43","v":"0"},{"$f":"Scope!AO43","v":"[Insert comments here]"},{"$f":"Scope!AP43","v":"0"},{"$f":"Scope!AQ43","v":"[Insert comments here]"},{"$f":"Scope!AR43","v":"0"},{"$f":"Scope!AS43","v":"[Insert comments here]"},{"$f":"Scope!AT43","v":"0"},{"$f":"Scope!AU43","v":"[Insert comments here]"},{"$f":"Scope!AV43","v":"0"},{"$f":"Scope!AW43","v":"[Insert comments here]"},{"$f":"Scope!AX43","v":"0"},{"$f":"Scope!AY43","v":"[Insert comments here]"},{"$f":"Scope!AZ43","v":"0"},{"$f":"Scope!BA43","v":"[Insert comments here]"},{"$f":"Scope!BB43","v":"0"},{"$f":"Scope!BC43","v":"[Insert comments here]"},{"$f":"Scope!BD43","v":"0"},{"$f":"Scope!BE43","v":"[Insert comments here]"},{"$f":"Scope!BF43","v":"0"},{"$f":"Scope!BG43","v":"[Insert comments here]"},{"$f":"Scope!BH43","v":"0"},{"$f":"Scope!BI43","v":"[Insert comments here]"},{"$f":"Scope!BJ43","v":"0"},{"$f":"Scope!BK43","v":"[Insert comments here]"},{"$f":"Scope!BL43","v":"0"},{"$f":"Scope!BM43","v":"[Insert comments here]"},{"$f":"Scope!BN43","v":"0"},{"$f":"Scope!BO43","v":"[Insert comments here]"},{"$f":"Scope!BP43","v":"0"},{"$f":"Scope!BQ43","v":"[Insert comments here]"},{"$f":"Scope!BR43","v":"0"},{"$f":"Scope!BS43","v":"[Insert comments here]"},{"$f":"Scope!BT43","v":"0"},{"$f":"Scope!BU43","v":"[Insert comments here]"},{"$f":"Scope!BV43","v":"0"},{"$f":"Scope!BW43","v":"[Insert comments here]"},{"$f":"Scope!BX43","v":"0"},{"$f":"Scope!BY43","v":"[Insert comments here]"},{"$f":"Scope!BZ43","v":"0"},{"$f":"Scope!CA43","v":"[Insert comments here]"},{"$f":"Scope!CB43","v":"0"},{"$f":"Scope!CC43","v":"[Insert comments here]"},{"$f":"Scope!CD43","v":"0"},{"$f":"Scope!CE43","v":"[Insert comments here]"},null,null,null,null,{"$f":"Scope!CJ43","v":"0"},{"$f":"Scope!CK43","v":"[Insert comments here]"}]
[null,null,"",{"$f":"Scope!D44","v":"0"},{"$f":"Scope!E44","v":"[Insert comments here]"},{"$f":"Scope!F44","v":"0"},{"$f":"Scope!G44","v":"[Insert comments here]"},{"$f":"Scope!H44","v":"0"},{"$f":"Scope!I44","v":"[Insert comments here]"},{"$f":"Scope!J44","v":"0"},{"$f":"Scope!K44","v":"[Insert comments here]"},{"$f":"Scope!L44","v":"0"},{"$f":"Scope!M44","v":"[Insert comments here]"},{"$f":"Scope!N44","v":"0"},{"$f":"Scope!O44","v":"[Insert comments here]"},{"$f":"Scope!P44","v":"0"},{"$f":"Scope!Q44","v":"[Insert comments here]"},{"$f":"Scope!R44","v":"0"},{"$f":"Scope!S44","v":"[Insert comments here]"},{"$f":"Scope!T44","v":"0"},{"$f":"Scope!U44","v":"[Insert comments here]"},{"$f":"Scope!V44","v":"0"},{"$f":"Scope!W44","v":"[Insert comments here]"},{"$f":"Scope!X44","v":"0"},{"$f":"Scope!Y44","v":"[Insert comments here]"},{"$f":"Scope!Z44","v":"0"},{"$f":"Scope!AA44","v":"[Insert comments here]"},{"$f":"Scope!AB44","v":"0"},{"$f":"Scope!AC44","v":"[Insert comments here]"},{"$f":"Scope!AD44","v":"0"},{"$f":"Scope!AE44","v":"[Insert comments here]"},{"$f":"Scope!AF44","v":"0"},{"$f":"Scope!AG44","v":"[Insert comments here]"},{"$f":"Scope!AH44","v":"0"},{"$f":"Scope!AI44","v":"[Insert comments here]"},{"$f":"Scope!AJ44","v":"0"},{"$f":"Scope!AK44","v":"[Insert comments here]"},{"$f":"Scope!AL44","v":"0"},{"$f":"Scope!AM44","v":"[Insert comments here]"},{"$f":"Scope!AN44","v":"0"},{"$f":"Scope!AO44","v":"[Insert comments here]"},{"$f":"Scope!AP44","v":"0"},{"$f":"Scope!AQ44","v":"[Insert comments here]"},{"$f":"Scope!AR44","v":"0"},{"$f":"Scope!AS44","v":"[Insert comments here]"},{"$f":"Scope!AT44","v":"0"},{"$f":"Scope!AU44","v":"[Insert comments here]"},{"$f":"Scope!AV44","v":"0"},{"$f":"Scope!AW44","v":"[Insert comments here]"},{"$f":"Scope!AX44","v":"0"},{"$f":"Scope!AY44","v":"[Insert comments here]"},{"$f":"Scope!AZ44","v":"0"},{"$f":"Scope!BA44","v":"[Insert comments here]"},{"$f":"Scope!BB44","v":"0"},{"$f":"Scope!BC44","v":"[Insert comments here]"},{"$f":"Scope!BD44","v":"0"},{"$f":"Scope!BE44","v":"[Insert comments here]"},{"$f":"Scope!BF44","v":"0"},{"$f":"Scope!BG44","v":"[Insert comments here]"},{"$f":"Scope!BH44","v":"0"},{"$f":"Scope!BI44","v":"[Insert comments here]"},{"$f":"Scope!BJ44","v":"0"},{"$f":"Scope!BK44","v":"[Insert comments here]"},{"$f":"Scope!BL44","v":"0"},{"$f":"Scope!BM44","v":"[Insert comments here]"},{"$f":"Scope!BN44","v":"0"},{"$f":"Scope!BO44","v":"[Insert comments here]"},{"$f":"Scope!BP44","v":"0"},{"$f":"Scope!BQ44","v":"[Insert comments here]"},{"$f":"Scope!BR44","v":"0"},{"$f":"Scope!BS44","v":"[Insert comments here]"},{"$f":"Scope!BT44","v":"0"},{"$f":"Scope!BU44","v":"[Insert comments here]"},{"$f":"Scope!BV44","v":"0"},{"$f":"Scope!BW44","v":"[Insert comments here]"},{"$f":"Scope!BX44","v":"0"},{"$f":"Scope!BY44","v":"[Insert comments here]"},{"$f":"Scope!BZ44","v":"0"},{"$f":"Scope!CA44","v":"[Insert comments here]"},{"$f":"Scope!CB44","v":"0"},{"$f":"Scope!CC44","v":"[Insert comments here]"},{"$f":"Scope!CD44","v":"0"},{"$f":"Scope!CE44","v":"[Insert comments here]"},null,null,null,null,{"$f":"Scope!CJ44","v":"0"},{"$f":"Scope!CK44","v":"[Insert comments here]"}]
[]
[]
[null,"Reputational RISK","Reminder of 'Reputational' scores: \n(0= None; 1 = a little; 2 = medium; 3 = a lot)","REPUTATIONAL","REPUTATIONAL - COMMENTS","REPUTATIONAL","REPUTATIONAL - COMMENTS","REPUTATIONAL","REPUTATIONAL - COMMENTS","REPUTATIONAL","REPUTATIONAL - COMMENTS","REPUTATIONAL","REPUTATIONAL - COMMENTS","REPUTATIONAL","REPUTATIONAL - COMMENTS","REPUTATIONAL","REPUTATIONAL - COMMENTS","REPUTATIONAL","REPUTATIONAL - COMMENTS","REPUTATIONAL","REPUTATIONAL - COMMENTS","REPUTATIONAL","REPUTATIONAL - COMMENTS","REPUTATIONAL","REPUTATIONAL - COMMENTS","REPUTATIONAL","REPUTATIONAL - COMMENTS","REPUTATIONAL","REPUTATIONAL - COMMENTS","REPUTATIONAL","REPUTATIONAL - COMMENTS","REPUTATIONAL","REPUTATIONAL - COMMENTS","REPUTATIONAL","REPUTATIONAL - COMMENTS","REPUTATIONAL","REPUTATIONAL - COMMENTS","REPUTATIONAL","REPUTATIONAL - COMMENTS","REPUTATIONAL","REPUTATIONAL - COMMENTS","REPUTATIONAL","REPUTATIONAL - COMMENTS","REPUTATIONAL","REPUTATIONAL - COMMENTS","REPUTATIONAL","REPUTATIONAL - COMMENTS","REPUTATIONAL","REPUTATIONAL - COMMENTS","REPUTATIONAL","REPUTATIONAL - COMMENTS","REPUTATIONAL","REPUTATIONAL - COMMENTS","REPUTATIONAL","REPUTATIONAL - COMMENTS","REPUTATIONAL","REPUTATIONAL - COMMENTS","REPUTATIONAL","REPUTATIONAL - COMMENTS","REPUTATIONAL","REPUTATIONAL - COMMENTS","REPUTATIONAL","REPUTATIONAL - COMMENTS","REPUTATIONAL","REPUTATIONAL - COMMENTS","REPUTATIONAL","REPUTATIONAL - COMMENTS","REPUTATIONAL","REPUTATIONAL - COMMENTS","REPUTATIONAL","REPUTATIONAL - COMMENTS","REPUTATIONAL","REPUTATIONAL - COMMENTS","REPUTATIONAL","REPUTATIONAL - COMMENTS","REPUTATIONAL","REPUTATIONAL - COMMENTS","REPUTATIONAL","REPUTATIONAL - COMMENTS","REPUTATIONAL","REPUTATIONAL - COMMENTS","REPUTATIONAL","REPUTATIONAL - COMMENTS",null,null,null,null,"REPUTATIONAL","REPUTATIONAL - COMMENTS"]
[null,"Scroll down to view all scores","Is there a reputational risk surrounding your organisation’s procurement of this product group? ",{"$f":"Risks!D56","v":3},{"$f":"Risks!E56","v":"Significant awareness in Student and professional areas  of supply chain and waste issues. Large Media coverage. Campaign groups. Membership of Electronics Watch (EW)  signifies importance."},{"$f":"Risks!F56","v":3},{"$f":"Risks!G56","v":"Significant awareness in Student and professional areas  of supply chain and waste issues. Large Media coverage. Campaign groups. Membership of Electronics Watch (EW)  signifies importance."},{"$f":"Risks!H56","v":1},{"$f":"Risks!I56","v":"Low risk in this area. Other category risks may however apply if associated with same factories/supply chain"},{"$f":"Risks!J56","v":3},{"$f":"Risks!K56","v":"Significant awareness in Student and professional areas  of supply chain and waste issues. Large Media coverage. Campaign groups. Membership of Electronics Watch (EW)  signifies importance."},{"$f":"Risks!L56","v":2},{"$f":"Risks!M56","v":"Inherent and linked risk to reputation. Usage of clear environmentaly friendly equipment and end product visible."},{"$f":"Risks!N56","v":3},{"$f":"Risks!O56","v":"highly controversial area"},{"$f":"Risks!P56","v":1},{"$f":"Risks!Q56","v":"Low risk in this area. Other category risks may however apply if associated with same factories/supply chain"},{"$f":"Risks!R56","v":3},{"$f":"Risks!S56","v":"very high, potential for goods from sweatshops, high awareness amongst student body, already covered by media"},{"$f":"Risks!T56","v":0},{"$f":"Risks!U56","v":"[Insert comments here]"},{"$f":"Risks!V56","v":0},{"$f":"Risks!W56","v":"[Insert comments here]"},{"$f":"Risks!X56","v":0},{"$f":"Risks!Y56","v":"[Insert comments here]"},{"$f":"Risks!Z56","v":0},{"$f":"Risks!AA56","v":"[Insert comments here]"},{"$f":"Risks!AB56","v":0},{"$f":"Risks!AC56","v":"[Insert comments here]"},{"$f":"Risks!AD56","v":0},{"$f":"Risks!AE56","v":"[Insert comments here]"},{"$f":"Risks!AF56","v":0},{"$f":"Risks!AG56","v":"[Insert comments here]"},{"$f":"Risks!AH56","v":0},{"$f":"Risks!AI56","v":"[Insert comments here]"},{"$f":"Risks!AJ56","v":0},{"$f":"Risks!AK56","v":"[Insert comments here]"},{"$f":"Risks!AL56","v":0},{"$f":"Risks!AM56","v":"[Insert comments here]"},{"$f":"Risks!AN56","v":0},{"$f":"Risks!AO56","v":"[Insert comments here]"},{"$f":"Risks!AP56","v":0},{"$f":"Risks!AQ56","v":"[Insert comments here]"},{"$f":"Risks!AR56","v":0},{"$f":"Risks!AS56","v":"[Insert comments here]"},{"$f":"Risks!AT56","v":0},{"$f":"Risks!AU56","v":"[Insert comments here]"},{"$f":"Risks!AV56","v":0},{"$f":"Risks!AW56","v":"[Insert comments here]"},{"$f":"Risks!AX56","v":0},{"$f":"Risks!AY56","v":"[Insert comments here]"},{"$f":"Risks!AZ56","v":0},{"$f":"Risks!BA56","v":"[Insert comments here]"},{"$f":"Risks!BB56","v":0},{"$f":"Risks!BC56","v":"[Insert comments here]"},{"$f":"Risks!BD56","v":0},{"$f":"Risks!BE56","v":"[Insert comments here]"},{"$f":"Risks!BF56","v":0},{"$f":"Risks!BG56","v":"[Insert comments here]"},{"$f":"Risks!BH56","v":0},{"$f":"Risks!BI56","v":"[Insert comments here]"},{"$f":"Risks!BJ56","v":0},{"$f":"Risks!BK56","v":"[Insert comments here]"},{"$f":"Risks!BL56","v":0},{"$f":"Risks!BM56","v":"[Insert comments here]"},{"$f":"Risks!BN56","v":0},{"$f":"Risks!BO56","v":"[Insert comments here]"},{"$f":"Risks!BP56","v":0},{"$f":"Risks!BQ56","v":"[Insert comments here]"},{"$f":"Risks!BR56","v":0},{"$f":"Risks!BS56","v":"[Insert comments here]"},{"$f":"Risks!BT56","v":0},{"$f":"Risks!BU56","v":"[Insert comments here]"},{"$f":"Risks!BV56","v":0},{"$f":"Risks!BW56","v":"[Insert comments here]"},{"$f":"Risks!BX56","v":0},{"$f":"Risks!BY56","v":"[Insert comments here]"},{"$f":"Risks!BZ56","v":0},{"$f":"Risks!CA56","v":"[Insert comments here]"},{"$f":"Risks!CB56","v":0},{"$f":"Risks!CC56","v":"[Insert comments here]"},{"$f":"Risks!CD56","v":0},{"$f":"Risks!CE56","v":"[Insert comments here]"},null,null,null,null,{"$f":"Risks!CJ56","v":0},{"$f":"Risks!CK56","v":"[Insert comments here]"}]
[]
[]
[null,"Influence","Total Influence Score:\n(maximum = 7)",{"$f":"Influence!D11","v":7},null,{"$f":"Influence!F11","v":7},null,{"$f":"Influence!H11","v":7},null,{"$f":"Influence!J11","v":7},null,{"$f":"Influence!L11","v":7},null,{"$f":"Influence!N11","v":5},null,{"$f":"Influence!P11","v":5},null,{"$f":"Influence!R11","v":2},null,{"$f":"Influence!T11","v":""},null,{"$f":"Influence!V11","v":""},null,{"$f":"Influence!X11","v":""},null,{"$f":"Influence!Z11","v":""},null,{"$f":"Influence!AB11","v":""},null,{"$f":"Influence!AD11","v":""},null,{"$f":"Influence!AF11","v":""},null,{"$f":"Influence!AH11","v":""},null,{"$f":"Influence!AJ11","v":""},null,{"$f":"Influence!AL11","v":""},null,{"$f":"Influence!AN11","v":""},null,{"$f":"Influence!AP11","v":""},null,{"$f":"Influence!AR11","v":""},null,{"$f":"Influence!AT11","v":""},null,{"$f":"Influence!AV11","v":""},null,{"$f":"Influence!AX11","v":""},null,{"$f":"Influence!AZ11","v":""},null,{"$f":"Influence!BB11","v":""},null,{"$f":"Influence!BD11","v":""},null,{"$f":"Influence!BF11","v":""},null,{"$f":"Influence!BH11","v":""},null,{"$f":"Influence!BJ11","v":""},null,{"$f":"Influence!BL11","v":""},null,{"$f":"Influence!BN11","v":""},null,{"$f":"Influence!BP11","v":""},null,{"$f":"Influence!BR11","v":""},null,{"$f":"Influence!BT11","v":""},null,{"$f":"Influence!BV11","v":""},null,{"$f":"Influence!BX11","v":""},null,{"$f":"Influence!BZ11","v":""},null,{"$f":"Influence!CB11","v":""},null,{"$f":"Influence!CD11","v":""},null,null,null,null,null,{"$f":"Influence!CJ11","v":0}]
[]
[]
[]
[]
[]
[]
[]
[]
[null,null,null,null,null,null,null,null,null,null,null,null,null,null," "]
[null,null,null,null,null,null,null,null,null,null,null,null,null,null,null,null,null,null,null,null,null,null,null,null,null,null,null,null,null,null,null,null,null,null,null,null,null,null,null,null,null,null,null,null,null,null,null,null,null,null,null,null,null,null,null,null," "]

{"sheet":"NPF","index":10,"n_rows":100,"n_cols":89,"rows_kept":100,"cut":false,"hidden":false,"merged":[[1,75,1,76],[1,77,1,78],[1,79,1,80],[1,81,1,82],[1,63,1,64],[1,65,1,66],[1,67,1,68],[1,69,1,70],[1,71,1,72],[1,73,1,74],[1,53,1,54],[1,55,1,56],[1,57,1,58],[1,59,1,60],[1,61,1,62],[1,43,1,44],[1,45,1,46],[1,47,1,48],[1,49,1,50],[1,51,1,52],[1,33,1,34],[1,35,1,36],[1,37,1,38],[1,39,1,40],[1,41,1,42],[1,23,1,24],[1,25,1,26],[1,27,1,28],[1,29,1,30],[1,31,1,32],[1,13,1,14],[1,15,1,16],[1,17,1,18],[1,19,1,20],[1,21,1,22],[1,3,1,4],[1,5,1,6],[1,7,1,8],[1,9,1,10],[1,11,1,12],[94,3,94,4],[94,5,94,6],[94,7,94,8],[94,9,94,10],[94,11,94,12],[94,13,94,14],[94,15,94,16],[94,17,94,18],[94,19,94,20],[94,21,94,22],[94,23,94,24],[94,25,94,26],[94,27,94,28],[94,29,94,30],[94,31,94,32],[94,33,94,34],[94,35,94,36],[94,37,94,38],[94,39,94,40],[94,41,94,42],[94,43,94,44],[94,45,94,46],[94,47,94,48],[94,49,94,50],[94,51,94,52],[94,53,94,54],[94,55,94,56],[94,57,94,58],[94,59,94,60],[94,61,94,62],[94,63,94,64],[94,65,94,66],[94,67,94,68],[94,69,94,70],[94,71,94,72],[94,73,94,74],[94,75,94,76],[94,77,94,78],[94,79,94,80],[94,81,94,82]]}
[]
[null,"Organisational & National Outcomes",null,{"$f":"IF(INDEX(ProductGroups,COLUMN()/2-1)=\"\",\"\",INDEX(ProductGroups,COLUMN()/2-1))","v":"Mobile Tech"},null,{"$f":"IF(INDEX(ProductGroups,COLUMN()/2-1)=\"\",\"\",INDEX(ProductGroups,COLUMN()/2-1))","v":"Servers/Storage"},null,{"$f":"IF(INDEX(ProductGroups,COLUMN()/2-1)=\"\",\"\",INDEX(ProductGroups,COLUMN()/2-1))","v":"Networking Equipment (Large Routers)"},null,{"$f":"IF(INDEX(ProductGroups,COLUMN()/2-1)=\"\",\"\",INDEX(ProductGroups,COLUMN()/2-1))","v":"PCs: Macs/Workstation/Thin Client"},null,{"$f":"IF(INDEX(ProductGroups,COLUMN()/2-1)=\"\",\"\",INDEX(ProductGroups,COLUMN()/2-1))","v":"Printers/MFD's"},null,{"$f":"IF(INDEX(ProductGroups,COLUMN()/2-1)=\"\",\"\",INDEX(ProductGroups,COLUMN()/2-1))","v":"Cages and Racking, Isolators"},null,{"$f":"IF(INDEX(ProductGroups,COLUMN()/2-1)=\"\",\"\",INDEX(ProductGroups,COLUMN()/2-1))","v":"Laboratory Small Appaaratus and Equipment Purchase"},null,{"$f":"IF(INDEX(ProductGroups,COLUMN()/2-1)=\"\",\"\",INDEX(ProductGroups,COLUMN()/2-1))","v":"Medical, Surgical, Nursing Supplies & Services Small Apparatus, Equipment and Instruments"},null,{"$f":"IF(INDEX(ProductGroups,COLUMN()/2-1)=\"\",\"\",INDEX(ProductGroups,COLUMN()/2-1))","v":""},null,{"$f":"IF(INDEX(ProductGroups,COLUMN()/2-1)=\"\",\"\",INDEX(ProductGroups,COLUMN()/2-1))","v":""},null,{"$f":"IF(INDEX(ProductGroups,COLUMN()/2-1)=\"\",\"\",INDEX(ProductGroups,COLUMN()/2-1))","v":""},null,{"$f":"IF(INDEX(ProductGroups,COLUMN()/2-1)=\"\",\"\",INDEX(ProductGroups,COLUMN()/2-1))","v":""},null,{"$f":"IF(INDEX(ProductGroups,COLUMN()/2-1)=\"\",\"\",INDEX(ProductGroups,COLUMN()/2-1))","v":""},null,{"$f":"IF(INDEX(ProductGroups,COLUMN()/2-1)=\"\",\"\",INDEX(ProductGroups,COLUMN()/2-1))","v":""},null,{"$f":"IF(INDEX(ProductGroups,COLUMN()/2-1)=\"\",\"\",INDEX(ProductGroups,COLUMN()/2-1))","v":""},null,{"$f":"IF(INDEX(ProductGroups,COLUMN()/2-1)=\"\",\"\",INDEX(ProductGroups,COLUMN()/2-1))","v":""},null,{"$f":"IF(INDEX(ProductGroups,COLUMN()/2-1)=\"\",\"\",INDEX(ProductGroups,COLUMN()/2-1))","v":""},null,{"$f":"IF(INDEX(ProductGroups,COLUMN()/2-1)=\"\",\"\",INDEX(ProductGroups,COLUMN()/2-1))","v":""},null,{"$f":"IF(INDEX(ProductGroups,COLUMN()/2-1)=\"\",\"\",INDEX(ProductGroups,COLUMN()/2-1))","v":""},null,{"$f":"IF(INDEX(ProductGroups,COLUMN()/2-1)=\"\",\"\",INDEX(ProductGroups,COLUMN()/2-1))","v":""},null,{"$f":"IF(INDEX(ProductGroups,COLUMN()/2-1)=\"\",\"\",INDEX(ProductGroups,COLUMN()/2-1))","v":""},null,{"$f":"IF(INDEX(ProductGroups,COLUMN()/2-1)=\"\",\"\",INDEX(ProductGroups,COLUMN()/2-1))","v":""},null,{"$f":"IF(INDEX(ProductGroups,COLUMN()/2-1)=\"\",\"\",INDEX(ProductGroups,COLUMN()/2-1))","v":""},null,{"$f":"IF(INDEX(ProductGroups,COLUMN()/2-1)=\"\",\"\",INDEX(ProductGroups,COLUMN()/2-1))","v":""},null,{"$f":"IF(INDEX(ProductGroups,COLUMN()/2-1)=\"\",\"\",INDEX(ProductGroups,COLUMN()/2-1))","v":""},null,{"$f":"IF(INDEX(ProductGroups,COLUMN()/2-1)=\"\",\"\",INDEX(ProductGroups,COLUMN()/2-1))","v":""},null,{"$f":"IF(INDEX(ProductGroups,COLUMN()/2-1)=\"\",\"\",INDEX(ProductGroups,COLUMN()/2-1))","v":""},null,{"$f":"IF(INDEX(ProductGroups,COLUMN()/2-1)=\"\",\"\",INDEX(ProductGroups,COLUMN()/2-1))","v":""},null,{"$f":"IF(INDEX(ProductGroups,COLUMN()/2-1)=\"\",\"\",INDEX(ProductGroups,COLUMN()/2-1))","v":""},null,{"$f":"IF(INDEX(ProductGroups,COLUMN()/2-1)=\"\",\"\",INDEX(ProductGroups,COLUMN()/2-1))","v":""},null,{"$f":"IF(INDEX(ProductGroups,COLUMN()/2-1)=\"\",\"\",INDEX(ProductGroups,COLUMN()/2-1))","v":""},null,{"$f":"IF(INDEX(ProductGroups,COLUMN()/2-1)=\"\",\"\",INDEX(ProductGroups,COLUMN()/2-1))","v":""},null,{"$f":"IF(INDEX(ProductGroups,COLUMN()/2-1)=\"\",\"\",INDEX(ProductGroups,COLUMN()/2-1))","v":""},null,{"$f":"IF(INDEX(ProductGroups,COLUMN()/2-1)=\"\",\"\",INDEX(ProductGroups,COLUMN()/2-1))","v":""},null,{"$f":"IF(INDEX(ProductGroups,COLUMN()/2-1)=\"\",\"\",INDEX(ProductGroups,COLUMN()/2-1))","v":""},null,{"$f":"IF(INDEX(ProductGroups,COLUMN()/2-1)=\"\",\"\",INDEX(ProductGroups,COLUMN()/2-1))","v":""},null,{"$f":"IF(INDEX(ProductGroups,COLUMN()/2-1)=\"\",\"\",INDEX(ProductGroups,COLUMN()/2-1))","v":""},null,{"$f":"IF(INDEX(ProductGroups,COLUMN()/2-1)=\"\",\"\",INDEX(ProductGroups,COLUMN()/2-1))","v":""},null,{"$f":"IF(INDEX(ProductGroups,COLUMN()/2-1)=\"\",\"\",INDEX(ProductGroups,COLUMN()/2-1))","v":""},null,{"$f":"IF(INDEX(ProductGroups,COLUMN()/2-1)=\"\",\"\",INDEX(ProductGroups,COLUMN()/2-1))","v":""}]
[4,null,"Reminder of 'Risk' scores \n(0 = Not relevant; 1 = Low relevance; \n2 = Medium; 3 = Critical issue)","RISKS","National Outcomes & Indicators related to: \n\nRISKS","RISKS","National Outcomes & Indicators related to: \n\nRISKS","RISKS","National Outcomes & Indicators related to: \n\nRISKS","RISKS","National Outcomes & Indicators related to: \n\nRISKS","RISKS","National Outcomes & Indicators related to: \n\nRISKS","RISKS","National Outcomes & Indicators related to: \n\nRISKS","RISKS","National Outcomes & Indicators related to: \n\nRISKS","RISKS","National Outcomes & Indicators related to: \n\nRISKS","RISKS","National Outcomes & Indicators related to: \n\nRISKS","RISKS","National Outcomes & Indicators related to: \n\nRISKS","RISKS","National Outcomes & Indicators related to: \n\nRISKS","RISKS","National Outcomes & Indicators related to: \n\nRISKS","RISKS","National Outcomes & Indicators related to: \n\nRISKS","RISKS","National Outcomes & Indicators related to: \n\nRISKS","RISKS","National Outcomes & Indicators related to: \n\nRISKS","RISKS","National Outcomes & Indicators related to: \n\nRISKS","RISKS","National Outcomes & Indicators related to: \n\nRISKS","RISKS","National Outcomes & Indicators related to: \n\nRISKS","RISKS","National Outcomes & Indicators related to: \n\nRISKS","RISKS","National Outcomes & Indicators related to: \n\nRISKS","RISKS","National Outcomes & Indicators related to: \n\nRISKS","RISKS","National Outcomes & Indicators related to: \n\nRISKS","RISKS","National Outcomes & Indicators related to: \n\nRISKS","RISKS","National Outcomes & Indicators related to: \n\nRISKS","RISKS","National Outcomes & Indicators related to: \n\nRISKS","RISKS","National Outcomes & Indicators related to: \n\nRISKS","RISKS","National Outcomes & Indicators related to: \n\nRISKS","RISKS","National Outcomes & Indicators related to: \n\nRISKS","RISKS","National Outcomes & Indicators related to: \n\nRISKS","RISKS","National Outcomes & Indicators related to: \n\nRISKS","RISKS","National Outcomes & Indicators related to: \n\nRISKS","RISKS","National Outcomes & Indicators related to: \n\nRISKS","RISKS","National Outcomes & Indicators related to: \n\nRISKS","RISKS","National Outcomes & Indicators related to: \n\nRISKS","RISKS","National Outcomes & Indicators related to: \n\nRISKS","RISKS","National Outcomes & Indicators related to: \n\nRISKS","RISKS","National Outcomes & Indicators related to: \n\nRISKS","RISKS","National Outcomes & Indicators related to: \n\nRISKS","RISKS","National Outcomes & Indicators related to: \n\nRISKS","RISKS","National Outcomes & Indicators related to: \n\nRISKS",null,"Links to your organisational strategies (based on those you may have flagged in the 'Risks & Opps' tab)"]
[null,"Environmental - RISKS & OPPS",{"$f":"IF(EnvIssues=\"\",\"\",EnvIssues)","v":"Climate Change"},{"$f":"Risks!D4","v":2},{"$f":"IF(D4=0,\"N/A\",IF(D4=1,\"NO: N. NI: 4, 35, 52, 54\", IF(D4=2,\"NO: N. NI: 4, 35, 52, 54\",IF(D4=3,\"NO: N. NI: 4, 35, 52, 54\",\"N/A\"))))","v":"NO: N. NI: 4, 35, 52, 54"},{"$f":"Risks!F4","v":3},{"$f":"IF(F4=0,\"N/A\",IF(F4=1,\"NO: N. NI: 4, 35, 52, 54\", IF(F4=2,\"NO: N. NI: 4, 35, 52, 54\",IF(F4=3,\"NO: N. NI: 4, 35, 52, 54\",\"N/A\"))))","v":"NO: N. NI: 4, 35, 52, 54"},{"$f":"Risks!H4","v":2},{"$f":"IF(H4=0,\"N/A\",IF(H4=1,\"NO: N. NI: 4, 35, 52, 54\", IF(H4=2,\"NO: N. NI: 4, 35, 52, 54\",IF(H4=3,\"NO: N. NI: 4, 35, 52, 54\",\"N/A\"))))","v":"NO: N. NI: 4, 35, 52, 54"},{"$f":"Risks!J4","v":3},{"$f":"IF(J4=0,\"N/A\",IF(J4=1,\"NO: N. NI: 4, 35, 52, 54\", IF(J4=2,\"NO: N. NI: 4, 35, 52, 54\",IF(J4=3,\"NO: N. NI: 4, 35, 52, 54\",\"N/A\"))))","v":"NO: N. NI: 4, 35, 52, 54"},{"$f":"Risks!L4","v":3},{"$f":"IF(L4=0,\"N/A\",IF(L4=1,\"NO: N. NI: 4, 35, 52, 54\", IF(L4=2,\"NO: N. NI: 4, 35, 52, 54\",IF(L4=3,\"NO: N. NI: 4, 35, 52, 54\",\"N/A\"))))","v":"NO: N. NI: 4, 35, 52, 54"},{"$f":"Risks!N4","v":3},{"$f":"IF(N4=0,\"N/A\",IF(N4=1,\"NO: N. NI: 4, 35, 52, 54\", IF(N4=2,\"NO: N. NI: 4, 35, 52, 54\",IF(N4=3,\"NO: N. NI: 4, 35, 52, 54\",\"N/A\"))))","v":"NO: N. NI: 4, 35, 52, 54"},{"$f":"Risks!P4","v":3},{"$f":"IF(P4=0,\"N/A\",IF(P4=1,\"NO: N. NI: 4, 35, 52, 54\", IF(P4=2,\"NO: N. NI: 4, 35, 52, 54\",IF(P4=3,\"NO: N. NI: 4, 35, 52, 54\",\"N/A\"))))","v":"NO: N. NI: 4, 35, 52, 54"},{"$f":"Risks!R4","v":3},{"$f":"IF(R4=0,\"N/A\",IF(R4=1,\"NO: N. NI: 4, 35, 52, 54\", IF(R4=2,\"NO: N. NI: 4, 35, 52, 54\",IF(R4=3,\"NO: N. NI: 4, 35, 52, 54\",\"N/A\"))))","v":"NO: N. NI: 4, 35, 52, 54"},{"$f":"Risks!T4","v":0},{"$f":"IF(T4=0,\"N/A\",IF(T4=1,\"NO: N. NI: 4, 35, 52, 54\", IF(T4=2,\"NO: N. NI: 4, 35, 52, 54\",IF(T4=3,\"NO: N. NI: 4, 35, 52, 54\",\"N/A\"))))","v":"N/A"},{"$f":"Risks!V4","v":0},{"$f":"IF(V4=0,\"N/A\",IF(V4=1,\"NO: N. NI: 4, 35, 52, 54\", IF(V4=2,\"NO: N. NI: 4, 35, 52, 54\",IF(V4=3,\"NO: N. NI: 4, 35, 52, 54\",\"N/A\"))))","v":"N/A"},{"$f":"Risks!X4","v":0},{"$f":"IF(X4=0,\"N/A\",IF(X4=1,\"NO: N. NI: 4, 35, 52, 54\", IF(X4=2,\"NO: N. NI: 4, 35, 52, 54\",IF(X4=3,\"NO: N. NI: 4, 35, 52, 54\",\"N/A\"))))","v":"N/A"},{"$f":"Risks!Z4","v":0},{"$f":"IF(Z4=0,\"N/A\",IF(Z4=1,\"NO: N. NI: 4, 35, 52, 54\", IF(Z4=2,\"NO: N. NI: 4, 35, 52, 54\",IF(Z4=3,\"NO: N. NI: 4, 35, 52, 54\",\"N/A\"))))","v":"N/A"},{"$f":"Risks!AB4","v":0},{"$f":"IF(AB4=0,\"N/A\",IF(AB4=1,\"NO: N. NI: 4, 35, 52, 54\", IF(AB4=2,\"NO: N. NI: 4, 35, 52, 54\",IF(AB4=3,\"NO: N. NI: 4, 35, 52, 54\",\"N/A\"))))","v":"N/A"},{"$f":"Risks!AD4","v":0},{"$f":"IF(AD4=0,\"N/A\",IF(AD4=1,\"NO: N. NI: 4, 35, 52, 54\", IF(AD4=2,\"NO: N. NI: 4, 35, 52, 54\",IF(AD4=3,\"NO: N. NI: 4, 35, 52, 54\",\"N/A\"))))","v":"N/A"},{"$f":"Risks!AF4","v":0},{"$f":"IF(AF4=0,\"N/A\",IF(AF4=1,\"NO: N. NI: 4, 35, 52, 54\", IF(AF4=2,\"NO: N. NI: 4, 35, 52, 54\",IF(AF4=3,\"NO: N. NI: 4, 35, 52, 54\",\"N/A\"))))","v":"N/A"},{"$f":"Risks!AH4","v":0},{"$f":"IF(AH4=0,\"N/A\",IF(AH4=1,\"NO: N. NI: 4, 35, 52, 54\", IF(AH4=2,\"NO: N. NI: 4, 35, 52, 54\",IF(AH4=3,\"NO: N. NI: 4, 35, 52, 54\",\"N/A\"))))","v":"N/A"},{"$f":"Risks!AJ4","v":0},{"$f":"IF(AJ4=0,\"N/A\",IF(AJ4=1,\"NO: N. NI: 4, 35, 52, 54\", IF(AJ4=2,\"NO: N. NI: 4, 35, 52, 54\",IF(AJ4=3,\"NO: N. NI: 4, 35, 52, 54\",\"N/A\"))))","v":"N/A"},{"$f":"Risks!AL4","v":0},{"$f":"IF(AL4=0,\"N/A\",IF(AL4=1,\"NO: N. NI: 4, 35, 52, 54\", IF(AL4=2,\"NO: N. NI: 4, 35, 52, 54\",IF(AL4=3,\"NO: N. NI: 4, 35, 52, 54\",\"N/A\"))))","v":"N/A"},{"$f":"Risks!AN4","v":0},{"$f":"IF(AN4=0,\"N/A\",IF(AN4=1,\"NO: N. NI: 4, 32, 47, 48, 49, 50\", IF(AN4=2,\"NO: N. NI: 4, 32, 47, 48, 49, 50\",IF(AN4=3,\"NO: N. NI: 4, 32, 47, 48, 49, 50\",\"N/A\"))))","v":"N/A"},{"$f":"Risks!AP4","v":0},{"$f":"IF(AP4=0,\"N/A\",IF(AP4=1,\"NO: N. NI: 4, 32, 47, 48, 49, 50\", IF(AP4=2,\"NO: N. NI: 4, 32, 47, 48, 49, 50\",IF(AP4=3,\"NO: N. NI: 4, 32, 47, 48, 49, 50\",\"N/A\"))))","v":"N/A"},{"$f":"Risks!AR4","v":0},{"$f":"IF(AR4=0,\"N/A\",IF(AR4=1,\"NO: N. NI: 4, 32, 47, 48, 49, 50\", IF(AR4=2,\"NO: N. NI: 4, 32, 47, 48, 49, 50\",IF(AR4=3,\"NO: N. NI: 4, 32, 47, 48, 49, 50\",\"N/A\"))))","v":"N/A"},{"$f":"Risks!AT4","v":0},{"$f":"IF(AT4=0,\"N/A\",IF(AT4=1,\"NO: N. NI: 4, 32, 47, 48, 49, 50\", IF(AT4=2,\"NO: N. NI: 4, 32, 47, 48, 49, 50\",IF(AT4=3,\"NO: N. NI: 4, 32, 47, 48, 49, 50\",\"N/A\"))))","v":"N/A"},{"$f":"Risks!AV4","v":0},{"$f":"IF(AV4=0,\"N/A\",IF(AV4=1,\"NO: N. NI: 4, 35, 52, 54\", IF(AV4=2,\"NO: N. NI: 4, 35, 52, 54\",IF(AV4=3,\"NO: N. NI: 4, 35, 52, 54\",\"N/A\"))))","v":"N/A"},{"$f":"Risks!AX4","v":0},{"$f":"IF(AX4=0,\"N/A\",IF(AX4=1,\"NO: N. NI: 4, 35, 52, 54\", IF(AX4=2,\"NO: N. NI: 4, 35, 52, 54\",IF(AX4=3,\"NO: N. NI: 4, 35, 52, 54\",\"N/A\"))))","v":"N/A"},{"$f":"Risks!AZ4","v":0},{"$f":"IF(AZ4=0,\"N/A\",IF(AZ4=1,\"NO: N. NI: 4, 35, 52, 54\", IF(AZ4=2,\"NO: N. NI: 4, 35, 52, 54\",IF(AZ4=3,\"NO: N. NI: 4, 35, 52, 54\",\"N/A\"))))","v":"N/A"},{"$f":"Risks!BB4","v":0},{"$f":"IF(BB4=0,\"N/A\",IF(BB4=1,\"NO: N. NI: 4, 35, 52, 54\", IF(BB4=2,\"NO: N. NI: 4, 35, 52, 54\",IF(BB4=3,\"NO: N. NI: 4, 35, 52, 54\",\"N/A\"))))","v":"N/A"},{"$f":"Risks!BD4","v":0},{"$f":"IF(BD4=0,\"N/A\",IF(BD4=1,\"NO: N. NI: 4, 35, 52, 54\", IF(BD4=2,\"NO: N. NI: 4, 35, 52, 54\",IF(BD4=3,\"NO: N. NI: 4, 35, 52, 54\",\"N/A\"))))","v":"N/A"},{"$f":"Risks!BF4","v":0},{"$f":"IF(BF4=0,\"N/A\",IF(BF4=1,\"NO: N. NI: 4, 35, 52, 54\", IF(BF4=2,\"NO: N. NI: 4, 35, 52, 54\",IF(BF4=3,\"NO: N. NI: 4, 35, 52, 54\",\"N/A\"))))","v":"N/A"},{"$f":"Risks!BH4","v":0},{"$f":"IF(BH4=0,\"N/A\",IF(BH4=1,\"NO: N. NI: 4, 35, 52, 54\", IF(BH4=2,\"NO: N. NI: 4, 35, 52, 54\",IF(BH4=3,\"NO: N. NI: 4, 35, 52, 54\",\"N/A\"))))","v":"N/A"},{"$f":"Risks!BJ4","v":0},{"$f":"IF(BJ4=0,\"N/A\",IF(BJ4=1,\"NO: N. NI: 4, 35, 52, 54\", IF(BJ4=2,\"NO: N. NI: 4, 35, 52, 54\",IF(BJ4=3,\"NO: N. NI: 4, 35, 52, 54\",\"N/A\"))))","v":"N/A"},{"$f":"Risks!BL4","v":0},{"$f":"IF(BL4=0,\"N/A\",IF(BL4=1,\"NO: N. NI: 4, 35, 52, 54\", IF(BL4=2,\"NO: N. NI: 4, 35, 52, 54\",IF(BL4=3,\"NO: N. NI: 4, 35, 52, 54\",\"N/A\"))))","v":"N/A"},{"$f":"Risks!BN4","v":0},{"$f":"IF(BN4=0,\"N/A\",IF(BN4=1,\"NO: N. NI: 47, 48, 49, 50\", IF(BN4=2,\"NO: N. NI: 47, 48, 49, 50\",IF(BN4=3,\"NO: N. NI: 47, 48, 49, 50\",\"N/A\"))))","v":"N/A"},{"$f":"Risks!BP4","v":0},{"$f":"IF(BP4=0,\"N/A\",IF(BP4=1,\"NO: N. NI: 47, 48, 49, 50\", IF(BP4=2,\"NO: N. NI: 47, 48, 49, 50\",IF(BP4=3,\"NO: N. NI: 47, 48, 49, 50\",\"N/A\"))))","v":"N/A"},{"$f":"Risks!BR4","v":0},{"$f":"IF(BR4=0,\"N/A\",IF(BR4=1,\"NO: N. NI: 47, 48, 49, 50\", IF(BR4=2,\"NO: N. NI: 47, 48, 49, 50\",IF(BR4=3,\"NO: N. NI: 47, 48, 49, 50\",\"N/A\"))))","v":"N/A"},{"$f":"Risks!BT4","v":0},{"$f":"IF(BT4=0,\"N/A\",IF(BT4=1,\"NO: N. NI: 47, 48, 49, 50\", IF(BT4=2,\"NO: N. NI: 47, 48, 49, 50\",IF(BT4=3,\"NO: N. NI: 47, 48, 49, 50\",\"N/A\"))))","v":"N/A"},{"$f":"Risks!BV4","v":0},{"$f":"IF(BV4=0,\"N/A\",IF(BV4=1,\"NO: N. NI: 47, 48, 49, 50\", IF(BV4=2,\"NO: N. NI: 47, 48, 49, 50\",IF(BV4=3,\"NO: N. NI: 47, 48, 49, 50\",\"N/A\"))))","v":"N/A"},{"$f":"Risks!BX4","v":0},{"$f":"IF(BX4=0,\"N/A\",IF(BX4=1,\"NO: N. NI: 47, 48, 49, 50\", IF(BX4=2,\"NO: N. NI: 47, 48, 49, 50\",IF(BX4=3,\"NO: N. NI: 47, 48, 49, 50\",\"N/A\"))))","v":"N/A"},{"$f":"Risks!BZ4","v":0},{"$f":"IF(BZ4=0,\"N/A\",IF(BZ4=1,\"NO: N. NI: 47, 48, 49, 50\", IF(BZ4=2,\"NO: N. NI: 47, 48, 49, 50\",IF(BZ4=3,\"NO: N. NI: 47, 48, 49, 50\",\"N/A\"))))","v":"N/A"},{"$f":"Risks!CB4","v":0},{"$f":"IF(CB4=0,\"N/A\",IF(CB4=1,\"NO: N. NI: 47, 48, 49, 50\", IF(CB4=2,\"NO: N. NI: 47, 48, 49, 50\",IF(CB4=3,\"NO: N. NI: 47, 48, 49, 50\",\"N/A\"))))","v":"N/A"},{"$f":"Risks!CD4","v":0},{"$f":"IF(CD4=0,\"N/A\",IF(CD4=1,\"NO: N. NI: 47, 48, 49, 50\", IF(CD4=2,\"NO: N. NI: 47, 48, 49, 50\",IF(CD4=3,\"NO: N. NI: 47, 48, 49, 50\",\"N/A\"))))","v":"N/A"},null,{"$f":"IssuesInput!D4","v":"Climate Strategy (2016); Energy Policy (2003); Transport and Travel Planning Policy (2010); Business Travel Guidance (2016); Accommodation services sustainability (updated 2013) \n"},null,null,{"$f":"Risks!CJ4","v":0},{"$f":"IF(CJ4=0,\"N/A\",IF(CJ4=1,\"NO: N. NI: 47, 48, 49, 50\", IF(CJ4=2,\"NO: N. NI: 47, 48, 49, 50\",IF(CJ4=3,\"NO: N. NI: 47, 48, 49, 50\",\"N/A\"))))","v":"N/A"}]
[null,"Scroll down to view all scores","Materials",{"$f":"Risks!D5","v":3},{"$f":"IF(D5=0,\"N/A\",IF(D5=1,\"NO: N. NI: 52, 54\", IF(D5=2,\"NO: N. NI: 52, 54\",IF(D5=3,\"NO: N. NI: 52, 54\",\"N/A\"))))","v":"NO: N. NI: 52, 54"},{"$f":"Risks!F5","v":3},{"$f":"IF(F5=0,\"N/A\",IF(F5=1,\"NO: N. NI: 52, 54\", IF(F5=2,\"NO: N. NI: 52, 54\",IF(F5=3,\"NO: N. NI: 52, 54\",\"N/A\"))))","v":"NO: N. NI: 52, 54"},{"$f":"Risks!H5","v":3},{"$f":"IF(H5=0,\"N/A\",IF(H5=1,\"NO: N. NI: 52, 54\", IF(H5=2,\"NO: N. NI: 52, 54\",IF(H5=3,\"NO: N. NI: 52, 54\",\"N/A\"))))","v":"NO: N. NI: 52, 54"},{"$f":"Risks!J5","v":3},{"$f":"IF(J5=0,\"N/A\",IF(J5=1,\"NO: N. NI: 52, 54\", IF(J5=2,\"NO: N. NI: 52, 54\",IF(J5=3,\"NO: N. NI: 52, 54\",\"N/A\"))))","v":"NO: N. NI: 52, 54"},{"$f":"Risks!L5","v":3},{"$f":"IF(L5=0,\"N/A\",IF(L5=1,\"NO: N. NI: 52, 54\", IF(L5=2,\"NO: N. NI: 52, 54\",IF(L5=3,\"NO: N. NI: 52, 54\",\"N/A\"))))","v":"NO: N. NI: 52, 54"},{"$f":"Risks!N5","v":1},{"$f":"IF(N5=0,\"N/A\",IF(N5=1,\"NO: N. NI: 52, 54\", IF(N5=2,\"NO: N. NI: 52, 54\",IF(N5=3,\"NO: N. NI: 52, 54\",\"N/A\"))))","v":"NO: N. NI: 52, 54"},{"$f":"Risks!P5","v":3},{"$f":"IF(P5=0,\"N/A\",IF(P5=1,\"NO: N. NI: 52, 54\", IF(P5=2,\"NO: N. NI: 52, 54\",IF(P5=3,\"NO: N. NI: 52, 54\",\"N/A\"))))","v":"NO: N. NI: 52, 54"},{"$f":"Risks!R5","v":3},{"$f":"IF(R5=0,\"N/A\",IF(R5=1,\"NO: N. NI: 52, 54\", IF(R5=2,\"NO: N. NI: 52, 54\",IF(R5=3,\"NO: N. NI: 52, 54\",\"N/A\"))))","v":"NO: N. NI: 52, 54"},{"$f":"Risks!T5","v":0},{"$f":"IF(T5=0,\"N/A\",IF(T5=1,\"NO: N. NI: 52, 54\", IF(T5=2,\"NO: N. NI: 52, 54\",IF(T5=3,\"NO: N. NI: 52, 54\",\"N/A\"))))","v":"N/A"},{"$f":"Risks!V5","v":0},{"$f":"IF(V5=0,\"N/A\",IF(V5=1,\"NO: N. NI: 52, 54\", IF(V5=2,\"NO: N. NI: 52, 54\",IF(V5=3,\"NO: N. NI: 52, 54\",\"N/A\"))))","v":"N/A"},{"$f":"Risks!X5","v":0},{"$f":"IF(X5=0,\"N/A\",IF(X5=1,\"NO: N. NI: 52, 54\", IF(X5=2,\"NO: N. NI: 52, 54\",IF(X5=3,\"NO: N. NI: 52, 54\",\"N/A\"))))","v":"N/A"},{"$f":"Risks!Z5","v":0},{"$f":"IF(Z5=0,\"N/A\",IF(Z5=1,\"NO: N. NI: 52, 54\", IF(Z5=2,\"NO: N. NI: 52, 54\",IF(Z5=3,\"NO: N. NI: 52, 54\",\"N/A\"))))","v":"N/A"},{"$f":"Risks!AB5","v":0},{"$f":"IF(AB5=0,\"N/A\",IF(AB5=1,\"NO: N. NI: 52, 54\", IF(AB5=2,\"NO: N. NI: 52, 54\",IF(AB5=3,\"NO: N. NI: 52, 54\",\"N/A\"))))","v":"N/A"},{"$f":"Risks!AD5","v":0},{"$f":"IF(AD5=0,\"N/A\",IF(AD5=1,\"NO: N. NI: 52, 54\", IF(AD5=2,\"NO: N. NI: 52, 54\",IF(AD5=3,\"NO: N. NI: 52, 54\",\"N/A\"))))","v":"N/A"},{"$f":"Risks!AF5","v":0},{"$f":"IF(AF5=0,\"N/A\",IF(AF5=1,\"NO: N. NI: 52, 54\", IF(AF5=2,\"NO: N. NI: 52, 54\",IF(AF5=3,\"NO: N. NI: 52, 54\",\"N/A\"))))","v":"N/A"},{"$f":"Risks!AH5","v":0},{"$f":"IF(AH5=0,\"N/A\",IF(AH5=1,\"NO: N. NI: 52, 54\", IF(AH5=2,\"NO: N. NI: 52, 54\",IF(AH5=3,\"NO: N. NI: 52, 54\",\"N/A\"))))","v":"N/A"},{"$f":"Risks!AJ5","v":0},{"$f":"IF(AJ5=0,\"N/A\",IF(AJ5=1,\"NO: N. NI: 52, 54\", IF(AJ5=2,\"NO: N. NI: 52, 54\",IF(AJ5=3,\"NO: N. NI: 52, 54\",\"N/A\"))))","v":"N/A"},{"$f":"Risks!AL5","v":0},{"$f":"IF(AL5=0,\"N/A\",IF(AL5=1,\"NO: N. NI: 52, 54\", IF(AL5=2,\"NO: N. NI: 52, 54\",IF(AL5=3,\"NO: N. NI: 52, 54\",\"N/A\"))))","v":"N/A"},{"$f":"Risks!AN5","v":0},{"$f":"IF(AN5=0,\"N/A\",IF(AN5=1,\"NO: N. NI: 47, 49\", IF(AN5=2,\"NO: N. NI: 47, 49\",IF(AN5=3,\"NO: N. NI: 47, 49\",\"N/A\"))))","v":"N/A"},{"$f":"Risks!AP5","v":0},{"$f":"IF(AP5=0,\"N/A\",IF(AP5=1,\"NO: N. NI: 47, 49\", IF(AP5=2,\"NO: N. NI: 47, 49\",IF(AP5=3,\"NO: N. NI: 47, 49\",\"N/A\"))))","v":"N/A"},{"$f":"Risks!AR5","v":0},{"$f":"IF(AR5=0,\"N/A\",IF(AR5=1,\"NO: N. NI: 47, 49\", IF(AR5=2,\"NO: N. NI: 47, 49\",IF(AR5=3,\"NO: N. NI: 47, 49\",\"N/A\"))))","v":"N/A"},{"$f":"Risks!AT5","v":0},{"$f":"IF(AT5=0,\"N/A\",IF(AT5=1,\"NO: N. NI: 47, 49\", IF(AT5=2,\"NO: N. NI: 47, 49\",IF(AT5=3,\"NO: N. NI: 47, 49\",\"N/A\"))))","v":"N/A"},{"$f":"Risks!AV5","v":0},{"$f":"IF(AV5=0,\"N/A\",IF(AV5=1,\"NO: N. NI: 52, 54\", IF(AV5=2,\"NO: N. NI: 52, 54\",IF(AV5=3,\"NO: N. NI: 52, 54\",\"N/A\"))))","v":"N/A"},{"$f":"Risks!AX5","v":0},{"$f":"IF(AX5=0,\"N/A\",IF(AX5=1,\"NO: N. NI: 52, 54\", IF(AX5=2,\"NO: N. NI: 52, 54\",IF(AX5=3,\"NO: N. NI: 52, 54\",\"N/A\"))))","v":"N/A"},{"$f":"Risks!AZ5","v":0},{"$f":"IF(AZ5=0,\"N/A\",IF(AZ5=1,\"NO: N. NI: 52, 54\", IF(AZ5=2,\"NO: N. NI: 52, 54\",IF(AZ5=3,\"NO: N. NI: 52, 54\",\"N/A\"))))","v":"N/A"},{"$f":"Risks!BB5","v":0},{"$f":"IF(BB5=0,\"N/A\",IF(BB5=1,\"NO: N. NI: 52, 54\", IF(BB5=2,\"NO: N. NI: 52, 54\",IF(BB5=3,\"NO: N. NI: 52, 54\",\"N/A\"))))","v":"N/A"},{"$f":"Risks!BD5","v":0},{"$f":"IF(BD5=0,\"N/A\",IF(BD5=1,\"NO: N. NI: 52, 54\", IF(BD5=2,\"NO: N. NI: 52, 54\",IF(BD5=3,\"NO: N. NI: 52, 54\",\"N/A\"))))","v":"N/A"},{"$f":"Risks!BF5","v":0},{"$f":"IF(BF5=0,\"N/A\",IF(BF5=1,\"NO: N. NI: 52, 54\", IF(BF5=2,\"NO: N. NI: 52, 54\",IF(BF5=3,\"NO: N. NI: 52, 54\",\"N/A\"))))","v":"N/A"},{"$f":"Risks!BH5","v":0},{"$f":"IF(BH5=0,\"N/A\",IF(BH5=1,\"NO: N. NI: 52, 54\", IF(BH5=2,\"NO: N. NI: 52, 54\",IF(BH5=3,\"NO: N. NI: 52, 54\",\"N/A\"))))","v":"N/A"},{"$f":"Risks!BJ5","v":0},{"$f":"IF(BJ5=0,\"N/A\",IF(BJ5=1,\"NO: N. NI: 52, 54\", IF(BJ5=2,\"NO: N. NI: 52, 54\",IF(BJ5=3,\"NO: N. NI: 52, 54\",\"N/A\"))))","v":"N/A"},{"$f":"Risks!BL5","v":0},{"$f":"IF(BL5=0,\"N/A\",IF(BL5=1,\"NO: N. NI: 52, 54\", IF(BL5=2,\"NO: N. NI: 52, 54\",IF(BL5=3,\"NO: N. NI: 52, 54\",\"N/A\"))))","v":"N/A"},{"$f":"Risks!BN5","v":0},{"$f":"IF(BN5=0,\"N/A\",IF(BN5=1,\"NO: 2, 3, 5. NI: 12, 15, 25, 29, 31\", IF(BN5=2,\"NO: 2, 3, 5. NI: 12, 15, 25, 29, 31\",IF(BN5=3,\"NO: 2, 3, 5. NI: 12, 15, 25, 29, 31\",\"N/A\"))))","v":"N/A"},{"$f":"Risks!BP5","v":0},{"$f":"IF(BP5=0,\"N/A\",IF(BP5=1,\"NO: 2, 3, 5. NI: 12, 15, 25, 29, 31\", IF(BP5=2,\"NO: 2, 3, 5. NI: 12, 15, 25, 29, 31\",IF(BP5=3,\"NO: 2, 3, 5. NI: 12, 15, 25, 29, 31\",\"N/A\"))))","v":"N/A"},{"$f":"Risks!BR5","v":0},{"$f":"IF(BR5=0,\"N/A\",IF(BR5=1,\"NO: 2, 3, 5. NI: 12, 15, 25, 29, 31\", IF(BR5=2,\"NO: 2, 3, 5. NI: 12, 15, 25, 29, 31\",IF(BR5=3,\"NO: 2, 3, 5. NI: 12, 15, 25, 29, 31\",\"N/A\"))))","v":"N/A"},{"$f":"Risks!BT5","v":0},{"$f":"IF(BT5=0,\"N/A\",IF(BT5=1,\"NO: 2, 3, 5. NI: 12, 15, 25, 29, 31\", IF(BT5=2,\"NO: 2, 3, 5. NI: 12, 15, 25, 29, 31\",IF(BT5=3,\"NO: 2, 3, 5. NI: 12, 15, 25, 29, 31\",\"N/A\"))))","v":"N/A"},{"$f":"Risks!BV5","v":0},{"$f":"IF(BV5=0,\"N/A\",IF(BV5=1,\"NO: 2, 3, 5. NI: 12, 15, 25, 29, 31\", IF(BV5=2,\"NO: 2, 3, 5. NI: 12, 15, 25, 29, 31\",IF(BV5=3,\"NO: 2, 3, 5. NI: 12, 15, 25, 29, 31\",\"N/A\"))))","v":"N/A"},{"$f":"Risks!BX5","v":0},{"$f":"IF(BX5=0,\"N/A\",IF(BX5=1,\"NO: 2, 3, 5. NI: 12, 15, 25, 29, 31\", IF(BX5=2,\"NO: 2, 3, 5. NI: 12, 15, 25, 29, 31\",IF(BX5=3,\"NO: 2, 3, 5. NI: 12, 15, 25, 29, 31\",\"N/A\"))))","v":"N/A"},{"$f":"Risks!BZ5","v":0},{"$f":"IF(BZ5=0,\"N/A\",IF(BZ5=1,\"NO: 2, 3, 5. NI: 12, 15, 25, 29, 31\", IF(BZ5=2,\"NO: 2, 3, 5. NI: 12, 15, 25, 29, 31\",IF(BZ5=3,\"NO: 2, 3, 5. NI: 12, 15, 25, 29, 31\",\"N/A\"))))","v":"N/A"},{"$f":"Risks!CB5","v":0},{"$f":"IF(CB5=0,\"N/A\",IF(CB5=1,\"NO: 2, 3, 5. NI: 12, 15, 25, 29, 31\", IF(CB5=2,\"NO: 2, 3, 5. NI: 12, 15, 25, 29, 31\",IF(CB5=3,\"NO: 2, 3, 5. NI: 12, 15, 25, 29, 31\",\"N/A\"))))","v":"N/A"},{"$f":"Risks!CD5","v":0},{"$f":"IF(CD5=0,\"N/A\",IF(CD5=1,\"NO: 2, 3, 5. NI: 12, 15, 25, 29, 31\", IF(CD5=2,\"NO: 2, 3, 5. NI: 12, 15, 25, 29, 31\",IF(CD5=3,\"NO: 2, 3, 5. NI: 12, 15, 25, 29, 31\",\"N/A\"))))","v":"N/A"},null,{"$f":"IssuesInput!D5","v":0},null,null,{"$f":"Risks!CJ5","v":0},{"$f":"IF(CJ5=0,\"N/A\",IF(CJ5=1,\"NO: 2, 3, 5. NI: 12, 15, 25, 29, 31\", IF(CJ5=2,\"NO: 2, 3, 5. NI: 12, 15, 25, 29, 31\",IF(CJ5=3,\"NO: 2, 3, 5. NI: 12, 15, 25, 29, 31\",\"N/A\"))))","v":"N/A"}]
[null,null,"Waste",{"$f":"Risks!D6","v":3},{"$f":"IF(D6=0,\"N/A\",IF(D6=1,\"NO: N. NI: 52, 54\", IF(D6=2,\"NO: N. NI: 52, 54\",IF(D6=3,\"NO: N. NI: 52, 54\",\"N/A\"))))","v":"NO: N. NI: 52, 54"},{"$f":"Risks!F6","v":3},{"$f":"IF(F6=0,\"N/A\",IF(F6=1,\"NO: N. NI: 52, 54\", IF(F6=2,\"NO: N. NI: 52, 54\",IF(F6=3,\"NO: N. NI: 52, 54\",\"N/A\"))))","v":"NO: N. NI: 52, 54"},{"$f":"Risks!H6","v":3},{"$f":"IF(H6=0,\"N/A\",IF(H6=1,\"NO: N. NI: 52, 54\", IF(H6=2,\"NO: N. NI: 52, 54\",IF(H6=3,\"NO: N. NI: 52, 54\",\"N/A\"))))","v":"NO: N. NI: 52, 54"},{"$f":"Risks!J6","v":3},{"$f":"IF(J6=0,\"N/A\",IF(J6=1,\"NO: N. NI: 52, 54\", IF(J6=2,\"NO: N. NI: 52, 54\",IF(J6=3,\"NO: N. NI: 52, 54\",\"N/A\"))))","v":"NO: N. NI: 52, 54"},{"$f":"Risks!L6","v":3},{"$f":"IF(L6=0,\"N/A\",IF(L6=1,\"NO: N. NI: 52, 54\", IF(L6=2,\"NO: N. NI: 52, 54\",IF(L6=3,\"NO: N. NI: 52, 54\",\"N/A\"))))","v":"NO: N. NI: 52, 54"},{"$f":"Risks!N6","v":1},{"$f":"IF(N6=0,\"N/A\",IF(N6=1,\"NO: N. NI: 52, 54\", IF(N6=2,\"NO: N. NI: 52, 54\",IF(N6=3,\"NO: N. NI: 52, 54\",\"N/A\"))))","v":"NO: N. NI: 52, 54"},{"$f":"Risks!P6","v":3},{"$f":"IF(P6=0,\"N/A\",IF(P6=1,\"NO: N. NI: 52, 54\", IF(P6=2,\"NO: N. NI: 52, 54\",IF(P6=3,\"NO: N. NI: 52, 54\",\"N/A\"))))","v":"NO: N. NI: 52, 54"},{"$f":"Risks!R6","v":3},{"$f":"IF(R6=0,\"N/A\",IF(R6=1,\"NO: N. NI: 52, 54\", IF(R6=2,\"NO: N. NI: 52, 54\",IF(R6=3,\"NO: N. NI: 52, 54\",\"N/A\"))))","v":"NO: N. NI: 52, 54"},{"$f":"Risks!T6","v":0},{"$f":"IF(T6=0,\"N/A\",IF(T6=1,\"NO: N. NI: 52, 54\", IF(T6=2,\"NO: N. NI: 52, 54\",IF(T6=3,\"NO: N. NI: 52, 54\",\"N/A\"))))","v":"N/A"},{"$f":"Risks!V6","v":0},{"$f":"IF(V6=0,\"N/A\",IF(V6=1,\"NO: N. NI: 52, 54\", IF(V6=2,\"NO: N. NI: 52, 54\",IF(V6=3,\"NO: N. NI: 52, 54\",\"N/A\"))))","v":"N/A"},{"$f":"Risks!X6","v":0},{"$f":"IF(X6=0,\"N/A\",IF(X6=1,\"NO: N. NI: 52, 54\", IF(X6=2,\"NO: N. NI: 52, 54\",IF(X6=3,\"NO: N. NI: 52, 54\",\"N/A\"))))","v":"N/A"},{"$f":"Risks!Z6","v":0},{"$f":"IF(Z6=0,\"N/A\",IF(Z6=1,\"NO: N. NI: 52, 54\", IF(Z6=2,\"NO: N. NI: 52, 54\",IF(Z6=3,\"NO: N. NI: 52, 54\",\"N/A\"))))","v":"N/A"},{"$f":"Risks!AB6","v":0},{"$f":"IF(AB6=0,\"N/A\",IF(AB6=1,\"NO: N. NI: 52, 54\", IF(AB6=2,\"NO: N. NI: 52, 54\",IF(AB6=3,\"NO: N. NI: 52, 54\",\"N/A\"))))","v":"N/A"},{"$f":"Risks!AD6","v":0},{"$f":"IF(AD6=0,\"N/A\",IF(AD6=1,\"NO: N. NI: 52, 54\", IF(AD6=2,\"NO: N. NI: 52, 54\",IF(AD6=3,\"NO: N. NI: 52, 54\",\"N/A\"))))","v":"N/A"},{"$f":"Risks!AF6","v":0},{"$f":"IF(AF6=0,\"N/A\",IF(AF6=1,\"NO: N. NI: 52, 54\", IF(AF6=2,\"NO: N. NI: 52, 54\",IF(AF6=3,\"NO: N. NI: 52, 54\",\"N/A\"))))","v":"N/A"},{"$f":"Risks!AH6","v":0},{"$f":"IF(AH6=0,\"N/A\",IF(AH6=1,\"NO: N. NI: 52, 54\", IF(AH6=2,\"NO: N. NI: 52, 54\",IF(AH6=3,\"NO: N. NI: 52, 54\",\"N/A\"))))","v":"N/A"},{"$f":"Risks!AJ6","v":0},{"$f":"IF(AJ6=0,\"N/A\",IF(AJ6=1,\"NO: N. NI: 52, 54\", IF(AJ6=2,\"NO: N. NI: 52, 54\",IF(AJ6=3,\"NO: N. NI: 52, 54\",\"N/A\"))))","v":"N/A"},{"$f":"Risks!AL6","v":0},{"$f":"IF(AL6=0,\"N/A\",IF(AL6=1,\"NO: N. NI: 52, 54\", IF(AL6=2,\"NO: N. NI: 52, 54\",IF(AL6=3,\"NO: N. NI: 52, 54\",\"N/A\"))))","v":"N/A"},{"$f":"Risks!AN6","v":0},{"$f":"IF(AN6=0,\"N/A\",IF(AN6=1,\"NO: N. NI: 47, 49\", IF(AN6=2,\"NO: N. NI: 47, 49\",IF(AN6=3,\"NO: N. NI: 47, 49\",\"N/A\"))))","v":"N/A"},{"$f":"Risks!AP6","v":0},{"$f":"IF(AP6=0,\"N/A\",IF(AP6=1,\"NO: N. NI: 47, 49\", IF(AP6=2,\"NO: N. NI: 47, 49\",IF(AP6=3,\"NO: N. NI: 47, 49\",\"N/A\"))))","v":"N/A"},{"$f":"Risks!AR6","v":0},{"$f":"IF(AR6=0,\"N/A\",IF(AR6=1,\"NO: N. NI: 47, 49\", IF(AR6=2,\"NO: N. NI: 47, 49\",IF(AR6=3,\"NO: N. NI: 47, 49\",\"N/A\"))))","v":"N/A"},{"$f":"Risks!AT6","v":0},{"$f":"IF(AT6=0,\"N/A\",IF(AT6=1,\"NO: N. NI: 47, 49\", IF(AT6=2,\"NO: N. NI: 47, 49\",IF(AT6=3,\"NO: N. NI: 47, 49\",\"N/A\"))))","v":"N/A"},{"$f":"Risks!AV6","v":0},{"$f":"IF(AV6=0,\"N/A\",IF(AV6=1,\"NO: N. NI: 52, 54\", IF(AV6=2,\"NO: N. NI: 52, 54\",IF(AV6=3,\"NO: N. NI: 52, 54\",\"N/A\"))))","v":"N/A"},{"$f":"Risks!AX6","v":0},{"$f":"IF(AX6=0,\"N/A\",IF(AX6=1,\"NO: N. NI: 52, 54\", IF(AX6=2,\"NO: N. NI: 52, 54\",IF(AX6=3,\"NO: N. NI: 52, 54\",\"N/A\"))))","v":"N/A"},{"$f":"Risks!AZ6","v":0},{"$f":"IF(AZ6=0,\"N/A\",IF(AZ6=1,\"NO: N. NI: 52, 54\", IF(AZ6=2,\"NO: N. NI: 52, 54\",IF(AZ6=3,\"NO: N. NI: 52, 54\",\"N/A\"))))","v":"N/A"},{"$f":"Risks!BB6","v":0},{"$f":"IF(BB6=0,\"N/A\",IF(BB6=1,\"NO: N. NI: 52, 54\", IF(BB6=2,\"NO: N. NI: 52, 54\",IF(BB6=3,\"NO: N. NI: 52, 54\",\"N/A\"))))","v":"N/A"},{"$f":"Risks!BD6","v":0},{"$f":"IF(BD6=0,\"N/A\",IF(BD6=1,\"NO: N. NI: 52, 54\", IF(BD6=2,\"NO: N. NI: 52, 54\",IF(BD6=3,\"NO: N. NI: 52, 54\",\"N/A\"))))","v":"N/A"},{"$f":"Risks!BF6","v":0},{"$f":"IF(BF6=0,\"N/A\",IF(BF6=1,\"NO: N. NI: 52, 54\", IF(BF6=2,\"NO: N. NI: 52, 54\",IF(BF6=3,\"NO: N. NI: 52, 54\",\"N/A\"))))","v":"N/A"},{"$f":"Risks!BH6","v":0},{"$f":"IF(BH6=0,\"N/A\",IF(BH6=1,\"NO: N. NI: 52, 54\", IF(BH6=2,\"NO: N. NI: 52, 54\",IF(BH6=3,\"NO: N. NI: 52, 54\",\"N/A\"))))","v":"N/A"},{"$f":"Risks!BJ6","v":0},{"$f":"IF(BJ6=0,\"N/A\",IF(BJ6=1,\"NO: N. NI: 52, 54\", IF(BJ6=2,\"NO: N. NI: 52, 54\",IF(BJ6=3,\"NO: N. NI: 52, 54\",\"N/A\"))))","v":"N/A"},{"$f":"Risks!BL6","v":0},{"$f":"IF(BL6=0,\"N/A\",IF(BL6=1,\"NO: N. NI: 52, 54\", IF(BL6=2,\"NO: N. NI: 52, 54\",IF(BL6=3,\"NO: N. NI: 52, 54\",\"N/A\"))))","v":"N/A"},{"$f":"Risks!BN6","v":0},{"$f":"IF(BN6=0,\"N/A\",IF(BN6=1,\"NO: 2, 3, 5. NI: 12, 15, 25, 29, 31\", IF(BN6=2,\"NO: 2, 3, 5. NI: 12, 15, 25, 29, 31\",IF(BN6=3,\"NO: 2, 3, 5. NI: 12, 15, 25, 29, 31\",\"N/A\"))))","v":"N/A"},{"$f":"Risks!BP6","v":0},{"$f":"IF(BP6=0,\"N/A\",IF(BP6=1,\"NO: 2, 3, 5. NI: 12, 15, 25, 29, 31\", IF(BP6=2,\"NO: 2, 3, 5. NI: 12, 15, 25, 29, 31\",IF(BP6=3,\"NO: 2, 3, 5. NI: 12, 15, 25, 29, 31\",\"N/A\"))))","v":"N/A"},{"$f":"Risks!BR6","v":0},{"$f":"IF(BR6=0,\"N/A\",IF(BR6=1,\"NO: 2, 3, 5. NI: 12, 15, 25, 29, 31\", IF(BR6=2,\"NO: 2, 3, 5. NI: 12, 15, 25, 29, 31\",IF(BR6=3,\"NO: 2, 3, 5. NI: 12, 15, 25, 29, 31\",\"N/A\"))))","v":"N/A"},{"$f":"Risks!BT6","v":0},{"$f":"IF(BT6=0,\"N/A\",IF(BT6=1,\"NO: 2, 3, 5. NI: 12, 15, 25, 29, 31\", IF(BT6=2,\"NO: 2, 3, 5. NI: 12, 15, 25, 29, 31\",IF(BT6=3,\"NO: 2, 3, 5. NI: 12, 15, 25, 29, 31\",\"N/A\"))))","v":"N/A"},{"$f":"Risks!BV6","v":0},{"$f":"IF(BV6=0,\"N/A\",IF(BV6=1,\"NO: 2, 3, 5. NI: 12, 15, 25, 29, 31\", IF(BV6=2,\"NO: 2, 3, 5. NI: 12, 15, 25, 29, 31\",IF(BV6=3,\"NO: 2, 3, 5. NI: 12, 15, 25, 29, 31\",\"N/A\"))))","v":"N/A"},{"$f":"Risks!BX6","v":0},{"$f":"IF(BX6=0,\"N/A\",IF(BX6=1,\"NO: 2, 3, 5. NI: 12, 15, 25, 29, 31\", IF(BX6=2,\"NO: 2, 3, 5. NI: 12, 15, 25, 29, 31\",IF(BX6=3,\"NO: 2, 3, 5. NI: 12, 15, 25, 29, 31\",\"N/A\"))))","v":"N/A"},{"$f":"Risks!BZ6","v":0},{"$f":"IF(BZ6=0,\"N/A\",IF(BZ6=1,\"NO: 2, 3, 5. NI: 12, 15, 25, 29, 31\", IF(BZ6=2,\"NO: 2, 3, 5. NI: 12, 15, 25, 29, 31\",IF(BZ6=3,\"NO: 2, 3, 5. NI: 12, 15, 25, 29, 31\",\"N/A\"))))","v":"N/A"},{"$f":"Risks!CB6","v":0},{"$f":"IF(CB6=0,\"N/A\",IF(CB6=1,\"NO: 2, 3, 5. NI: 12, 15, 25, 29, 31\", IF(CB6=2,\"NO: 2, 3, 5. NI: 12, 15, 25, 29, 31\",IF(CB6=3,\"NO: 2, 3, 5. NI: 12, 15, 25, 29, 31\",\"N/A\"))))","v":"N/A"},{"$f":"Risks!CD6","v":0},{"$f":"IF(CD6=0,\"N/A\",IF(CD6=1,\"NO: 2, 3, 5. NI: 12, 15, 25, 29, 31\", IF(CD6=2,\"NO: 2, 3, 5. NI: 12, 15, 25, 29, 31\",IF(CD6=3,\"NO: 2, 3, 5. NI: 12, 15, 25, 29, 31\",\"N/A\"))))","v":"N/A"},null,{"$f":"IssuesInput!D6","v":"Recycling and Waste Management Policy (2013); )"},null,null,{"$f":"Risks!CJ6","v":0},{"$f":"IF(CJ6=0,\"N/A\",IF(CJ6=1,\"NO: 2, 3, 5. NI: 12, 15, 25, 29, 31\", IF(CJ6=2,\"NO: 2, 3, 5. NI: 12, 15, 25, 29, 31\",IF(CJ6=3,\"NO: 2, 3, 5. NI: 12, 15, 25, 29, 31\",\"N/A\"))))","v":"N/A"}]
[null,null,"Hazardous materials",{"$f":"Risks!D7","v":2},{"$f":"IF(D7=0,\"N/A\",IF(D7=1,\"NO: N. NI: 50, 52, 54\", IF(D7=2,\"NO: N. NI: 50, 52, 54\",IF(D7=3,\"NO: N. NI: 50, 52, 54\",\"N/A\"))))","v":"NO: N. NI: 50, 52, 54"},{"$f":"Risks!F7","v":2},{"$f":"IF(F7=0,\"N/A\",IF(F7=1,\"NO: N. NI: 50, 52, 54\", IF(F7=2,\"NO: N. NI: 50, 52, 54\",IF(F7=3,\"NO: N. NI: 50, 52, 54\",\"N/A\"))))","v":"NO: N. NI: 50, 52, 54"},{"$f":"Risks!H7","v":2},{"$f":"IF(H7=0,\"N/A\",IF(H7=1,\"NO: N. NI: 50, 52, 54\", IF(H7=2,\"NO: N. NI: 50, 52, 54\",IF(H7=3,\"NO: N. NI: 50, 52, 54\",\"N/A\"))))","v":"NO: N. NI: 50, 52, 54"},{"$f":"Risks!J7","v":2},{"$f":"IF(J7=0,\"N/A\",IF(J7=1,\"NO: N. NI: 50, 52, 54\", IF(J7=2,\"NO: N. NI: 50, 52, 54\",IF(J7=3,\"NO: N. NI: 50, 52, 54\",\"N/A\"))))","v":"NO: N. NI: 50, 52, 54"},{"$f":"Risks!L7","v":2},{"$f":"IF(L7=0,\"N/A\",IF(L7=1,\"NO: N. NI: 50, 52, 54\", IF(L7=2,\"NO: N. NI: 50, 52, 54\",IF(L7=3,\"NO: N. NI: 50, 52, 54\",\"N/A\"))))","v":"NO: N. NI: 50, 52, 54"},{"$f":"Risks!N7","v":3},{"$f":"IF(N7=0,\"N/A\",IF(N7=1,\"NO: N. NI: 50, 52, 54\", IF(N7=2,\"NO: N. NI: 50, 52, 54\",IF(N7=3,\"NO: N. NI: 50, 52, 54\",\"N/A\"))))","v":"NO: N. NI: 50, 52, 54"},{"$f":"Risks!P7","v":2},{"$f":"IF(P7=0,\"N/A\",IF(P7=1,\"NO: N. NI: 50, 52, 54\", IF(P7=2,\"NO: N. NI: 50, 52, 54\",IF(P7=3,\"NO: N. NI: 50, 52, 54\",\"N/A\"))))","v":"NO: N. NI: 50, 52, 54"},{"$f":"Risks!R7","v":3},{"$f":"IF(R7=0,\"N/A\",IF(R7=1,\"NO: N. NI: 50, 52, 54\", IF(R7=2,\"NO: N. NI: 50, 52, 54\",IF(R7=3,\"NO: N. NI: 50, 52, 54\",\"N/A\"))))","v":"NO: N. NI: 50, 52, 54"},{"$f":"Risks!T7","v":0},{"$f":"IF(T7=0,\"N/A\",IF(T7=1,\"NO: N. NI: 50, 52, 54\", IF(T7=2,\"NO: N. NI: 50, 52, 54\",IF(T7=3,\"NO: N. NI: 50, 52, 54\",\"N/A\"))))","v":"N/A"},{"$f":"Risks!V7","v":0},{"$f":"IF(V7=0,\"N/A\",IF(V7=1,\"NO: N. NI: 50, 52, 54\", IF(V7=2,\"NO: N. NI: 50, 52, 54\",IF(V7=3,\"NO: N. NI: 50, 52, 54\",\"N/A\"))))","v":"N/A"},{"$f":"Risks!X7","v":0},{"$f":"IF(X7=0,\"N/A\",IF(X7=1,\"NO: N. NI: 50, 52, 54\", IF(X7=2,\"NO: N. NI: 50, 52, 54\",IF(X7=3,\"NO: N. NI: 50, 52, 54\",\"N/A\"))))","v":"N/A"},{"$f":"Risks!Z7","v":0},{"$f":"IF(Z7=0,\"N/A\",IF(Z7=1,\"NO: N. NI: 50, 52, 54\", IF(Z7=2,\"NO: N. NI: 50, 52, 54\",IF(Z7=3,\"NO: N. NI: 50, 52, 54\",\"N/A\"))))","v":"N/A"},{"$f":"Risks!AB7","v":0},{"$f":"IF(AB7=0,\"N/A\",IF(AB7=1,\"NO: N. NI: 50, 52, 54\", IF(AB7=2,\"NO: N. NI: 50, 52, 54\",IF(AB7=3,\"NO: N. NI: 50, 52, 54\",\"N/A\"))))","v":"N/A"},{"$f":"Risks!AD7","v":0},{"$f":"IF(AD7=0,\"N/A\",IF(AD7=1,\"NO: N. NI: 50, 52, 54\", IF(AD7=2,\"NO: N. NI: 50, 52, 54\",IF(AD7=3,\"NO: N. NI: 50, 52, 54\",\"N/A\"))))","v":"N/A"},{"$f":"Risks!AF7","v":0},{"$f":"IF(AF7=0,\"N/A\",IF(AF7=1,\"NO: N. NI: 50, 52, 54\", IF(AF7=2,\"NO: N. NI: 50, 52, 54\",IF(AF7=3,\"NO: N. NI: 50, 52, 54\",\"N/A\"))))","v":"N/A"},{"$f":"Risks!AH7","v":0},{"$f":"IF(AH7=0,\"N/A\",IF(AH7=1,\"NO: N. NI: 50, 52, 54\", IF(AH7=2,\"NO: N. NI: 50, 52, 54\",IF(AH7=3,\"NO: N. NI: 50, 52, 54\",\"N/A\"))))","v":"N/A"},{"$f":"Risks!AJ7","v":0},{"$f":"IF(AJ7=0,\"N/A\",IF(AJ7=1,\"NO: N. NI: 50, 52, 54\", IF(AJ7=2,\"NO: N. NI: 50, 52, 54\",IF(AJ7=3,\"NO: N. NI: 50, 52, 54\",\"N/A\"))))","v":"N/A"},{"$f":"Risks!AL7","v":0},{"$f":"IF(AL7=0,\"N/A\",IF(AL7=1,\"NO: N. NI: 50, 52, 54\", IF(AL7=2,\"NO: N. NI: 50, 52, 54\",IF(AL7=3,\"NO: N. NI: 50, 52, 54\",\"N/A\"))))","v":"N/A"},{"$f":"Risks!AN7","v":0},{"$f":"IF(AN7=0,\"N/A\",IF(AN7=1,\"NO: N. NI: 47, 49\", IF(AN7=2,\"NO: N. NI: 47, 49\",IF(AN7=3,\"NO: N. NI: 47, 49\",\"N/A\"))))","v":"N/A"},{"$f":"Risks!AP7","v":0},{"$f":"IF(AP7=0,\"N/A\",IF(AP7=1,\"NO: N. NI: 47, 49\", IF(AP7=2,\"NO: N. NI: 47, 49\",IF(AP7=3,\"NO: N. NI: 47, 49\",\"N/A\"))))","v":"N/A"},{"$f":"Risks!AR7","v":0},{"$f":"IF(AR7=0,\"N/A\",IF(AR7=1,\"NO: N. NI: 47, 49\", IF(AR7=2,\"NO: N. NI: 47, 49\",IF(AR7=3,\"NO: N. NI: 47, 49\",\"N/A\"))))","v":"N/A"},{"$f":"Risks!AT7","v":0},{"$f":"IF(AT7=0,\"N/A\",IF(AT7=1,\"NO: N. NI: 47, 49\", IF(AT7=2,\"NO: N. NI: 47, 49\",IF(AT7=3,\"NO: N. NI: 47, 49\",\"N/A\"))))","v":"N/A"},{"$f":"Risks!AV7","v":0},{"$f":"IF(AV7=0,\"N/A\",IF(AV7=1,\"NO: N. NI: 50, 52, 54\", IF(AV7=2,\"NO: N. NI: 50, 52, 54\",IF(AV7=3,\"NO: N. NI: 50, 52, 54\",\"N/A\"))))","v":"N/A"},{"$f":"Risks!AX7","v":0},{"$f":"IF(AX7=0,\"N/A\",IF(AX7=1,\"NO: N. NI: 50, 52, 54\", IF(AX7=2,\"NO: N. NI: 50, 52, 54\",IF(AX7=3,\"NO: N. NI: 50, 52, 54\",\"N/A\"))))","v":"N/A"},{"$f":"Risks!AZ7","v":0},{"$f":"IF(AZ7=0,\"N/A\",IF(AZ7=1,\"NO: N. NI: 50, 52, 54\", IF(AZ7=2,\"NO: N. NI: 50, 52, 54\",IF(AZ7=3,\"NO: N. NI: 50, 52, 54\",\"N/A\"))))","v":"N/A"},{"$f":"Risks!BB7","v":0},{"$f":"IF(BB7=0,\"N/A\",IF(BB7=1,\"NO: N. NI: 50, 52, 54\", IF(BB7=2,\"NO: N. NI: 50, 52, 54\",IF(BB7=3,\"NO: N. NI: 50, 52, 54\",\"N/A\"))))","v":"N/A"},{"$f":"Risks!BD7","v":0},{"$f":"IF(BD7=0,\"N/A\",IF(BD7=1,\"NO: N. NI: 50, 52, 54\", IF(BD7=2,\"NO: N. NI: 50, 52, 54\",IF(BD7=3,\"NO: N. NI: 50, 52, 54\",\"N/A\"))))","v":"N/A"},{"$f":"Risks!BF7","v":0},{"$f":"IF(BF7=0,\"N/A\",IF(BF7=1,\"NO: N. NI: 50, 52, 54\", IF(BF7=2,\"NO: N. NI: 50, 52, 54\",IF(BF7=3,\"NO: N. NI: 50, 52, 54\",\"N/A\"))))","v":"N/A"},{"$f":"Risks!BH7","v":0},{"$f":"IF(BH7=0,\"N/A\",IF(BH7=1,\"NO: N. NI: 50, 52, 54\", IF(BH7=2,\"NO: N. NI: 50, 52, 54\",IF(BH7=3,\"NO: N. NI: 50, 52, 54\",\"N/A\"))))","v":"N/A"},{"$f":"Risks!BJ7","v":0},{"$f":"IF(BJ7=0,\"N/A\",IF(BJ7=1,\"NO: N. NI: 50, 52, 54\", IF(BJ7=2,\"NO: N. NI: 50, 52, 54\",IF(BJ7=3,\"NO: N. NI: 50, 52, 54\",\"N/A\"))))","v":"N/A"},{"$f":"Risks!BL7","v":0},{"$f":"IF(BL7=0,\"N/A\",IF(BL7=1,\"NO: N. NI: 50, 52, 54\", IF(BL7=2,\"NO: N. NI: 50, 52, 54\",IF(BL7=3,\"NO: N. NI: 50, 52, 54\",\"N/A\"))))","v":"N/A"},{"$f":"Risks!BN7","v":0},{"$f":"IF(BN7=0,\"N/A\",IF(BN7=1,\"NO: N. NI: 47, 48, 49, 50\", IF(BN7=2,\"NO: N. NI: 47, 48, 49, 50\",IF(BN7=3,\"NO: N. NI: 47, 48, 49, 50\",\"N/A\"))))","v":"N/A"},{"$f":"Risks!BP7","v":0},{"$f":"IF(BP7=0,\"N/A\",IF(BP7=1,\"NO: N. NI: 47, 48, 49, 50\", IF(BP7=2,\"NO: N. NI: 47, 48, 49, 50\",IF(BP7=3,\"NO: N. NI: 47, 48, 49, 50\",\"N/A\"))))","v":"N/A"},{"$f":"Risks!BR7","v":0},{"$f":"IF(BR7=0,\"N/A\",IF(BR7=1,\"NO: N. NI: 47, 48, 49, 50\", IF(BR7=2,\"NO: N. NI: 47, 48, 49, 50\",IF(BR7=3,\"NO: N. NI: 47, 48, 49, 50\",\"N/A\"))))","v":"N/A"},{"$f":"Risks!BT7","v":0},{"$f":"IF(BT7=0,\"N/A\",IF(BT7=1,\"NO: N. NI: 47, 48, 49, 50\", IF(BT7=2,\"NO: N. NI: 47, 48, 49, 50\",IF(BT7=3,\"NO: N. NI: 47, 48, 49, 50\",\"N/A\"))))","v":"N/A"},{"$f":"Risks!BV7","v":0},{"$f":"IF(BV7=0,\"N/A\",IF(BV7=1,\"NO: N. NI: 47, 48, 49, 50\", IF(BV7=2,\"NO: N. NI: 47, 48, 49, 50\",IF(BV7=3,\"NO: N. NI: 47, 48, 49, 50\",\"N/A\"))))","v":"N/A"},{"$f":"Risks!BX7","v":0},{"$f":"IF(BX7=0,\"N/A\",IF(BX7=1,\"NO: N. NI: 47, 48, 49, 50\", IF(BX7=2,\"NO: N. NI: 47, 48, 49, 50\",IF(BX7=3,\"NO: N. NI: 47, 48, 49, 50\",\"N/A\"))))","v":"N/A"},{"$f":"Risks!BZ7","v":0},{"$f":"IF(BZ7=0,\"N/A\",IF(BZ7=1,\"NO: N. NI: 47, 48, 49, 50\", IF(BZ7=2,\"NO: N. NI: 47, 48, 49, 50\",IF(BZ7=3,\"NO: N. NI: 47, 48, 49, 50\",\"N/A\"))))","v":"N/A"},{"$f":"Risks!CB7","v":0},{"$f":"IF(CB7=0,\"N/A\",IF(CB7=1,\"NO: N. NI: 47, 48, 49, 50\", IF(CB7=2,\"NO: N. NI: 47, 48, 49, 50\",IF(CB7=3,\"NO: N. NI: 47, 48, 49, 50\",\"N/A\"))))","v":"N/A"},{"$f":"Risks!CD7","v":0},{"$f":"IF(CD7=0,\"N/A\",IF(CD7=1,\"NO: N. NI: 47, 48, 49, 50\", IF(CD7=2,\"NO: N. NI: 47, 48, 49, 50\",IF(CD7=3,\"NO: N. NI: 47, 48, 49, 50\",\"N/A\"))))","v":"N/A"},null,{"$f":"IssuesInput!D7","v":0},null,null,{"$f":"Risks!CJ7","v":0},{"$f":"IF(CJ7=0,\"N/A\",IF(CJ7=1,\"NO: N. NI: 47, 48, 49, 50\", IF(CJ7=2,\"NO: N. NI: 47, 48, 49, 50\",IF(CJ7=3,\"NO: N. NI: 47, 48, 49, 50\",\"N/A\"))))","v":"N/A"}]
[null,null,"Biodiversity",{"$f":"Risks!D8","v":1},{"$f":"IF(D8=0,\"N/A\",IF(D8=1,\"NO: N. NI: 48, 49, 50, 51, 52, 54\", IF(D8=2,\"NO: N. NI: 48, 49, 50, 51, 52, 54\",IF(D8=3,\"NO: N. NI: 48, 49, 50, 51, 52, 54\",\"N/A\"))))","v":"NO: N. NI: 48, 49, 50, 51, 52, 54"},{"$f":"Risks!F8","v":1},{"$f":"IF(F8=0,\"N/A\",IF(F8=1,\"NO: N. NI: 48, 49, 50, 51, 52, 54\", IF(F8=2,\"NO: N. NI: 48, 49, 50, 51, 52, 54\",IF(F8=3,\"NO: N. NI: 48, 49, 50, 51, 52, 54\",\"N/A\"))))","v":"NO: N. NI: 48, 49, 50, 51, 52, 54"},{"$f":"Risks!H8","v":1},{"$f":"IF(H8=0,\"N/A\",IF(H8=1,\"NO: N. NI: 48, 49, 50, 51, 52, 54\", IF(H8=2,\"NO: N. NI: 48, 49, 50, 51, 52, 54\",IF(H8=3,\"NO: N. NI: 48, 49, 50, 51, 52, 54\",\"N/A\"))))","v":"NO: N. NI: 48, 49, 50, 51, 52, 54"},{"$f":"Risks!J8","v":1},{"$f":"IF(J8=0,\"N/A\",IF(J8=1,\"NO: N. NI: 48, 49, 50, 51, 52, 54\", IF(J8=2,\"NO: N. NI: 48, 49, 50, 51, 52, 54\",IF(J8=3,\"NO: N. NI: 48, 49, 50, 51, 52, 54\",\"N/A\"))))","v":"NO: N. NI: 48, 49, 50, 51, 52, 54"},{"$f":"Risks!L8","v":2},{"$f":"IF(L8=0,\"N/A\",IF(L8=1,\"NO: N. NI: 48, 49, 50, 51, 52, 54\", IF(L8=2,\"NO: N. NI: 48, 49, 50, 51, 52, 54\",IF(L8=3,\"NO: N. NI: 48, 49, 50, 51, 52, 54\",\"N/A\"))))","v":"NO: N. NI: 48, 49, 50, 51, 52, 54"},{"$f":"Risks!N8","v":1},{"$f":"IF(N8=0,\"N/A\",IF(N8=1,\"NO: N. NI: 48, 49, 50, 51, 52, 54\", IF(N8=2,\"NO: N. NI: 48, 49, 50, 51, 52, 54\",IF(N8=3,\"NO: N. NI: 48, 49, 50, 51, 52, 54\",\"N/A\"))))","v":"NO: N. NI: 48, 49, 50, 51, 52, 54"},{"$f":"Risks!P8","v":1},{"$f":"IF(P8=0,\"N/A\",IF(P8=1,\"NO: N. NI: 48, 49, 50, 51, 52, 54\", IF(P8=2,\"NO: N. NI: 48, 49, 50, 51, 52, 54\",IF(P8=3,\"NO: N. NI: 48, 49, 50, 51, 52, 54\",\"N/A\"))))","v":"NO: N. NI: 48, 49, 50, 51, 52, 54"},{"$f":"Risks!R8","v":3},{"$f":"IF(R8=0,\"N/A\",IF(R8=1,\"NO: N. NI: 48, 49, 50, 51, 52, 54\", IF(R8=2,\"NO: N. NI: 48, 49, 50, 51, 52, 54\",IF(R8=3,\"NO: N. NI: 48, 49, 50, 51, 52, 54\",\"N/A\"))))","v":"NO: N. NI: 48, 49, 50, 51, 52, 54"},{"$f":"Risks!T8","v":0},{"$f":"IF(T8=0,\"N/A\",IF(T8=1,\"NO: N. NI: 48, 49, 50, 51, 52, 54\", IF(T8=2,\"NO: N. NI: 48, 49, 50, 51, 52, 54\",IF(T8=3,\"NO: N. NI: 48, 49, 50, 51, 52, 54\",\"N/A\"))))","v":"N/A"},{"$f":"Risks!V8","v":0},{"$f":"IF(V8=0,\"N/A\",IF(V8=1,\"NO: N. NI: 48, 49, 50, 51, 52, 54\", IF(V8=2,\"NO: N. NI: 48, 49, 50, 51, 52, 54\",IF(V8=3,\"NO: N. NI: 48, 49, 50, 51, 52, 54\",\"N/A\"))))","v":"N/A"},{"$f":"Risks!X8","v":0},{"$f":"IF(X8=0,\"N/A\",IF(X8=1,\"NO: N. NI: 48, 49, 50, 51, 52, 54\", IF(X8=2,\"NO: N. NI: 48, 49, 50, 51, 52, 54\",IF(X8=3,\"NO: N. NI: 48, 49, 50, 51, 52, 54\",\"N/A\"))))","v":"N/A"},{"$f":"Risks!Z8","v":0},{"$f":"IF(Z8=0,\"N/A\",IF(Z8=1,\"NO: N. NI: 48, 49, 50, 51, 52, 54\", IF(Z8=2,\"NO: N. NI: 48, 49, 50, 51, 52, 54\",IF(Z8=3,\"NO: N. NI: 48, 49, 50, 51, 52, 54\",\"N/A\"))))","v":"N/A"},{"$f":"Risks!AB8","v":0},{"$f":"IF(AB8=0,\"N/A\",IF(AB8=1,\"NO: N. NI: 48, 49, 50, 51, 52, 54\", IF(AB8=2,\"NO: N. NI: 48, 49, 50, 51, 52, 54\",IF(AB8=3,\"NO: N. NI: 48, 49, 50, 51, 52, 54\",\"N/A\"))))","v":"N/A"},{"$f":"Risks!AD8","v":0},{"$f":"IF(AD8=0,\"N/A\",IF(AD8=1,\"NO: N. NI: 48, 49, 50, 51, 52, 54\", IF(AD8=2,\"NO: N. NI: 48, 49, 50, 51, 52, 54\",IF(AD8=3,\"NO: N. NI: 48, 49, 50, 51, 52, 54\",\"N/A\"))))","v":"N/A"},{"$f":"Risks!AF8","v":0},{"$f":"IF(AF8=0,\"N/A\",IF(AF8=1,\"NO: N. NI: 48, 49, 50, 51, 52, 54\", IF(AF8=2,\"NO: N. NI: 48, 49, 50, 51, 52, 54\",IF(AF8=3,\"NO: N. NI: 48, 49, 50, 51, 52, 54\",\"N/A\"))))","v":"N/A"},{"$f":"Risks!AH8","v":0},{"$f":"IF(AH8=0,\"N/A\",IF(AH8=1,\"NO: N. NI: 48, 49, 50, 51, 52, 54\", IF(AH8=2,\"NO: N. NI: 48, 49, 50, 51, 52, 54\",IF(AH8=3,\"NO: N. NI: 48, 49, 50, 51, 52, 54\",\"N/A\"))))","v":"N/A"},{"$f":"Risks!AJ8","v":0},{"$f":"IF(AJ8=0,\"N/A\",IF(AJ8=1,\"NO: N. NI: 48, 49, 50, 51, 52, 54\", IF(AJ8=2,\"NO: N. NI: 48, 49, 50, 51, 52, 54\",IF(AJ8=3,\"NO: N. NI: 48, 49, 50, 51, 52, 54\",\"N/A\"))))","v":"N/A"},{"$f":"Risks!AL8","v":0},{"$f":"IF(AL8=0,\"N/A\",IF(AL8=1,\"NO: N. NI: 48, 49, 50, 51, 52, 54\", IF(AL8=2,\"NO: N. NI: 48, 49, 50, 51, 52, 54\",IF(AL8=3,\"NO: N. NI: 48, 49, 50, 51, 52, 54\",\"N/A\"))))","v":"N/A"},{"$f":"Risks!AN8","v":0},{"$f":"IF(AN8=0,\"N/A\",IF(AN8=1,\"NO: N. NI: 43, 44, 45, 46, 47\", IF(AN8=2,\"NO: N. NI: 43, 44, 45, 46, 47\",IF(AN8=3,\"NO: N. NI: 43, 44, 45, 46, 47\",\"N/A\"))))","v":"N/A"},{"$f":"Risks!AP8","v":0},{"$f":"IF(AP8=0,\"N/A\",IF(AP8=1,\"NO: N. NI: 43, 44, 45, 46, 47\", IF(AP8=2,\"NO: N. NI: 43, 44, 45, 46, 47\",IF(AP8=3,\"NO: N. NI: 43, 44, 45, 46, 47\",\"N/A\"))))","v":"N/A"},{"$f":"Risks!AR8","v":0},{"$f":"IF(AR8=0,\"N/A\",IF(AR8=1,\"NO: N. NI: 43, 44, 45, 46, 47\", IF(AR8=2,\"NO: N. NI: 43, 44, 45, 46, 47\",IF(AR8=3,\"NO: N. NI: 43, 44, 45, 46, 47\",\"N/A\"))))","v":"N/A"},{"$f":"Risks!AT8","v":0},{"$f":"IF(AT8=0,\"N/A\",IF(AT8=1,\"NO: N. NI: 43, 44, 45, 46, 47\", IF(AT8=2,\"NO: N. NI: 43, 44, 45, 46, 47\",IF(AT8=3,\"NO: N. NI: 43, 44, 45, 46, 47\",\"N/A\"))))","v":"N/A"},{"$f":"Risks!AV8","v":0},{"$f":"IF(AV8=0,\"N/A\",IF(AV8=1,\"NO: N. NI: 48, 49, 50, 51, 52, 54\", IF(AV8=2,\"NO: N. NI: 48, 49, 50, 51, 52, 54\",IF(AV8=3,\"NO: N. NI: 48, 49, 50, 51, 52, 54\",\"N/A\"))))","v":"N/A"},{"$f":"Risks!AX8","v":0},{"$f":"IF(AX8=0,\"N/A\",IF(AX8=1,\"NO: N. NI: 48, 49, 50, 51, 52, 54\", IF(AX8=2,\"NO: N. NI: 48, 49, 50, 51, 52, 54\",IF(AX8=3,\"NO: N. NI: 48, 49, 50, 51, 52, 54\",\"N/A\"))))","v":"N/A"},{"$f":"Risks!AZ8","v":0},{"$f":"IF(AZ8=0,\"N/A\",IF(AZ8=1,\"NO: N. NI: 48, 49, 50, 51, 52, 54\", IF(AZ8=2,\"NO: N. NI: 48, 49, 50, 51, 52, 54\",IF(AZ8=3,\"NO: N. NI: 48, 49, 50, 51, 52, 54\",\"N/A\"))))","v":"N/A"},{"$f":"Risks!BB8","v":0},{"$f":"IF(BB8=0,\"N/A\",IF(BB8=1,\"NO: N. NI: 48, 49, 50, 51, 52, 54\", IF(BB8=2,\"NO: N. NI: 48, 49, 50, 51, 52, 54\",IF(BB8=3,\"NO: N. NI: 48, 49, 50, 51, 52, 54\",\"N/A\"))))","v":"N/A"},{"$f":"Risks!BD8","v":0},{"$f":"IF(BD8=0,\"N/A\",IF(BD8=1,\"NO: N. NI: 48, 49, 50, 51, 52, 54\", IF(BD8=2,\"NO: N. NI: 48, 49, 50, 51, 52, 54\",IF(BD8=3,\"NO: N. NI: 48, 49, 50, 51, 52, 54\",\"N/A\"))))","v":"N/A"},{"$f":"Risks!BF8","v":0},{"$f":"IF(BF8=0,\"N/A\",IF(BF8=1,\"NO: N. NI: 48, 49, 50, 51, 52, 54\", IF(BF8=2,\"NO: N. NI: 48, 49, 50, 51, 52, 54\",IF(BF8=3,\"NO: N. NI: 48, 49, 50, 51, 52, 54\",\"N/A\"))))","v":"N/A"},{"$f":"Risks!BH8","v":0},{"$f":"IF(BH8=0,\"N/A\",IF(BH8=1,\"NO: N. NI: 48, 49, 50, 51, 52, 54\", IF(BH8=2,\"NO: N. NI: 48, 49, 50, 51, 52, 54\",IF(BH8=3,\"NO: N. NI: 48, 49, 50, 51, 52, 54\",\"N/A\"))))","v":"N/A"},{"$f":"Risks!BJ8","v":0},{"$f":"IF(BJ8=0,\"N/A\",IF(BJ8=1,\"NO: N. NI: 48, 49, 50, 51, 52, 54\", IF(BJ8=2,\"NO: N. NI: 48, 49, 50, 51, 52, 54\",IF(BJ8=3,\"NO: N. NI: 48, 49, 50, 51, 52, 54\",\"N/A\"))))","v":"N/A"},{"$f":"Risks!BL8","v":0},{"$f":"IF(BL8=0,\"N/A\",IF(BL8=1,\"NO: N. NI: 48, 49, 50, 51, 52, 54\", IF(BL8=2,\"NO: N. NI: 48, 49, 50, 51, 52, 54\",IF(BL8=3,\"NO: N. NI: 48, 49, 50, 51, 52, 54\",\"N/A\"))))","v":"N/A"},{"$f":"Risks!BN8","v":0},{"$f":"IF(BN8=0,\"N/A\",IF(BN8=1,\"NO: N. NI: 47, 48, 49, 50\", IF(BN8=2,\"NO: N. NI: 47, 48, 49, 50\",IF(BN8=3,\"NO: N. NI: 47, 48, 49, 50\",\"N/A\"))))","v":"N/A"},{"$f":"Risks!BP8","v":0},{"$f":"IF(BP8=0,\"N/A\",IF(BP8=1,\"NO: N. NI: 47, 48, 49, 50\", IF(BP8=2,\"NO: N. NI: 47, 48, 49, 50\",IF(BP8=3,\"NO: N. NI: 47, 48, 49, 50\",\"N/A\"))))","v":"N/A"},{"$f":"Risks!BR8","v":0},{"$f":"IF(BR8=0,\"N/A\",IF(BR8=1,\"NO: N. NI: 47, 48, 49, 50\", IF(BR8=2,\"NO: N. NI: 47, 48, 49, 50\",IF(BR8=3,\"NO: N. NI: 47, 48, 49, 50\",\"N/A\"))))","v":"N/A"},{"$f":"Risks!BT8","v":0},{"$f":"IF(BT8=0,\"N/A\",IF(BT8=1,\"NO: N. NI: 47, 48, 49, 50\", IF(BT8=2,\"NO: N. NI: 47, 48, 49, 50\",IF(BT8=3,\"NO: N. NI: 47, 48, 49, 50\",\"N/A\"))))","v":"N/A"},{"$f":"Risks!BV8","v":0},{"$f":"IF(BV8=0,\"N/A\",IF(BV8=1,\"NO: N. NI: 47, 48, 49, 50\", IF(BV8=2,\"NO: N. NI: 47, 48, 49, 50\",IF(BV8=3,\"NO: N. NI: 47, 48, 49, 50\",\"N/A\"))))","v":"N/A"},{"$f":"Risks!BX8","v":0},{"$f":"IF(BX8=0,\"N/A\",IF(BX8=1,\"NO: N. NI: 47, 48, 49, 50\", IF(BX8=2,\"NO: N. NI: 47, 48, 49, 50\",IF(BX8=3,\"NO: N. NI: 47, 48, 49, 50\",\"N/A\"))))","v":"N/A"},{"$f":"Risks!BZ8","v":0},{"$f":"IF(BZ8=0,\"N/A\",IF(BZ8=1,\"NO: N. NI: 47, 48, 49, 50\", IF(BZ8=2,\"NO: N. NI: 47, 48, 49, 50\",IF(BZ8=3,\"NO: N. NI: 47, 48, 49, 50\",\"N/A\"))))","v":"N/A"},{"$f":"Risks!CB8","v":0},{"$f":"IF(CB8=0,\"N/A\",IF(CB8=1,\"NO: N. NI: 47, 48, 49, 50\", IF(CB8=2,\"NO: N. NI: 47, 48, 49, 50\",IF(CB8=3,\"NO: N. NI: 47, 48, 49, 50\",\"N/A\"))))","v":"N/A"},{"$f":"Risks!CD8","v":0},{"$f":"IF(CD8=0,\"N/A\",IF(CD8=1,\"NO: N. NI: 47, 48, 49, 50\", IF(CD8=2,\"NO: N. NI: 47, 48, 49, 50\",IF(CD8=3,\"NO: N. NI: 47, 48, 49, 50\",\"N/A\"))))","v":"N/A"},null,{"$f":"IssuesInput!D8","v":"Biodiversity Policy (2012)"},null,null,{"$f":"Risks!CJ8","v":0},{"$f":"IF(CJ8=0,\"N/A\",IF(CJ8=1,\"NO: N. NI: 47, 48, 49, 50\", IF(CJ8=2,\"NO: N. NI: 47, 48, 49, 50\",IF(CJ8=3,\"NO: N. NI: 47, 48, 49, 50\",\"N/A\"))))","v":"N/A"}]
[null,null,"Heritage",{"$f":"Risks!D9","v":0},{"$f":"IF(D9=0,\"N/A\",IF(D9=1,\"NO: N. NI: 40, 41, 43, 44, 45, 46, 47, 48, 50\", IF(D9=2,\"NO: N. NI: 40, 41, 43, 44, 45, 46, 47, 48, 50\",IF(D9=3,\"NO: N. NI: 40, 41, 43, 44, 45, 46, 47, 48, 50\",\"N/A\"))))","v":"N/A"},{"$f":"Risks!F9","v":0},{"$f":"IF(F9=0,\"N/A\",IF(F9=1,\"NO: N. NI: 40, 41, 43, 44, 45, 46, 47, 48, 50\", IF(F9=2,\"NO: N. NI: 40, 41, 43, 44, 45, 46, 47, 48, 50\",IF(F9=3,\"NO: N. NI: 40, 41, 43, 44, 45, 46, 47, 48, 50\",\"N/A\"))))","v":"N/A"},{"$f":"Risks!H9","v":0},{"$f":"IF(H9=0,\"N/A\",IF(H9=1,\"NO: N. NI: 40, 41, 43, 44, 45, 46, 47, 48, 50\", IF(H9=2,\"NO: N. NI: 40, 41, 43, 44, 45, 46, 47, 48, 50\",IF(H9=3,\"NO: N. NI: 40, 41, 43, 44, 45, 46, 47, 48, 50\",\"N/A\"))))","v":"N/A"},{"$f":"Risks!J9","v":0},{"$f":"IF(J9=0,\"N/A\",IF(J9=1,\"NO: N. NI: 40, 41, 43, 44, 45, 46, 47, 48, 50\", IF(J9=2,\"NO: N. NI: 40, 41, 43, 44, 45, 46, 47, 48, 50\",IF(J9=3,\"NO: N. NI: 40, 41, 43, 44, 45, 46, 47, 48, 50\",\"N/A\"))))","v":"N/A"},{"$f":"Risks!L9","v":0},{"$f":"IF(L9=0,\"N/A\",IF(L9=1,\"NO: N. NI: 40, 41, 43, 44, 45, 46, 47, 48, 50\", IF(L9=2,\"NO: N. NI: 40, 41, 43, 44, 45, 46, 47, 48, 50\",IF(L9=3,\"NO: N. NI: 40, 41, 43, 44, 45, 46, 47, 48, 50\",\"N/A\"))))","v":"N/A"},{"$f":"Risks!N9","v":0},{"$f":"IF(N9=0,\"N/A\",IF(N9=1,\"NO: N. NI: 40, 41, 43, 44, 45, 46, 47, 48, 50\", IF(N9=2,\"NO: N. NI: 40, 41, 43, 44, 45, 46, 47, 48, 50\",IF(N9=3,\"NO: N. NI: 40, 41, 43, 44, 45, 46, 47, 48, 50\",\"N/A\"))))","v":"N/A"},{"$f":"Risks!P9","v":0},{"$f":"IF(P9=0,\"N/A\",IF(P9=1,\"NO: N. NI: 40, 41, 43, 44, 45, 46, 47, 48, 50\", IF(P9=2,\"NO: N. NI: 40, 41, 43, 44, 45, 46, 47, 48, 50\",IF(P9=3,\"NO: N. NI: 40, 41, 43, 44, 45, 46, 47, 48, 50\",\"N/A\"))))","v":"N/A"},{"$f":"Risks!R9","v":0},{"$f":"IF(R9=0,\"N/A\",IF(R9=1,\"NO: N. NI: 40, 41, 43, 44, 45, 46, 47, 48, 50\", IF(R9=2,\"NO: N. NI: 40, 41, 43, 44, 45, 46, 47, 48, 50\",IF(R9=3,\"NO: N. NI: 40, 41, 43, 44, 45, 46, 47, 48, 50\",\"N/A\"))))","v":"N/A"},{"$f":"Risks!T9","v":0},{"$f":"IF(T9=0,\"N/A\",IF(T9=1,\"NO: N. NI: 40, 41, 43, 44, 45, 46, 47, 48, 50\", IF(T9=2,\"NO: N. NI: 40, 41, 43, 44, 45, 46, 47, 48, 50\",IF(T9=3,\"NO: N. NI: 40, 41, 43, 44, 45, 46, 47, 48, 50\",\"N/A\"))))","v":"N/A"},{"$f":"Risks!V9","v":0},{"$f":"IF(V9=0,\"N/A\",IF(V9=1,\"NO: N. NI: 40, 41, 43, 44, 45, 46, 47, 48, 50\", IF(V9=2,\"NO: N. NI: 40, 41, 43, 44, 45, 46, 47, 48, 50\",IF(V9=3,\"NO: N. NI: 40, 41, 43, 44, 45, 46, 47, 48, 50\",\"N/A\"))))","v":"N/A"},{"$f":"Risks!X9","v":0},{"$f":"IF(X9=0,\"N/A\",IF(X9=1,\"NO: N. NI: 40, 41, 43, 44, 45, 46, 47, 48, 50\", IF(X9=2,\"NO: N. NI: 40, 41, 43, 44, 45, 46, 47, 48, 50\",IF(X9=3,\"NO: N. NI: 40, 41, 43, 44, 45, 46, 47, 48, 50\",\"N/A\"))))","v":"N/A"},{"$f":"Risks!Z9","v":0},{"$f":"IF(Z9=0,\"N/A\",IF(Z9=1,\"NO: N. NI: 40, 41, 43, 44, 45, 46, 47, 48, 50\", IF(Z9=2,\"NO: N. NI: 40, 41, 43, 44, 45, 46, 47, 48, 50\",IF(Z9=3,\"NO: N. NI: 40, 41, 43, 44, 45, 46, 47, 48, 50\",\"N/A\"))))","v":"N/A"},{"$f":"Risks!AB9","v":0},{"$f":"IF(AB9=0,\"N/A\",IF(AB9=1,\"NO: N. NI: 40, 41, 43, 44, 45, 46, 47, 48, 50\", IF(AB9=2,\"NO: N. NI: 40, 41, 43, 44, 45, 46, 47, 48, 50\",IF(AB9=3,\"NO: N. NI: 40, 41, 43, 44, 45, 46, 47, 48, 50\",\"N/A\"))))","v":"N/A"},{"$f":"Risks!AD9","v":0},{"$f":"IF(AD9=0,\"N/A\",IF(AD9=1,\"NO: N. NI: 40, 41, 43, 44, 45, 46, 47, 48, 50\", IF(AD9=2,\"NO: N. NI: 40, 41, 43, 44, 45, 46, 47, 48, 50\",IF(AD9=3,\"NO: N. NI: 40, 41, 43, 44, 45, 46, 47, 48, 50\",\"N/A\"))))","v":"N/A"},{"$f":"Risks!AF9","v":0},{"$f":"IF(AF9=0,\"N/A\",IF(AF9=1,\"NO: N. NI: 40, 41, 43, 44, 45, 46, 47, 48, 50\", IF(AF9=2,\"NO: N. NI: 40, 41, 43, 44, 45, 46, 47, 48, 50\",IF(AF9=3,\"NO: N. NI: 40, 41, 43, 44, 45, 46, 47, 48, 50\",\"N/A\"))))","v":"N/A"},{"$f":"Risks!AH9","v":0},{"$f":"IF(AH9=0,\"N/A\",IF(AH9=1,\"NO: N. NI: 40, 41, 43, 44, 45, 46, 47, 48, 50\", IF(AH9=2,\"NO: N. NI: 40, 41, 43, 44, 45, 46, 47, 48, 50\",IF(AH9=3,\"NO: N. NI: 40, 41, 43, 44, 45, 46, 47, 48, 50\",\"N/A\"))))","v":"N/A"},{"$f":"Risks!AJ9","v":0},{"$f":"IF(AJ9=0,\"N/A\",IF(AJ9=1,\"NO: N. NI: 40, 41, 43, 44, 45, 46, 47, 48, 50\", IF(AJ9=2,\"NO: N. NI: 40, 41, 43, 44, 45, 46, 47, 48, 50\",IF(AJ9=3,\"NO: N. NI: 40, 41, 43, 44, 45, 46, 47, 48, 50\",\"N/A\"))))","v":"N/A"},{"$f":"Risks!AL9","v":0},{"$f":"IF(AL9=0,\"N/A\",IF(AL9=1,\"NO: N. NI: 40, 41, 43, 44, 45, 46, 47, 48, 50\", IF(AL9=2,\"NO: N. NI: 40, 41, 43, 44, 45, 46, 47, 48, 50\",IF(AL9=3,\"NO: N. NI: 40, 41, 43, 44, 45, 46, 47, 48, 50\",\"N/A\"))))","v":"N/A"},{"$f":"Risks!AN9","v":0},{"$f":"IF(AN9=0,\"N/A\",IF(AN9=1,\"NO: N. NI: 42, 43, 44, 46\", IF(AN9=2,\"NO: N. NI: 42, 43, 44, 46\",IF(AN9=3,\"NO: N. NI: 42, 43, 44, 46\",\"N/A\"))))","v":"N/A"},{"$f":"Risks!AP9","v":0},{"$f":"IF(AP9=0,\"N/A\",IF(AP9=1,\"NO: N. NI: 42, 43, 44, 46\", IF(AP9=2,\"NO: N. NI: 42, 43, 44, 46\",IF(AP9=3,\"NO: N. NI: 42, 43, 44, 46\",\"N/A\"))))","v":"N/A"},{"$f":"Risks!AR9","v":0},{"$f":"IF(AR9=0,\"N/A\",IF(AR9=1,\"NO: N. NI: 42, 43, 44, 46\", IF(AR9=2,\"NO: N. NI: 42, 43, 44, 46\",IF(AR9=3,\"NO: N. NI: 42, 43, 44, 46\",\"N/A\"))))","v":"N/A"},{"$f":"Risks!AT9","v":0},{"$f":"IF(AT9=0,\"N/A\",IF(AT9=1,\"NO: N. NI: 42, 43, 44, 46\", IF(AT9=2,\"NO: N. NI: 42, 43, 44, 46\",IF(AT9=3,\"NO: N. NI: 42, 43, 44, 46\",\"N/A\"))))","v":"N/A"},{"$f":"Risks!AV9","v":0},{"$f":"IF(AV9=0,\"N/A\",IF(AV9=1,\"NO: N. NI: 40, 41, 43, 44, 45, 46, 47, 48, 50\", IF(AV9=2,\"NO: N. NI: 40, 41, 43, 44, 45, 46, 47, 48, 50\",IF(AV9=3,\"NO: N. NI: 40, 41, 43, 44, 45, 46, 47, 48, 50\",\"N/A\"))))","v":"N/A"},{"$f":"Risks!AX9","v":0},{"$f":"IF(AX9=0,\"N/A\",IF(AX9=1,\"NO: N. NI: 40, 41, 43, 44, 45, 46, 47, 48, 50\", IF(AX9=2,\"NO: N. NI: 40, 41, 43, 44, 45, 46, 47, 48, 50\",IF(AX9=3,\"NO: N. NI: 40, 41, 43, 44, 45, 46, 47, 48, 50\",\"N/A\"))))","v":"N/A"},{"$f":"Risks!AZ9","v":0},{"$f":"IF(AZ9=0,\"N/A\",IF(AZ9=1,\"NO: N. NI: 40, 41, 43, 44, 45, 46, 47, 48, 50\", IF(AZ9=2,\"NO: N. NI: 40, 41, 43, 44, 45, 46, 47, 48, 50\",IF(AZ9=3,\"NO: N. NI: 40, 41, 43, 44, 45, 46, 47, 48, 50\",\"N/A\"))))","v":"N/A"},{"$f":"Risks!BB9","v":0},{"$f":"IF(BB9=0,\"N/A\",IF(BB9=1,\"NO: N. NI: 40, 41, 43, 44, 45, 46, 47, 48, 50\", IF(BB9=2,\"NO: N. NI: 40, 41, 43, 44, 45, 46, 47, 48, 50\",IF(BB9=3,\"NO: N. NI: 40, 41, 43, 44, 45, 46, 47, 48, 50\",\"N/A\"))))","v":"N/A"},{"$f":"Risks!BD9","v":0},{"$f":"IF(BD9=0,\"N/A\",IF(BD9=1,\"NO: N. NI: 40, 41, 43, 44, 45, 46, 47, 48, 50\", IF(BD9=2,\"NO: N. NI: 40, 41, 43, 44, 45, 46, 47, 48, 50\",IF(BD9=3,\"NO: N. NI: 40, 41, 43, 44, 45, 46, 47, 48, 50\",\"N/A\"))))","v":"N/A"},{"$f":"Risks!BF9","v":0},{"$f":"IF(BF9=0,\"N/A\",IF(BF9=1,\"NO: N. NI: 40, 41, 43, 44, 45, 46, 47, 48, 50\", IF(BF9=2,\"NO: N. NI: 40, 41, 43, 44, 45, 46, 47, 48, 50\",IF(BF9=3,\"NO: N. NI: 40, 41, 43, 44, 45, 46, 47, 48, 50\",\"N/A\"))))","v":"N/A"},{"$f":"Risks!BH9","v":0},{"$f":"IF(BH9=0,\"N/A\",IF(BH9=1,\"NO: N. NI: 40, 41, 43, 44, 45, 46, 47, 48, 50\", IF(BH9=2,\"NO: N. NI: 40, 41, 43, 44, 45, 46, 47, 48, 50\",IF(BH9=3,\"NO: N. NI: 40, 41, 43, 44, 45, 46, 47, 48, 50\",\"N/A\"))))","v":"N/A"},{"$f":"Risks!BJ9","v":0},{"$f":"IF(BJ9=0,\"N/A\",IF(BJ9=1,\"NO: N. NI: 40, 41, 43, 44, 45, 46, 47, 48, 50\", IF(BJ9=2,\"NO: N. NI: 40, 41, 43, 44, 45, 46, 47, 48, 50\",IF(BJ9=3,\"NO: N. NI: 40, 41, 43, 44, 45, 46, 47, 48, 50\",\"N/A\"))))","v":"N/A"},{"$f":"Risks!BL9","v":0},{"$f":"IF(BL9=0,\"N/A\",IF(BL9=1,\"NO: N. NI: 40, 41, 43, 44, 45, 46, 47, 48, 50\", IF(BL9=2,\"NO: N. NI: 40, 41, 43, 44, 45, 46, 47, 48, 50\",IF(BL9=3,\"NO: N. NI: 40, 41, 43, 44, 45, 46, 47, 48, 50\",\"N/A\"))))","v":"N/A"},{"$f":"Risks!BN9","v":0},{"$f":"IF(BN9=0,\"N/A\",IF(BN9=1,\"NO: N. NI: 47, 48, 49, 50\", IF(BN9=2,\"NO: N. NI: 47, 48, 49, 50\",IF(BN9=3,\"NO: N. NI: 47, 48, 49, 50\",\"N/A\"))))","v":"N/A"},{"$f":"Risks!BP9","v":0},{"$f":"IF(BP9=0,\"N/A\",IF(BP9=1,\"NO: N. NI: 47, 48, 49, 50\", IF(BP9=2,\"NO: N. NI: 47, 48, 49, 50\",IF(BP9=3,\"NO: N. NI: 47, 48, 49, 50\",\"N/A\"))))","v":"N/A"},{"$f":"Risks!BR9","v":0},{"$f":"IF(BR9=0,\"N/A\",IF(BR9=1,\"NO: N. NI: 47, 48, 49, 50\", IF(BR9=2,\"NO: N. NI: 47, 48, 49, 50\",IF(BR9=3,\"NO: N. NI: 47, 48, 49, 50\",\"N/A\"))))","v":"N/A"},{"$f":"Risks!BT9","v":0},{"$f":"IF(BT9=0,\"N/A\",IF(BT9=1,\"NO: N. NI: 47, 48, 49, 50\", IF(BT9=2,\"NO: N. NI: 47, 48, 49, 50\",IF(BT9=3,\"NO: N. NI: 47, 48, 49, 50\",\"N/A\"))))","v":"N/A"},{"$f":"Risks!BV9","v":0},{"$f":"IF(BV9=0,\"N/A\",IF(BV9=1,\"NO: N. NI: 47, 48, 49, 50\", IF(BV9=2,\"NO: N. NI: 47, 48, 49, 50\",IF(BV9=3,\"NO: N. NI: 47, 48, 49, 50\",\"N/A\"))))","v":"N/A"},{"$f":"Risks!BX9","v":0},{"$f":"IF(BX9=0,\"N/A\",IF(BX9=1,\"NO: N. NI: 47, 48, 49, 50\", IF(BX9=2,\"NO: N. NI: 47, 48, 49, 50\",IF(BX9=3,\"NO: N. NI: 47, 48, 49, 50\",\"N/A\"))))","v":"N/A"},{"$f":"Risks!BZ9","v":0},{"$f":"IF(BZ9=0,\"N/A\",IF(BZ9=1,\"NO: N. NI: 47, 48, 49, 50\", IF(BZ9=2,\"NO: N. NI: 47, 48, 49, 50\",IF(BZ9=3,\"NO: N. NI: 47, 48, 49, 50\",\"N/A\"))))","v":"N/A"},{"$f":"Risks!CB9","v":0},{"$f":"IF(CB9=0,\"N/A\",IF(CB9=1,\"NO: N. NI: 47, 48, 49, 50\", IF(CB9=2,\"NO: N. NI: 47, 48, 49, 50\",IF(CB9=3,\"NO: N. NI: 47, 48, 49, 50\",\"N/A\"))))","v":"N/A"},{"$f":"Risks!CD9","v":0},{"$f":"IF(CD9=0,\"N/A\",IF(CD9=1,\"NO: N. NI: 47, 48, 49, 50\", IF(CD9=2,\"NO: N. NI: 47, 48, 49, 50\",IF(CD9=3,\"NO: N. NI: 47, 48, 49, 50\",\"N/A\"))))","v":"N/A"},null,{"$f":"IssuesInput!D9","v":0},null,null,{"$f":"Risks!CJ9","v":0},{"$f":"IF(CJ9=0,\"N/A\",IF(CJ9=1,\"NO: N. NI: 47, 48, 49, 50\", IF(CJ9=2,\"NO: N. NI: 47, 48, 49, 50\",IF(CJ9=3,\"NO: N. NI: 47, 48, 49, 50\",\"N/A\"))))","v":"N/A"}]
[null,null,"Water",{"$f":"Risks!D10","v":1},{"$f":"IF(D10=0,\"N/A\",IF(D10=1,\"NO: N. NI: 52, 54\", IF(D10=2,\"NO: N. NI: 52, 54\",IF(D10=3,\"NO: N. NI: 52, 54\",\"N/A\"))))","v":"NO: N. NI: 52, 54"},{"$f":"Risks!F10","v":1},{"$f":"IF(F10=0,\"N/A\",IF(F10=1,\"NO: N. NI: 52, 54\", IF(F10=2,\"NO: N. NI: 52, 54\",IF(F10=3,\"NO: N. NI: 52, 54\",\"N/A\"))))","v":"NO: N. NI: 52, 54"},{"$f":"Risks!H10","v":1},{"$f":"IF(H10=0,\"N/A\",IF(H10=1,\"NO: N. NI: 52, 54\", IF(H10=2,\"NO: N. NI: 52, 54\",IF(H10=3,\"NO: N. NI: 52, 54\",\"N/A\"))))","v":"NO: N. NI: 52, 54"},{"$f":"Risks!J10","v":1},{"$f":"IF(J10=0,\"N/A\",IF(J10=1,\"NO: N. NI: 52, 54\", IF(J10=2,\"NO: N. NI: 52, 54\",IF(J10=3,\"NO: N. NI: 52, 54\",\"N/A\"))))","v":"NO: N. NI: 52, 54"},{"$f":"Risks!L10","v":2},{"$f":"IF(L10=0,\"N/A\",IF(L10=1,\"NO: N. NI: 52, 54\", IF(L10=2,\"NO: N. NI: 52, 54\",IF(L10=3,\"NO: N. NI: 52, 54\",\"N/A\"))))","v":"NO: N. NI: 52, 54"},{"$f":"Risks!N10","v":2},{"$f":"IF(N10=0,\"N/A\",IF(N10=1,\"NO: N. NI: 52, 54\", IF(N10=2,\"NO: N. NI: 52, 54\",IF(N10=3,\"NO: N. NI: 52, 54\",\"N/A\"))))","v":"NO: N. NI: 52, 54"},{"$f":"Risks!P10","v":2},{"$f":"IF(P10=0,\"N/A\",IF(P10=1,\"NO: N. NI: 52, 54\", IF(P10=2,\"NO: N. NI: 52, 54\",IF(P10=3,\"NO: N. NI: 52, 54\",\"N/A\"))))","v":"NO: N. NI: 52, 54"},{"$f":"Risks!R10","v":3},{"$f":"IF(R10=0,\"N/A\",IF(R10=1,\"NO: N. NI: 52, 54\", IF(R10=2,\"NO: N. NI: 52, 54\",IF(R10=3,\"NO: N. NI: 52, 54\",\"N/A\"))))","v":"NO: N. NI: 52, 54"},{"$f":"Risks!T10","v":0},{"$f":"IF(T10=0,\"N/A\",IF(T10=1,\"NO: N. NI: 52, 54\", IF(T10=2,\"NO: N. NI: 52, 54\",IF(T10=3,\"NO: N. NI: 52, 54\",\"N/A\"))))","v":"N/A"},{"$f":"Risks!V10","v":0},{"$f":"IF(V10=0,\"N/A\",IF(V10=1,\"NO: N. NI: 52, 54\", IF(V10=2,\"NO: N. NI: 52, 54\",IF(V10=3,\"NO: N. NI: 52, 54\",\"N/A\"))))","v":"N/A"},{"$f":"Risks!X10","v":0},{"$f":"IF(X10=0,\"N/A\",IF(X10=1,\"NO: N. NI: 52, 54\", IF(X10=2,\"NO: N. NI: 52, 54\",IF(X10=3,\"NO: N. NI: 52, 54\",\"N/A\"))))","v":"N/A"},{"$f":"Risks!Z10","v":0},{"$f":"IF(Z10=0,\"N/A\",IF(Z10=1,\"NO: N. NI: 52, 54\", IF(Z10=2,\"NO: N. NI: 52, 54\",IF(Z10=3,\"NO: N. NI: 52, 54\",\"N/A\"))))","v":"N/A"},{"$f":"Risks!AB10","v":0},{"$f":"IF(AB10=0,\"N/A\",IF(AB10=1,\"NO: N. NI: 52, 54\", IF(AB10=2,\"NO: N. NI: 52, 54\",IF(AB10=3,\"NO: N. NI: 52, 54\",\"N/A\"))))","v":"N/A"},{"$f":"Risks!AD10","v":0},{"$f":"IF(AD10=0,\"N/A\",IF(AD10=1,\"NO: N. NI: 52, 54\", IF(AD10=2,\"NO: N. NI: 52, 54\",IF(AD10=3,\"NO: N. NI: 52, 54\",\"N/A\"))))","v":"N/A"},{"$f":"Risks!AF10","v":0},{"$f":"IF(AF10=0,\"N/A\",IF(AF10=1,\"NO: N. NI: 52, 54\", IF(AF10=2,\"NO: N. NI: 52, 54\",IF(AF10=3,\"NO: N. NI: 52, 54\",\"N/A\"))))","v":"N/A"},{"$f":"Risks!AH10","v":0},{"$f":"IF(AH10=0,\"N/A\",IF(AH10=1,\"NO: N. NI: 52, 54\", IF(AH10=2,\"NO: N. NI: 52, 54\",IF(AH10=3,\"NO: N. NI: 52, 54\",\"N/A\"))))","v":"N/A"},{"$f":"Risks!AJ10","v":0},{"$f":"IF(AJ10=0,\"N/A\",IF(AJ10=1,\"NO: N. NI: 52, 54\", IF(AJ10=2,\"NO: N. NI: 52, 54\",IF(AJ10=3,\"NO: N. NI: 52, 54\",\"N/A\"))))","v":"N/A"},{"$f":"Risks!AL10","v":0},{"$f":"IF(AL10=0,\"N/A\",IF(AL10=1,\"NO: N. NI: 52, 54\", IF(AL10=2,\"NO: N. NI: 52, 54\",IF(AL10=3,\"NO: N. NI: 52, 54\",\"N/A\"))))","v":"N/A"},{"$f":"Risks!AN10","v":0},{"$f":"IF(AN10=0,\"N/A\",IF(AN10=1,\"NO: N. NI: 47, 49\", IF(AN10=2,\"NO: N. NI: 47, 49\",IF(AN10=3,\"NO: N. NI: 47, 49\",\"N/A\"))))","v":"N/A"},{"$f":"Risks!AP10","v":0},{"$f":"IF(AP10=0,\"N/A\",IF(AP10=1,\"NO: N. NI: 47, 49\", IF(AP10=2,\"NO: N. NI: 47, 49\",IF(AP10=3,\"NO: N. NI: 47, 49\",\"N/A\"))))","v":"N/A"},{"$f":"Risks!AR10","v":0},{"$f":"IF(AR10=0,\"N/A\",IF(AR10=1,\"NO: N. NI: 47, 49\", IF(AR10=2,\"NO: N. NI: 47, 49\",IF(AR10=3,\"NO: N. NI: 47, 49\",\"N/A\"))))","v":"N/A"},{"$f":"Risks!AT10","v":0},{"$f":"IF(AT10=0,\"N/A\",IF(AT10=1,\"NO: N. NI: 47, 49\", IF(AT10=2,\"NO: N. NI: 47, 49\",IF(AT10=3,\"NO: N. NI: 47, 49\",\"N/A\"))))","v":"N/A"},{"$f":"Risks!AV10","v":0},{"$f":"IF(AV10=0,\"N/A\",IF(AV10=1,\"NO: N. NI: 52, 54\", IF(AV10=2,\"NO: N. NI: 52, 54\",IF(AV10=3,\"NO: N. NI: 52, 54\",\"N/A\"))))","v":"N/A"},{"$f":"Risks!AX10","v":0},{"$f":"IF(AX10=0,\"N/A\",IF(AX10=1,\"NO: N. NI: 52, 54\", IF(AX10=2,\"NO: N. NI: 52, 54\",IF(AX10=3,\"NO: N. NI: 52, 54\",\"N/A\"))))","v":"N/A"},{"$f":"Risks!AZ10","v":0},{"$f":"IF(AZ10=0,\"N/A\",IF(AZ10=1,\"NO: N. NI: 52, 54\", IF(AZ10=2,\"NO: N. NI: 52, 54\",IF(AZ10=3,\"NO: N. NI: 52, 54\",\"N/A\"))))","v":"N/A"},{"$f":"Risks!BB10","v":0},{"$f":"IF(BB10=0,\"N/A\",IF(BB10=1,\"NO: N. NI: 52, 54\", IF(BB10=2,\"NO: N. NI: 52, 54\",IF(BB10=3,\"NO: N. NI: 52, 54\",\"N/A\"))))","v":"N/A"},{"$f":"Risks!BD10","v":0},{"$f":"IF(BD10=0,\"N/A\",IF(BD10=1,\"NO: N. NI: 52, 54\", IF(BD10=2,\"NO: N. NI: 52, 54\",IF(BD10=3,\"NO: N. NI: 52, 54\",\"N/A\"))))","v":"N/A"},{"$f":"Risks!BF10","v":0},{"$f":"IF(BF10=0,\"N/A\",IF(BF10=1,\"NO: N. NI: 52, 54\", IF(BF10=2,\"NO: N. NI: 52, 54\",IF(BF10=3,\"NO: N. NI: 52, 54\",\"N/A\"))))","v":"N/A"},{"$f":"Risks!BH10","v":0},{"$f":"IF(BH10=0,\"N/A\",IF(BH10=1,\"NO: N. NI: 52, 54\", IF(BH10=2,\"NO: N. NI: 52, 54\",IF(BH10=3,\"NO: N. NI: 52, 54\",\"N/A\"))))","v":"N/A"},{"$f":"Risks!BJ10","v":0},{"$f":"IF(BJ10=0,\"N/A\",IF(BJ10=1,\"NO: N. NI: 52, 54\", IF(BJ10=2,\"NO: N. NI: 52, 54\",IF(BJ10=3,\"NO: N. NI: 52, 54\",\"N/A\"))))","v":"N/A"},{"$f":"Risks!BL10","v":0},{"$f":"IF(BL10=0,\"N/A\",IF(BL10=1,\"NO: N. NI: 52, 54\", IF(BL10=2,\"NO: N. NI: 52, 54\",IF(BL10=3,\"NO: N. NI: 52, 54\",\"N/A\"))))","v":"N/A"},{"$f":"Risks!BN10","v":0},{"$f":"IF(BN10=0,\"N/A\",IF(BN10=1,\"NO: N. NI: 47, 48, 49, 50\", IF(BN10=2,\"NO: N. NI: 47, 48, 49, 50\",IF(BN10=3,\"NO: N. NI: 47, 48, 49, 50\",\"N/A\"))))","v":"N/A"},{"$f":"Risks!BP10","v":0},{"$f":"IF(BP10=0,\"N/A\",IF(BP10=1,\"NO: N. NI: 47, 48, 49, 50\", IF(BP10=2,\"NO: N. NI: 47, 48, 49, 50\",IF(BP10=3,\"NO: N. NI: 47, 48, 49, 50\",\"N/A\"))))","v":"N/A"},{"$f":"Risks!BR10","v":0},{"$f":"IF(BR10=0,\"N/A\",IF(BR10=1,\"NO: N. NI: 47, 48, 49, 50\", IF(BR10=2,\"NO: N. NI: 47, 48, 49, 50\",IF(BR10=3,\"NO: N. NI: 47, 48, 49, 50\",\"N/A\"))))","v":"N/A"},{"$f":"Risks!BT10","v":0},{"$f":"IF(BT10=0,\"N/A\",IF(BT10=1,\"NO: N. NI: 47, 48, 49, 50\", IF(BT10=2,\"NO: N. NI: 47, 48, 49, 50\",IF(BT10=3,\"NO: N. NI: 47, 48, 49, 50\",\"N/A\"))))","v":"N/A"},{"$f":"Risks!BV10","v":0},{"$f":"IF(BV10=0,\"N/A\",IF(BV10=1,\"NO: N. NI: 47, 48, 49, 50\", IF(BV10=2,\"NO: N. NI: 47, 48, 49, 50\",IF(BV10=3,\"NO: N. NI: 47, 48, 49, 50\",\"N/A\"))))","v":"N/A"},{"$f":"Risks!BX10","v":0},{"$f":"IF(BX10=0,\"N/A\",IF(BX10=1,\"NO: N. NI: 47, 48, 49, 50\", IF(BX10=2,\"NO: N. NI: 47, 48, 49, 50\",IF(BX10=3,\"NO: N. NI: 47, 48, 49, 50\",\"N/A\"))))","v":"N/A"},{"$f":"Risks!BZ10","v":0},{"$f":"IF(BZ10=0,\"N/A\",IF(BZ10=1,\"NO: N. NI: 47, 48, 49, 50\", IF(BZ10=2,\"NO: N. NI: 47, 48, 49, 50\",IF(BZ10=3,\"NO: N. NI: 47, 48, 49, 50\",\"N/A\"))))","v":"N/A"},{"$f":"Risks!CB10","v":0},{"$f":"IF(CB10=0,\"N/A\",IF(CB10=1,\"NO: N. NI: 47, 48, 49, 50\", IF(CB10=2,\"NO: N. NI: 47, 48, 49, 50\",IF(CB10=3,\"NO: N. NI: 47, 48, 49, 50\",\"N/A\"))))","v":"N/A"},{"$f":"Risks!CD10","v":0},{"$f":"IF(CD10=0,\"N/A\",IF(CD10=1,\"NO: N. NI: 47, 48, 49, 50\", IF(CD10=2,\"NO: N. NI: 47, 48, 49, 50\",IF(CD10=3,\"NO: N. NI: 47, 48, 49, 50\",\"N/A\"))))","v":"N/A"},null,{"$f":"IssuesInput!D10","v":"Drinking Water Policy (2009); "},null,null,{"$f":"Risks!CJ10","v":0},{"$f":"IF(CJ10=0,\"N/A\",IF(CJ10=1,\"NO: N. NI: 47, 48, 49, 50\", IF(CJ10=2,\"NO: N. NI: 47, 48, 49, 50\",IF(CJ10=3,\"NO: N. NI: 47, 48, 49, 50\",\"N/A\"))))","v":"N/A"}]
[null,null,{"$f":"IF(EnvIssues=\"\",\"\",EnvIssues)","v":""},{"$f":"Risks!D11","v":0},{"$f":"IF(D11=0,\"Please refer to NPF for relevant National Outcomes and Indicators.\",IF(D11=1,\"Please refer to NPF for relevant National Outcomes and Indicators.\", IF(D11=2,\"Please refer to NPF for relevant National Outcomes and Indicators.\",IF(D11=3,\"Please refer to NPF for relevant National Outcomes and Indicators.\",\"Please refer to NPF for relevant National Outcomes and Indicators.\"))))","v":"Please refer to NPF for relevant National Outcomes and Indicators."},{"$f":"Risks!F11","v":0},{"$f":"IF(F11=0,\"Please refer to NPF for relevant National Outcomes and Indicators.\",IF(F11=1,\"Please refer to NPF for relevant National Outcomes and Indicators.\", IF(F11=2,\"Please refer to NPF for relevant National Outcomes and Indicators.\",IF(F11=3,\"Please refer to NPF for relevant National Outcomes and Indicators.\",\"Please refer to NPF for relevant National Outcomes and Indicators.\"))))","v":"Please refer to NPF for relevant National Outcomes and Indicators."},{"$f":"Risks!H11","v":0},{"$f":"IF(H11=0,\"Please refer to NPF for relevant National Outcomes and Indicators.\",IF(H11=1,\"Please refer to NPF for relevant National Outcomes and Indicators.\", IF(H11=2,\"Please refer to NPF for relevant National Outcomes and Indicators.\",IF(H11=3,\"Please refer to NPF for relevant National Outcomes and Indicators.\",\"Please refer to NPF for relevant National Outcomes and Indicators.\"))))","v":"Please refer to NPF for relevant National Outcomes and Indicators."},{"$f":"Risks!J11","v":0},{"$f":"IF(J11=0,\"Please refer to NPF for relevant National Outcomes and Indicators.\",IF(J11=1,\"Please refer to NPF for relevant National Outcomes and Indicators.\", IF(J11=2,\"Please refer to NPF for relevant National Outcomes and Indicators.\",IF(J11=3,\"Please refer to NPF for relevant National Outcomes and Indicators.\",\"Please refer to NPF for relevant National Outcomes and Indicators.\"))))","v":"Please refer to NPF for relevant National Outcomes and Indicators."},{"$f":"Risks!L11","v":0},{"$f":"IF(L11=0,\"Please refer to NPF for relevant National Outcomes and Indicators.\",IF(L11=1,\"Please refer to NPF for relevant National Outcomes and Indicators.\", IF(L11=2,\"Please refer to NPF for relevant National Outcomes and Indicators.\",IF(L11=3,\"Please refer to NPF for relevant National Outcomes and Indicators.\",\"Please refer to NPF for relevant National Outcomes and Indicators.\"))))","v":"Please refer to NPF for relevant National Outcomes and Indicators."},{"$f":"Risks!N11","v":0},{"$f":"IF(N11=0,\"Please refer to NPF for relevant National Outcomes and Indicators.\",IF(N11=1,\"Please refer to NPF for relevant National Outcomes and Indicators.\", IF(N11=2,\"Please refer to NPF for relevant National Outcomes and Indicators.\",IF(N11=3,\"Please refer to NPF for relevant National Outcomes and Indicators.\",\"Please refer to NPF for relevant National Outcomes and Indicators.\"))))","v":"Please refer to NPF for relevant National Outcomes and Indicators."},{"$f":"Risks!P11","v":0},{"$f":"IF(P11=0,\"Please refer to NPF for relevant National Outcomes and Indicators.\",IF(P11=1,\"Please refer to NPF for relevant National Outcomes and Indicators.\", IF(P11=2,\"Please refer to NPF for relevant National Outcomes and Indicators.\",IF(P11=3,\"Please refer to NPF for relevant National Outcomes and Indicators.\",\"Please refer to NPF for relevant National Outcomes and Indicators.\"))))","v":"Please refer to NPF for relevant National Outcomes and Indicators."},{"$f":"Risks!R11","v":0},{"$f":"IF(R11=0,\"Please refer to NPF for relevant National Outcomes and Indicators.\",IF(R11=1,\"Please refer to NPF for relevant National Outcomes and Indicators.\", IF(R11=2,\"Please refer to NPF for relevant National Outcomes and Indicators.\",IF(R11=3,\"Please refer to NPF for relevant National Outcomes and Indicators.\",\"Please refer to NPF for relevant National Outcomes and Indicators.\"))))","v":"Please refer to NPF for relevant National Outcomes and Indicators."},{"$f":"Risks!T11","v":0},{"$f":"IF(T11=0,\"Please refer to NPF for relevant National Outcomes and Indicators.\",IF(T11=1,\"Please refer to NPF for relevant National Outcomes and Indicators.\", IF(T11=2,\"Please refer to NPF for relevant National Outcomes and Indicators.\",IF(T11=3,\"Please refer to NPF for relevant National Outcomes and Indicators.\",\"Please refer to NPF for relevant National Outcomes and Indicators.\"))))","v":"Please refer to NPF for relevant National Outcomes and Indicators."},{"$f":"Risks!V11","v":0},{"$f":"IF(V11=0,\"Please refer to NPF for relevant National Outcomes and Indicators.\",IF(V11=1,\"Please refer to NPF for relevant National Outcomes and Indicators.\", IF(V11=2,\"Please refer to NPF for relevant National Outcomes and Indicators.\",IF(V11=3,\"Please refer to NPF for relevant National Outcomes and Indicators.\",\"Please refer to NPF for relevant National Outcomes and Indicators.\"))))","v":"Please refer to NPF for relevant National Outcomes and Indicators."},{"$f":"Risks!X11","v":0},{"$f":"IF(X11=0,\"Please refer to NPF for relevant National Outcomes and Indicators.\",IF(X11=1,\"Please refer to NPF for relevant National Outcomes and Indicators.\", IF(X11=2,\"Please refer to NPF for relevant National Outcomes and Indicators.\",IF(X11=3,\"Please refer to NPF for relevant National Outcomes and Indicators.\",\"Please refer to NPF for relevant National Outcomes and Indicators.\"))))","v":"Please refer to NPF for relevant National Outcomes and Indicators."},{"$f":"Risks!Z11","v":0},{"$f":"IF(Z11=0,\"Please refer to NPF for relevant National Outcomes and Indicators.\",IF(Z11=1,\"Please refer to NPF for relevant National Outcomes and Indicators.\", IF(Z11=2,\"Please refer to NPF for relevant National Outcomes and Indicators.\",IF(Z11=3,\"Please refer to NPF for relevant National Outcomes and Indicators.\",\"Please refer to NPF for relevant National Outcomes and Indicators.\"))))","v":"Please refer to NPF for relevant National Outcomes and Indicators."},{"$f":"Risks!AB11","v":0},{"$f":"IF(AB11=0,\"Please refer to NPF for relevant National Outcomes and Indicators.\",IF(AB11=1,\"Please refer to NPF for relevant National Outcomes and Indicators.\", IF(AB11=2,\"Please refer to NPF for relevant National Outcomes and Indicators.\",IF(AB11=3,\"Please refer to NPF for relevant National Outcomes and Indicators.\",\"Please refer to NPF for relevant National Outcomes and Indicators.\"))))","v":"Please refer to NPF for relevant National Outcomes and Indicators."},{"$f":"Risks!AD11","v":0},{"$f":"IF(AD11=0,\"Please refer to NPF for relevant National Outcomes and Indicators.\",IF(AD11=1,\"Please refer to NPF for relevant National Outcomes and Indicators.\", IF(AD11=2,\"Please refer to NPF for relevant National Outcomes and Indicators.\",IF(AD11=3,\"Please refer to NPF for relevant National Outcomes and Indicators.\",\"Please refer to NPF for relevant National Outcomes and Indicators.\"))))","v":"Please refer to NPF for relevant National Outcomes and Indicators."},{"$f":"Risks!AF11","v":0},{"$f":"IF(AF11=0,\"Please refer to NPF for relevant National Outcomes and Indicators.\",IF(AF11=1,\"Please refer to NPF for relevant National Outcomes and Indicators.\", IF(AF11=2,\"Please refer to NPF for relevant National Outcomes and Indicators.\",IF(AF11=3,\"Please refer to NPF for relevant National Outcomes and Indicators.\",\"Please refer to NPF for relevant National Outcomes and Indicators.\"))))","v":"Please refer to NPF for relevant National Outcomes and Indicators."},{"$f":"Risks!AH11","v":0},{"$f":"IF(AH11=0,\"Please refer to NPF for relevant National Outcomes and Indicators.\",IF(AH11=1,\"Please refer to NPF for relevant National Outcomes and Indicators.\", IF(AH11=2,\"Please refer to NPF for relevant National Outcomes and Indicators.\",IF(AH11=3,\"Please refer to NPF for relevant National Outcomes and Indicators.\",\"Please refer to NPF for relevant National Outcomes and Indicators.\"))))","v":"Please refer to NPF for relevant National Outcomes and Indicators."},{"$f":"Risks!AJ11","v":0},{"$f":"IF(AJ11=0,\"Please refer to NPF for relevant National Outcomes and Indicators.\",IF(AJ11=1,\"Please refer to NPF for relevant National Outcomes and Indicators.\", IF(AJ11=2,\"Please refer to NPF for relevant National Outcomes and Indicators.\",IF(AJ11=3,\"Please refer to NPF for relevant National Outcomes and Indicators.\",\"Please refer to NPF for relevant National Outcomes and Indicators.\"))))","v":"Please refer to NPF for relevant National Outcomes and Indicators."},{"$f":"Risks!AL11","v":0},{"$f":"IF(AL11=0,\"Please refer to NPF for relevant National Outcomes and Indicators.\",IF(AL11=1,\"Please refer to NPF for relevant National Outcomes and Indicators.\", IF(AL11=2,\"Please refer to NPF for relevant National Outcomes and Indicators.\",IF(AL11=3,\"Please refer to NPF for relevant National Outcomes and Indicators.\",\"Please refer to NPF for relevant National Outcomes and Indicators.\"))))","v":"Please refer to NPF for relevant National Outcomes and Indicators."},{"$f":"Risks!AN11","v":0},{"$f":"IF(AN11=0,\"Please refer to NPF for relevant National Outcomes and Indicators.\",IF(AN11=1,\"Please refer to NPF for relevant National Outcomes and Indicators.\", IF(AN11=2,\"Please refer to NPF for relevant National Outcomes and Indicators.\",IF(AN11=3,\"Please refer to NPF for relevant National Outcomes and Indicators.\",\"Please refer to NPF for relevant National Outcomes and Indicators.\"))))","v":"Please refer to NPF for relevant National Outcomes and Indicators."},{"$f":"Risks!AP11","v":0},{"$f":"IF(AP11=0,\"Please refer to NPF for relevant National Outcomes and Indicators.\",IF(AP11=1,\"Please refer to NPF for relevant National Outcomes and Indicators.\", IF(AP11=2,\"Please refer to NPF for relevant National Outcomes and Indicators.\",IF(AP11=3,\"Please refer to NPF for relevant National Outcomes and Indicators.\",\"Please refer to NPF for relevant National Outcomes and Indicators.\"))))","v":"Please refer to NPF for relevant National Outcomes and Indicators."},{"$f":"Risks!AR11","v":0},{"$f":"IF(AR11=0,\"Please refer to NPF for relevant National Outcomes and Indicators.\",IF(AR11=1,\"Please refer to NPF for relevant National Outcomes and Indicators.\", IF(AR11=2,\"Please refer to NPF for relevant National Outcomes and Indicators.\",IF(AR11=3,\"Please refer to NPF for relevant National Outcomes and Indicators.\",\"Please refer to NPF for relevant National Outcomes and Indicators.\"))))","v":"Please refer to NPF for relevant National Outcomes and Indicators."},{"$f":"Risks!AT11","v":0},{"$f":"IF(AT11=0,\"Please refer to NPF for relevant National Outcomes and Indicators.\",IF(AT11=1,\"Please refer to NPF for relevant National Outcomes and Indicators.\", IF(AT11=2,\"Please refer to NPF for relevant National Outcomes and Indicators.\",IF(AT11=3,\"Please refer to NPF for relevant National Outcomes and Indicators.\",\"Please refer to NPF for relevant National Outcomes and Indicators.\"))))","v":"Please refer to NPF for relevant National Outcomes and Indicators."},{"$f":"Risks!AV11","v":0},{"$f":"IF(AV11=0,\"Please refer to NPF for relevant National Outcomes and Indicators.\",IF(AV11=1,\"Please refer to NPF for relevant National Outcomes and Indicators.\", IF(AV11=2,\"Please refer to NPF for relevant National Outcomes and Indicators.\",IF(AV11=3,\"Please refer to NPF for relevant National Outcomes and Indicators.\",\"Please refer to NPF for relevant National Outcomes and Indicators.\"))))","v":"Please refer to NPF for relevant National Outcomes and Indicators."},{"$f":"Risks!AX11","v":0},{"$f":"IF(AX11=0,\"Please refer to NPF for relevant National Outcomes and Indicators.\",IF(AX11=1,\"Please refer to NPF for relevant National Outcomes and Indicators.\", IF(AX11=2,\"Please refer to NPF for relevant National Outcomes and Indicators.\",IF(AX11=3,\"Please refer to NPF for relevant National Outcomes and Indicators.\",\"Please refer to NPF for relevant National Outcomes and Indicators.\"))))","v":"Please refer to NPF for relevant National Outcomes and Indicators."},{"$f":"Risks!AZ11","v":0},{"$f":"IF(AZ11=0,\"Please refer to NPF for relevant National Outcomes and Indicators.\",IF(AZ11=1,\"Please refer to NPF for relevant National Outcomes and Indicators.\", IF(AZ11=2,\"Please refer to NPF for relevant National Outcomes and Indicators.\",IF(AZ11=3,\"Please refer to NPF for relevant National Outcomes and Indicators.\",\"Please refer to NPF for relevant National Outcomes and Indicators.\"))))","v":"Please refer to NPF for relevant National Outcomes and Indicators."},{"$f":"Risks!BB11","v":0},{"$f":"IF(BB11=0,\"Please refer to NPF for relevant National Outcomes and Indicators.\",IF(BB11=1,\"Please refer to NPF for relevant National Outcomes and Indicators.\", IF(BB11=2,\"Please refer to NPF for relevant National Outcomes and Indicators.\",IF(BB11=3,\"Please refer to NPF for relevant National Outcomes and Indicators.\",\"Please refer to NPF for relevant National Outcomes and Indicators.\"))))","v":"Please refer to NPF for relevant National Outcomes and Indicators."},{"$f":"Risks!BD11","v":0},{"$f":"IF(BD11=0,\"Please refer to NPF for relevant National Outcomes and Indicators.\",IF(BD11=1,\"Please refer to NPF for relevant National Outcomes and Indicators.\", IF(BD11=2,\"Please refer to NPF for relevant National Outcomes and Indicators.\",IF(BD11=3,\"Please refer to NPF for relevant National Outcomes and Indicators.\",\"Please refer to NPF for relevant National Outcomes and Indicators.\"))))","v":"Please refer to NPF for relevant National Outcomes and Indicators."},{"$f":"Risks!BF11","v":0},{"$f":"IF(BF11=0,\"Please refer to NPF for relevant National Outcomes and Indicators.\",IF(BF11=1,\"Please refer to NPF for relevant National Outcomes and Indicators.\", IF(BF11=2,\"Please refer to NPF for relevant National Outcomes and Indicators.\",IF(BF11=3,\"Please refer to NPF for relevant National Outcomes and Indicators.\",\"Please refer to NPF for relevant National Outcomes and Indicators.\"))))","v":"Please refer to NPF for relevant National Outcomes and Indicators."},{"$f":"Risks!BH11","v":0},{"$f":"IF(BH11=0,\"Please refer to NPF for relevant National Outcomes and Indicators.\",IF(BH11=1,\"Please refer to NPF for relevant National Outcomes and Indicators.\", IF(BH11=2,\"Please refer to NPF for relevant National Outcomes and Indicators.\",IF(BH11=3,\"Please refer to NPF for relevant National Outcomes and Indicators.\",\"Please refer to NPF for relevant National Outcomes and Indicators.\"))))","v":"Please refer to NPF for relevant National Outcomes and Indicators."},{"$f":"Risks!BJ11","v":0},{"$f":"IF(BJ11=0,\"Please refer to NPF for relevant National Outcomes and Indicators.\",IF(BJ11=1,\"Please refer to NPF for relevant National Outcomes and Indicators.\", IF(BJ11=2,\"Please refer to NPF for relevant National Outcomes and Indicators.\",IF(BJ11=3,\"Please refer to NPF for relevant National Outcomes and Indicators.\",\"Please refer to NPF for relevant National Outcomes and Indicators.\"))))","v":"Please refer to NPF for relevant National Outcomes and Indicators."},{"$f":"Risks!BL11","v":0},{"$f":"IF(BL11=0,\"Please refer to NPF for relevant National Outcomes and Indicators.\",IF(BL11=1,\"Please refer to NPF for relevant National Outcomes and Indicators.\", IF(BL11=2,\"Please refer to NPF for relevant National Outcomes and Indicators.\",IF(BL11=3,\"Please refer to NPF for relevant National Outcomes and Indicators.\",\"Please refer to NPF for relevant National Outcomes and Indicators.\"))))","v":"Please refer to NPF for relevant National Outcomes and Indicators."},{"$f":"Risks!BN11","v":0},{"$f":"IF(BN11=0,\"Please refer to NPF for relevant National Outcomes and Indicators.\",IF(BN11=1,\"Please refer to NPF for relevant National Outcomes and Indicators.\", IF(BN11=2,\"Please refer to NPF for relevant National Outcomes and Indicators.\",IF(BN11=3,\"Please refer to NPF for relevant National Outcomes and Indicators.\",\"Please refer to NPF for relevant National Outcomes and Indicators.\"))))","v":"Please refer to NPF for relevant National Outcomes and Indicators."},{"$f":"Risks!BP11","v":0},{"$f":"IF(BP11=0,\"Please refer to NPF for relevant National Outcomes and Indicators.\",IF(BP11=1,\"Please refer to NPF for relevant National Outcomes and Indicators.\", IF(BP11=2,\"Please refer to NPF for relevant National Outcomes and Indicators.\",IF(BP11=3,\"Please refer to NPF for relevant National Outcomes and Indicators.\",\"Please refer to NPF for relevant National Outcomes and Indicators.\"))))","v":"Please refer to NPF for relevant National Outcomes and Indicators."},{"$f":"Risks!BR11","v":0},{"$f":"IF(BR11=0,\"Please refer to NPF for relevant National Outcomes and Indicators.\",IF(BR11=1,\"Please refer to NPF for relevant National Outcomes and Indicators.\", IF(BR11=2,\"Please refer to NPF for relevant National Outcomes and Indicators.\",IF(BR11=3,\"Please refer to NPF for relevant National Outcomes and Indicators.\",\"Please refer to NPF for relevant National Outcomes and Indicators.\"))))","v":"Please refer to NPF for relevant National Outcomes and Indicators."},{"$f":"Risks!BT11","v":0},{"$f":"IF(BT11=0,\"Please refer to NPF for relevant National Outcomes and Indicators.\",IF(BT11=1,\"Please refer to NPF for relevant National Outcomes and Indicators.\", IF(BT11=2,\"Please refer to NPF for relevant National Outcomes and Indicators.\",IF(BT11=3,\"Please refer to NPF for relevant National Outcomes and Indicators.\",\"Please refer to NPF for relevant National Outcomes and Indicators.\"))))","v":"Please refer to NPF for relevant National Outcomes and Indicators."},{"$f":"Risks!BV11","v":0},{"$f":"IF(BV11=0,\"Please refer to NPF for relevant National Outcomes and Indicators.\",IF(BV11=1,\"Please refer to NPF for relevant National Outcomes and Indicators.\", IF(BV11=2,\"Please refer to NPF for relevant National Outcomes and Indicators.\",IF(BV11=3,\"Please refer to NPF for relevant National Outcomes and Indicators.\",\"Please refer to NPF for relevant National Outcomes and Indicators.\"))))","v":"Please refer to NPF for relevant National Outcomes and Indicators."},{"$f":"Risks!BX11","v":0},{"$f":"IF(BX11=0,\"Please refer to NPF for relevant National Outcomes and Indicators.\",IF(BX11=1,\"Please refer to NPF for relevant National Outcomes and Indicators.\", IF(BX11=2,\"Please refer to NPF for relevant National Outcomes and Indicators.\",IF(BX11=3,\"Please refer to NPF for relevant National Outcomes and Indicators.\",\"Please refer to NPF for relevant National Outcomes and Indicators.\"))))","v":"Please refer to NPF for relevant National Outcomes and Indicators."},{"$f":"Risks!BZ11","v":0},{"$f":"IF(BZ11=0,\"Please refer to NPF for relevant National Outcomes and Indicators.\",IF(BZ11=1,\"Please refer to NPF for relevant National Outcomes and Indicators.\", IF(BZ11=2,\"Please refer to NPF for relevant National Outcomes and Indicators.\",IF(BZ11=3,\"Please refer to NPF for relevant National Outcomes and Indicators.\",\"Please refer to NPF for relevant National Outcomes and Indicators.\"))))","v":"Please refer to NPF for relevant National Outcomes and Indicators."},{"$f":"Risks!CB11","v":0},{"$f":"IF(CB11=0,\"Please refer to NPF for relevant National Outcomes and Indicators.\",IF(CB11=1,\"Please refer to NPF for relevant National Outcomes and Indicators.\", IF(CB11=2,\"Please refer to NPF for relevant National Outcomes and Indicators.\",IF(CB11=3,\"Please refer to NPF for relevant National Outcomes and Indicators.\",\"Please refer to NPF for relevant National Outcomes and Indicators.\"))))","v":"Please refer to NPF for relevant National Outcomes and Indicators."},{"$f":"Risks!CD11","v":0},{"$f":"IF(CD11=0,\"Please refer to NPF for relevant National Outcomes and Indicators.\",IF(CD11=1,\"Please refer to NPF for relevant National Outcomes and Indicators.\", IF(CD11=2,\"Please refer to NPF for relevant National Outcomes and Indicators.\",IF(CD11=3,\"Please refer to NPF for relevant National Outcomes and Indicators.\",\"Please refer to NPF for relevant National Outcomes and Indicators.\"))))","v":"Please refer to NPF for relevant National Outcomes and Indicators."},null,null,null,null,{"$f":"Risks!CJ11","v":0},{"$f":"IF(CJ11=0,\"Please refer to NPF for relevant National Outcomes and Indicators.\",IF(CJ11=1,\"Please refer to NPF for relevant National Outcomes and Indicators.\", IF(CJ11=2,\"Please refer to NPF for relevant National Outcomes and Indicators.\",IF(CJ11=3,\"Please refer to NPF for relevant National Outcomes and Indicators.\",\"Please refer to NPF for relevant National Outcomes and Indicators.\"))))","v":"Please refer to NPF for relevant National Outcomes and Indicators."}]
[null,null,"",{"$f":"Risks!D12","v":0},"Please refer to NPF for relevant National Outcomes and Indicators.",{"$f":"Risks!F12","v":0},"Please refer to NPF for relevant National Outcomes and Indicators.",{"$f":"Risks!H12","v":0},"Please refer to NPF for relevant National Outcomes and Indicators.",{"$f":"Risks!J12","v":0},"Please refer to NPF for relevant National Outcomes and Indicators.",{"$f":"Risks!L12","v":0},"Please refer to NPF for relevant National Outcomes and Indicators.",{"$f":"Risks!N12","v":0},"Please refer to NPF for relevant National Outcomes and Indicators.",{"$f":"Risks!P12","v":0},"Please refer to NPF for relevant National Outcomes and Indicators.",{"$f":"Risks!R12","v":0},"Please refer to NPF for relevant National Outcomes and Indicators.",{"$f":"Risks!T12","v":0},"Please refer to NPF for relevant National Outcomes and Indicators.",{"$f":"Risks!V12","v":0},"Please refer to NPF for relevant National Outcomes and Indicators.",{"$f":"Risks!X12","v":0},"Please refer to NPF for relevant National Outcomes and Indicators.",{"$f":"Risks!Z12","v":0},"Please refer to NPF for relevant National Outcomes and Indicators.",{"$f":"Risks!AB12","v":0},"Please refer to NPF for relevant National Outcomes and Indicators.",{"$f":"Risks!AD12","v":0},"Please refer to NPF for relevant National Outcomes and Indicators.",{"$f":"Risks!AF12","v":0},"Please refer to NPF for relevant National Outcomes and Indicators.",{"$f":"Risks!AH12","v":0},"Please refer to NPF for relevant National Outcomes and Indicators.",{"$f":"Risks!AJ12","v":0},"Please refer to NPF for relevant National Outcomes and Indicators.",{"$f":"Risks!AL12","v":0},"Please refer to NPF for relevant National Outcomes and Indicators.",{"$f":"Risks!AN12","v":0},"Please refer to NPF for relevant National Outcomes and Indicators.",{"$f":"Risks!AP12","v":0},"Please refer to NPF for relevant National Outcomes and Indicators.",{"$f":"Risks!AR12","v":0},"Please refer to NPF for relevant National Outcomes and Indicators.",{"$f":"Risks!AT12","v":0},"Please refer to NPF for relevant National Outcomes and Indicators.",{"$f":"Risks!AV12","v":0},"Please refer to NPF for relevant National Outcomes and Indicators.",{"$f":"Risks!AX12","v":0},"Please refer to NPF for relevant National Outcomes and Indicators.",{"$f":"Risks!AZ12","v":0},"Please refer to NPF for relevant National Outcomes and Indicators.",{"$f":"Risks!BB12","v":0},"Please refer to NPF for relevant National Outcomes and Indicators.",{"$f":"Risks!BD12","v":0},"Please refer to NPF for relevant National Outcomes and Indicators.",{"$f":"Risks!BF12","v":0},"Please refer to NPF for relevant National Outcomes and Indicators.",{"$f":"Risks!BH12","v":0},"Please refer to NPF for relevant National Outcomes and Indicators.",{"$f":"Risks!BJ12","v":0},"Please refer to NPF for relevant National Outcomes and Indicators.",{"$f":"Risks!BL12","v":0},"Please refer to NPF for relevant National Outcomes and Indicators.",{"$f":"Risks!BN12","v":0},"Please refer to NPF for relevant National Outcomes and Indicators.",{"$f":"Risks!BP12","v":0},"Please refer to NPF for relevant National Outcomes and Indicators.",{"$f":"Risks!BR12","v":0},"Please refer to NPF for relevant National Outcomes and Indicators.",{"$f":"Risks!BT12","v":0},"Please refer to NPF for relevant National Outcomes and Indicators.",{"$f":"Risks!BV12","v":0},"Please refer to NPF for relevant National Outcomes and Indicators.",{"$f":"Risks!BX12","v":0},"Please refer to NPF for relevant National Outcomes and Indicators.",{"$f":"Risks!BZ12","v":0},"Please refer to NPF for relevant National Outcomes and Indicators.",{"$f":"Risks!CB12","v":0},"Please refer to NPF for relevant National Outcomes and Indicators.",{"$f":"Risks!CD12","v":0},"Please refer to NPF for relevant National Outcomes and Indicators.",null,null,null,null,{"$f":"Risks!CJ12","v":0},"Please refer to NPF for relevant National Outcomes and Indicators."]
[null,null,"",{"$f":"Risks!D13","v":0},"Please refer to NPF for relevant National Outcomes and Indicators.",{"$f":"Risks!F13","v":0},"Please refer to NPF for relevant National Outcomes and Indicators.",{"$f":"Risks!H13","v":0},"Please refer to NPF for relevant National Outcomes and Indicators.",{"$f":"Risks!J13","v":0},"Please refer to NPF for relevant National Outcomes and Indicators.",{"$f":"Risks!L13","v":0},"Please refer to NPF for relevant National Outcomes and Indicators.",{"$f":"Risks!N13","v":0},"Please refer to NPF for relevant National Outcomes and Indicators.",{"$f":"Risks!P13","v":0},"Please refer to NPF for relevant National Outcomes and Indicators.",{"$f":"Risks!R13","v":0},"Please refer to NPF for relevant National Outcomes and Indicators.",{"$f":"Risks!T13","v":0},"Please refer to NPF for relevant National Outcomes and Indicators.",{"$f":"Risks!V13","v":0},"Please refer to NPF for relevant National Outcomes and Indicators.",{"$f":"Risks!X13","v":0},"Please refer to NPF for relevant National Outcomes and Indicators.",{"$f":"Risks!Z13","v":0},"Please refer to NPF for relevant National Outcomes and Indicators.",{"$f":"Risks!AB13","v":0},"Please refer to NPF for relevant National Outcomes and Indicators.",{"$f":"Risks!AD13","v":0},"Please refer to NPF for relevant National Outcomes and Indicators.",{"$f":"Risks!AF13","v":0},"Please refer to NPF for relevant National Outcomes and Indicators.",{"$f":"Risks!AH13","v":0},"Please refer to NPF for relevant National Outcomes and Indicators.",{"$f":"Risks!AJ13","v":0},"Please refer to NPF for relevant National Outcomes and Indicators.",{"$f":"Risks!AL13","v":0},"Please refer to NPF for relevant National Outcomes and Indicators.",{"$f":"Risks!AN13","v":0},"Please refer to NPF for relevant National Outcomes and Indicators.",{"$f":"Risks!AP13","v":0},"Please refer to NPF for relevant National Outcomes and Indicators.",{"$f":"Risks!AR13","v":0},"Please refer to NPF for relevant National Outcomes and Indicators.",{"$f":"Risks!AT13","v":0},"Please refer to NPF for relevant National Outcomes and Indicators.",{"$f":"Risks!AV13","v":0},"Please refer to NPF for relevant National Outcomes and Indicators.",{"$f":"Risks!AX13","v":0},"Please refer to NPF for relevant National Outcomes and Indicators.",{"$f":"Risks!AZ13","v":0},"Please refer to NPF for relevant National Outcomes and Indicators.",{"$f":"Risks!BB13","v":0},"Please refer to NPF for relevant National Outcomes and Indicators.",{"$f":"Risks!BD13","v":0},"Please refer to NPF for relevant National Outcomes and Indicators.",{"$f":"Risks!BF13","v":0},"Please refer to NPF for relevant National Outcomes and Indicators.",{"$f":"Risks!BH13","v":0},"Please refer to NPF for relevant National Outcomes and Indicators.",{"$f":"Risks!BJ13","v":0},"Please refer to NPF for relevant National Outcomes and Indicators.",{"$f":"Risks!BL13","v":0},"Please refer to NPF for relevant National Outcomes and Indicators.",{"$f":"Risks!BN13","v":0},"Please refer to NPF for relevant National Outcomes and Indicators.",{"$f":"Risks!BP13","v":0},"Please refer to NPF for relevant National Outcomes and Indicators.",{"$f":"Risks!BR13","v":0},"Please refer to NPF for relevant National Outcomes and Indicators.",{"$f":"Risks!BT13","v":0},"Please refer to NPF for relevant National Outcomes and Indicators.",{"$f":"Risks!BV13","v":0},"Please refer to NPF for relevant National Outcomes and Indicators.",{"$f":"Risks!BX13","v":0},"Please refer to NPF for relevant National Outcomes and Indicators.",{"$f":"Risks!BZ13","v":0},"Please refer to NPF for relevant National Outcomes and Indicators.",{"$f":"Risks!CB13","v":0},"Please refer to NPF for relevant National Outcomes and Indicators.",{"$f":"Risks!CD13","v":0},"Please refer to NPF for relevant National Outcomes and Indicators.",null,null,null,null,{"$f":"Risks!CJ13","v":0},"Please refer to NPF for relevant National Outcomes and Indicators."]
[null,null,"",{"$f":"Risks!D14","v":0},"Please refer to NPF for relevant National Outcomes and Indicators.",{"$f":"Risks!F14","v":0},"Please refer to NPF for relevant National Outcomes and Indicators.",{"$f":"Risks!H14","v":0},"Please refer to NPF for relevant National Outcomes and Indicators.",{"$f":"Risks!J14","v":0},"Please refer to NPF for relevant National Outcomes and Indicators.",{"$f":"Risks!L14","v":0},"Please refer to NPF for relevant National Outcomes and Indicators.",{"$f":"Risks!N14","v":0},"Please refer to NPF for relevant National Outcomes and Indicators.",{"$f":"Risks!P14","v":0},"Please refer to NPF for relevant National Outcomes and Indicators.",{"$f":"Risks!R14","v":0},"Please refer to NPF for relevant National Outcomes and Indicators.",{"$f":"Risks!T14","v":0},"Please refer to NPF for relevant National Outcomes and Indicators.",{"$f":"Risks!V14","v":0},"Please refer to NPF for relevant National Outcomes and Indicators.",{"$f":"Risks!X14","v":0},"Please refer to NPF for relevant National Outcomes and Indicators.",{"$f":"Risks!Z14","v":0},"Please refer to NPF for relevant National Outcomes and Indicators.",{"$f":"Risks!AB14","v":0},"Please refer to NPF for relevant National Outcomes and Indicators.",{"$f":"Risks!AD14","v":0},"Please refer to NPF for relevant National Outcomes and Indicators.",{"$f":"Risks!AF14","v":0},"Please refer to NPF for relevant National Outcomes and Indicators.",{"$f":"Risks!AH14","v":0},"Please refer to NPF for relevant National Outcomes and Indicators.",{"$f":"Risks!AJ14","v":0},"Please refer to NPF for relevant National Outcomes and Indicators.",{"$f":"Risks!AL14","v":0},"Please refer to NPF for relevant National Outcomes and Indicators.",{"$f":"Risks!AN14","v":0},"Please refer to NPF for relevant National Outcomes and Indicators.",{"$f":"Risks!AP14","v":0},"Please refer to NPF for relevant National Outcomes and Indicators.",{"$f":"Risks!AR14","v":0},"Please refer to NPF for relevant National Outcomes and Indicators.",{"$f":"Risks!AT14","v":0},"Please refer to NPF for relevant National Outcomes and Indicators.",{"$f":"Risks!AV14","v":0},"Please refer to NPF for relevant National Outcomes and Indicators.",{"$f":"Risks!AX14","v":0},"Please refer to NPF for relevant National Outcomes and Indicators.",{"$f":"Risks!AZ14","v":0},"Please refer to NPF for relevant National Outcomes and Indicators.",{"$f":"Risks!BB14","v":0},"Please refer to NPF for relevant National Outcomes and Indicators.",{"$f":"Risks!BD14","v":0},"Please refer to NPF for relevant National Outcomes and Indicators.",{"$f":"Risks!BF14","v":0},"Please refer to NPF for relevant National Outcomes and Indicators.",{"$f":"Risks!BH14","v":0},"Please refer to NPF for relevant National Outcomes and Indicators.",{"$f":"Risks!BJ14","v":0},"Please refer to NPF for relevant National Outcomes and Indicators.",{"$f":"Risks!BL14","v":0},"Please refer to NPF for relevant National Outcomes and Indicators.",{"$f":"Risks!BN14","v":0},"Please refer to NPF for relevant National Outcomes and Indicators.",{"$f":"Risks!BP14","v":0},"Please refer to NPF for relevant National Outcomes and Indicators.",{"$f":"Risks!BR14","v":0},"Please refer to NPF for relevant National Outcomes and Indicators.",{"$f":"Risks!BT14","v":0},"Please refer to NPF for relevant National Outcomes and Indicators.",{"$f":"Risks!BV14","v":0},"Please refer to NPF for relevant National Outcomes and Indicators.",{"$f":"Risks!BX14","v":0},"Please refer to NPF for relevant National Outcomes and Indicators.",{"$f":"Risks!BZ14","v":0},"Please refer to NPF for relevant National Outcomes and Indicators.",{"$f":"Risks!CB14","v":0},"Please refer to NPF for relevant National Outcomes and Indicators.",{"$f":"Risks!CD14","v":0},"Please refer to NPF for relevant National Outcomes and Indicators.",null,null,null,null,{"$f":"Risks!CJ14","v":0},"Please refer to NPF for relevant National Outcomes and Indicators."]
[null,null,"",{"$f":"Risks!D15","v":0},"Please refer to NPF for relevant National Outcomes and Indicators.",{"$f":"Risks!F15","v":0},"Please refer to NPF for relevant National Outcomes and Indicators.",{"$f":"Risks!H15","v":0},"Please refer to NPF for relevant National Outcomes and Indicators.",{"$f":"Risks!J15","v":0},"Please refer to NPF for relevant National Outcomes and Indicators.",{"$f":"Risks!L15","v":0},"Please refer to NPF for relevant National Outcomes and Indicators.",{"$f":"Risks!N15","v":0},"Please refer to NPF for relevant National Outcomes and Indicators.",{"$f":"Risks!P15","v":0},"Please refer to NPF for relevant National Outcomes and Indicators.",{"$f":"Risks!R15","v":0},"Please refer to NPF for relevant National Outcomes and Indicators.",{"$f":"Risks!T15","v":0},"Please refer to NPF for relevant National Outcomes and Indicators.",{"$f":"Risks!V15","v":0},"Please refer to NPF for relevant National Outcomes and Indicators.",{"$f":"Risks!X15","v":0},"Please refer to NPF for relevant National Outcomes and Indicators.",{"$f":"Risks!Z15","v":0},"Please refer to NPF for relevant National Outcomes and Indicators.",{"$f":"Risks!AB15","v":0},"Please refer to NPF for relevant National Outcomes and Indicators.",{"$f":"Risks!AD15","v":0},"Please refer to NPF for relevant National Outcomes and Indicators.",{"$f":"Risks!AF15","v":0},"Please refer to NPF for relevant National Outcomes and Indicators.",{"$f":"Risks!AH15","v":0},"Please refer to NPF for relevant National Outcomes and Indicators.",{"$f":"Risks!AJ15","v":0},"Please refer to NPF for relevant National Outcomes and Indicators.",{"$f":"Risks!AL15","v":0},"Please refer to NPF for relevant National Outcomes and Indicators.",{"$f":"Risks!AN15","v":0},"Please refer to NPF for relevant National Outcomes and Indicators.",{"$f":"Risks!AP15","v":0},"Please refer to NPF for relevant National Outcomes and Indicators.",{"$f":"Risks!AR15","v":0},"Please refer to NPF for relevant National Outcomes and Indicators.",{"$f":"Risks!AT15","v":0},"Please refer to NPF for relevant National Outcomes and Indicators.",{"$f":"Risks!AV15","v":0},"Please refer to NPF for relevant National Outcomes and Indicators.",{"$f":"Risks!AX15","v":0},"Please refer to NPF for relevant National Outcomes and Indicators.",{"$f":"Risks!AZ15","v":0},"Please refer to NPF for relevant National Outcomes and Indicators.",{"$f":"Risks!BB15","v":0},"Please refer to NPF for relevant National Outcomes and Indicators.",{"$f":"Risks!BD15","v":0},"Please refer to NPF for relevant National Outcomes and Indicators.",{"$f":"Risks!BF15","v":0},"Please refer to NPF for relevant National Outcomes and Indicators.",{"$f":"Risks!BH15","v":0},"Please refer to NPF for relevant National Outcomes and Indicators.",{"$f":"Risks!BJ15","v":0},"Please refer to NPF for relevant National Outcomes and Indicators.",{"$f":"Risks!BL15","v":0},"Please refer to NPF for relevant National Outcomes and Indicators.",{"$f":"Risks!BN15","v":0},"Please refer to NPF for relevant National Outcomes and Indicators.",{"$f":"Risks!BP15","v":0},"Please refer to NPF for relevant National Outcomes and Indicators.",{"$f":"Risks!BR15","v":0},"Please refer to NPF for relevant National Outcomes and Indicators.",{"$f":"Risks!BT15","v":0},"Please refer to NPF for relevant National Outcomes and Indicators.",{"$f":"Risks!BV15","v":0},"Please refer to NPF for relevant National Outcomes and Indicators.",{"$f":"Risks!BX15","v":0},"Please refer to NPF for relevant National Outcomes and Indicators.",{"$f":"Risks!BZ15","v":0},"Please refer to NPF for relevant National Outcomes and Indicators.",{"$f":"Risks!CB15","v":0},"Please refer to NPF for relevant National Outcomes and Indicators.",{"$f":"Risks!CD15","v":0},"Please refer to NPF for relevant National Outcomes and Indicators.",null,null,null,null,{"$f":"Risks!CJ15","v":0},"Please refer to NPF for relevant National Outcomes and Indicators."]
[null,null,"",{"$f":"Risks!D16","v":0},"Please refer to NPF for relevant National Outcomes and Indicators.",{"$f":"Risks!F16","v":0},"Please refer to NPF for relevant National Outcomes and Indicators.",{"$f":"Risks!H16","v":0},"Please refer to NPF for relevant National Outcomes and Indicators.",{"$f":"Risks!J16","v":0},"Please refer to NPF for relevant National Outcomes and Indicators.",{"$f":"Risks!L16","v":0},"Please refer to NPF for relevant National Outcomes and Indicators.",{"$f":"Risks!N16","v":0},"Please refer to NPF for relevant National Outcomes and Indicators.",{"$f":"Risks!P16","v":0},"Please refer to NPF for relevant National Outcomes and Indicators.",{"$f":"Risks!R16","v":0},"Please refer to NPF for relevant National Outcomes and Indicators.",{"$f":"Risks!T16","v":0},"Please refer to NPF for relevant National Outcomes and Indicators.",{"$f":"Risks!V16","v":0},"Please refer to NPF for relevant National Outcomes and Indicators.",{"$f":"Risks!X16","v":0},"Please refer to NPF for relevant National Outcomes and Indicators.",{"$f":"Risks!Z16","v":0},"Please refer to NPF for relevant National Outcomes and Indicators.",{"$f":"Risks!AB16","v":0},"Please refer to NPF for relevant National Outcomes and Indicators.",{"$f":"Risks!AD16","v":0},"Please refer to NPF for relevant National Outcomes and Indicators.",{"$f":"Risks!AF16","v":0},"Please refer to NPF for relevant National Outcomes and Indicators.",{"$f":"Risks!AH16","v":0},"Please refer to NPF for relevant National Outcomes and Indicators.",{"$f":"Risks!AJ16","v":0},"Please refer to NPF for relevant National Outcomes and Indicators.",{"$f":"Risks!AL16","v":0},"Please refer to NPF for relevant National Outcomes and Indicators.",{"$f":"Risks!AN16","v":0},"Please refer to NPF for relevant National Outcomes and Indicators.",{"$f":"Risks!AP16","v":0},"Please refer to NPF for relevant National Outcomes and Indicators.",{"$f":"Risks!AR16","v":0},"Please refer to NPF for relevant National Outcomes and Indicators.",{"$f":"Risks!AT16","v":0},"Please refer to NPF for relevant National Outcomes and Indicators.",{"$f":"Risks!AV16","v":0},"Please refer to NPF for relevant National Outcomes and Indicators.",{"$f":"Risks!AX16","v":0},"Please refer to NPF for relevant National Outcomes and Indicators.",{"$f":"Risks!AZ16","v":0},"Please refer to NPF for relevant National Outcomes and Indicators.",{"$f":"Risks!BB16","v":0},"Please refer to NPF for relevant National Outcomes and Indicators.",{"$f":"Risks!BD16","v":0},"Please refer to NPF for relevant National Outcomes and Indicators.",{"$f":"Risks!BF16","v":0},"Please refer to NPF for relevant National Outcomes and Indicators.",{"$f":"Risks!BH16","v":0},"Please refer to NPF for relevant National Outcomes and Indicators.",{"$f":"Risks!BJ16","v":0},"Please refer to NPF for relevant National Outcomes and Indicators.",{"$f":"Risks!BL16","v":0},"Please refer to NPF for relevant National Outcomes and Indicators.",{"$f":"Risks!BN16","v":0},"Please refer to NPF for relevant National Outcomes and Indicators.",{"$f":"Risks!BP16","v":0},"Please refer to NPF for relevant National Outcomes and Indicators.",{"$f":"Risks!BR16","v":0},"Please refer to NPF for relevant National Outcomes and Indicators.",{"$f":"Risks!BT16","v":0},"Please refer to NPF for relevant National Outcomes and Indicators.",{"$f":"Risks!BV16","v":0},"Please refer to NPF for relevant National Outcomes and Indicators.",{"$f":"Risks!BX16","v":0},"Please refer to NPF for relevant National Outcomes and Indicators.",{"$f":"Risks!BZ16","v":0},"Please refer to NPF for relevant National Outcomes and Indicators.",{"$f":"Risks!CB16","v":0},"Please refer to NPF for relevant National Outcomes and Indicators.",{"$f":"Risks!CD16","v":0},"Please refer to NPF for relevant National Outcomes and Indicators.",null,null,null,null,{"$f":"Risks!CJ16","v":0},"Please refer to NPF for relevant National Outcomes and Indicators."]
[null,null,"",{"$f":"Risks!D17","v":0},"Please refer to NPF for relevant National Outcomes and Indicators.",{"$f":"Risks!F17","v":0},"Please refer to NPF for relevant National Outcomes and Indicators.",{"$f":"Risks!H17","v":0},"Please refer to NPF for relevant National Outcomes and Indicators.",{"$f":"Risks!J17","v":0},"Please refer to NPF for relevant National Outcomes and Indicators.",{"$f":"Risks!L17","v":0},"Please refer to NPF for relevant National Outcomes and Indicators.",{"$f":"Risks!N17","v":0},"Please refer to NPF for relevant National Outcomes and Indicators.",{"$f":"Risks!P17","v":0},"Please refer to NPF for relevant National Outcomes and Indicators.",{"$f":"Risks!R17","v":0},"Please refer to NPF for relevant National Outcomes and Indicators.",{"$f":"Risks!T17","v":0},"Please refer to NPF for relevant National Outcomes and Indicators.",{"$f":"Risks!V17","v":0},"Please refer to NPF for relevant National Outcomes and Indicators.",{"$f":"Risks!X17","v":0},"Please refer to NPF for relevant National Outcomes and Indicators.",{"$f":"Risks!Z17","v":0},"Please refer to NPF for relevant National Outcomes and Indicators.",{"$f":"Risks!AB17","v":0},"Please refer to NPF for relevant National Outcomes and Indicators.",{"$f":"Risks!AD17","v":0},"Please refer to NPF for relevant National Outcomes and Indicators.",{"$f":"Risks!AF17","v":0},"Please refer to NPF for relevant National Outcomes and Indicators.",{"$f":"Risks!AH17","v":0},"Please refer to NPF for relevant National Outcomes and Indicators.",{"$f":"Risks!AJ17","v":0},"Please refer to NPF for relevant National Outcomes and Indicators.",{"$f":"Risks!AL17","v":0},"Please refer to NPF for relevant National Outcomes and Indicators.",{"$f":"Risks!AN17","v":0},"Please refer to NPF for relevant National Outcomes and Indicators.",{"$f":"Risks!AP17","v":0},"Please refer to NPF for relevant National Outcomes and Indicators.",{"$f":"Risks!AR17","v":0},"Please refer to NPF for relevant National Outcomes and Indicators.",{"$f":"Risks!AT17","v":0},"Please refer to NPF for relevant National Outcomes and Indicators.",{"$f":"Risks!AV17","v":0},"Please refer to NPF for relevant National Outcomes and Indicators.",{"$f":"Risks!AX17","v":0},"Please refer to NPF for relevant National Outcomes and Indicators.",{"$f":"Risks!AZ17","v":0},"Please refer to NPF for relevant National Outcomes and Indicators.",{"$f":"Risks!BB17","v":0},"Please refer to NPF for relevant National Outcomes and Indicators.",{"$f":"Risks!BD17","v":0},"Please refer to NPF for relevant National Outcomes and Indicators.",{"$f":"Risks!BF17","v":0},"Please refer to NPF for relevant National Outcomes and Indicators.",{"$f":"Risks!BH17","v":0},"Please refer to NPF for relevant National Outcomes and Indicators.",{"$f":"Risks!BJ17","v":0},"Please refer to NPF for relevant National Outcomes and Indicators.",{"$f":"Risks!BL17","v":0},"Please refer to NPF for relevant National Outcomes and Indicators.",{"$f":"Risks!BN17","v":0},"Please refer to NPF for relevant National Outcomes and Indicators.",{"$f":"Risks!BP17","v":0},"Please refer to NPF for relevant National Outcomes and Indicators.",{"$f":"Risks!BR17","v":0},"Please refer to NPF for relevant National Outcomes and Indicators.",{"$f":"Risks!BT17","v":0},"Please refer to NPF for relevant National Outcomes and Indicators.",{"$f":"Risks!BV17","v":0},"Please refer to NPF for relevant National Outcomes and Indicators.",{"$f":"Risks!BX17","v":0},"Please refer to NPF for relevant National Outcomes and Indicators.",{"$f":"Risks!BZ17","v":0},"Please refer to NPF for relevant National Outcomes and Indicators.",{"$f":"Risks!CB17","v":0},"Please refer to NPF for relevant National Outcomes and Indicators.",{"$f":"Risks!CD17","v":0},"Please refer to NPF for relevant National Outcomes and Indicators.",null,null,null,null,{"$f":"Risks!CJ17","v":0},"Please refer to NPF for relevant National Outcomes and Indicators."]
[null,null,"",{"$f":"Risks!D18","v":0},"Please refer to NPF for relevant National Outcomes and Indicators.",{"$f":"Risks!F18","v":0},"Please refer to NPF for relevant National Outcomes and Indicators.",{"$f":"Risks!H18","v":0},"Please refer to NPF for relevant National Outcomes and Indicators.",{"$f":"Risks!J18","v":0},"Please refer to NPF for relevant National Outcomes and Indicators.",{"$f":"Risks!L18","v":0},"Please refer to NPF for relevant National Outcomes and Indicators.",{"$f":"Risks!N18","v":0},"Please refer to NPF for relevant National Outcomes and Indicators.",{"$f":"Risks!P18","v":0},"Please refer to NPF for relevant National Outcomes and Indicators.",{"$f":"Risks!R18","v":0},"Please refer to NPF for relevant National Outcomes and Indicators.",{"$f":"Risks!T18","v":0},"Please refer to NPF for relevant National Outcomes and Indicators.",{"$f":"Risks!V18","v":0},"Please refer to NPF for relevant National Outcomes and Indicators.",{"$f":"Risks!X18","v":0},"Please refer to NPF for relevant National Outcomes and Indicators.",{"$f":"Risks!Z18","v":0},"Please refer to NPF for relevant National Outcomes and Indicators.",{"$f":"Risks!AB18","v":0},"Please refer to NPF for relevant National Outcomes and Indicators.",{"$f":"Risks!AD18","v":0},"Please refer to NPF for relevant National Outcomes and Indicators.",{"$f":"Risks!AF18","v":0},"Please refer to NPF for relevant National Outcomes and Indicators.",{"$f":"Risks!AH18","v":0},"Please refer to NPF for relevant National Outcomes and Indicators.",{"$f":"Risks!AJ18","v":0},"Please refer to NPF for relevant National Outcomes and Indicators.",{"$f":"Risks!AL18","v":0},"Please refer to NPF for relevant National Outcomes and Indicators.",{"$f":"Risks!AN18","v":0},"Please refer to NPF for relevant National Outcomes and Indicators.",{"$f":"Risks!AP18","v":0},"Please refer to NPF for relevant National Outcomes and Indicators.",{"$f":"Risks!AR18","v":0},"Please refer to NPF for relevant National Outcomes and Indicators.",{"$f":"Risks!AT18","v":0},"Please refer to NPF for relevant National Outcomes and Indicators.",{"$f":"Risks!AV18","v":0},"Please refer to NPF for relevant National Outcomes and Indicators.",{"$f":"Risks!AX18","v":0},"Please refer to NPF for relevant National Outcomes and Indicators.",{"$f":"Risks!AZ18","v":0},"Please refer to NPF for relevant National Outcomes and Indicators.",{"$f":"Risks!BB18","v":0},"Please refer to NPF for relevant National Outcomes and Indicators.",{"$f":"Risks!BD18","v":0},"Please refer to NPF for relevant National Outcomes and Indicators.",{"$f":"Risks!BF18","v":0},"Please refer to NPF for relevant National Outcomes and Indicators.",{"$f":"Risks!BH18","v":0},"Please refer to NPF for relevant National Outcomes and Indicators.",{"$f":"Risks!BJ18","v":0},"Please refer to NPF for relevant National Outcomes and Indicators.",{"$f":"Risks!BL18","v":0},"Please refer to NPF for relevant National Outcomes and Indicators.",{"$f":"Risks!BN18","v":0},"Please refer to NPF for relevant National Outcomes and Indicators.",{"$f":"Risks!BP18","v":0},"Please refer to NPF for relevant National Outcomes and Indicators.",{"$f":"Risks!BR18","v":0},"Please refer to NPF for relevant National Outcomes and Indicators.",{"$f":"Risks!BT18","v":0},"Please refer to NPF for relevant National Outcomes and Indicators.",{"$f":"Risks!BV18","v":0},"Please refer to NPF for relevant National Outcomes and Indicators.",{"$f":"Risks!BX18","v":0},"Please refer to NPF for relevant National Outcomes and Indicators.",{"$f":"Risks!BZ18","v":0},"Please refer to NPF for relevant National Outcomes and Indicators.",{"$f":"Risks!CB18","v":0},"Please refer to NPF for relevant National Outcomes and Indicators.",{"$f":"Risks!CD18","v":0},"Please refer to NPF for relevant National Outcomes and Indicators.",null,null,null,null,{"$f":"Risks!CJ18","v":0},"Please refer to NPF for relevant National Outcomes and Indicators."]
[null,null,"",{"$f":"Risks!D19","v":0},"Please refer to NPF for relevant National Outcomes and Indicators.",{"$f":"Risks!F19","v":0},"Please refer to NPF for relevant National Outcomes and Indicators.",{"$f":"Risks!H19","v":0},"Please refer to NPF for relevant National Outcomes and Indicators.",{"$f":"Risks!J19","v":0},"Please refer to NPF for relevant National Outcomes and Indicators.",{"$f":"Risks!L19","v":0},"Please refer to NPF for relevant National Outcomes and Indicators.",{"$f":"Risks!N19","v":0},"Please refer to NPF for relevant National Outcomes and Indicators.",{"$f":"Risks!P19","v":0},"Please refer to NPF for relevant National Outcomes and Indicators.",{"$f":"Risks!R19","v":0},"Please refer to NPF for relevant National Outcomes and Indicators.",{"$f":"Risks!T19","v":0},"Please refer to NPF for relevant National Outcomes and Indicators.",{"$f":"Risks!V19","v":0},"Please refer to NPF for relevant National Outcomes and Indicators.",{"$f":"Risks!X19","v":0},"Please refer to NPF for relevant National Outcomes and Indicators.",{"$f":"Risks!Z19","v":0},"Please refer to NPF for relevant National Outcomes and Indicators.",{"$f":"Risks!AB19","v":0},"Please refer to NPF for relevant National Outcomes and Indicators.",{"$f":"Risks!AD19","v":0},"Please refer to NPF for relevant National Outcomes and Indicators.",{"$f":"Risks!AF19","v":0},"Please refer to NPF for relevant National Outcomes and Indicators.",{"$f":"Risks!AH19","v":0},"Please refer to NPF for relevant National Outcomes and Indicators.",{"$f":"Risks!AJ19","v":0},"Please refer to NPF for relevant National Outcomes and Indicators.",{"$f":"Risks!AL19","v":0},"Please refer to NPF for relevant National Outcomes and Indicators.",{"$f":"Risks!AN19","v":0},"Please refer to NPF for relevant National Outcomes and Indicators.",{"$f":"Risks!AP19","v":0},"Please refer to NPF for relevant National Outcomes and Indicators.",{"$f":"Risks!AR19","v":0},"Please refer to NPF for relevant National Outcomes and Indicators.",{"$f":"Risks!AT19","v":0},"Please refer to NPF for relevant National Outcomes and Indicators.",{"$f":"Risks!AV19","v":0},"Please refer to NPF for relevant National Outcomes and Indicators.",{"$f":"Risks!AX19","v":0},"Please refer to NPF for relevant National Outcomes and Indicators.",{"$f":"Risks!AZ19","v":0},"Please refer to NPF for relevant National Outcomes and Indicators.",{"$f":"Risks!BB19","v":0},"Please refer to NPF for relevant National Outcomes and Indicators.",{"$f":"Risks!BD19","v":0},"Please refer to NPF for relevant National Outcomes and Indicators.",{"$f":"Risks!BF19","v":0},"Please refer to NPF for relevant National Outcomes and Indicators.",{"$f":"Risks!BH19","v":0},"Please refer to NPF for relevant National Outcomes and Indicators.",{"$f":"Risks!BJ19","v":0},"Please refer to NPF for relevant National Outcomes and Indicators.",{"$f":"Risks!BL19","v":0},"Please refer to NPF for relevant National Outcomes and Indicators.",{"$f":"Risks!BN19","v":0},"Please refer to NPF for relevant National Outcomes and Indicators.",{"$f":"Risks!BP19","v":0},"Please refer to NPF for relevant National Outcomes and Indicators.",{"$f":"Risks!BR19","v":0},"Please refer to NPF for relevant National Outcomes and Indicators.",{"$f":"Risks!BT19","v":0},"Please refer to NPF for relevant National Outcomes and Indicators.",{"$f":"Risks!BV19","v":0},"Please refer to NPF for relevant National Outcomes and Indicators.",{"$f":"Risks!BX19","v":0},"Please refer to NPF for relevant National Outcomes and Indicators.",{"$f":"Risks!BZ19","v":0},"Please refer to NPF for relevant National Outcomes and Indicators.",{"$f":"Risks!CB19","v":0},"Please refer to NPF for relevant National Outcomes and Indicators.",{"$f":"Risks!CD19","v":0},"Please refer to NPF for relevant National Outcomes and Indicators.",null,null,null,null,{"$f":"Risks!CJ19","v":0},"Please refer to NPF for relevant National Outcomes and Indicators."]
[null,null,"",{"$f":"Risks!D20","v":0},"Please refer to NPF for relevant National Outcomes and Indicators.",{"$f":"Risks!F20","v":0},"Please refer to NPF for relevant National Outcomes and Indicators.",{"$f":"Risks!H20","v":0},"Please refer to NPF for relevant National Outcomes and Indicators.",{"$f":"Risks!J20","v":0},"Please refer to NPF for relevant National Outcomes and Indicators.",{"$f":"Risks!L20","v":0},"Please refer to NPF for relevant National Outcomes and Indicators.",{"$f":"Risks!N20","v":0},"Please refer to NPF for relevant National Outcomes and Indicators.",{"$f":"Risks!P20","v":0},"Please refer to NPF for relevant National Outcomes and Indicators.",{"$f":"Risks!R20","v":0},"Please refer to NPF for relevant National Outcomes and Indicators.",{"$f":"Risks!T20","v":0},"Please refer to NPF for relevant National Outcomes and Indicators.",{"$f":"Risks!V20","v":0},"Please refer to NPF for relevant National Outcomes and Indicators.",{"$f":"Risks!X20","v":0},"Please refer to NPF for relevant National Outcomes and Indicators.",{"$f":"Risks!Z20","v":0},"Please refer to NPF for relevant National Outcomes and Indicators.",{"$f":"Risks!AB20","v":0},"Please refer to NPF for relevant National Outcomes and Indicators.",{"$f":"Risks!AD20","v":0},"Please refer to NPF for relevant National Outcomes and Indicators.",{"$f":"Risks!AF20","v":0},"Please refer to NPF for relevant National Outcomes and Indicators.",{"$f":"Risks!AH20","v":0},"Please refer to NPF for relevant National Outcomes and Indicators.",{"$f":"Risks!AJ20","v":0},"Please refer to NPF for relevant National Outcomes and Indicators.",{"$f":"Risks!AL20","v":0},"Please refer to NPF for relevant National Outcomes and Indicators.",{"$f":"Risks!AN20","v":0},"Please refer to NPF for relevant National Outcomes and Indicators.",{"$f":"Risks!AP20","v":0},"Please refer to NPF for relevant National Outcomes and Indicators.",{"$f":"Risks!AR20","v":0},"Please refer to NPF for relevant National Outcomes and Indicators.",{"$f":"Risks!AT20","v":0},"Please refer to NPF for relevant National Outcomes and Indicators.",{"$f":"Risks!AV20","v":0},"Please refer to NPF for relevant National Outcomes and Indicators.",{"$f":"Risks!AX20","v":0},"Please refer to NPF for relevant National Outcomes and Indicators.",{"$f":"Risks!AZ20","v":0},"Please refer to NPF for relevant National Outcomes and Indicators.",{"$f":"Risks!BB20","v":0},"Please refer to NPF for relevant National Outcomes and Indicators.",{"$f":"Risks!BD20","v":0},"Please refer to NPF for relevant National Outcomes and Indicators.",{"$f":"Risks!BF20","v":0},"Please refer to NPF for relevant National Outcomes and Indicators.",{"$f":"Risks!BH20","v":0},"Please refer to NPF for relevant National Outcomes and Indicators.",{"$f":"Risks!BJ20","v":0},"Please refer to NPF for relevant National Outcomes and Indicators.",{"$f":"Risks!BL20","v":0},"Please refer to NPF for relevant National Outcomes and Indicators.",{"$f":"Risks!BN20","v":0},"Please refer to NPF for relevant National Outcomes and Indicators.",{"$f":"Risks!BP20","v":0},"Please refer to NPF for relevant National Outcomes and Indicators.",{"$f":"Risks!BR20","v":0},"Please refer to NPF for relevant National Outcomes and Indicators.",{"$f":"Risks!BT20","v":0},"Please refer to NPF for relevant National Outcomes and Indicators.",{"$f":"Risks!BV20","v":0},"Please refer to NPF for relevant National Outcomes and Indicators.",{"$f":"Risks!BX20","v":0},"Please refer to NPF for relevant National Outcomes and Indicators.",{"$f":"Risks!BZ20","v":0},"Please refer to NPF for relevant National Outcomes and Indicators.",{"$f":"Risks!CB20","v":0},"Please refer to NPF for relevant National Outcomes and Indicators.",{"$f":"Risks!CD20","v":0},"Please refer to NPF for relevant National Outcomes and Indicators.",null,null,null,null,{"$f":"Risks!CJ20","v":0},"Please refer to NPF for relevant National Outcomes and Indicators."]
[null,null,"",{"$f":"Risks!D21","v":0},"Please refer to NPF for relevant National Outcomes and Indicators.",{"$f":"Risks!F21","v":0},"Please refer to NPF for relevant National Outcomes and Indicators.",{"$f":"Risks!H21","v":0},"Please refer to NPF for relevant National Outcomes and Indicators.",{"$f":"Risks!J21","v":0},"Please refer to NPF for relevant National Outcomes and Indicators.",{"$f":"Risks!L21","v":0},"Please refer to NPF for relevant National Outcomes and Indicators.",{"$f":"Risks!N21","v":0},"Please refer to NPF for relevant National Outcomes and Indicators.",{"$f":"Risks!P21","v":0},"Please refer to NPF for relevant National Outcomes and Indicators.",{"$f":"Risks!R21","v":0},"Please refer to NPF for relevant National Outcomes and Indicators.",{"$f":"Risks!T21","v":0},"Please refer to NPF for relevant National Outcomes and Indicators.",{"$f":"Risks!V21","v":0},"Please refer to NPF for relevant National Outcomes and Indicators.",{"$f":"Risks!X21","v":0},"Please refer to NPF for relevant National Outcomes and Indicators.",{"$f":"Risks!Z21","v":0},"Please refer to NPF for relevant National Outcomes and Indicators.",{"$f":"Risks!AB21","v":0},"Please refer to NPF for relevant National Outcomes and Indicators.",{"$f":"Risks!AD21","v":0},"Please refer to NPF for relevant National Outcomes and Indicators.",{"$f":"Risks!AF21","v":0},"Please refer to NPF for relevant National Outcomes and Indicators.",{"$f":"Risks!AH21","v":0},"Please refer to NPF for relevant National Outcomes and Indicators.",{"$f":"Risks!AJ21","v":0},"Please refer to NPF for relevant National Outcomes and Indicators.",{"$f":"Risks!AL21","v":0},"Please refer to NPF for relevant National Outcomes and Indicators.",{"$f":"Risks!AN21","v":0},"Please refer to NPF for relevant National Outcomes and Indicators.",{"$f":"Risks!AP21","v":0},"Please refer to NPF for relevant National Outcomes and Indicators.",{"$f":"Risks!AR21","v":0},"Please refer to NPF for relevant National Outcomes and Indicators.",{"$f":"Risks!AT21","v":0},"Please refer to NPF for relevant National Outcomes and Indicators.",{"$f":"Risks!AV21","v":0},"Please refer to NPF for relevant National Outcomes and Indicators.",{"$f":"Risks!AX21","v":0},"Please refer to NPF for relevant National Outcomes and Indicators.",{"$f":"Risks!AZ21","v":0},"Please refer to NPF for relevant National Outcomes and Indicators.",{"$f":"Risks!BB21","v":0},"Please refer to NPF for relevant National Outcomes and Indicators.",{"$f":"Risks!BD21","v":0},"Please refer to NPF for relevant National Outcomes and Indicators.",{"$f":"Risks!BF21","v":0},"Please refer to NPF for relevant National Outcomes and Indicators.",{"$f":"Risks!BH21","v":0},"Please refer to NPF for relevant National Outcomes and Indicators.",{"$f":"Risks!BJ21","v":0},"Please refer to NPF for relevant National Outcomes and Indicators.",{"$f":"Risks!BL21","v":0},"Please refer to NPF for relevant National Outcomes and Indicators.",{"$f":"Risks!BN21","v":0},"Please refer to NPF for relevant National Outcomes and Indicators.",{"$f":"Risks!BP21","v":0},"Please refer to NPF for relevant National Outcomes and Indicators.",{"$f":"Risks!BR21","v":0},"Please refer to NPF for relevant National Outcomes and Indicators.",{"$f":"Risks!BT21","v":0},"Please refer to NPF for relevant National Outcomes and Indicators.",{"$f":"Risks!BV21","v":0},"Please refer to NPF for relevant National Outcomes and Indicators.",{"$f":"Risks!BX21","v":0},"Please refer to NPF for relevant National Outcomes and Indicators.",{"$f":"Risks!BZ21","v":0},"Please refer to NPF for relevant National Outcomes and Indicators.",{"$f":"Risks!CB21","v":0},"Please refer to NPF for relevant National Outcomes and Indicators.",{"$f":"Risks!CD21","v":0},"Please refer to NPF for relevant National Outcomes and Indicators.",null,null,null,null,{"$f":"Risks!CJ21","v":0},"Please refer to NPF for relevant National Outcomes and Indicators."]
[null,null,"",{"$f":"Risks!D22","v":0},"Please refer to NPF for relevant National Outcomes and Indicators.",{"$f":"Risks!F22","v":0},"Please refer to NPF for relevant National Outcomes and Indicators.",{"$f":"Risks!H22","v":0},"Please refer to NPF for relevant National Outcomes and Indicators.",{"$f":"Risks!J22","v":0},"Please refer to NPF for relevant National Outcomes and Indicators.",{"$f":"Risks!L22","v":0},"Please refer to NPF for relevant National Outcomes and Indicators.",{"$f":"Risks!N22","v":0},"Please refer to NPF for relevant National Outcomes and Indicators.",{"$f":"Risks!P22","v":0},"Please refer to NPF for relevant National Outcomes and Indicators.",{"$f":"Risks!R22","v":0},"Please refer to NPF for relevant National Outcomes and Indicators.",{"$f":"Risks!T22","v":0},"Please refer to NPF for relevant National Outcomes and Indicators.",{"$f":"Risks!V22","v":0},"Please refer to NPF for relevant National Outcomes and Indicators.",{"$f":"Risks!X22","v":0},"Please refer to NPF for relevant National Outcomes and Indicators.",{"$f":"Risks!Z22","v":0},"Please refer to NPF for relevant National Outcomes and Indicators.",{"$f":"Risks!AB22","v":0},"Please refer to NPF for relevant National Outcomes and Indicators.",{"$f":"Risks!AD22","v":0},"Please refer to NPF for relevant National Outcomes and Indicators.",{"$f":"Risks!AF22","v":0},"Please refer to NPF for relevant National Outcomes and Indicators.",{"$f":"Risks!AH22","v":0},"Please refer to NPF for relevant National Outcomes and Indicators.",{"$f":"Risks!AJ22","v":0},"Please refer to NPF for relevant National Outcomes and Indicators.",{"$f":"Risks!AL22","v":0},"Please refer to NPF for relevant National Outcomes and Indicators.",{"$f":"Risks!AN22","v":0},"Please refer to NPF for relevant National Outcomes and Indicators.",{"$f":"Risks!AP22","v":0},"Please refer to NPF for relevant National Outcomes and Indicators.",{"$f":"Risks!AR22","v":0},"Please refer to NPF for relevant National Outcomes and Indicators.",{"$f":"Risks!AT22","v":0},"Please refer to NPF for relevant National Outcomes and Indicators.",{"$f":"Risks!AV22","v":0},"Please refer to NPF for relevant National Outcomes and Indicators.",{"$f":"Risks!AX22","v":0},"Please refer to NPF for relevant National Outcomes and Indicators.",{"$f":"Risks!AZ22","v":0},"Please refer to NPF for relevant National Outcomes and Indicators.",{"$f":"Risks!BB22","v":0},"Please refer to NPF for relevant National Outcomes and Indicators.",{"$f":"Risks!BD22","v":0},"Please refer to NPF for relevant National Outcomes and Indicators.",{"$f":"Risks!BF22","v":0},"Please refer to NPF for relevant National Outcomes and Indicators.",{"$f":"Risks!BH22","v":0},"Please refer to NPF for relevant National Outcomes and Indicators.",{"$f":"Risks!BJ22","v":0},"Please refer to NPF for relevant National Outcomes and Indicators.",{"$f":"Risks!BL22","v":0},"Please refer to NPF for relevant National Outcomes and Indicators.",{"$f":"Risks!BN22","v":0},"Please refer to NPF for relevant National Outcomes and Indicators.",{"$f":"Risks!BP22","v":0},"Please refer to NPF for relevant National Outcomes and Indicators.",{"$f":"Risks!BR22","v":0},"Please refer to NPF for relevant National Outcomes and Indicators.",{"$f":"Risks!BT22","v":0},"Please refer to NPF for relevant National Outcomes and Indicators.",{"$f":"Risks!BV22","v":0},"Please refer to NPF for relevant National Outcomes and Indicators.",{"$f":"Risks!BX22","v":0},"Please refer to NPF for relevant National Outcomes and Indicators.",{"$f":"Risks!BZ22","v":0},"Please refer to NPF for relevant National Outcomes and Indicators.",{"$f":"Risks!CB22","v":0},"Please refer to NPF for relevant National Outcomes and Indicators.",{"$f":"Risks!CD22","v":0},"Please refer to NPF for relevant National Outcomes and Indicators.",null,null,null,null,{"$f":"Risks!CJ22","v":0},"Please refer to NPF for relevant National Outcomes and Indicators."]
[null,null,"",{"$f":"Risks!D23","v":0},"Please refer to NPF for relevant National Outcomes and Indicators.",{"$f":"Risks!F23","v":0},"Please refer to NPF for relevant National Outcomes and Indicators.",{"$f":"Risks!H23","v":0},"Please refer to NPF for relevant National Outcomes and Indicators.",{"$f":"Risks!J23","v":0},"Please refer to NPF for relevant National Outcomes and Indicators.",{"$f":"Risks!L23","v":0},"Please refer to NPF for relevant National Outcomes and Indicators.",{"$f":"Risks!N23","v":0},"Please refer to NPF for relevant National Outcomes and Indicators.",{"$f":"Risks!P23","v":0},"Please refer to NPF for relevant National Outcomes and Indicators.",{"$f":"Risks!R23","v":0},"Please refer to NPF for relevant National Outcomes and Indicators.",{"$f":"Risks!T23","v":0},"Please refer to NPF for relevant National Outcomes and Indicators.",{"$f":"Risks!V23","v":0},"Please refer to NPF for relevant National Outcomes and Indicators.",{"$f":"Risks!X23","v":0},"Please refer to NPF for relevant National Outcomes and Indicators.",{"$f":"Risks!Z23","v":0},"Please refer to NPF for relevant National Outcomes and Indicators.",{"$f":"Risks!AB23","v":0},"Please refer to NPF for relevant National Outcomes and Indicators.",{"$f":"Risks!AD23","v":0},"Please refer to NPF for relevant National Outcomes and Indicators.",{"$f":"Risks!AF23","v":0},"Please refer to NPF for relevant National Outcomes and Indicators.",{"$f":"Risks!AH23","v":0},"Please refer to NPF for relevant National Outcomes and Indicators.",{"$f":"Risks!AJ23","v":0},"Please refer to NPF for relevant National Outcomes and Indicators.",{"$f":"Risks!AL23","v":0},"Please refer to NPF for relevant National Outcomes and Indicators.",{"$f":"Risks!AN23","v":0},"Please refer to NPF for relevant National Outcomes and Indicators.",{"$f":"Risks!AP23","v":0},"Please refer to NPF for relevant National Outcomes and Indicators.",{"$f":"Risks!AR23","v":0},"Please refer to NPF for relevant National Outcomes and Indicators.",{"$f":"Risks!AT23","v":0},"Please refer to NPF for relevant National Outcomes and Indicators.",{"$f":"Risks!AV23","v":0},"Please refer to NPF for relevant National Outcomes and Indicators.",{"$f":"Risks!AX23","v":0},"Please refer to NPF for relevant National Outcomes and Indicators.",{"$f":"Risks!AZ23","v":0},"Please refer to NPF for relevant National Outcomes and Indicators.",{"$f":"Risks!BB23","v":0},"Please refer to NPF for relevant National Outcomes and Indicators.",{"$f":"Risks!BD23","v":0},"Please refer to NPF for relevant National Outcomes and Indicators.",{"$f":"Risks!BF23","v":0},"Please refer to NPF for relevant National Outcomes and Indicators.",{"$f":"Risks!BH23","v":0},"Please refer to NPF for relevant National Outcomes and Indicators.",{"$f":"Risks!BJ23","v":0},"Please refer to NPF for relevant National Outcomes and Indicators.",{"$f":"Risks!BL23","v":0},"Please refer to NPF for relevant National Outcomes and Indicators.",{"$f":"Risks!BN23","v":0},"Please refer to NPF for relevant National Outcomes and Indicators.",{"$f":"Risks!BP23","v":0},"Please refer to NPF for relevant National Outcomes and Indicators.",{"$f":"Risks!BR23","v":0},"Please refer to NPF for relevant National Outcomes and Indicators.",{"$f":"Risks!BT23","v":0},"Please refer to NPF for relevant National Outcomes and Indicators.",{"$f":"Risks!BV23","v":0},"Please refer to NPF for relevant National Outcomes and Indicators.",{"$f":"Risks!BX23","v":0},"Please refer to NPF for relevant National Outcomes and Indicators.",{"$f":"Risks!BZ23","v":0},"Please refer to NPF for relevant National Outcomes and Indicators.",{"$f":"Risks!CB23","v":0},"Please refer to NPF for relevant National Outcomes and Indicators.",{"$f":"Risks!CD23","v":0},"Please refer to NPF for relevant National Outcomes and Indicators.",null,null,null,null,{"$f":"Risks!CJ23","v":0},"Please refer to NPF for relevant National Outcomes and Indicators."]
[]
[null,"Socio-economic - RISKS & OPPS",{"$f":"IF(INDEX(SocIssues,ROW()-ROW(C$24))=\"\",\"\",INDEX(SocIssues,ROW()-ROW(C$24)))","v":"Employment, skills and training"},{"$f":"Risks!D30","v":1},{"$f":"IF(D25=0,\"N/A\",IF(D25=1,\"NO: A, B, C, D, G, H, M. NI: 5, 6, 7, 8, 9, 10, 11, 12, 13, 14, 15, 16, 17, 18, 19, 20, 22, 23, 24, 26, 29, 30, 31, 32, 33, 34, 35, 37, 38, 39.\", IF(D25=2,\"NO: A, B, C, D, G, H, M. NI: 5, 6, 7, 8, 9, 10, 11, 12, 13, 14, 15, 16, 17, 18, 19, 20, 22, 23, 24, 26, 29, 30, 31, 32, 33, 34, 35, 37, 38, 39.\",IF(D25=3,\"NO: A, B, C, D, G, H, M. NI: 5, 6, 7, 8, 9, 10, 11, 12, 13, 14, 15, 16, 17, 18, 19, 20, 22, 23, 24, 26, 29, 30, 31, 32, 33, 34, 35, 37, 38, 39.\",\"N/A\"))))","v":"NO: A, B, C, D, G, H, M. NI: 5, 6, 7, 8, 9, 10, 11, 12, 13, 14, 15, 16, 17, 18, 19, 20, 22, 23, 24, 26, 29, 30, 31, 32, 33, 34, 35, 37, 38, 39."},{"$f":"Risks!F30","v":1},{"$f":"IF(F25=0,\"N/A\",IF(F25=1,\"NO: A, B, C, D, G, H, M. NI: 5, 6, 7, 8, 9, 10, 11, 12, 13, 14, 15, 16, 17, 18, 19, 20, 22, 23, 24, 26, 29, 30, 31, 32, 33, 34, 35, 37, 38, 39.\", IF(F25=2,\"NO: A, B, C, D, G, H, M. NI: 5, 6, 7, 8, 9, 10, 11, 12, 13, 14, 15, 16, 17, 18, 19, 20, 22, 23, 24, 26, 29, 30, 31, 32, 33, 34, 35, 37, 38, 39.\",IF(F25=3,\"NO: A, B, C, D, G, H, M. NI: 5, 6, 7, 8, 9, 10, 11, 12, 13, 14, 15, 16, 17, 18, 19, 20, 22, 23, 24, 26, 29, 30, 31, 32, 33, 34, 35, 37, 38, 39.\",\"N/A\"))))","v":"NO: A, B, C, D, G, H, M. NI: 5, 6, 7, 8, 9, 10, 11, 12, 13, 14, 15, 16, 17, 18, 19, 20, 22, 23, 24, 26, 29, 30, 31, 32, 33, 34, 35, 37, 38, 39."},{"$f":"Risks!H30","v":1},{"$f":"IF(H25=0,\"N/A\",IF(H25=1,\"NO: A, B, C, D, G, H, M. NI: 5, 6, 7, 8, 9, 10, 11, 12, 13, 14, 15, 16, 17, 18, 19, 20, 22, 23, 24, 26, 29, 30, 31, 32, 33, 34, 35, 37, 38, 39.\", IF(H25=2,\"NO: A, B, C, D, G, H, M. NI: 5, 6, 7, 8, 9, 10, 11, 12, 13, 14, 15, 16, 17, 18, 19, 20, 22, 23, 24, 26, 29, 30, 31, 32, 33, 34, 35, 37, 38, 39.\",IF(H25=3,\"NO: A, B, C, D, G, H, M. NI: 5, 6, 7, 8, 9, 10, 11, 12, 13, 14, 15, 16, 17, 18, 19, 20, 22, 23, 24, 26, 29, 30, 31, 32, 33, 34, 35, 37, 38, 39.\",\"N/A\"))))","v":"NO: A, B, C, D, G, H, M. NI: 5, 6, 7, 8, 9, 10, 11, 12, 13, 14, 15, 16, 17, 18, 19, 20, 22, 23, 24, 26, 29, 30, 31, 32, 33, 34, 35, 37, 38, 39."},{"$f":"Risks!J30","v":1},{"$f":"IF(J25=0,\"N/A\",IF(J25=1,\"NO: A, B, C, D, G, H, M. NI: 5, 6, 7, 8, 9, 10, 11, 12, 13, 14, 15, 16, 17, 18, 19, 20, 22, 23, 24, 26, 29, 30, 31, 32, 33, 34, 35, 37, 38, 39.\", IF(J25=2,\"NO: A, B, C, D, G, H, M. NI: 5, 6, 7, 8, 9, 10, 11, 12, 13, 14, 15, 16, 17, 18, 19, 20, 22, 23, 24, 26, 29, 30, 31, 32, 33, 34, 35, 37, 38, 39.\",IF(J25=3,\"NO: A, B, C, D, G, H, M. NI: 5, 6, 7, 8, 9, 10, 11, 12, 13, 14, 15, 16, 17, 18, 19, 20, 22, 23, 24, 26, 29, 30, 31, 32, 33, 34, 35, 37, 38, 39.\",\"N/A\"))))","v":"NO: A, B, C, D, G, H, M. NI: 5, 6, 7, 8, 9, 10, 11, 12, 13, 14, 15, 16, 17, 18, 19, 20, 22, 23, 24, 26, 29, 30, 31, 32, 33, 34, 35, 37, 38, 39."},{"$f":"Risks!L30","v":1},{"$f":"IF(L25=0,\"N/A\",IF(L25=1,\"NO: A, B, C, D, G, H, M. NI: 5, 6, 7, 8, 9, 10, 11, 12, 13, 14, 15, 16, 17, 18, 19, 20, 22, 23, 24, 26, 29, 30, 31, 32, 33, 34, 35, 37, 38, 39.\", IF(L25=2,\"NO: A, B, C, D, G, H, M. NI: 5, 6, 7, 8, 9, 10, 11, 12, 13, 14, 15, 16, 17, 18, 19, 20, 22, 23, 24, 26, 29, 30, 31, 32, 33, 34, 35, 37, 38, 39.\",IF(L25=3,\"NO: A, B, C, D, G, H, M. NI: 5, 6, 7, 8, 9, 10, 11, 12, 13, 14, 15, 16, 17, 18, 19, 20, 22, 23, 24, 26, 29, 30, 31, 32, 33, 34, 35, 37, 38, 39.\",\"N/A\"))))","v":"NO: A, B, C, D, G, H, M. NI: 5, 6, 7, 8, 9, 10, 11, 12, 13, 14, 15, 16, 17, 18, 19, 20, 22, 23, 24, 26, 29, 30, 31, 32, 33, 34, 35, 37, 38, 39."},{"$f":"Risks!N30","v":1},{"$f":"IF(N25=0,\"N/A\",IF(N25=1,\"NO: A, B, C, D, G, H, M. NI: 5, 6, 7, 8, 9, 10, 11, 12, 13, 14, 15, 16, 17, 18, 19, 20, 22, 23, 24, 26, 29, 30, 31, 32, 33, 34, 35, 37, 38, 39.\", IF(N25=2,\"NO: A, B, C, D, G, H, M. NI: 5, 6, 7, 8, 9, 10, 11, 12, 13, 14, 15, 16, 17, 18, 19, 20, 22, 23, 24, 26, 29, 30, 31, 32, 33, 34, 35, 37, 38, 39.\",IF(N25=3,\"NO: A, B, C, D, G, H, M. NI: 5, 6, 7, 8, 9, 10, 11, 12, 13, 14, 15, 16, 17, 18, 19, 20, 22, 23, 24, 26, 29, 30, 31, 32, 33, 34, 35, 37, 38, 39.\",\"N/A\"))))","v":"NO: A, B, C, D, G, H, M. NI: 5, 6, 7, 8, 9, 10, 11, 12, 13, 14, 15, 16, 17, 18, 19, 20, 22, 23, 24, 26, 29, 30, 31, 32, 33, 34, 35, 37, 38, 39."},{"$f":"Risks!P30","v":0},{"$f":"IF(P25=0,\"N/A\",IF(P25=1,\"NO: A, B, C, D, G, H, M. NI: 5, 6, 7, 8, 9, 10, 11, 12, 13, 14, 15, 16, 17, 18, 19, 20, 22, 23, 24, 26, 29, 30, 31, 32, 33, 34, 35, 37, 38, 39.\", IF(P25=2,\"NO: A, B, C, D, G, H, M. NI: 5, 6, 7, 8, 9, 10, 11, 12, 13, 14, 15, 16, 17, 18, 19, 20, 22, 23, 24, 26, 29, 30, 31, 32, 33, 34, 35, 37, 38, 39.\",IF(P25=3,\"NO: A, B, C, D, G, H, M. NI: 5, 6, 7, 8, 9, 10, 11, 12, 13, 14, 15, 16, 17, 18, 19, 20, 22, 23, 24, 26, 29, 30, 31, 32, 33, 34, 35, 37, 38, 39.\",\"N/A\"))))","v":"N/A"},{"$f":"Risks!R30","v":1},{"$f":"IF(R25=0,\"N/A\",IF(R25=1,\"NO: A, B, C, D, G, H, M. NI: 5, 6, 7, 8, 9, 10, 11, 12, 13, 14, 15, 16, 17, 18, 19, 20, 22, 23, 24, 26, 29, 30, 31, 32, 33, 34, 35, 37, 38, 39.\", IF(R25=2,\"NO: A, B, C, D, G, H, M. NI: 5, 6, 7, 8, 9, 10, 11, 12, 13, 14, 15, 16, 17, 18, 19, 20, 22, 23, 24, 26, 29, 30, 31, 32, 33, 34, 35, 37, 38, 39.\",IF(R25=3,\"NO: A, B, C, D, G, H, M. NI: 5, 6, 7, 8, 9, 10, 11, 12, 13, 14, 15, 16, 17, 18, 19, 20, 22, 23, 24, 26, 29, 30, 31, 32, 33, 34, 35, 37, 38, 39.\",\"N/A\"))))","v":"NO: A, B, C, D, G, H, M. NI: 5, 6, 7, 8, 9, 10, 11, 12, 13, 14, 15, 16, 17, 18, 19, 20, 22, 23, 24, 26, 29, 30, 31, 32, 33, 34, 35, 37, 38, 39."},{"$f":"Risks!T30","v":0},{"$f":"IF(T25=0,\"N/A\",IF(T25=1,\"NO: A, B, C, D, G, H, M. NI: 5, 6, 7, 8, 9, 10, 11, 12, 13, 14, 15, 16, 17, 18, 19, 20, 22, 23, 24, 26, 29, 30, 31, 32, 33, 34, 35, 37, 38, 39.\", IF(T25=2,\"NO: A, B, C, D, G, H, M. NI: 5, 6, 7, 8, 9, 10, 11, 12, 13, 14, 15, 16, 17, 18, 19, 20, 22, 23, 24, 26, 29, 30, 31, 32, 33, 34, 35, 37, 38, 39.\",IF(T25=3,\"NO: A, B, C, D, G, H, M. NI: 5, 6, 7, 8, 9, 10, 11, 12, 13, 14, 15, 16, 17, 18, 19, 20, 22, 23, 24, 26, 29, 30, 31, 32, 33, 34, 35, 37, 38, 39.\",\"N/A\"))))","v":"N/A"},{"$f":"Risks!V30","v":0},{"$f":"IF(V25=0,\"N/A\",IF(V25=1,\"NO: A, B, C, D, G, H, M. NI: 5, 6, 7, 8, 9, 10, 11, 12, 13, 14, 15, 16, 17, 18, 19, 20, 22, 23, 24, 26, 29, 30, 31, 32, 33, 34, 35, 37, 38, 39.\", IF(V25=2,\"NO: A, B, C, D, G, H, M. NI: 5, 6, 7, 8, 9, 10, 11, 12, 13, 14, 15, 16, 17, 18, 19, 20, 22, 23, 24, 26, 29, 30, 31, 32, 33, 34, 35, 37, 38, 39.\",IF(V25=3,\"NO: A, B, C, D, G, H, M. NI: 5, 6, 7, 8, 9, 10, 11, 12, 13, 14, 15, 16, 17, 18, 19, 20, 22, 23, 24, 26, 29, 30, 31, 32, 33, 34, 35, 37, 38, 39.\",\"N/A\"))))","v":"N/A"},{"$f":"Risks!X30","v":0},{"$f":"IF(X25=0,\"N/A\",IF(X25=1,\"NO: A, B, C, D, G, H, M. NI: 5, 6, 7, 8, 9, 10, 11, 12, 13, 14, 15, 16, 17, 18, 19, 20, 22, 23, 24, 26, 29, 30, 31, 32, 33, 34, 35, 37, 38, 39.\", IF(X25=2,\"NO: A, B, C, D, G, H, M. NI: 5, 6, 7, 8, 9, 10, 11, 12, 13, 14, 15, 16, 17, 18, 19, 20, 22, 23, 24, 26, 29, 30, 31, 32, 33, 34, 35, 37, 38, 39.\",IF(X25=3,\"NO: A, B, C, D, G, H, M. NI: 5, 6, 7, 8, 9, 10, 11, 12, 13, 14, 15, 16, 17, 18, 19, 20, 22, 23, 24, 26, 29, 30, 31, 32, 33, 34, 35, 37, 38, 39.\",\"N/A\"))))","v":"N/A"},{"$f":"Risks!Z30","v":0},{"$f":"IF(Z25=0,\"N/A\",IF(Z25=1,\"NO: A, B, C, D, G, H, M. NI: 5, 6, 7, 8, 9, 10, 11, 12, 13, 14, 15, 16, 17, 18, 19, 20, 22, 23, 24, 26, 29, 30, 31, 32, 33, 34, 35, 37, 38, 39.\", IF(Z25=2,\"NO: A, B, C, D, G, H, M. NI: 5, 6, 7, 8, 9, 10, 11, 12, 13, 14, 15, 16, 17, 18, 19, 20, 22, 23, 24, 26, 29, 30, 31, 32, 33, 34, 35, 37, 38, 39.\",IF(Z25=3,\"NO: A, B, C, D, G, H, M. NI: 5, 6, 7, 8, 9, 10, 11, 12, 13, 14, 15, 16, 17, 18, 19, 20, 22, 23, 24, 26, 29, 30, 31, 32, 33, 34, 35, 37, 38, 39.\",\"N/A\"))))","v":"N/A"},{"$f":"Risks!AB30","v":0},{"$f":"IF(AB25=0,\"N/A\",IF(AB25=1,\"NO: A, B, C, D, G, H, M. NI: 5, 6, 7, 8, 9, 10, 11, 12, 13, 14, 15, 16, 17, 18, 19, 20, 22, 23, 24, 26, 29, 30, 31, 32, 33, 34, 35, 37, 38, 39.\", IF(AB25=2,\"NO: A, B, C, D, G, H, M. NI: 5, 6, 7, 8, 9, 10, 11, 12, 13, 14, 15, 16, 17, 18, 19, 20, 22, 23, 24, 26, 29, 30, 31, 32, 33, 34, 35, 37, 38, 39.\",IF(AB25=3,\"NO: A, B, C, D, G, H, M. NI: 5, 6, 7, 8, 9, 10, 11, 12, 13, 14, 15, 16, 17, 18, 19, 20, 22, 23, 24, 26, 29, 30, 31, 32, 33, 34, 35, 37, 38, 39.\",\"N/A\"))))","v":"N/A"},{"$f":"Risks!AD30","v":0},{"$f":"IF(AD25=0,\"N/A\",IF(AD25=1,\"NO: A, B, C, D, G, H, M. NI: 5, 6, 7, 8, 9, 10, 11, 12, 13, 14, 15, 16, 17, 18, 19, 20, 22, 23, 24, 26, 29, 30, 31, 32, 33, 34, 35, 37, 38, 39.\", IF(AD25=2,\"NO: A, B, C, D, G, H, M. NI: 5, 6, 7, 8, 9, 10, 11, 12, 13, 14, 15, 16, 17, 18, 19, 20, 22, 23, 24, 26, 29, 30, 31, 32, 33, 34, 35, 37, 38, 39.\",IF(AD25=3,\"NO: A, B, C, D, G, H, M. NI: 5, 6, 7, 8, 9, 10, 11, 12, 13, 14, 15, 16, 17, 18, 19, 20, 22, 23, 24, 26, 29, 30, 31, 32, 33, 34, 35, 37, 38, 39.\",\"N/A\"))))","v":"N/A"},{"$f":"Risks!AF30","v":0},{"$f":"IF(AF25=0,\"N/A\",IF(AF25=1,\"NO: A, B, C, D, G, H, M. NI: 5, 6, 7, 8, 9, 10, 11, 12, 13, 14, 15, 16, 17, 18, 19, 20, 22, 23, 24, 26, 29, 30, 31, 32, 33, 34, 35, 37, 38, 39.\", IF(AF25=2,\"NO: A, B, C, D, G, H, M. NI: 5, 6, 7, 8, 9, 10, 11, 12, 13, 14, 15, 16, 17, 18, 19, 20, 22, 23, 24, 26, 29, 30, 31, 32, 33, 34, 35, 37, 38, 39.\",IF(AF25=3,\"NO: A, B, C, D, G, H, M. NI: 5, 6, 7, 8, 9, 10, 11, 12, 13, 14, 15, 16, 17, 18, 19, 20, 22, 23, 24, 26, 29, 30, 31, 32, 33, 34, 35, 37, 38, 39.\",\"N/A\"))))","v":"N/A"},{"$f":"Risks!AH30","v":0},{"$f":"IF(AH25=0,\"N/A\",IF(AH25=1,\"NO: A, B, C, D, G, H, M. NI: 5, 6, 7, 8, 9, 10, 11, 12, 13, 14, 15, 16, 17, 18, 19, 20, 22, 23, 24, 26, 29, 30, 31, 32, 33, 34, 35, 37, 38, 39.\", IF(AH25=2,\"NO: A, B, C, D, G, H, M. NI: 5, 6, 7, 8, 9, 10, 11, 12, 13, 14, 15, 16, 17, 18, 19, 20, 22, 23, 24, 26, 29, 30, 31, 32, 33, 34, 35, 37, 38, 39.\",IF(AH25=3,\"NO: A, B, C, D, G, H, M. NI: 5, 6, 7, 8, 9, 10, 11, 12, 13, 14, 15, 16, 17, 18, 19, 20, 22, 23, 24, 26, 29, 30, 31, 32, 33, 34, 35, 37, 38, 39.\",\"N/A\"))))","v":"N/A"},{"$f":"Risks!AJ30","v":0},{"$f":"IF(AJ25=0,\"N/A\",IF(AJ25=1,\"NO: A, B, C, D, G, H, M. NI: 5, 6, 7, 8, 9, 10, 11, 12, 13, 14, 15, 16, 17, 18, 19, 20, 22, 23, 24, 26, 29, 30, 31, 32, 33, 34, 35, 37, 38, 39.\", IF(AJ25=2,\"NO: A, B, C, D, G, H, M. NI: 5, 6, 7, 8, 9, 10, 11, 12, 13, 14, 15, 16, 17, 18, 19, 20, 22, 23, 24, 26, 29, 30, 31, 32, 33, 34, 35, 37, 38, 39.\",IF(AJ25=3,\"NO: A, B, C, D, G, H, M. NI: 5, 6, 7, 8, 9, 10, 11, 12, 13, 14, 15, 16, 17, 18, 19, 20, 22, 23, 24, 26, 29, 30, 31, 32, 33, 34, 35, 37, 38, 39.\",\"N/A\"))))","v":"N/A"},{"$f":"Risks!AL30","v":0},{"$f":"IF(AL25=0,\"N/A\",IF(AL25=1,\"NO: A, B, C, D, G, H, M. NI: 5, 6, 7, 8, 9, 10, 11, 12, 13, 14, 15, 16, 17, 18, 19, 20, 22, 23, 24, 26, 29, 30, 31, 32, 33, 34, 35, 37, 38, 39.\", IF(AL25=2,\"NO: A, B, C, D, G, H, M. NI: 5, 6, 7, 8, 9, 10, 11, 12, 13, 14, 15, 16, 17, 18, 19, 20, 22, 23, 24, 26, 29, 30, 31, 32, 33, 34, 35, 37, 38, 39.\",IF(AL25=3,\"NO: A, B, C, D, G, H, M. NI: 5, 6, 7, 8, 9, 10, 11, 12, 13, 14, 15, 16, 17, 18, 19, 20, 22, 23, 24, 26, 29, 30, 31, 32, 33, 34, 35, 37, 38, 39.\",\"N/A\"))))","v":"N/A"},{"$f":"Risks!AN30","v":0},{"$f":"IF(AN25=0,\"N/A\",IF(AN25=1,\"NO: A, B, C, D, G, H, M. NI: 5, 6, 7, 8, 9, 10, 11, 12, 13, 14, 15, 16, 17, 18, 19, 20, 22, 23, 24, 26, 29, 30, 31, 32, 33, 34, 35, 37, 38, 39.\", IF(AN25=2,\"NO: A, B, C, D, G, H, M. NI: 5, 6, 7, 8, 9, 10, 11, 12, 13, 14, 15, 16, 17, 18, 19, 20, 22, 23, 24, 26, 29, 30, 31, 32, 33, 34, 35, 37, 38, 39.\",IF(AN25=3,\"NO: A, B, C, D, G, H, M. NI: 5, 6, 7, 8, 9, 10, 11, 12, 13, 14, 15, 16, 17, 18, 19, 20, 22, 23, 24, 26, 29, 30, 31, 32, 33, 34, 35, 37, 38, 39.\",\"N/A\"))))","v":"N/A"},{"$f":"Risks!AP30","v":0},{"$f":"IF(AP25=0,\"N/A\",IF(AP25=1,\"NO: A, B, C, D, G, H, M. NI: 5, 6, 7, 8, 9, 10, 11, 12, 13, 14, 15, 16, 17, 18, 19, 20, 22, 23, 24, 26, 29, 30, 31, 32, 33, 34, 35, 37, 38, 39.\", IF(AP25=2,\"NO: A, B, C, D, G, H, M. NI: 5, 6, 7, 8, 9, 10, 11, 12, 13, 14, 15, 16, 17, 18, 19, 20, 22, 23, 24, 26, 29, 30, 31, 32, 33, 34, 35, 37, 38, 39.\",IF(AP25=3,\"NO: A, B, C, D, G, H, M. NI: 5, 6, 7, 8, 9, 10, 11, 12, 13, 14, 15, 16, 17, 18, 19, 20, 22, 23, 24, 26, 29, 30, 31, 32, 33, 34, 35, 37, 38, 39.\",\"N/A\"))))","v":"N/A"},{"$f":"Risks!AR30","v":0},{"$f":"IF(AR25=0,\"N/A\",IF(AR25=1,\"NO: A, B, C, D, G, H, M. NI: 5, 6, 7, 8, 9, 10, 11, 12, 13, 14, 15, 16, 17, 18, 19, 20, 22, 23, 24, 26, 29, 30, 31, 32, 33, 34, 35, 37, 38, 39.\", IF(AR25=2,\"NO: A, B, C, D, G, H, M. NI: 5, 6, 7, 8, 9, 10, 11, 12, 13, 14, 15, 16, 17, 18, 19, 20, 22, 23, 24, 26, 29, 30, 31, 32, 33, 34, 35, 37, 38, 39.\",IF(AR25=3,\"NO: A, B, C, D, G, H, M. NI: 5, 6, 7, 8, 9, 10, 11, 12, 13, 14, 15, 16, 17, 18, 19, 20, 22, 23, 24, 26, 29, 30, 31, 32, 33, 34, 35, 37, 38, 39.\",\"N/A\"))))","v":"N/A"},{"$f":"Risks!AT30","v":0},{"$f":"IF(AT25=0,\"N/A\",IF(AT25=1,\"NO: A, B, C, D, G, H, M. NI: 5, 6, 7, 8, 9, 10, 11, 12, 13, 14, 15, 16, 17, 18, 19, 20, 22, 23, 24, 26, 29, 30, 31, 32, 33, 34, 35, 37, 38, 39.\", IF(AT25=2,\"NO: A, B, C, D, G, H, M. NI: 5, 6, 7, 8, 9, 10, 11, 12, 13, 14, 15, 16, 17, 18, 19, 20, 22, 23, 24, 26, 29, 30, 31, 32, 33, 34, 35, 37, 38, 39.\",IF(AT25=3,\"NO: A, B, C, D, G, H, M. NI: 5, 6, 7, 8, 9, 10, 11, 12, 13, 14, 15, 16, 17, 18, 19, 20, 22, 23, 24, 26, 29, 30, 31, 32, 33, 34, 35, 37, 38, 39.\",\"N/A\"))))","v":"N/A"},{"$f":"Risks!AV30","v":0},{"$f":"IF(AV25=0,\"N/A\",IF(AV25=1,\"NO: A, B, C, D, G, H, M. NI: 5, 6, 7, 8, 9, 10, 11, 12, 13, 14, 15, 16, 17, 18, 19, 20, 22, 23, 24, 26, 29, 30, 31, 32, 33, 34, 35, 37, 38, 39.\", IF(AV25=2,\"NO: A, B, C, D, G, H, M. NI: 5, 6, 7, 8, 9, 10, 11, 12, 13, 14, 15, 16, 17, 18, 19, 20, 22, 23, 24, 26, 29, 30, 31, 32, 33, 34, 35, 37, 38, 39.\",IF(AV25=3,\"NO: A, B, C, D, G, H, M. NI: 5, 6, 7, 8, 9, 10, 11, 12, 13, 14, 15, 16, 17, 18, 19, 20, 22, 23, 24, 26, 29, 30, 31, 32, 33, 34, 35, 37, 38, 39.\",\"N/A\"))))","v":"N/A"},{"$f":"Risks!AX30","v":0},{"$f":"IF(AX25=0,\"N/A\",IF(AX25=1,\"NO: A, B, C, D, G, H, M. NI: 5, 6, 7, 8, 9, 10, 11, 12, 13, 14, 15, 16, 17, 18, 19, 20, 22, 23, 24, 26, 29, 30, 31, 32, 33, 34, 35, 37, 38, 39.\", IF(AX25=2,\"NO: A, B, C, D, G, H, M. NI: 5, 6, 7, 8, 9, 10, 11, 12, 13, 14, 15, 16, 17, 18, 19, 20, 22, 23, 24, 26, 29, 30, 31, 32, 33, 34, 35, 37, 38, 39.\",IF(AX25=3,\"NO: A, B, C, D, G, H, M. NI: 5, 6, 7, 8, 9, 10, 11, 12, 13, 14, 15, 16, 17, 18, 19, 20, 22, 23, 24, 26, 29, 30, 31, 32, 33, 34, 35, 37, 38, 39.\",\"N/A\"))))","v":"N/A"},{"$f":"Risks!AZ30","v":0},{"$f":"IF(AZ25=0,\"N/A\",IF(AZ25=1,\"NO: A, B, C, D, G, H, M. NI: 5, 6, 7, 8, 9, 10, 11, 12, 13, 14, 15, 16, 17, 18, 19, 20, 22, 23, 24, 26, 29, 30, 31, 32, 33, 34, 35, 37, 38, 39.\", IF(AZ25=2,\"NO: A, B, C, D, G, H, M. NI: 5, 6, 7, 8, 9, 10, 11, 12, 13, 14, 15, 16, 17, 18, 19, 20, 22, 23, 24, 26, 29, 30, 31, 32, 33, 34, 35, 37, 38, 39.\",IF(AZ25=3,\"NO: A, B, C, D, G, H, M. NI: 5, 6, 7, 8, 9, 10, 11, 12, 13, 14, 15, 16, 17, 18, 19, 20, 22, 23, 24, 26, 29, 30, 31, 32, 33, 34, 35, 37, 38, 39.\",\"N/A\"))))","v":"N/A"},{"$f":"Risks!BB30","v":0},{"$f":"IF(BB25=0,\"N/A\",IF(BB25=1,\"NO: A, B, C, D, G, H, M. NI: 5, 6, 7, 8, 9, 10, 11, 12, 13, 14, 15, 16, 17, 18, 19, 20, 22, 23, 24, 26, 29, 30, 31, 32, 33, 34, 35, 37, 38, 39.\", IF(BB25=2,\"NO: A, B, C, D, G, H, M. NI: 5, 6, 7, 8, 9, 10, 11, 12, 13, 14, 15, 16, 17, 18, 19, 20, 22, 23, 24, 26, 29, 30, 31, 32, 33, 34, 35, 37, 38, 39.\",IF(BB25=3,\"NO: A, B, C, D, G, H, M. NI: 5, 6, 7, 8, 9, 10, 11, 12, 13, 14, 15, 16, 17, 18, 19, 20, 22, 23, 24, 26, 29, 30, 31, 32, 33, 34, 35, 37, 38, 39.\",\"N/A\"))))","v":"N/A"},{"$f":"Risks!BD30","v":0},{"$f":"IF(BD25=0,\"N/A\",IF(BD25=1,\"NO: A, B, C, D, G, H, M. NI: 5, 6, 7, 8, 9, 10, 11, 12, 13, 14, 15, 16, 17, 18, 19, 20, 22, 23, 24, 26, 29, 30, 31, 32, 33, 34, 35, 37, 38, 39.\", IF(BD25=2,\"NO: A, B, C, D, G, H, M. NI: 5, 6, 7, 8, 9, 10, 11, 12, 13, 14, 15, 16, 17, 18, 19, 20, 22, 23, 24, 26, 29, 30, 31, 32, 33, 34, 35, 37, 38, 39.\",IF(BD25=3,\"NO: A, B, C, D, G, H, M. NI: 5, 6, 7, 8, 9, 10, 11, 12, 13, 14, 15, 16, 17, 18, 19, 20, 22, 23, 24, 26, 29, 30, 31, 32, 33, 34, 35, 37, 38, 39.\",\"N/A\"))))","v":"N/A"},{"$f":"Risks!BF30","v":0},{"$f":"IF(BF25=0,\"N/A\",IF(BF25=1,\"NO: A, B, C, D, G, H, M. NI: 5, 6, 7, 8, 9, 10, 11, 12, 13, 14, 15, 16, 17, 18, 19, 20, 22, 23, 24, 26, 29, 30, 31, 32, 33, 34, 35, 37, 38, 39.\", IF(BF25=2,\"NO: A, B, C, D, G, H, M. NI: 5, 6, 7, 8, 9, 10, 11, 12, 13, 14, 15, 16, 17, 18, 19, 20, 22, 23, 24, 26, 29, 30, 31, 32, 33, 34, 35, 37, 38, 39.\",IF(BF25=3,\"NO: A, B, C, D, G, H, M. NI: 5, 6, 7, 8, 9, 10, 11, 12, 13, 14, 15, 16, 17, 18, 19, 20, 22, 23, 24, 26, 29, 30, 31, 32, 33, 34, 35, 37, 38, 39.\",\"N/A\"))))","v":"N/A"},{"$f":"Risks!BH30","v":0},{"$f":"IF(BH25=0,\"N/A\",IF(BH25=1,\"NO: A, B, C, D, G, H, M. NI: 5, 6, 7, 8, 9, 10, 11, 12, 13, 14, 15, 16, 17, 18, 19, 20, 22, 23, 24, 26, 29, 30, 31, 32, 33, 34, 35, 37, 38, 39.\", IF(BH25=2,\"NO: A, B, C, D, G, H, M. NI: 5, 6, 7, 8, 9, 10, 11, 12, 13, 14, 15, 16, 17, 18, 19, 20, 22, 23, 24, 26, 29, 30, 31, 32, 33, 34, 35, 37, 38, 39.\",IF(BH25=3,\"NO: A, B, C, D, G, H, M. NI: 5, 6, 7, 8, 9, 10, 11, 12, 13, 14, 15, 16, 17, 18, 19, 20, 22, 23, 24, 26, 29, 30, 31, 32, 33, 34, 35, 37, 38, 39.\",\"N/A\"))))","v":"N/A"},{"$f":"Risks!BJ30","v":0},{"$f":"IF(BJ25=0,\"N/A\",IF(BJ25=1,\"NO: A, B, C, D, G, H, M. NI: 5, 6, 7, 8, 9, 10, 11, 12, 13, 14, 15, 16, 17, 18, 19, 20, 22, 23, 24, 26, 29, 30, 31, 32, 33, 34, 35, 37, 38, 39.\", IF(BJ25=2,\"NO: A, B, C, D, G, H, M. NI: 5, 6, 7, 8, 9, 10, 11, 12, 13, 14, 15, 16, 17, 18, 19, 20, 22, 23, 24, 26, 29, 30, 31, 32, 33, 34, 35, 37, 38, 39.\",IF(BJ25=3,\"NO: A, B, C, D, G, H, M. NI: 5, 6, 7, 8, 9, 10, 11, 12, 13, 14, 15, 16, 17, 18, 19, 20, 22, 23, 24, 26, 29, 30, 31, 32, 33, 34, 35, 37, 38, 39.\",\"N/A\"))))","v":"N/A"},{"$f":"Risks!BL30","v":0},{"$f":"IF(BL25=0,\"N/A\",IF(BL25=1,\"NO: A, B, C, D, G, H, M. NI: 5, 6, 7, 8, 9, 10, 11, 12, 13, 14, 15, 16, 17, 18, 19, 20, 22, 23, 24, 26, 29, 30, 31, 32, 33, 34, 35, 37, 38, 39.\", IF(BL25=2,\"NO: A, B, C, D, G, H, M. NI: 5, 6, 7, 8, 9, 10, 11, 12, 13, 14, 15, 16, 17, 18, 19, 20, 22, 23, 24, 26, 29, 30, 31, 32, 33, 34, 35, 37, 38, 39.\",IF(BL25=3,\"NO: A, B, C, D, G, H, M. NI: 5, 6, 7, 8, 9, 10, 11, 12, 13, 14, 15, 16, 17, 18, 19, 20, 22, 23, 24, 26, 29, 30, 31, 32, 33, 34, 35, 37, 38, 39.\",\"N/A\"))))","v":"N/A"},{"$f":"Risks!BN30","v":0},{"$f":"IF(BN25=0,\"N/A\",IF(BN25=1,\"NO: A, B, C, D, G, H, M. NI: 1, 2, 3, 4, 5, 6, 7, 8, 9, 10, 11, 12, 13, 14, 15, 16, 17, 18, 20, 21, 23, 28, 29, 31, 35, 36, 37, 38, 39, 40, 41, 42, 43, 44, 50.\", IF(BN25=2,\"NO: A, B, C, D, G, H, M. NI: 1, 2, 3, 4, 5, 6, 7, 8, 9, 10, 11, 12, 13, 14, 15, 16, 17, 18, 20, 21, 23, 28, 29, 31, 35, 36, 37, 38, 39, 40, 41, 42, 43, 44, 50.\",IF(BN25=3,\"NO: A, B, C, D, G, H, M. NI: 1, 2, 3, 4, 5, 6, 7, 8, 9, 10, 11, 12, 13, 14, 15, 16, 17, 18, 20, 21, 23, 28, 29, 31, 35, 36, 37, 38, 39, 40, 41, 42, 43, 44, 50.\",\"N/A\"))))","v":"N/A"},{"$f":"Risks!BP30","v":0},{"$f":"IF(BP25=0,\"N/A\",IF(BP25=1,\"NO: A, B, C, D, G, H, M. NI: 1, 2, 3, 4, 5, 6, 7, 8, 9, 10, 11, 12, 13, 14, 15, 16, 17, 18, 20, 21, 23, 28, 29, 31, 35, 36, 37, 38, 39, 40, 41, 42, 43, 44, 50.\", IF(BP25=2,\"NO: A, B, C, D, G, H, M. NI: 1, 2, 3, 4, 5, 6, 7, 8, 9, 10, 11, 12, 13, 14, 15, 16, 17, 18, 20, 21, 23, 28, 29, 31, 35, 36, 37, 38, 39, 40, 41, 42, 43, 44, 50.\",IF(BP25=3,\"NO: A, B, C, D, G, H, M. NI: 1, 2, 3, 4, 5, 6, 7, 8, 9, 10, 11, 12, 13, 14, 15, 16, 17, 18, 20, 21, 23, 28, 29, 31, 35, 36, 37, 38, 39, 40, 41, 42, 43, 44, 50.\",\"N/A\"))))","v":"N/A"},{"$f":"Risks!BR30","v":0},{"$f":"IF(BR25=0,\"N/A\",IF(BR25=1,\"NO: A, B, C, D, G, H, M. NI: 1, 2, 3, 4, 5, 6, 7, 8, 9, 10, 11, 12, 13, 14, 15, 16, 17, 18, 20, 21, 23, 28, 29, 31, 35, 36, 37, 38, 39, 40, 41, 42, 43, 44, 50.\", IF(BR25=2,\"NO: A, B, C, D, G, H, M. NI: 1, 2, 3, 4, 5, 6, 7, 8, 9, 10, 11, 12, 13, 14, 15, 16, 17, 18, 20, 21, 23, 28, 29, 31, 35, 36, 37, 38, 39, 40, 41, 42, 43, 44, 50.\",IF(BR25=3,\"NO: A, B, C, D, G, H, M. NI: 1, 2, 3, 4, 5, 6, 7, 8, 9, 10, 11, 12, 13, 14, 15, 16, 17, 18, 20, 21, 23, 28, 29, 31, 35, 36, 37, 38, 39, 40, 41, 42, 43, 44, 50.\",\"N/A\"))))","v":"N/A"},{"$f":"Risks!BT30","v":0},{"$f":"IF(BT25=0,\"N/A\",IF(BT25=1,\"NO: A, B, C, D, G, H, M. NI: 1, 2, 3, 4, 5, 6, 7, 8, 9, 10, 11, 12, 13, 14, 15, 16, 17, 18, 20, 21, 23, 28, 29, 31, 35, 36, 37, 38, 39, 40, 41, 42, 43, 44, 50.\", IF(BT25=2,\"NO: A, B, C, D, G, H, M. NI: 1, 2, 3, 4, 5, 6, 7, 8, 9, 10, 11, 12, 13, 14, 15, 16, 17, 18, 20, 21, 23, 28, 29, 31, 35, 36, 37, 38, 39, 40, 41, 42, 43, 44, 50.\",IF(BT25=3,\"NO: A, B, C, D, G, H, M. NI: 1, 2, 3, 4, 5, 6, 7, 8, 9, 10, 11, 12, 13, 14, 15, 16, 17, 18, 20, 21, 23, 28, 29, 31, 35, 36, 37, 38, 39, 40, 41, 42, 43, 44, 50.\",\"N/A\"))))","v":"N/A"},{"$f":"Risks!BV30","v":0},{"$f":"IF(BV25=0,\"N/A\",IF(BV25=1,\"NO: A, B, C, D, G, H, M. NI: 1, 2, 3, 4, 5, 6, 7, 8, 9, 10, 11, 12, 13, 14, 15, 16, 17, 18, 20, 21, 23, 28, 29, 31, 35, 36, 37, 38, 39, 40, 41, 42, 43, 44, 50.\", IF(BV25=2,\"NO: A, B, C, D, G, H, M. NI: 1, 2, 3, 4, 5, 6, 7, 8, 9, 10, 11, 12, 13, 14, 15, 16, 17, 18, 20, 21, 23, 28, 29, 31, 35, 36, 37, 38, 39, 40, 41, 42, 43, 44, 50.\",IF(BV25=3,\"NO: A, B, C, D, G, H, M. NI: 1, 2, 3, 4, 5, 6, 7, 8, 9, 10, 11, 12, 13, 14, 15, 16, 17, 18, 20, 21, 23, 28, 29, 31, 35, 36, 37, 38, 39, 40, 41, 42, 43, 44, 50.\",\"N/A\"))))","v":"N/A"},{"$f":"Risks!BX30","v":0},{"$f":"IF(BX25=0,\"N/A\",IF(BX25=1,\"NO: A, B, C, D, G, H, M. NI: 1, 2, 3, 4, 5, 6, 7, 8, 9, 10, 11, 12, 13, 14, 15, 16, 17, 18, 20, 21, 23, 28, 29, 31, 35, 36, 37, 38, 39, 40, 41, 42, 43, 44, 50.\", IF(BX25=2,\"NO: A, B, C, D, G, H, M. NI: 1, 2, 3, 4, 5, 6, 7, 8, 9, 10, 11, 12, 13, 14, 15, 16, 17, 18, 20, 21, 23, 28, 29, 31, 35, 36, 37, 38, 39, 40, 41, 42, 43, 44, 50.\",IF(BX25=3,\"NO: A, B, C, D, G, H, M. NI: 1, 2, 3, 4, 5, 6, 7, 8, 9, 10, 11, 12, 13, 14, 15, 16, 17, 18, 20, 21, 23, 28, 29, 31, 35, 36, 37, 38, 39, 40, 41, 42, 43, 44, 50.\",\"N/A\"))))","v":"N/A"},{"$f":"Risks!BZ30","v":0},{"$f":"IF(BZ25=0,\"N/A\",IF(BZ25=1,\"NO: A, B, C, D, G, H, M. NI: 1, 2, 3, 4, 5, 6, 7, 8, 9, 10, 11, 12, 13, 14, 15, 16, 17, 18, 20, 21, 23, 28, 29, 31, 35, 36, 37, 38, 39, 40, 41, 42, 43, 44, 50.\", IF(BZ25=2,\"NO: A, B, C, D, G, H, M. NI: 1, 2, 3, 4, 5, 6, 7, 8, 9, 10, 11, 12, 13, 14, 15, 16, 17, 18, 20, 21, 23, 28, 29, 31, 35, 36, 37, 38, 39, 40, 41, 42, 43, 44, 50.\",IF(BZ25=3,\"NO: A, B, C, D, G, H, M. NI: 1, 2, 3, 4, 5, 6, 7, 8, 9, 10, 11, 12, 13, 14, 15, 16, 17, 18, 20, 21, 23, 28, 29, 31, 35, 36, 37, 38, 39, 40, 41, 42, 43, 44, 50.\",\"N/A\"))))","v":"N/A"},{"$f":"Risks!CB30","v":0},{"$f":"IF(CB25=0,\"N/A\",IF(CB25=1,\"NO: A, B, C, D, G, H, M. NI: 1, 2, 3, 4, 5, 6, 7, 8, 9, 10, 11, 12, 13, 14, 15, 16, 17, 18, 20, 21, 23, 28, 29, 31, 35, 36, 37, 38, 39, 40, 41, 42, 43, 44, 50.\", IF(CB25=2,\"NO: A, B, C, D, G, H, M. NI: 1, 2, 3, 4, 5, 6, 7, 8, 9, 10, 11, 12, 13, 14, 15, 16, 17, 18, 20, 21, 23, 28, 29, 31, 35, 36, 37, 38, 39, 40, 41, 42, 43, 44, 50.\",IF(CB25=3,\"NO: A, B, C, D, G, H, M. NI: 1, 2, 3, 4, 5, 6, 7, 8, 9, 10, 11, 12, 13, 14, 15, 16, 17, 18, 20, 21, 23, 28, 29, 31, 35, 36, 37, 38, 39, 40, 41, 42, 43, 44, 50.\",\"N/A\"))))","v":"N/A"},{"$f":"Risks!CD30","v":0},{"$f":"IF(CD25=0,\"N/A\",IF(CD25=1,\"NO: A, B, C, D, G, H, M. NI: 1, 2, 3, 4, 5, 6, 7, 8, 9, 10, 11, 12, 13, 14, 15, 16, 17, 18, 20, 21, 23, 28, 29, 31, 35, 36, 37, 38, 39, 40, 41, 42, 43, 44, 50.\", IF(CD25=2,\"NO: A, B, C, D, G, H, M. NI: 1, 2, 3, 4, 5, 6, 7, 8, 9, 10, 11, 12, 13, 14, 15, 16, 17, 18, 20, 21, 23, 28, 29, 31, 35, 36, 37, 38, 39, 40, 41, 42, 43, 44, 50.\",IF(CD25=3,\"NO: A, B, C, D, G, H, M. NI: 1, 2, 3, 4, 5, 6, 7, 8, 9, 10, 11, 12, 13, 14, 15, 16, 17, 18, 20, 21, 23, 28, 29, 31, 35, 36, 37, 38, 39, 40, 41, 42, 43, 44, 50.\",\"N/A\"))))","v":"N/A"},null,{"$f":"IssuesInput!F4","v":0},null,null,{"$f":"Risks!CJ30","v":0},{"$f":"IF(CJ25=0,\"N/A\",IF(CJ25=1,\"NO: A, B, C, D, G, H, M. NI: 1, 2, 3, 4, 5, 6, 7, 8, 9, 10, 11, 12, 13, 14, 15, 16, 17, 18, 20, 21, 23, 28, 29, 31, 35, 36, 37, 38, 39, 40, 41, 42, 43, 44, 50.\", IF(CJ25=2,\"NO: A, B, C, D, G, H, M. NI: 1, 2, 3, 4, 5, 6, 7, 8, 9, 10, 11, 12, 13, 14, 15, 16, 17, 18, 20, 21, 23, 28, 29, 31, 35, 36, 37, 38, 39, 40, 41, 42, 43, 44, 50.\",IF(CJ25=3,\"NO: A, B, C, D, G, H, M. NI: 1, 2, 3, 4, 5, 6, 7, 8, 9, 10, 11, 12, 13, 14, 15, 16, 17, 18, 20, 21, 23, 28, 29, 31, 35, 36, 37, 38, 39, 40, 41, 42, 43, 44, 50.\",\"N/A\"))))","v":"N/A"}]
[null,"Scroll down to view all scores",{"$f":"IF(INDEX(SocIssues,ROW()-ROW(C$24))=\"\",\"\",INDEX(SocIssues,ROW()-ROW(C$24)))","v":"Health and wellbeing"},{"$f":"Risks!D31","v":3},{"$f":"IF(D26=0,\"N/A\",IF(D26=1,\"NO: A, F, N. NI: 1, 2, 3, 5, 6, 7, 8, 9, 10, 11, 12, 13, 14, 15, 16, 17, 18, 19, 20, 22, 23, 24, 25, 26, 27, 28, 29, 30, 31, 32, 33, 36, 37, 39. \", IF(D26=2,\"NO: A, F, N. NI: 1, 2, 3, 5, 6, 7, 8, 9, 10, 11, 12, 13, 14, 15, 16, 17, 18, 19, 20, 22, 23, 24, 25, 26, 27, 28, 29, 30, 31, 32, 33, 36, 37, 39. \",IF(D26=3,\"NO: A, F, N. NI: 1, 2, 3, 5, 6, 7, 8, 9, 10, 11, 12, 13, 14, 15, 16, 17, 18, 19, 20, 22, 23, 24, 25, 26, 27, 28, 29, 30, 31, 32, 33, 36, 37, 39. \",\"N/A\"))))","v":"NO: A, F, N. NI: 1, 2, 3, 5, 6, 7, 8, 9, 10, 11, 12, 13, 14, 15, 16, 17, 18, 19, 20, 22, 23, 24, 25, 26, 27, 28, 29, 30, 31, 32, 33, 36, 37, 39. "},{"$f":"Risks!F31","v":3},{"$f":"IF(F26=0,\"N/A\",IF(F26=1,\"NO: A, F, N. NI: 1, 2, 3, 5, 6, 7, 8, 9, 10, 11, 12, 13, 14, 15, 16, 17, 18, 19, 20, 22, 23, 24, 25, 26, 27, 28, 29, 30, 31, 32, 33, 36, 37, 39. \", IF(F26=2,\"NO: A, F, N. NI: 1, 2, 3, 5, 6, 7, 8, 9, 10, 11, 12, 13, 14, 15, 16, 17, 18, 19, 20, 22, 23, 24, 25, 26, 27, 28, 29, 30, 31, 32, 33, 36, 37, 39. \",IF(F26=3,\"NO: A, F, N. NI: 1, 2, 3, 5, 6, 7, 8, 9, 10, 11, 12, 13, 14, 15, 16, 17, 18, 19, 20, 22, 23, 24, 25, 26, 27, 28, 29, 30, 31, 32, 33, 36, 37, 39. \",\"N/A\"))))","v":"NO: A, F, N. NI: 1, 2, 3, 5, 6, 7, 8, 9, 10, 11, 12, 13, 14, 15, 16, 17, 18, 19, 20, 22, 23, 24, 25, 26, 27, 28, 29, 30, 31, 32, 33, 36, 37, 39. "},{"$f":"Risks!H31","v":3},{"$f":"IF(H26=0,\"N/A\",IF(H26=1,\"NO: A, F, N. NI: 1, 2, 3, 5, 6, 7, 8, 9, 10, 11, 12, 13, 14, 15, 16, 17, 18, 19, 20, 22, 23, 24, 25, 26, 27, 28, 29, 30, 31, 32, 33, 36, 37, 39. \", IF(H26=2,\"NO: A, F, N. NI: 1, 2, 3, 5, 6, 7, 8, 9, 10, 11, 12, 13, 14, 15, 16, 17, 18, 19, 20, 22, 23, 24, 25, 26, 27, 28, 29, 30, 31, 32, 33, 36, 37, 39. \",IF(H26=3,\"NO: A, F, N. NI: 1, 2, 3, 5, 6, 7, 8, 9, 10, 11, 12, 13, 14, 15, 16, 17, 18, 19, 20, 22, 23, 24, 25, 26, 27, 28, 29, 30, 31, 32, 33, 36, 37, 39. \",\"N/A\"))))","v":"NO: A, F, N. NI: 1, 2, 3, 5, 6, 7, 8, 9, 10, 11, 12, 13, 14, 15, 16, 17, 18, 19, 20, 22, 23, 24, 25, 26, 27, 28, 29, 30, 31, 32, 33, 36, 37, 39. "},{"$f":"Risks!J31","v":3},{"$f":"IF(J26=0,\"N/A\",IF(J26=1,\"NO: A, F, N. NI: 1, 2, 3, 5, 6, 7, 8, 9, 10, 11, 12, 13, 14, 15, 16, 17, 18, 19, 20, 22, 23, 24, 25, 26, 27, 28, 29, 30, 31, 32, 33, 36, 37, 39. \", IF(J26=2,\"NO: A, F, N. NI: 1, 2, 3, 5, 6, 7, 8, 9, 10, 11, 12, 13, 14, 15, 16, 17, 18, 19, 20, 22, 23, 24, 25, 26, 27, 28, 29, 30, 31, 32, 33, 36, 37, 39. \",IF(J26=3,\"NO: A, F, N. NI: 1, 2, 3, 5, 6, 7, 8, 9, 10, 11, 12, 13, 14, 15, 16, 17, 18, 19, 20, 22, 23, 24, 25, 26, 27, 28, 29, 30, 31, 32, 33, 36, 37, 39. \",\"N/A\"))))","v":"NO: A, F, N. NI: 1, 2, 3, 5, 6, 7, 8, 9, 10, 11, 12, 13, 14, 15, 16, 17, 18, 19, 20, 22, 23, 24, 25, 26, 27, 28, 29, 30, 31, 32, 33, 36, 37, 39. "},{"$f":"Risks!L31","v":3},{"$f":"IF(L26=0,\"N/A\",IF(L26=1,\"NO: A, F, N. NI: 1, 2, 3, 5, 6, 7, 8, 9, 10, 11, 12, 13, 14, 15, 16, 17, 18, 19, 20, 22, 23, 24, 25, 26, 27, 28, 29, 30, 31, 32, 33, 36, 37, 39. \", IF(L26=2,\"NO: A, F, N. NI: 1, 2, 3, 5, 6, 7, 8, 9, 10, 11, 12, 13, 14, 15, 16, 17, 18, 19, 20, 22, 23, 24, 25, 26, 27, 28, 29, 30, 31, 32, 33, 36, 37, 39. \",IF(L26=3,\"NO: A, F, N. NI: 1, 2, 3, 5, 6, 7, 8, 9, 10, 11, 12, 13, 14, 15, 16, 17, 18, 19, 20, 22, 23, 24, 25, 26, 27, 28, 29, 30, 31, 32, 33, 36, 37, 39. \",\"N/A\"))))","v":"NO: A, F, N. NI: 1, 2, 3, 5, 6, 7, 8, 9, 10, 11, 12, 13, 14, 15, 16, 17, 18, 19, 20, 22, 23, 24, 25, 26, 27, 28, 29, 30, 31, 32, 33, 36, 37, 39. "},{"$f":"Risks!N31","v":3},{"$f":"IF(N26=0,\"N/A\",IF(N26=1,\"NO: A, F, N. NI: 1, 2, 3, 5, 6, 7, 8, 9, 10, 11, 12, 13, 14, 15, 16, 17, 18, 19, 20, 22, 23, 24, 25, 26, 27, 28, 29, 30, 31, 32, 33, 36, 37, 39. \", IF(N26=2,\"NO: A, F, N. NI: 1, 2, 3, 5, 6, 7, 8, 9, 10, 11, 12, 13, 14, 15, 16, 17, 18, 19, 20, 22, 23, 24, 25, 26, 27, 28, 29, 30, 31, 32, 33, 36, 37, 39. \",IF(N26=3,\"NO: A, F, N. NI: 1, 2, 3, 5, 6, 7, 8, 9, 10, 11, 12, 13, 14, 15, 16, 17, 18, 19, 20, 22, 23, 24, 25, 26, 27, 28, 29, 30, 31, 32, 33, 36, 37, 39. \",\"N/A\"))))","v":"NO: A, F, N. NI: 1, 2, 3, 5, 6, 7, 8, 9, 10, 11, 12, 13, 14, 15, 16, 17, 18, 19, 20, 22, 23, 24, 25, 26, 27, 28, 29, 30, 31, 32, 33, 36, 37, 39. "},{"$f":"Risks!P31","v":3},{"$f":"IF(P26=0,\"N/A\",IF(P26=1,\"NO: A, F, N. NI: 1, 2, 3, 5, 6, 7, 8, 9, 10, 11, 12, 13, 14, 15, 16, 17, 18, 19, 20, 22, 23, 24, 25, 26, 27, 28, 29, 30, 31, 32, 33, 36, 37, 39. \", IF(P26=2,\"NO: A, F, N. NI: 1, 2, 3, 5, 6, 7, 8, 9, 10, 11, 12, 13, 14, 15, 16, 17, 18, 19, 20, 22, 23, 24, 25, 26, 27, 28, 29, 30, 31, 32, 33, 36, 37, 39. \",IF(P26=3,\"NO: A, F, N. NI: 1, 2, 3, 5, 6, 7, 8, 9, 10, 11, 12, 13, 14, 15, 16, 17, 18, 19, 20, 22, 23, 24, 25, 26, 27, 28, 29, 30, 31, 32, 33, 36, 37, 39. \",\"N/A\"))))","v":"NO: A, F, N. NI: 1, 2, 3, 5, 6, 7, 8, 9, 10, 11, 12, 13, 14, 15, 16, 17, 18, 19, 20, 22, 23, 24, 25, 26, 27, 28, 29, 30, 31, 32, 33, 36, 37, 39. "},{"$f":"Risks!R31","v":3},{"$f":"IF(R26=0,\"N/A\",IF(R26=1,\"NO: A, F, N. NI: 1, 2, 3, 5, 6, 7, 8, 9, 10, 11, 12, 13, 14, 15, 16, 17, 18, 19, 20, 22, 23, 24, 25, 26, 27, 28, 29, 30, 31, 32, 33, 36, 37, 39. \", IF(R26=2,\"NO: A, F, N. NI: 1, 2, 3, 5, 6, 7, 8, 9, 10, 11, 12, 13, 14, 15, 16, 17, 18, 19, 20, 22, 23, 24, 25, 26, 27, 28, 29, 30, 31, 32, 33, 36, 37, 39. \",IF(R26=3,\"NO: A, F, N. NI: 1, 2, 3, 5, 6, 7, 8, 9, 10, 11, 12, 13, 14, 15, 16, 17, 18, 19, 20, 22, 23, 24, 25, 26, 27, 28, 29, 30, 31, 32, 33, 36, 37, 39. \",\"N/A\"))))","v":"NO: A, F, N. NI: 1, 2, 3, 5, 6, 7, 8, 9, 10, 11, 12, 13, 14, 15, 16, 17, 18, 19, 20, 22, 23, 24, 25, 26, 27, 28, 29, 30, 31, 32, 33, 36, 37, 39. "},{"$f":"Risks!T31","v":0},{"$f":"IF(T26=0,\"N/A\",IF(T26=1,\"NO: A, F, N. NI: 1, 2, 3, 5, 6, 7, 8, 9, 10, 11, 12, 13, 14, 15, 16, 17, 18, 19, 20, 22, 23, 24, 25, 26, 27, 28, 29, 30, 31, 32, 33, 36, 37, 39. \", IF(T26=2,\"NO: A, F, N. NI: 1, 2, 3, 5, 6, 7, 8, 9, 10, 11, 12, 13, 14, 15, 16, 17, 18, 19, 20, 22, 23, 24, 25, 26, 27, 28, 29, 30, 31, 32, 33, 36, 37, 39. \",IF(T26=3,\"NO: A, F, N. NI: 1, 2, 3, 5, 6, 7, 8, 9, 10, 11, 12, 13, 14, 15, 16, 17, 18, 19, 20, 22, 23, 24, 25, 26, 27, 28, 29, 30, 31, 32, 33, 36, 37, 39. \",\"N/A\"))))","v":"N/A"},{"$f":"Risks!V31","v":0},{"$f":"IF(V26=0,\"N/A\",IF(V26=1,\"NO: A, F, N. NI: 1, 2, 3, 5, 6, 7, 8, 9, 10, 11, 12, 13, 14, 15, 16, 17, 18, 19, 20, 22, 23, 24, 25, 26, 27, 28, 29, 30, 31, 32, 33, 36, 37, 39. \", IF(V26=2,\"NO: A, F, N. NI: 1, 2, 3, 5, 6, 7, 8, 9, 10, 11, 12, 13, 14, 15, 16, 17, 18, 19, 20, 22, 23, 24, 25, 26, 27, 28, 29, 30, 31, 32, 33, 36, 37, 39. \",IF(V26=3,\"NO: A, F, N. NI: 1, 2, 3, 5, 6, 7, 8, 9, 10, 11, 12, 13, 14, 15, 16, 17, 18, 19, 20, 22, 23, 24, 25, 26, 27, 28, 29, 30, 31, 32, 33, 36, 37, 39. \",\"N/A\"))))","v":"N/A"},{"$f":"Risks!X31","v":0},{"$f":"IF(X26=0,\"N/A\",IF(X26=1,\"NO: A, F, N. NI: 1, 2, 3, 5, 6, 7, 8, 9, 10, 11, 12, 13, 14, 15, 16, 17, 18, 19, 20, 22, 23, 24, 25, 26, 27, 28, 29, 30, 31, 32, 33, 36, 37, 39. \", IF(X26=2,\"NO: A, F, N. NI: 1, 2, 3, 5, 6, 7, 8, 9, 10, 11, 12, 13, 14, 15, 16, 17, 18, 19, 20, 22, 23, 24, 25, 26, 27, 28, 29, 30, 31, 32, 33, 36, 37, 39. \",IF(X26=3,\"NO: A, F, N. NI: 1, 2, 3, 5, 6, 7, 8, 9, 10, 11, 12, 13, 14, 15, 16, 17, 18, 19, 20, 22, 23, 24, 25, 26, 27, 28, 29, 30, 31, 32, 33, 36, 37, 39. \",\"N/A\"))))","v":"N/A"},{"$f":"Risks!Z31","v":0},{"$f":"IF(Z26=0,\"N/A\",IF(Z26=1,\"NO: A, F, N. NI: 1, 2, 3, 5, 6, 7, 8, 9, 10, 11, 12, 13, 14, 15, 16, 17, 18, 19, 20, 22, 23, 24, 25, 26, 27, 28, 29, 30, 31, 32, 33, 36, 37, 39. \", IF(Z26=2,\"NO: A, F, N. NI: 1, 2, 3, 5, 6, 7, 8, 9, 10, 11, 12, 13, 14, 15, 16, 17, 18, 19, 20, 22, 23, 24, 25, 26, 27, 28, 29, 30, 31, 32, 33, 36, 37, 39. \",IF(Z26=3,\"NO: A, F, N. NI: 1, 2, 3, 5, 6, 7, 8, 9, 10, 11, 12, 13, 14, 15, 16, 17, 18, 19, 20, 22, 23, 24, 25, 26, 27, 28, 29, 30, 31, 32, 33, 36, 37, 39. \",\"N/A\"))))","v":"N/A"},{"$f":"Risks!AB31","v":0},{"$f":"IF(AB26=0,\"N/A\",IF(AB26=1,\"NO: A, F, N. NI: 1, 2, 3, 5, 6, 7, 8, 9, 10, 11, 12, 13, 14, 15, 16, 17, 18, 19, 20, 22, 23, 24, 25, 26, 27, 28, 29, 30, 31, 32, 33, 36, 37, 39. \", IF(AB26=2,\"NO: A, F, N. NI: 1, 2, 3, 5, 6, 7, 8, 9, 10, 11, 12, 13, 14, 15, 16, 17, 18, 19, 20, 22, 23, 24, 25, 26, 27, 28, 29, 30, 31, 32, 33, 36, 37, 39. \",IF(AB26=3,\"NO: A, F, N. NI: 1, 2, 3, 5, 6, 7, 8, 9, 10, 11, 12, 13, 14, 15, 16, 17, 18, 19, 20, 22, 23, 24, 25, 26, 27, 28, 29, 30, 31, 32, 33, 36, 37, 39. \",\"N/A\"))))","v":"N/A"},{"$f":"Risks!AD31","v":0},{"$f":"IF(AD26=0,\"N/A\",IF(AD26=1,\"NO: A, F, N. NI: 1, 2, 3, 5, 6, 7, 8, 9, 10, 11, 12, 13, 14, 15, 16, 17, 18, 19, 20, 22, 23, 24, 25, 26, 27, 28, 29, 30, 31, 32, 33, 36, 37, 39. \", IF(AD26=2,\"NO: A, F, N. NI: 1, 2, 3, 5, 6, 7, 8, 9, 10, 11, 12, 13, 14, 15, 16, 17, 18, 19, 20, 22, 23, 24, 25, 26, 27, 28, 29, 30, 31, 32, 33, 36, 37, 39. \",IF(AD26=3,\"NO: A, F, N. NI: 1, 2, 3, 5, 6, 7, 8, 9, 10, 11, 12, 13, 14, 15, 16, 17, 18, 19, 20, 22, 23, 24, 25, 26, 27, 28, 29, 30, 31, 32, 33, 36, 37, 39. \",\"N/A\"))))","v":"N/A"},{"$f":"Risks!AF31","v":0},{"$f":"IF(AF26=0,\"N/A\",IF(AF26=1,\"NO: A, F, N. NI: 1, 2, 3, 5, 6, 7, 8, 9, 10, 11, 12, 13, 14, 15, 16, 17, 18, 19, 20, 22, 23, 24, 25, 26, 27, 28, 29, 30, 31, 32, 33, 36, 37, 39. \", IF(AF26=2,\"NO: A, F, N. NI: 1, 2, 3, 5, 6, 7, 8, 9, 10, 11, 12, 13, 14, 15, 16, 17, 18, 19, 20, 22, 23, 24, 25, 26, 27, 28, 29, 30, 31, 32, 33, 36, 37, 39. \",IF(AF26=3,\"NO: A, F, N. NI: 1, 2, 3, 5, 6, 7, 8, 9, 10, 11, 12, 13, 14, 15, 16, 17, 18, 19, 20, 22, 23, 24, 25, 26, 27, 28, 29, 30, 31, 32, 33, 36, 37, 39. \",\"N/A\"))))","v":"N/A"},{"$f":"Risks!AH31","v":0},{"$f":"IF(AH26=0,\"N/A\",IF(AH26=1,\"NO: A, F, N. NI: 1, 2, 3, 5, 6, 7, 8, 9, 10, 11, 12, 13, 14, 15, 16, 17, 18, 19, 20, 22, 23, 24, 25, 26, 27, 28, 29, 30, 31, 32, 33, 36, 37, 39. \", IF(AH26=2,\"NO: A, F, N. NI: 1, 2, 3, 5, 6, 7, 8, 9, 10, 11, 12, 13, 14, 15, 16, 17, 18, 19, 20, 22, 23, 24, 25, 26, 27, 28, 29, 30, 31, 32, 33, 36, 37, 39. \",IF(AH26=3,\"NO: A, F, N. NI: 1, 2, 3, 5, 6, 7, 8, 9, 10, 11, 12, 13, 14, 15, 16, 17, 18, 19, 20, 22, 23, 24, 25, 26, 27, 28, 29, 30, 31, 32, 33, 36, 37, 39. \",\"N/A\"))))","v":"N/A"},{"$f":"Risks!AJ31","v":0},{"$f":"IF(AJ26=0,\"N/A\",IF(AJ26=1,\"NO: A, F, N. NI: 1, 2, 3, 5, 6, 7, 8, 9, 10, 11, 12, 13, 14, 15, 16, 17, 18, 19, 20, 22, 23, 24, 25, 26, 27, 28, 29, 30, 31, 32, 33, 36, 37, 39. \", IF(AJ26=2,\"NO: A, F, N. NI: 1, 2, 3, 5, 6, 7, 8, 9, 10, 11, 12, 13, 14, 15, 16, 17, 18, 19, 20, 22, 23, 24, 25, 26, 27, 28, 29, 30, 31, 32, 33, 36, 37, 39. \",IF(AJ26=3,\"NO: A, F, N. NI: 1, 2, 3, 5, 6, 7, 8, 9, 10, 11, 12, 13, 14, 15, 16, 17, 18, 19, 20, 22, 23, 24, 25, 26, 27, 28, 29, 30, 31, 32, 33, 36, 37, 39. \",\"N/A\"))))","v":"N/A"},{"$f":"Risks!AL31","v":0},{"$f":"IF(AL26=0,\"N/A\",IF(AL26=1,\"NO: A, F, N. NI: 1, 2, 3, 5, 6, 7, 8, 9, 10, 11, 12, 13, 14, 15, 16, 17, 18, 19, 20, 22, 23, 24, 25, 26, 27, 28, 29, 30, 31, 32, 33, 36, 37, 39. \", IF(AL26=2,\"NO: A, F, N. NI: 1, 2, 3, 5, 6, 7, 8, 9, 10, 11, 12, 13, 14, 15, 16, 17, 18, 19, 20, 22, 23, 24, 25, 26, 27, 28, 29, 30, 31, 32, 33, 36, 37, 39. \",IF(AL26=3,\"NO: A, F, N. NI: 1, 2, 3, 5, 6, 7, 8, 9, 10, 11, 12, 13, 14, 15, 16, 17, 18, 19, 20, 22, 23, 24, 25, 26, 27, 28, 29, 30, 31, 32, 33, 36, 37, 39. \",\"N/A\"))))","v":"N/A"},{"$f":"Risks!AN31","v":0},{"$f":"IF(AN26=0,\"N/A\",IF(AN26=1,\"NO: A, F, N. NI: 1, 2, 3, 5, 6, 7, 8, 9, 10, 11, 12, 13, 14, 15, 16, 17, 18, 19, 20, 22, 23, 24, 25, 26, 27, 28, 29, 30, 31, 32, 33, 36, 37, 39. \", IF(AN26=2,\"NO: A, F, N. NI: 1, 2, 3, 5, 6, 7, 8, 9, 10, 11, 12, 13, 14, 15, 16, 17, 18, 19, 20, 22, 23, 24, 25, 26, 27, 28, 29, 30, 31, 32, 33, 36, 37, 39. \",IF(AN26=3,\"NO: A, F, N. NI: 1, 2, 3, 5, 6, 7, 8, 9, 10, 11, 12, 13, 14, 15, 16, 17, 18, 19, 20, 22, 23, 24, 25, 26, 27, 28, 29, 30, 31, 32, 33, 36, 37, 39. \",\"N/A\"))))","v":"N/A"},{"$f":"Risks!AP31","v":0},{"$f":"IF(AP26=0,\"N/A\",IF(AP26=1,\"NO: A, F, N. NI: 1, 2, 3, 5, 6, 7, 8, 9, 10, 11, 12, 13, 14, 15, 16, 17, 18, 19, 20, 22, 23, 24, 25, 26, 27, 28, 29, 30, 31, 32, 33, 36, 37, 39. \", IF(AP26=2,\"NO: A, F, N. NI: 1, 2, 3, 5, 6, 7, 8, 9, 10, 11, 12, 13, 14, 15, 16, 17, 18, 19, 20, 22, 23, 24, 25, 26, 27, 28, 29, 30, 31, 32, 33, 36, 37, 39. \",IF(AP26=3,\"NO: A, F, N. NI: 1, 2, 3, 5, 6, 7, 8, 9, 10, 11, 12, 13, 14, 15, 16, 17, 18, 19, 20, 22, 23, 24, 25, 26, 27, 28, 29, 30, 31, 32, 33, 36, 37, 39. \",\"N/A\"))))","v":"N/A"},{"$f":"Risks!AR31","v":0},{"$f":"IF(AR26=0,\"N/A\",IF(AR26=1,\"NO: A, F, N. NI: 1, 2, 3, 5, 6, 7, 8, 9, 10, 11, 12, 13, 14, 15, 16, 17, 18, 19, 20, 22, 23, 24, 25, 26, 27, 28, 29, 30, 31, 32, 33, 36, 37, 39. \", IF(AR26=2,\"NO: A, F, N. NI: 1, 2, 3, 5, 6, 7, 8, 9, 10, 11, 12, 13, 14, 15, 16, 17, 18, 19, 20, 22, 23, 24, 25, 26, 27, 28, 29, 30, 31, 32, 33, 36, 37, 39. \",IF(AR26=3,\"NO: A, F, N. NI: 1, 2, 3, 5, 6, 7, 8, 9, 10, 11, 12, 13, 14, 15, 16, 17, 18, 19, 20, 22, 23, 24, 25, 26, 27, 28, 29, 30, 31, 32, 33, 36, 37, 39. \",\"N/A\"))))","v":"N/A"},{"$f":"Risks!AT31","v":0},{"$f":"IF(AT26=0,\"N/A\",IF(AT26=1,\"NO: A, F, N. NI: 1, 2, 3, 5, 6, 7, 8, 9, 10, 11, 12, 13, 14, 15, 16, 17, 18, 19, 20, 22, 23, 24, 25, 26, 27, 28, 29, 30, 31, 32, 33, 36, 37, 39. \", IF(AT26=2,\"NO: A, F, N. NI: 1, 2, 3, 5, 6, 7, 8, 9, 10, 11, 12, 13, 14, 15, 16, 17, 18, 19, 20, 22, 23, 24, 25, 26, 27, 28, 29, 30, 31, 32, 33, 36, 37, 39. \",IF(AT26=3,\"NO: A, F, N. NI: 1, 2, 3, 5, 6, 7, 8, 9, 10, 11, 12, 13, 14, 15, 16, 17, 18, 19, 20, 22, 23, 24, 25, 26, 27, 28, 29, 30, 31, 32, 33, 36, 37, 39. \",\"N/A\"))))","v":"N/A"},{"$f":"Risks!AV31","v":0},{"$f":"IF(AV26=0,\"N/A\",IF(AV26=1,\"NO: A, F, N. NI: 1, 2, 3, 5, 6, 7, 8, 9, 10, 11, 12, 13, 14, 15, 16, 17, 18, 19, 20, 22, 23, 24, 25, 26, 27, 28, 29, 30, 31, 32, 33, 36, 37, 39. \", IF(AV26=2,\"NO: A, F, N. NI: 1, 2, 3, 5, 6, 7, 8, 9, 10, 11, 12, 13, 14, 15, 16, 17, 18, 19, 20, 22, 23, 24, 25, 26, 27, 28, 29, 30, 31, 32, 33, 36, 37, 39. \",IF(AV26=3,\"NO: A, F, N. NI: 1, 2, 3, 5, 6, 7, 8, 9, 10, 11, 12, 13, 14, 15, 16, 17, 18, 19, 20, 22, 23, 24, 25, 26, 27, 28, 29, 30, 31, 32, 33, 36, 37, 39. \",\"N/A\"))))","v":"N/A"},{"$f":"Risks!AX31","v":0},{"$f":"IF(AX26=0,\"N/A\",IF(AX26=1,\"NO: A, F, N. NI: 1, 2, 3, 5, 6, 7, 8, 9, 10, 11, 12, 13, 14, 15, 16, 17, 18, 19, 20, 22, 23, 24, 25, 26, 27, 28, 29, 30, 31, 32, 33, 36, 37, 39. \", IF(AX26=2,\"NO: A, F, N. NI: 1, 2, 3, 5, 6, 7, 8, 9, 10, 11, 12, 13, 14, 15, 16, 17, 18, 19, 20, 22, 23, 24, 25, 26, 27, 28, 29, 30, 31, 32, 33, 36, 37, 39. \",IF(AX26=3,\"NO: A, F, N. NI: 1, 2, 3, 5, 6, 7, 8, 9, 10, 11, 12, 13, 14, 15, 16, 17, 18, 19, 20, 22, 23, 24, 25, 26, 27, 28, 29, 30, 31, 32, 33, 36, 37, 39. \",\"N/A\"))))","v":"N/A"},{"$f":"Risks!AZ31","v":0},{"$f":"IF(AZ26=0,\"N/A\",IF(AZ26=1,\"NO: A, F, N. NI: 1, 2, 3, 5, 6, 7, 8, 9, 10, 11, 12, 13, 14, 15, 16, 17, 18, 19, 20, 22, 23, 24, 25, 26, 27, 28, 29, 30, 31, 32, 33, 36, 37, 39. \", IF(AZ26=2,\"NO: A, F, N. NI: 1, 2, 3, 5, 6, 7, 8, 9, 10, 11, 12, 13, 14, 15, 16, 17, 18, 19, 20, 22, 23, 24, 25, 26, 27, 28, 29, 30, 31, 32, 33, 36, 37, 39. \",IF(AZ26=3,\"NO: A, F, N. NI: 1, 2, 3, 5, 6, 7, 8, 9, 10, 11, 12, 13, 14, 15, 16, 17, 18, 19, 20, 22, 23, 24, 25, 26, 27, 28, 29, 30, 31, 32, 33, 36, 37, 39. \",\"N/A\"))))","v":"N/A"},{"$f":"Risks!BB31","v":0},{"$f":"IF(BB26=0,\"N/A\",IF(BB26=1,\"NO: A, F, N. NI: 1, 2, 3, 5, 6, 7, 8, 9, 10, 11, 12, 13, 14, 15, 16, 17, 18, 19, 20, 22, 23, 24, 25, 26, 27, 28, 29, 30, 31, 32, 33, 36, 37, 39. \", IF(BB26=2,\"NO: A, F, N. NI: 1, 2, 3, 5, 6, 7, 8, 9, 10, 11, 12, 13, 14, 15, 16, 17, 18, 19, 20, 22, 23, 24, 25, 26, 27, 28, 29, 30, 31, 32, 33, 36, 37, 39. \",IF(BB26=3,\"NO: A, F, N. NI: 1, 2, 3, 5, 6, 7, 8, 9, 10, 11, 12, 13, 14, 15, 16, 17, 18, 19, 20, 22, 23, 24, 25, 26, 27, 28, 29, 30, 31, 32, 33, 36, 37, 39. \",\"N/A\"))))","v":"N/A"},{"$f":"Risks!BD31","v":0},{"$f":"IF(BD26=0,\"N/A\",IF(BD26=1,\"NO: A, F, N. NI: 1, 2, 3, 5, 6, 7, 8, 9, 10, 11, 12, 13, 14, 15, 16, 17, 18, 19, 20, 22, 23, 24, 25, 26, 27, 28, 29, 30, 31, 32, 33, 36, 37, 39. \", IF(BD26=2,\"NO: A, F, N. NI: 1, 2, 3, 5, 6, 7, 8, 9, 10, 11, 12, 13, 14, 15, 16, 17, 18, 19, 20, 22, 23, 24, 25, 26, 27, 28, 29, 30, 31, 32, 33, 36, 37, 39. \",IF(BD26=3,\"NO: A, F, N. NI: 1, 2, 3, 5, 6, 7, 8, 9, 10, 11, 12, 13, 14, 15, 16, 17, 18, 19, 20, 22, 23, 24, 25, 26, 27, 28, 29, 30, 31, 32, 33, 36, 37, 39. \",\"N/A\"))))","v":"N/A"},{"$f":"Risks!BF31","v":0},{"$f":"IF(BF26=0,\"N/A\",IF(BF26=1,\"NO: A, F, N. NI: 1, 2, 3, 5, 6, 7, 8, 9, 10, 11, 12, 13, 14, 15, 16, 17, 18, 19, 20, 22, 23, 24, 25, 26, 27, 28, 29, 30, 31, 32, 33, 36, 37, 39. \", IF(BF26=2,\"NO: A, F, N. NI: 1, 2, 3, 5, 6, 7, 8, 9, 10, 11, 12, 13, 14, 15, 16, 17, 18, 19, 20, 22, 23, 24, 25, 26, 27, 28, 29, 30, 31, 32, 33, 36, 37, 39. \",IF(BF26=3,\"NO: A, F, N. NI: 1, 2, 3, 5, 6, 7, 8, 9, 10, 11, 12, 13, 14, 15, 16, 17, 18, 19, 20, 22, 23, 24, 25, 26, 27, 28, 29, 30, 31, 32, 33, 36, 37, 39. \",\"N/A\"))))","v":"N/A"},{"$f":"Risks!BH31","v":0},{"$f":"IF(BH26=0,\"N/A\",IF(BH26=1,\"NO: A, F, N. NI: 1, 2, 3, 5, 6, 7, 8, 9, 10, 11, 12, 13, 14, 15, 16, 17, 18, 19, 20, 22, 23, 24, 25, 26, 27, 28, 29, 30, 31, 32, 33, 36, 37, 39. \", IF(BH26=2,\"NO: A, F, N. NI: 1, 2, 3, 5, 6, 7, 8, 9, 10, 11, 12, 13, 14, 15, 16, 17, 18, 19, 20, 22, 23, 24, 25, 26, 27, 28, 29, 30, 31, 32, 33, 36, 37, 39. \",IF(BH26=3,\"NO: A, F, N. NI: 1, 2, 3, 5, 6, 7, 8, 9, 10, 11, 12, 13, 14, 15, 16, 17, 18, 19, 20, 22, 23, 24, 25, 26, 27, 28, 29, 30, 31, 32, 33, 36, 37, 39. \",\"N/A\"))))","v":"N/A"},{"$f":"Risks!BJ31","v":0},{"$f":"IF(BJ26=0,\"N/A\",IF(BJ26=1,\"NO: A, F, N. NI: 1, 2, 3, 5, 6, 7, 8, 9, 10, 11, 12, 13, 14, 15, 16, 17, 18, 19, 20, 22, 23, 24, 25, 26, 27, 28, 29, 30, 31, 32, 33, 36, 37, 39. \", IF(BJ26=2,\"NO: A, F, N. NI: 1, 2, 3, 5, 6, 7, 8, 9, 10, 11, 12, 13, 14, 15, 16, 17, 18, 19, 20, 22, 23, 24, 25, 26, 27, 28, 29, 30, 31, 32, 33, 36, 37, 39. \",IF(BJ26=3,\"NO: A, F, N. NI: 1, 2, 3, 5, 6, 7, 8, 9, 10, 11, 12, 13, 14, 15, 16, 17, 18, 19, 20, 22, 23, 24, 25, 26, 27, 28, 29, 30, 31, 32, 33, 36, 37, 39. \",\"N/A\"))))","v":"N/A"},{"$f":"Risks!BL31","v":0},{"$f":"IF(BL26=0,\"N/A\",IF(BL26=1,\"NO: A, F, N. NI: 1, 2, 3, 5, 6, 7, 8, 9, 10, 11, 12, 13, 14, 15, 16, 17, 18, 19, 20, 22, 23, 24, 25, 26, 27, 28, 29, 30, 31, 32, 33, 36, 37, 39. \", IF(BL26=2,\"NO: A, F, N. NI: 1, 2, 3, 5, 6, 7, 8, 9, 10, 11, 12, 13, 14, 15, 16, 17, 18, 19, 20, 22, 23, 24, 25, 26, 27, 28, 29, 30, 31, 32, 33, 36, 37, 39. \",IF(BL26=3,\"NO: A, F, N. NI: 1, 2, 3, 5, 6, 7, 8, 9, 10, 11, 12, 13, 14, 15, 16, 17, 18, 19, 20, 22, 23, 24, 25, 26, 27, 28, 29, 30, 31, 32, 33, 36, 37, 39. \",\"N/A\"))))","v":"N/A"},{"$f":"Risks!BN31","v":0},{"$f":"IF(BN26=0,\"N/A\",IF(BN26=1,\"NO: A, E, F, N. NI: 1, 2, 3, 4, 5, 6, 7, 8, 9, 10, 11, 12, 13, 14, 15, 16, 17, 18, 19, 20, 21, 22, 23, 24, 25, 26, 27, 28, 29, 32, 35, 36, 37, 40, 48. \", IF(BN26=2,\"NO: A, E, F, N. NI: 1, 2, 3, 4, 5, 6, 7, 8, 9, 10, 11, 12, 13, 14, 15, 16, 17, 18, 19, 20, 21, 22, 23, 24, 25, 26, 27, 28, 29, 32, 35, 36, 37, 40, 48. \",IF(BN26=3,\"NO: A, E, F, N. NI: 1, 2, 3, 4, 5, 6, 7, 8, 9, 10, 11, 12, 13, 14, 15, 16, 17, 18, 19, 20, 21, 22, 23, 24, 25, 26, 27, 28, 29, 32, 35, 36, 37, 40, 48. \",\"N/A\"))))","v":"N/A"},{"$f":"Risks!BP31","v":0},{"$f":"IF(BP26=0,\"N/A\",IF(BP26=1,\"NO: A, E, F, N. NI: 1, 2, 3, 4, 5, 6, 7, 8, 9, 10, 11, 12, 13, 14, 15, 16, 17, 18, 19, 20, 21, 22, 23, 24, 25, 26, 27, 28, 29, 32, 35, 36, 37, 40, 48. \", IF(BP26=2,\"NO: A, E, F, N. NI: 1, 2, 3, 4, 5, 6, 7, 8, 9, 10, 11, 12, 13, 14, 15, 16, 17, 18, 19, 20, 21, 22, 23, 24, 25, 26, 27, 28, 29, 32, 35, 36, 37, 40, 48. \",IF(BP26=3,\"NO: A, E, F, N. NI: 1, 2, 3, 4, 5, 6, 7, 8, 9, 10, 11, 12, 13, 14, 15, 16, 17, 18, 19, 20, 21, 22, 23, 24, 25, 26, 27, 28, 29, 32, 35, 36, 37, 40, 48. \",\"N/A\"))))","v":"N/A"},{"$f":"Risks!BR31","v":0},{"$f":"IF(BR26=0,\"N/A\",IF(BR26=1,\"NO: A, E, F, N. NI: 1, 2, 3, 4, 5, 6, 7, 8, 9, 10, 11, 12, 13, 14, 15, 16, 17, 18, 19, 20, 21, 22, 23, 24, 25, 26, 27, 28, 29, 32, 35, 36, 37, 40, 48. \", IF(BR26=2,\"NO: A, E, F, N. NI: 1, 2, 3, 4, 5, 6, 7, 8, 9, 10, 11, 12, 13, 14, 15, 16, 17, 18, 19, 20, 21, 22, 23, 24, 25, 26, 27, 28, 29, 32, 35, 36, 37, 40, 48. \",IF(BR26=3,\"NO: A, E, F, N. NI: 1, 2, 3, 4, 5, 6, 7, 8, 9, 10, 11, 12, 13, 14, 15, 16, 17, 18, 19, 20, 21, 22, 23, 24, 25, 26, 27, 28, 29, 32, 35, 36, 37, 40, 48. \",\"N/A\"))))","v":"N/A"},{"$f":"Risks!BT31","v":0},{"$f":"IF(BT26=0,\"N/A\",IF(BT26=1,\"NO: A, E, F, N. NI: 1, 2, 3, 4, 5, 6, 7, 8, 9, 10, 11, 12, 13, 14, 15, 16, 17, 18, 19, 20, 21, 22, 23, 24, 25, 26, 27, 28, 29, 32, 35, 36, 37, 40, 48. \", IF(BT26=2,\"NO: A, E, F, N. NI: 1, 2, 3, 4, 5, 6, 7, 8, 9, 10, 11, 12, 13, 14, 15, 16, 17, 18, 19, 20, 21, 22, 23, 24, 25, 26, 27, 28, 29, 32, 35, 36, 37, 40, 48. \",IF(BT26=3,\"NO: A, E, F, N. NI: 1, 2, 3, 4, 5, 6, 7, 8, 9, 10, 11, 12, 13, 14, 15, 16, 17, 18, 19, 20, 21, 22, 23, 24, 25, 26, 27, 28, 29, 32, 35, 36, 37, 40, 48. \",\"N/A\"))))","v":"N/A"},{"$f":"Risks!BV31","v":0},{"$f":"IF(BV26=0,\"N/A\",IF(BV26=1,\"NO: A, E, F, N. NI: 1, 2, 3, 4, 5, 6, 7, 8, 9, 10, 11, 12, 13, 14, 15, 16, 17, 18, 19, 20, 21, 22, 23, 24, 25, 26, 27, 28, 29, 32, 35, 36, 37, 40, 48. \", IF(BV26=2,\"NO: A, E, F, N. NI: 1, 2, 3, 4, 5, 6, 7, 8, 9, 10, 11, 12, 13, 14, 15, 16, 17, 18, 19, 20, 21, 22, 23, 24, 25, 26, 27, 28, 29, 32, 35, 36, 37, 40, 48. \",IF(BV26=3,\"NO: A, E, F, N. NI: 1, 2, 3, 4, 5, 6, 7, 8, 9, 10, 11, 12, 13, 14, 15, 16, 17, 18, 19, 20, 21, 22, 23, 24, 25, 26, 27, 28, 29, 32, 35, 36, 37, 40, 48. \",\"N/A\"))))","v":"N/A"},{"$f":"Risks!BX31","v":0},{"$f":"IF(BX26=0,\"N/A\",IF(BX26=1,\"NO: A, E, F, N. NI: 1, 2, 3, 4, 5, 6, 7, 8, 9, 10, 11, 12, 13, 14, 15, 16, 17, 18, 19, 20, 21, 22, 23, 24, 25, 26, 27, 28, 29, 32, 35, 36, 37, 40, 48. \", IF(BX26=2,\"NO: A, E, F, N. NI: 1, 2, 3, 4, 5, 6, 7, 8, 9, 10, 11, 12, 13, 14, 15, 16, 17, 18, 19, 20, 21, 22, 23, 24, 25, 26, 27, 28, 29, 32, 35, 36, 37, 40, 48. \",IF(BX26=3,\"NO: A, E, F, N. NI: 1, 2, 3, 4, 5, 6, 7, 8, 9, 10, 11, 12, 13, 14, 15, 16, 17, 18, 19, 20, 21, 22, 23, 24, 25, 26, 27, 28, 29, 32, 35, 36, 37, 40, 48. \",\"N/A\"))))","v":"N/A"},{"$f":"Risks!BZ31","v":0},{"$f":"IF(BZ26=0,\"N/A\",IF(BZ26=1,\"NO: A, E, F, N. NI: 1, 2, 3, 4, 5, 6, 7, 8, 9, 10, 11, 12, 13, 14, 15, 16, 17, 18, 19, 20, 21, 22, 23, 24, 25, 26, 27, 28, 29, 32, 35, 36, 37, 40, 48. \", IF(BZ26=2,\"NO: A, E, F, N. NI: 1, 2, 3, 4, 5, 6, 7, 8, 9, 10, 11, 12, 13, 14, 15, 16, 17, 18, 19, 20, 21, 22, 23, 24, 25, 26, 27, 28, 29, 32, 35, 36, 37, 40, 48. \",IF(BZ26=3,\"NO: A, E, F, N. NI: 1, 2, 3, 4, 5, 6, 7, 8, 9, 10, 11, 12, 13, 14, 15, 16, 17, 18, 19, 20, 21, 22, 23, 24, 25, 26, 27, 28, 29, 32, 35, 36, 37, 40, 48. \",\"N/A\"))))","v":"N/A"},{"$f":"Risks!CB31","v":0},{"$f":"IF(CB26=0,\"N/A\",IF(CB26=1,\"NO: A, E, F, N. NI: 1, 2, 3, 4, 5, 6, 7, 8, 9, 10, 11, 12, 13, 14, 15, 16, 17, 18, 19, 20, 21, 22, 23, 24, 25, 26, 27, 28, 29, 32, 35, 36, 37, 40, 48. \", IF(CB26=2,\"NO: A, E, F, N. NI: 1, 2, 3, 4, 5, 6, 7, 8, 9, 10, 11, 12, 13, 14, 15, 16, 17, 18, 19, 20, 21, 22, 23, 24, 25, 26, 27, 28, 29, 32, 35, 36, 37, 40, 48. \",IF(CB26=3,\"NO: A, E, F, N. NI: 1, 2, 3, 4, 5, 6, 7, 8, 9, 10, 11, 12, 13, 14, 15, 16, 17, 18, 19, 20, 21, 22, 23, 24, 25, 26, 27, 28, 29, 32, 35, 36, 37, 40, 48. \",\"N/A\"))))","v":"N/A"},{"$f":"Risks!CD31","v":0},{"$f":"IF(CD26=0,\"N/A\",IF(CD26=1,\"NO: A, E, F, N. NI: 1, 2, 3, 4, 5, 6, 7, 8, 9, 10, 11, 12, 13, 14, 15, 16, 17, 18, 19, 20, 21, 22, 23, 24, 25, 26, 27, 28, 29, 32, 35, 36, 37, 40, 48. \", IF(CD26=2,\"NO: A, E, F, N. NI: 1, 2, 3, 4, 5, 6, 7, 8, 9, 10, 11, 12, 13, 14, 15, 16, 17, 18, 19, 20, 21, 22, 23, 24, 25, 26, 27, 28, 29, 32, 35, 36, 37, 40, 48. \",IF(CD26=3,\"NO: A, E, F, N. NI: 1, 2, 3, 4, 5, 6, 7, 8, 9, 10, 11, 12, 13, 14, 15, 16, 17, 18, 19, 20, 21, 22, 23, 24, 25, 26, 27, 28, 29, 32, 35, 36, 37, 40, 48. \",\"N/A\"))))","v":"N/A"},null,{"$f":"IssuesInput!F5","v":"Commitment to Healthy Working Lives scheme http://www.ed.ac.uk/staff/health-wellbeing/about/healthy-working-lives "},null,null,{"$f":"Risks!CJ31","v":0},{"$f":"IF(CJ26=0,\"N/A\",IF(CJ26=1,\"NO: A, E, F, N. NI: 1, 2, 3, 4, 5, 6, 7, 8, 9, 10, 11, 12, 13, 14, 15, 16, 17, 18, 19, 20, 21, 22, 23, 24, 25, 26, 27, 28, 29, 32, 35, 36, 37, 40, 48. \", IF(CJ26=2,\"NO: A, E, F, N. NI: 1, 2, 3, 4, 5, 6, 7, 8, 9, 10, 11, 12, 13, 14, 15, 16, 17, 18, 19, 20, 21, 22, 23, 24, 25, 26, 27, 28, 29, 32, 35, 36, 37, 40, 48. \",IF(CJ26=3,\"NO: A, E, F, N. NI: 1, 2, 3, 4, 5, 6, 7, 8, 9, 10, 11, 12, 13, 14, 15, 16, 17, 18, 19, 20, 21, 22, 23, 24, 25, 26, 27, 28, 29, 32, 35, 36, 37, 40, 48. \",\"N/A\"))))","v":"N/A"}]
[null,null,{"$f":"IF(INDEX(SocIssues,ROW()-ROW(C$24))=\"\",\"\",INDEX(SocIssues,ROW()-ROW(C$24)))","v":"Communities"},{"$f":"Risks!D32","v":3},{"$f":"IF(D27=0,\"N/A\",IF(D27=1,\"NO: E, J, K, P. NI: 3, 4, 5, 9, 10, 11, 12, 13, 14, 15, 16, 17, 18, 19, 20, 22, 23, 24, 26, 29, 30, 31, 32, 33, 34, 35, 36, 37, 38, 39, 40, 41, 43, 52, 54.\", IF(D27=2,\"NO: E, J, K, P. NI: 3, 4, 5, 9, 10, 11, 12, 13, 14, 15, 16, 17, 18, 19, 20, 22, 23, 24, 26, 29, 30, 31, 32, 33, 34, 35, 36, 37, 38, 39, 40, 41, 43, 52, 54.\",IF(D27=3,\"NO: NO: E, J, K, P. NI: 3, 4, 5, 9, 10, 11, 12, 13, 14, 15, 16, 17, 18, 19, 20, 22, 23, 24, 26, 29, 30, 31, 32, 33, 34, 35, 36, 37, 38, 39, 40, 41, 43, 52, 54.\",\"N/A\"))))","v":"NO: NO: E, J, K, P. NI: 3, 4, 5, 9, 10, 11, 12, 13, 14, 15, 16, 17, 18, 19, 20, 22, 23, 24, 26, 29, 30, 31, 32, 33, 34, 35, 36, 37, 38, 39, 40, 41, 43, 52, 54."},{"$f":"Risks!F32","v":3},{"$f":"IF(F27=0,\"N/A\",IF(F27=1,\"NO: E, J, K, P. NI: 3, 4, 5, 9, 10, 11, 12, 13, 14, 15, 16, 17, 18, 19, 20, 22, 23, 24, 26, 29, 30, 31, 32, 33, 34, 35, 36, 37, 38, 39, 40, 41, 43, 52, 54.\", IF(F27=2,\"NO: E, J, K, P. NI: 3, 4, 5, 9, 10, 11, 12, 13, 14, 15, 16, 17, 18, 19, 20, 22, 23, 24, 26, 29, 30, 31, 32, 33, 34, 35, 36, 37, 38, 39, 40, 41, 43, 52, 54.\",IF(F27=3,\"NO: NO: E, J, K, P. NI: 3, 4, 5, 9, 10, 11, 12, 13, 14, 15, 16, 17, 18, 19, 20, 22, 23, 24, 26, 29, 30, 31, 32, 33, 34, 35, 36, 37, 38, 39, 40, 41, 43, 52, 54.\",\"N/A\"))))","v":"NO: NO: E, J, K, P. NI: 3, 4, 5, 9, 10, 11, 12, 13, 14, 15, 16, 17, 18, 19, 20, 22, 23, 24, 26, 29, 30, 31, 32, 33, 34, 35, 36, 37, 38, 39, 40, 41, 43, 52, 54."},{"$f":"Risks!H32","v":3},{"$f":"IF(H27=0,\"N/A\",IF(H27=1,\"NO: E, J, K, P. NI: 3, 4, 5, 9, 10, 11, 12, 13, 14, 15, 16, 17, 18, 19, 20, 22, 23, 24, 26, 29, 30, 31, 32, 33, 34, 35, 36, 37, 38, 39, 40, 41, 43, 52, 54.\", IF(H27=2,\"NO: E, J, K, P. NI: 3, 4, 5, 9, 10, 11, 12, 13, 14, 15, 16, 17, 18, 19, 20, 22, 23, 24, 26, 29, 30, 31, 32, 33, 34, 35, 36, 37, 38, 39, 40, 41, 43, 52, 54.\",IF(H27=3,\"NO: NO: E, J, K, P. NI: 3, 4, 5, 9, 10, 11, 12, 13, 14, 15, 16, 17, 18, 19, 20, 22, 23, 24, 26, 29, 30, 31, 32, 33, 34, 35, 36, 37, 38, 39, 40, 41, 43, 52, 54.\",\"N/A\"))))","v":"NO: NO: E, J, K, P. NI: 3, 4, 5, 9, 10, 11, 12, 13, 14, 15, 16, 17, 18, 19, 20, 22, 23, 24, 26, 29, 30, 31, 32, 33, 34, 35, 36, 37, 38, 39, 40, 41, 43, 52, 54."},{"$f":"Risks!J32","v":3},{"$f":"IF(J27=0,\"N/A\",IF(J27=1,\"NO: E, J, K, P. NI: 3, 4, 5, 9, 10, 11, 12, 13, 14, 15, 16, 17, 18, 19, 20, 22, 23, 24, 26, 29, 30, 31, 32, 33, 34, 35, 36, 37, 38, 39, 40, 41, 43, 52, 54.\", IF(J27=2,\"NO: E, J, K, P. NI: 3, 4, 5, 9, 10, 11, 12, 13, 14, 15, 16, 17, 18, 19, 20, 22, 23, 24, 26, 29, 30, 31, 32, 33, 34, 35, 36, 37, 38, 39, 40, 41, 43, 52, 54.\",IF(J27=3,\"NO: NO: E, J, K, P. NI: 3, 4, 5, 9, 10, 11, 12, 13, 14, 15, 16, 17, 18, 19, 20, 22, 23, 24, 26, 29, 30, 31, 32, 33, 34, 35, 36, 37, 38, 39, 40, 41, 43, 52, 54.\",\"N/A\"))))","v":"NO: NO: E, J, K, P. NI: 3, 4, 5, 9, 10, 11, 12, 13, 14, 15, 16, 17, 18, 19, 20, 22, 23, 24, 26, 29, 30, 31, 32, 33, 34, 35, 36, 37, 38, 39, 40, 41, 43, 52, 54."},{"$f":"Risks!L32","v":3},{"$f":"IF(L27=0,\"N/A\",IF(L27=1,\"NO: E, J, K, P. NI: 3, 4, 5, 9, 10, 11, 12, 13, 14, 15, 16, 17, 18, 19, 20, 22, 23, 24, 26, 29, 30, 31, 32, 33, 34, 35, 36, 37, 38, 39, 40, 41, 43, 52, 54.\", IF(L27=2,\"NO: E, J, K, P. NI: 3, 4, 5, 9, 10, 11, 12, 13, 14, 15, 16, 17, 18, 19, 20, 22, 23, 24, 26, 29, 30, 31, 32, 33, 34, 35, 36, 37, 38, 39, 40, 41, 43, 52, 54.\",IF(L27=3,\"NO: NO: E, J, K, P. NI: 3, 4, 5, 9, 10, 11, 12, 13, 14, 15, 16, 17, 18, 19, 20, 22, 23, 24, 26, 29, 30, 31, 32, 33, 34, 35, 36, 37, 38, 39, 40, 41, 43, 52, 54.\",\"N/A\"))))","v":"NO: NO: E, J, K, P. NI: 3, 4, 5, 9, 10, 11, 12, 13, 14, 15, 16, 17, 18, 19, 20, 22, 23, 24, 26, 29, 30, 31, 32, 33, 34, 35, 36, 37, 38, 39, 40, 41, 43, 52, 54."},{"$f":"Risks!N32","v":3},{"$f":"IF(N27=0,\"N/A\",IF(N27=1,\"NO: E, J, K, P. NI: 3, 4, 5, 9, 10, 11, 12, 13, 14, 15, 16, 17, 18, 19, 20, 22, 23, 24, 26, 29, 30, 31, 32, 33, 34, 35, 36, 37, 38, 39, 40, 41, 43, 52, 54.\", IF(N27=2,\"NO: E, J, K, P. NI: 3, 4, 5, 9, 10, 11, 12, 13, 14, 15, 16, 17, 18, 19, 20, 22, 23, 24, 26, 29, 30, 31, 32, 33, 34, 35, 36, 37, 38, 39, 40, 41, 43, 52, 54.\",IF(N27=3,\"NO: NO: E, J, K, P. NI: 3, 4, 5, 9, 10, 11, 12, 13, 14, 15, 16, 17, 18, 19, 20, 22, 23, 24, 26, 29, 30, 31, 32, 33, 34, 35, 36, 37, 38, 39, 40, 41, 43, 52, 54.\",\"N/A\"))))","v":"NO: NO: E, J, K, P. NI: 3, 4, 5, 9, 10, 11, 12, 13, 14, 15, 16, 17, 18, 19, 20, 22, 23, 24, 26, 29, 30, 31, 32, 33, 34, 35, 36, 37, 38, 39, 40, 41, 43, 52, 54."},{"$f":"Risks!P32","v":3},{"$f":"IF(P27=0,\"N/A\",IF(P27=1,\"NO: E, J, K, P. NI: 3, 4, 5, 9, 10, 11, 12, 13, 14, 15, 16, 17, 18, 19, 20, 22, 23, 24, 26, 29, 30, 31, 32, 33, 34, 35, 36, 37, 38, 39, 40, 41, 43, 52, 54.\", IF(P27=2,\"NO: E, J, K, P. NI: 3, 4, 5, 9, 10, 11, 12, 13, 14, 15, 16, 17, 18, 19, 20, 22, 23, 24, 26, 29, 30, 31, 32, 33, 34, 35, 36, 37, 38, 39, 40, 41, 43, 52, 54.\",IF(P27=3,\"NO: NO: E, J, K, P. NI: 3, 4, 5, 9, 10, 11, 12, 13, 14, 15, 16, 17, 18, 19, 20, 22, 23, 24, 26, 29, 30, 31, 32, 33, 34, 35, 36, 37, 38, 39, 40, 41, 43, 52, 54.\",\"N/A\"))))","v":"NO: NO: E, J, K, P. NI: 3, 4, 5, 9, 10, 11, 12, 13, 14, 15, 16, 17, 18, 19, 20, 22, 23, 24, 26, 29, 30, 31, 32, 33, 34, 35, 36, 37, 38, 39, 40, 41, 43, 52, 54."},{"$f":"Risks!R32","v":3},{"$f":"IF(R27=0,\"N/A\",IF(R27=1,\"NO: E, J, K, P. NI: 3, 4, 5, 9, 10, 11, 12, 13, 14, 15, 16, 17, 18, 19, 20, 22, 23, 24, 26, 29, 30, 31, 32, 33, 34, 35, 36, 37, 38, 39, 40, 41, 43, 52, 54.\", IF(R27=2,\"NO: E, J, K, P. NI: 3, 4, 5, 9, 10, 11, 12, 13, 14, 15, 16, 17, 18, 19, 20, 22, 23, 24, 26, 29, 30, 31, 32, 33, 34, 35, 36, 37, 38, 39, 40, 41, 43, 52, 54.\",IF(R27=3,\"NO: NO: E, J, K, P. NI: 3, 4, 5, 9, 10, 11, 12, 13, 14, 15, 16, 17, 18, 19, 20, 22, 23, 24, 26, 29, 30, 31, 32, 33, 34, 35, 36, 37, 38, 39, 40, 41, 43, 52, 54.\",\"N/A\"))))","v":"NO: NO: E, J, K, P. NI: 3, 4, 5, 9, 10, 11, 12, 13, 14, 15, 16, 17, 18, 19, 20, 22, 23, 24, 26, 29, 30, 31, 32, 33, 34, 35, 36, 37, 38, 39, 40, 41, 43, 52, 54."},{"$f":"Risks!T32","v":0},{"$f":"IF(T27=0,\"N/A\",IF(T27=1,\"NO: E, J, K, P. NI: 3, 4, 5, 9, 10, 11, 12, 13, 14, 15, 16, 17, 18, 19, 20, 22, 23, 24, 26, 29, 30, 31, 32, 33, 34, 35, 36, 37, 38, 39, 40, 41, 43, 52, 54.\", IF(T27=2,\"NO: E, J, K, P. NI: 3, 4, 5, 9, 10, 11, 12, 13, 14, 15, 16, 17, 18, 19, 20, 22, 23, 24, 26, 29, 30, 31, 32, 33, 34, 35, 36, 37, 38, 39, 40, 41, 43, 52, 54.\",IF(T27=3,\"NO: NO: E, J, K, P. NI: 3, 4, 5, 9, 10, 11, 12, 13, 14, 15, 16, 17, 18, 19, 20, 22, 23, 24, 26, 29, 30, 31, 32, 33, 34, 35, 36, 37, 38, 39, 40, 41, 43, 52, 54.\",\"N/A\"))))","v":"N/A"},{"$f":"Risks!V32","v":0},{"$f":"IF(V27=0,\"N/A\",IF(V27=1,\"NO: E, J, K, P. NI: 3, 4, 5, 9, 10, 11, 12, 13, 14, 15, 16, 17, 18, 19, 20, 22, 23, 24, 26, 29, 30, 31, 32, 33, 34, 35, 36, 37, 38, 39, 40, 41, 43, 52, 54.\", IF(V27=2,\"NO: E, J, K, P. NI: 3, 4, 5, 9, 10, 11, 12, 13, 14, 15, 16, 17, 18, 19, 20, 22, 23, 24, 26, 29, 30, 31, 32, 33, 34, 35, 36, 37, 38, 39, 40, 41, 43, 52, 54.\",IF(V27=3,\"NO: NO: E, J, K, P. NI: 3, 4, 5, 9, 10, 11, 12, 13, 14, 15, 16, 17, 18, 19, 20, 22, 23, 24, 26, 29, 30, 31, 32, 33, 34, 35, 36, 37, 38, 39, 40, 41, 43, 52, 54.\",\"N/A\"))))","v":"N/A"},{"$f":"Risks!X32","v":0},{"$f":"IF(X27=0,\"N/A\",IF(X27=1,\"NO: E, J, K, P. NI: 3, 4, 5, 9, 10, 11, 12, 13, 14, 15, 16, 17, 18, 19, 20, 22, 23, 24, 26, 29, 30, 31, 32, 33, 34, 35, 36, 37, 38, 39, 40, 41, 43, 52, 54.\", IF(X27=2,\"NO: E, J, K, P. NI: 3, 4, 5, 9, 10, 11, 12, 13, 14, 15, 16, 17, 18, 19, 20, 22, 23, 24, 26, 29, 30, 31, 32, 33, 34, 35, 36, 37, 38, 39, 40, 41, 43, 52, 54.\",IF(X27=3,\"NO: NO: E, J, K, P. NI: 3, 4, 5, 9, 10, 11, 12, 13, 14, 15, 16, 17, 18, 19, 20, 22, 23, 24, 26, 29, 30, 31, 32, 33, 34, 35, 36, 37, 38, 39, 40, 41, 43, 52, 54.\",\"N/A\"))))","v":"N/A"},{"$f":"Risks!Z32","v":0},{"$f":"IF(Z27=0,\"N/A\",IF(Z27=1,\"NO: E, J, K, P. NI: 3, 4, 5, 9, 10, 11, 12, 13, 14, 15, 16, 17, 18, 19, 20, 22, 23, 24, 26, 29, 30, 31, 32, 33, 34, 35, 36, 37, 38, 39, 40, 41, 43, 52, 54.\", IF(Z27=2,\"NO: E, J, K, P. NI: 3, 4, 5, 9, 10, 11, 12, 13, 14, 15, 16, 17, 18, 19, 20, 22, 23, 24, 26, 29, 30, 31, 32, 33, 34, 35, 36, 37, 38, 39, 40, 41, 43, 52, 54.\",IF(Z27=3,\"NO: NO: E, J, K, P. NI: 3, 4, 5, 9, 10, 11, 12, 13, 14, 15, 16, 17, 18, 19, 20, 22, 23, 24, 26, 29, 30, 31, 32, 33, 34, 35, 36, 37, 38, 39, 40, 41, 43, 52, 54.\",\"N/A\"))))","v":"N/A"},{"$f":"Risks!AB32","v":0},{"$f":"IF(AB27=0,\"N/A\",IF(AB27=1,\"NO: E, J, K, P. NI: 3, 4, 5, 9, 10, 11, 12, 13, 14, 15, 16, 17, 18, 19, 20, 22, 23, 24, 26, 29, 30, 31, 32, 33, 34, 35, 36, 37, 38, 39, 40, 41, 43, 52, 54.\", IF(AB27=2,\"NO: E, J, K, P. NI: 3, 4, 5, 9, 10, 11, 12, 13, 14, 15, 16, 17, 18, 19, 20, 22, 23, 24, 26, 29, 30, 31, 32, 33, 34, 35, 36, 37, 38, 39, 40, 41, 43, 52, 54.\",IF(AB27=3,\"NO: NO: E, J, K, P. NI: 3, 4, 5, 9, 10, 11, 12, 13, 14, 15, 16, 17, 18, 19, 20, 22, 23, 24, 26, 29, 30, 31, 32, 33, 34, 35, 36, 37, 38, 39, 40, 41, 43, 52, 54.\",\"N/A\"))))","v":"N/A"},{"$f":"Risks!AD32","v":0},{"$f":"IF(AD27=0,\"N/A\",IF(AD27=1,\"NO: E, J, K, P. NI: 3, 4, 5, 9, 10, 11, 12, 13, 14, 15, 16, 17, 18, 19, 20, 22, 23, 24, 26, 29, 30, 31, 32, 33, 34, 35, 36, 37, 38, 39, 40, 41, 43, 52, 54.\", IF(AD27=2,\"NO: E, J, K, P. NI: 3, 4, 5, 9, 10, 11, 12, 13, 14, 15, 16, 17, 18, 19, 20, 22, 23, 24, 26, 29, 30, 31, 32, 33, 34, 35, 36, 37, 38, 39, 40, 41, 43, 52, 54.\",IF(AD27=3,\"NO: NO: E, J, K, P. NI: 3, 4, 5, 9, 10, 11, 12, 13, 14, 15, 16, 17, 18, 19, 20, 22, 23, 24, 26, 29, 30, 31, 32, 33, 34, 35, 36, 37, 38, 39, 40, 41, 43, 52, 54.\",\"N/A\"))))","v":"N/A"},{"$f":"Risks!AF32","v":0},{"$f":"IF(AF27=0,\"N/A\",IF(AF27=1,\"NO: E, J, K, P. NI: 3, 4, 5, 9, 10, 11, 12, 13, 14, 15, 16, 17, 18, 19, 20, 22, 23, 24, 26, 29, 30, 31, 32, 33, 34, 35, 36, 37, 38, 39, 40, 41, 43, 52, 54.\", IF(AF27=2,\"NO: E, J, K, P. NI: 3, 4, 5, 9, 10, 11, 12, 13, 14, 15, 16, 17, 18, 19, 20, 22, 23, 24, 26, 29, 30, 31, 32, 33, 34, 35, 36, 37, 38, 39, 40, 41, 43, 52, 54.\",IF(AF27=3,\"NO: NO: E, J, K, P. NI: 3, 4, 5, 9, 10, 11, 12, 13, 14, 15, 16, 17, 18, 19, 20, 22, 23, 24, 26, 29, 30, 31, 32, 33, 34, 35, 36, 37, 38, 39, 40, 41, 43, 52, 54.\",\"N/A\"))))","v":"N/A"},{"$f":"Risks!AH32","v":0},{"$f":"IF(AH27=0,\"N/A\",IF(AH27=1,\"NO: E, J, K, P. NI: 3, 4, 5, 9, 10, 11, 12, 13, 14, 15, 16, 17, 18, 19, 20, 22, 23, 24, 26, 29, 30, 31, 32, 33, 34, 35, 36, 37, 38, 39, 40, 41, 43, 52, 54.\", IF(AH27=2,\"NO: E, J, K, P. NI: 3, 4, 5, 9, 10, 11, 12, 13, 14, 15, 16, 17, 18, 19, 20, 22, 23, 24, 26, 29, 30, 31, 32, 33, 34, 35, 36, 37, 38, 39, 40, 41, 43, 52, 54.\",IF(AH27=3,\"NO: NO: E, J, K, P. NI: 3, 4, 5, 9, 10, 11, 12, 13, 14, 15, 16, 17, 18, 19, 20, 22, 23, 24, 26, 29, 30, 31, 32, 33, 34, 35, 36, 37, 38, 39, 40, 41, 43, 52, 54.\",\"N/A\"))))","v":"N/A"},{"$f":"Risks!AJ32","v":0},{"$f":"IF(AJ27=0,\"N/A\",IF(AJ27=1,\"NO: E, J, K, P. NI: 3, 4, 5, 9, 10, 11, 12, 13, 14, 15, 16, 17, 18, 19, 20, 22, 23, 24, 26, 29, 30, 31, 32, 33, 34, 35, 36, 37, 38, 39, 40, 41, 43, 52, 54.\", IF(AJ27=2,\"NO: E, J, K, P. NI: 3, 4, 5, 9, 10, 11, 12, 13, 14, 15, 16, 17, 18, 19, 20, 22, 23, 24, 26, 29, 30, 31, 32, 33, 34, 35, 36, 37, 38, 39, 40, 41, 43, 52, 54.\",IF(AJ27=3,\"NO: NO: E, J, K, P. NI: 3, 4, 5, 9, 10, 11, 12, 13, 14, 15, 16, 17, 18, 19, 20, 22, 23, 24, 26, 29, 30, 31, 32, 33, 34, 35, 36, 37, 38, 39, 40, 41, 43, 52, 54.\",\"N/A\"))))","v":"N/A"},{"$f":"Risks!AL32","v":0},{"$f":"IF(AL27=0,\"N/A\",IF(AL27=1,\"NO: E, J, K, P. NI: 3, 4, 5, 9, 10, 11, 12, 13, 14, 15, 16, 17, 18, 19, 20, 22, 23, 24, 26, 29, 30, 31, 32, 33, 34, 35, 36, 37, 38, 39, 40, 41, 43, 52, 54.\", IF(AL27=2,\"NO: E, J, K, P. NI: 3, 4, 5, 9, 10, 11, 12, 13, 14, 15, 16, 17, 18, 19, 20, 22, 23, 24, 26, 29, 30, 31, 32, 33, 34, 35, 36, 37, 38, 39, 40, 41, 43, 52, 54.\",IF(AL27=3,\"NO: NO: E, J, K, P. NI: 3, 4, 5, 9, 10, 11, 12, 13, 14, 15, 16, 17, 18, 19, 20, 22, 23, 24, 26, 29, 30, 31, 32, 33, 34, 35, 36, 37, 38, 39, 40, 41, 43, 52, 54.\",\"N/A\"))))","v":"N/A"},{"$f":"Risks!AN32","v":0},{"$f":"IF(AN27=0,\"N/A\",IF(AN27=1,\"NO: E, J, K, P. NI: 3, 4, 5, 9, 10, 11, 12, 13, 14, 15, 16, 17, 18, 19, 20, 22, 23, 24, 26, 29, 30, 31, 32, 33, 34, 35, 36, 37, 38, 39, 40, 41, 43, 52, 54.\", IF(AN27=2,\"NO: E, J, K, P. NI: 3, 4, 5, 9, 10, 11, 12, 13, 14, 15, 16, 17, 18, 19, 20, 22, 23, 24, 26, 29, 30, 31, 32, 33, 34, 35, 36, 37, 38, 39, 40, 41, 43, 52, 54.\",IF(AN27=3,\"NO: NO: E, J, K, P. NI: 3, 4, 5, 9, 10, 11, 12, 13, 14, 15, 16, 17, 18, 19, 20, 22, 23, 24, 26, 29, 30, 31, 32, 33, 34, 35, 36, 37, 38, 39, 40, 41, 43, 52, 54.\",\"N/A\"))))","v":"N/A"},{"$f":"Risks!AP32","v":0},{"$f":"IF(AP27=0,\"N/A\",IF(AP27=1,\"NO: E, J, K, P. NI: 3, 4, 5, 9, 10, 11, 12, 13, 14, 15, 16, 17, 18, 19, 20, 22, 23, 24, 26, 29, 30, 31, 32, 33, 34, 35, 36, 37, 38, 39, 40, 41, 43, 52, 54.\", IF(AP27=2,\"NO: E, J, K, P. NI: 3, 4, 5, 9, 10, 11, 12, 13, 14, 15, 16, 17, 18, 19, 20, 22, 23, 24, 26, 29, 30, 31, 32, 33, 34, 35, 36, 37, 38, 39, 40, 41, 43, 52, 54.\",IF(AP27=3,\"NO: NO: E, J, K, P. NI: 3, 4, 5, 9, 10, 11, 12, 13, 14, 15, 16, 17, 18, 19, 20, 22, 23, 24, 26, 29, 30, 31, 32, 33, 34, 35, 36, 37, 38, 39, 40, 41, 43, 52, 54.\",\"N/A\"))))","v":"N/A"},{"$f":"Risks!AR32","v":0},{"$f":"IF(AR27=0,\"N/A\",IF(AR27=1,\"NO: E, J, K, P. NI: 3, 4, 5, 9, 10, 11, 12, 13, 14, 15, 16, 17, 18, 19, 20, 22, 23, 24, 26, 29, 30, 31, 32, 33, 34, 35, 36, 37, 38, 39, 40, 41, 43, 52, 54.\", IF(AR27=2,\"NO: E, J, K, P. NI: 3, 4, 5, 9, 10, 11, 12, 13, 14, 15, 16, 17, 18, 19, 20, 22, 23, 24, 26, 29, 30, 31, 32, 33, 34, 35, 36, 37, 38, 39, 40, 41, 43, 52, 54.\",IF(AR27=3,\"NO: NO: E, J, K, P. NI: 3, 4, 5, 9, 10, 11, 12, 13, 14, 15, 16, 17, 18, 19, 20, 22, 23, 24, 26, 29, 30, 31, 32, 33, 34, 35, 36, 37, 38, 39, 40, 41, 43, 52, 54.\",\"N/A\"))))","v":"N/A"},{"$f":"Risks!AT32","v":0},{"$f":"IF(AT27=0,\"N/A\",IF(AT27=1,\"NO: E, J, K, P. NI: 3, 4, 5, 9, 10, 11, 12, 13, 14, 15, 16, 17, 18, 19, 20, 22, 23, 24, 26, 29, 30, 31, 32, 33, 34, 35, 36, 37, 38, 39, 40, 41, 43, 52, 54.\", IF(AT27=2,\"NO: E, J, K, P. NI: 3, 4, 5, 9, 10, 11, 12, 13, 14, 15, 16, 17, 18, 19, 20, 22, 23, 24, 26, 29, 30, 31, 32, 33, 34, 35, 36, 37, 38, 39, 40, 41, 43, 52, 54.\",IF(AT27=3,\"NO: NO: E, J, K, P. NI: 3, 4, 5, 9, 10, 11, 12, 13, 14, 15, 16, 17, 18, 19, 20, 22, 23, 24, 26, 29, 30, 31, 32, 33, 34, 35, 36, 37, 38, 39, 40, 41, 43, 52, 54.\",\"N/A\"))))","v":"N/A"},{"$f":"Risks!AV32","v":0},{"$f":"IF(AV27=0,\"N/A\",IF(AV27=1,\"NO: E, J, K, P. NI: 3, 4, 5, 9, 10, 11, 12, 13, 14, 15, 16, 17, 18, 19, 20, 22, 23, 24, 26, 29, 30, 31, 32, 33, 34, 35, 36, 37, 38, 39, 40, 41, 43, 52, 54.\", IF(AV27=2,\"NO: E, J, K, P. NI: 3, 4, 5, 9, 10, 11, 12, 13, 14, 15, 16, 17, 18, 19, 20, 22, 23, 24, 26, 29, 30, 31, 32, 33, 34, 35, 36, 37, 38, 39, 40, 41, 43, 52, 54.\",IF(AV27=3,\"NO: NO: E, J, K, P. NI: 3, 4, 5, 9, 10, 11, 12, 13, 14, 15, 16, 17, 18, 19, 20, 22, 23, 24, 26, 29, 30, 31, 32, 33, 34, 35, 36, 37, 38, 39, 40, 41, 43, 52, 54.\",\"N/A\"))))","v":"N/A"},{"$f":"Risks!AX32","v":0},{"$f":"IF(AX27=0,\"N/A\",IF(AX27=1,\"NO: E, J, K, P. NI: 3, 4, 5, 9, 10, 11, 12, 13, 14, 15, 16, 17, 18, 19, 20, 22, 23, 24, 26, 29, 30, 31, 32, 33, 34, 35, 36, 37, 38, 39, 40, 41, 43, 52, 54.\", IF(AX27=2,\"NO: E, J, K, P. NI: 3, 4, 5, 9, 10, 11, 12, 13, 14, 15, 16, 17, 18, 19, 20, 22, 23, 24, 26, 29, 30, 31, 32, 33, 34, 35, 36, 37, 38, 39, 40, 41, 43, 52, 54.\",IF(AX27=3,\"NO: NO: E, J, K, P. NI: 3, 4, 5, 9, 10, 11, 12, 13, 14, 15, 16, 17, 18, 19, 20, 22, 23, 24, 26, 29, 30, 31, 32, 33, 34, 35, 36, 37, 38, 39, 40, 41, 43, 52, 54.\",\"N/A\"))))","v":"N/A"},{"$f":"Risks!AZ32","v":0},{"$f":"IF(AZ27=0,\"N/A\",IF(AZ27=1,\"NO: E, J, K, P. NI: 3, 4, 5, 9, 10, 11, 12, 13, 14, 15, 16, 17, 18, 19, 20, 22, 23, 24, 26, 29, 30, 31, 32, 33, 34, 35, 36, 37, 38, 39, 40, 41, 43, 52, 54.\", IF(AZ27=2,\"NO: E, J, K, P. NI: 3, 4, 5, 9, 10, 11, 12, 13, 14, 15, 16, 17, 18, 19, 20, 22, 23, 24, 26, 29, 30, 31, 32, 33, 34, 35, 36, 37, 38, 39, 40, 41, 43, 52, 54.\",IF(AZ27=3,\"NO: NO: E, J, K, P. NI: 3, 4, 5, 9, 10, 11, 12, 13, 14, 15, 16, 17, 18, 19, 20, 22, 23, 24, 26, 29, 30, 31, 32, 33, 34, 35, 36, 37, 38, 39, 40, 41, 43, 52, 54.\",\"N/A\"))))","v":"N/A"},{"$f":"Risks!BB32","v":0},{"$f":"IF(BB27=0,\"N/A\",IF(BB27=1,\"NO: E, J, K, P. NI: 3, 4, 5, 9, 10, 11, 12, 13, 14, 15, 16, 17, 18, 19, 20, 22, 23, 24, 26, 29, 30, 31, 32, 33, 34, 35, 36, 37, 38, 39, 40, 41, 43, 52, 54.\", IF(BB27=2,\"NO: E, J, K, P. NI: 3, 4, 5, 9, 10, 11, 12, 13, 14, 15, 16, 17, 18, 19, 20, 22, 23, 24, 26, 29, 30, 31, 32, 33, 34, 35, 36, 37, 38, 39, 40, 41, 43, 52, 54.\",IF(BB27=3,\"NO: NO: E, J, K, P. NI: 3, 4, 5, 9, 10, 11, 12, 13, 14, 15, 16, 17, 18, 19, 20, 22, 23, 24, 26, 29, 30, 31, 32, 33, 34, 35, 36, 37, 38, 39, 40, 41, 43, 52, 54.\",\"N/A\"))))","v":"N/A"},{"$f":"Risks!BD32","v":0},{"$f":"IF(BD27=0,\"N/A\",IF(BD27=1,\"NO: E, J, K, P. NI: 3, 4, 5, 9, 10, 11, 12, 13, 14, 15, 16, 17, 18, 19, 20, 22, 23, 24, 26, 29, 30, 31, 32, 33, 34, 35, 36, 37, 38, 39, 40, 41, 43, 52, 54.\", IF(BD27=2,\"NO: E, J, K, P. NI: 3, 4, 5, 9, 10, 11, 12, 13, 14, 15, 16, 17, 18, 19, 20, 22, 23, 24, 26, 29, 30, 31, 32, 33, 34, 35, 36, 37, 38, 39, 40, 41, 43, 52, 54.\",IF(BD27=3,\"NO: NO: E, J, K, P. NI: 3, 4, 5, 9, 10, 11, 12, 13, 14, 15, 16, 17, 18, 19, 20, 22, 23, 24, 26, 29, 30, 31, 32, 33, 34, 35, 36, 37, 38, 39, 40, 41, 43, 52, 54.\",\"N/A\"))))","v":"N/A"},{"$f":"Risks!BF32","v":0},{"$f":"IF(BF27=0,\"N/A\",IF(BF27=1,\"NO: E, J, K, P. NI: 3, 4, 5, 9, 10, 11, 12, 13, 14, 15, 16, 17, 18, 19, 20, 22, 23, 24, 26, 29, 30, 31, 32, 33, 34, 35, 36, 37, 38, 39, 40, 41, 43, 52, 54.\", IF(BF27=2,\"NO: E, J, K, P. NI: 3, 4, 5, 9, 10, 11, 12, 13, 14, 15, 16, 17, 18, 19, 20, 22, 23, 24, 26, 29, 30, 31, 32, 33, 34, 35, 36, 37, 38, 39, 40, 41, 43, 52, 54.\",IF(BF27=3,\"NO: NO: E, J, K, P. NI: 3, 4, 5, 9, 10, 11, 12, 13, 14, 15, 16, 17, 18, 19, 20, 22, 23, 24, 26, 29, 30, 31, 32, 33, 34, 35, 36, 37, 38, 39, 40, 41, 43, 52, 54.\",\"N/A\"))))","v":"N/A"},{"$f":"Risks!BH32","v":0},{"$f":"IF(BH27=0,\"N/A\",IF(BH27=1,\"NO: E, J, K, P. NI: 3, 4, 5, 9, 10, 11, 12, 13, 14, 15, 16, 17, 18, 19, 20, 22, 23, 24, 26, 29, 30, 31, 32, 33, 34, 35, 36, 37, 38, 39, 40, 41, 43, 52, 54.\", IF(BH27=2,\"NO: E, J, K, P. NI: 3, 4, 5, 9, 10, 11, 12, 13, 14, 15, 16, 17, 18, 19, 20, 22, 23, 24, 26, 29, 30, 31, 32, 33, 34, 35, 36, 37, 38, 39, 40, 41, 43, 52, 54.\",IF(BH27=3,\"NO: NO: E, J, K, P. NI: 3, 4, 5, 9, 10, 11, 12, 13, 14, 15, 16, 17, 18, 19, 20, 22, 23, 24, 26, 29, 30, 31, 32, 33, 34, 35, 36, 37, 38, 39, 40, 41, 43, 52, 54.\",\"N/A\"))))","v":"N/A"},{"$f":"Risks!BJ32","v":0},{"$f":"IF(BJ27=0,\"N/A\",IF(BJ27=1,\"NO: E, J, K, P. NI: 3, 4, 5, 9, 10, 11, 12, 13, 14, 15, 16, 17, 18, 19, 20, 22, 23, 24, 26, 29, 30, 31, 32, 33, 34, 35, 36, 37, 38, 39, 40, 41, 43, 52, 54.\", IF(BJ27=2,\"NO: E, J, K, P. NI: 3, 4, 5, 9, 10, 11, 12, 13, 14, 15, 16, 17, 18, 19, 20, 22, 23, 24, 26, 29, 30, 31, 32, 33, 34, 35, 36, 37, 38, 39, 40, 41, 43, 52, 54.\",IF(BJ27=3,\"NO: NO: E, J, K, P. NI: 3, 4, 5, 9, 10, 11, 12, 13, 14, 15, 16, 17, 18, 19, 20, 22, 23, 24, 26, 29, 30, 31, 32, 33, 34, 35, 36, 37, 38, 39, 40, 41, 43, 52, 54.\",\"N/A\"))))","v":"N/A"},{"$f":"Risks!BL32","v":0},{"$f":"IF(BL27=0,\"N/A\",IF(BL27=1,\"NO: E, J, K, P. NI: 3, 4, 5, 9, 10, 11, 12, 13, 14, 15, 16, 17, 18, 19, 20, 22, 23, 24, 26, 29, 30, 31, 32, 33, 34, 35, 36, 37, 38, 39, 40, 41, 43, 52, 54.\", IF(BL27=2,\"NO: E, J, K, P. NI: 3, 4, 5, 9, 10, 11, 12, 13, 14, 15, 16, 17, 18, 19, 20, 22, 23, 24, 26, 29, 30, 31, 32, 33, 34, 35, 36, 37, 38, 39, 40, 41, 43, 52, 54.\",IF(BL27=3,\"NO: NO: E, J, K, P. NI: 3, 4, 5, 9, 10, 11, 12, 13, 14, 15, 16, 17, 18, 19, 20, 22, 23, 24, 26, 29, 30, 31, 32, 33, 34, 35, 36, 37, 38, 39, 40, 41, 43, 52, 54.\",\"N/A\"))))","v":"N/A"},{"$f":"Risks!BN32","v":0},{"$f":"IF(BN27=0,\"N/A\",IF(BN27=1,\"NO: E, J, K, P. NI: 3, 4, 7, 8, 9, 10, 11, 12, 13, 14, 15, 16, 17, 18, 22, 24, 25, 23, 26, 27, 28, 29, 30, 31, 32, 33, 34, 35, 36, 37, 38, 39, 40, 42, 47, 48.\", IF(BN27=2,\"NO: E, J, K, P. NI: 3, 4, 7, 8, 9, 10, 11, 12, 13, 14, 15, 16, 17, 18, 22, 24, 25, 23, 26, 27, 28, 29, 30, 31, 32, 33, 34, 35, 36, 37, 38, 39, 40, 42, 47, 48.\",IF(BN27=3,\"NO: E, J, K, P. NI: 3, 4, 7, 8, 9, 10, 11, 12, 13, 14, 15, 16, 17, 18, 22, 24, 25, 23, 26, 27, 28, 29, 30, 31, 32, 33, 34, 35, 36, 37, 38, 39, 40, 42, 47, 48.\",\"N/A\"))))","v":"N/A"},{"$f":"Risks!BP32","v":0},{"$f":"IF(BP27=0,\"N/A\",IF(BP27=1,\"NO: E, J, K, P. NI: 3, 4, 7, 8, 9, 10, 11, 12, 13, 14, 15, 16, 17, 18, 22, 24, 25, 23, 26, 27, 28, 29, 30, 31, 32, 33, 34, 35, 36, 37, 38, 39, 40, 42, 47, 48.\", IF(BP27=2,\"NO: E, J, K, P. NI: 3, 4, 7, 8, 9, 10, 11, 12, 13, 14, 15, 16, 17, 18, 22, 24, 25, 23, 26, 27, 28, 29, 30, 31, 32, 33, 34, 35, 36, 37, 38, 39, 40, 42, 47, 48.\",IF(BP27=3,\"NO: E, J, K, P. NI: 3, 4, 7, 8, 9, 10, 11, 12, 13, 14, 15, 16, 17, 18, 22, 24, 25, 23, 26, 27, 28, 29, 30, 31, 32, 33, 34, 35, 36, 37, 38, 39, 40, 42, 47, 48.\",\"N/A\"))))","v":"N/A"},{"$f":"Risks!BR32","v":0},{"$f":"IF(BR27=0,\"N/A\",IF(BR27=1,\"NO: E, J, K, P. NI: 3, 4, 7, 8, 9, 10, 11, 12, 13, 14, 15, 16, 17, 18, 22, 24, 25, 23, 26, 27, 28, 29, 30, 31, 32, 33, 34, 35, 36, 37, 38, 39, 40, 42, 47, 48.\", IF(BR27=2,\"NO: E, J, K, P. NI: 3, 4, 7, 8, 9, 10, 11, 12, 13, 14, 15, 16, 17, 18, 22, 24, 25, 23, 26, 27, 28, 29, 30, 31, 32, 33, 34, 35, 36, 37, 38, 39, 40, 42, 47, 48.\",IF(BR27=3,\"NO: E, J, K, P. NI: 3, 4, 7, 8, 9, 10, 11, 12, 13, 14, 15, 16, 17, 18, 22, 24, 25, 23, 26, 27, 28, 29, 30, 31, 32, 33, 34, 35, 36, 37, 38, 39, 40, 42, 47, 48.\",\"N/A\"))))","v":"N/A"},{"$f":"Risks!BT32","v":0},{"$f":"IF(BT27=0,\"N/A\",IF(BT27=1,\"NO: E, J, K, P. NI: 3, 4, 7, 8, 9, 10, 11, 12, 13, 14, 15, 16, 17, 18, 22, 24, 25, 23, 26, 27, 28, 29, 30, 31, 32, 33, 34, 35, 36, 37, 38, 39, 40, 42, 47, 48.\", IF(BT27=2,\"NO: E, J, K, P. NI: 3, 4, 7, 8, 9, 10, 11, 12, 13, 14, 15, 16, 17, 18, 22, 24, 25, 23, 26, 27, 28, 29, 30, 31, 32, 33, 34, 35, 36, 37, 38, 39, 40, 42, 47, 48.\",IF(BT27=3,\"NO: E, J, K, P. NI: 3, 4, 7, 8, 9, 10, 11, 12, 13, 14, 15, 16, 17, 18, 22, 24, 25, 23, 26, 27, 28, 29, 30, 31, 32, 33, 34, 35, 36, 37, 38, 39, 40, 42, 47, 48.\",\"N/A\"))))","v":"N/A"},{"$f":"Risks!BV32","v":0},{"$f":"IF(BV27=0,\"N/A\",IF(BV27=1,\"NO: E, J, K, P. NI: 3, 4, 7, 8, 9, 10, 11, 12, 13, 14, 15, 16, 17, 18, 22, 24, 25, 23, 26, 27, 28, 29, 30, 31, 32, 33, 34, 35, 36, 37, 38, 39, 40, 42, 47, 48.\", IF(BV27=2,\"NO: E, J, K, P. NI: 3, 4, 7, 8, 9, 10, 11, 12, 13, 14, 15, 16, 17, 18, 22, 24, 25, 23, 26, 27, 28, 29, 30, 31, 32, 33, 34, 35, 36, 37, 38, 39, 40, 42, 47, 48.\",IF(BV27=3,\"NO: E, J, K, P. NI: 3, 4, 7, 8, 9, 10, 11, 12, 13, 14, 15, 16, 17, 18, 22, 24, 25, 23, 26, 27, 28, 29, 30, 31, 32, 33, 34, 35, 36, 37, 38, 39, 40, 42, 47, 48.\",\"N/A\"))))","v":"N/A"},{"$f":"Risks!BX32","v":0},{"$f":"IF(BX27=0,\"N/A\",IF(BX27=1,\"NO: E, J, K, P. NI: 3, 4, 7, 8, 9, 10, 11, 12, 13, 14, 15, 16, 17, 18, 22, 24, 25, 23, 26, 27, 28, 29, 30, 31, 32, 33, 34, 35, 36, 37, 38, 39, 40, 42, 47, 48.\", IF(BX27=2,\"NO: E, J, K, P. NI: 3, 4, 7, 8, 9, 10, 11, 12, 13, 14, 15, 16, 17, 18, 22, 24, 25, 23, 26, 27, 28, 29, 30, 31, 32, 33, 34, 35, 36, 37, 38, 39, 40, 42, 47, 48.\",IF(BX27=3,\"NO: E, J, K, P. NI: 3, 4, 7, 8, 9, 10, 11, 12, 13, 14, 15, 16, 17, 18, 22, 24, 25, 23, 26, 27, 28, 29, 30, 31, 32, 33, 34, 35, 36, 37, 38, 39, 40, 42, 47, 48.\",\"N/A\"))))","v":"N/A"},{"$f":"Risks!BZ32","v":0},{"$f":"IF(BZ27=0,\"N/A\",IF(BZ27=1,\"NO: E, J, K, P. NI: 3, 4, 7, 8, 9, 10, 11, 12, 13, 14, 15, 16, 17, 18, 22, 24, 25, 23, 26, 27, 28, 29, 30, 31, 32, 33, 34, 35, 36, 37, 38, 39, 40, 42, 47, 48.\", IF(BZ27=2,\"NO: E, J, K, P. NI: 3, 4, 7, 8, 9, 10, 11, 12, 13, 14, 15, 16, 17, 18, 22, 24, 25, 23, 26, 27, 28, 29, 30, 31, 32, 33, 34, 35, 36, 37, 38, 39, 40, 42, 47, 48.\",IF(BZ27=3,\"NO: E, J, K, P. NI: 3, 4, 7, 8, 9, 10, 11, 12, 13, 14, 15, 16, 17, 18, 22, 24, 25, 23, 26, 27, 28, 29, 30, 31, 32, 33, 34, 35, 36, 37, 38, 39, 40, 42, 47, 48.\",\"N/A\"))))","v":"N/A"},{"$f":"Risks!CB32","v":0},{"$f":"IF(CB27=0,\"N/A\",IF(CB27=1,\"NO: E, J, K, P. NI: 3, 4, 7, 8, 9, 10, 11, 12, 13, 14, 15, 16, 17, 18, 22, 24, 25, 23, 26, 27, 28, 29, 30, 31, 32, 33, 34, 35, 36, 37, 38, 39, 40, 42, 47, 48.\", IF(CB27=2,\"NO: E, J, K, P. NI: 3, 4, 7, 8, 9, 10, 11, 12, 13, 14, 15, 16, 17, 18, 22, 24, 25, 23, 26, 27, 28, 29, 30, 31, 32, 33, 34, 35, 36, 37, 38, 39, 40, 42, 47, 48.\",IF(CB27=3,\"NO: E, J, K, P. NI: 3, 4, 7, 8, 9, 10, 11, 12, 13, 14, 15, 16, 17, 18, 22, 24, 25, 23, 26, 27, 28, 29, 30, 31, 32, 33, 34, 35, 36, 37, 38, 39, 40, 42, 47, 48.\",\"N/A\"))))","v":"N/A"},{"$f":"Risks!CD32","v":0},{"$f":"IF(CD27=0,\"N/A\",IF(CD27=1,\"NO: E, J, K, P. NI: 3, 4, 7, 8, 9, 10, 11, 12, 13, 14, 15, 16, 17, 18, 22, 24, 25, 23, 26, 27, 28, 29, 30, 31, 32, 33, 34, 35, 36, 37, 38, 39, 40, 42, 47, 48.\", IF(CD27=2,\"NO: E, J, K, P. NI: 3, 4, 7, 8, 9, 10, 11, 12, 13, 14, 15, 16, 17, 18, 22, 24, 25, 23, 26, 27, 28, 29, 30, 31, 32, 33, 34, 35, 36, 37, 38, 39, 40, 42, 47, 48.\",IF(CD27=3,\"NO: E, J, K, P. NI: 3, 4, 7, 8, 9, 10, 11, 12, 13, 14, 15, 16, 17, 18, 22, 24, 25, 23, 26, 27, 28, 29, 30, 31, 32, 33, 34, 35, 36, 37, 38, 39, 40, 42, 47, 48.\",\"N/A\"))))","v":"N/A"},null,{"$f":"IssuesInput!F6","v":"Community Engagement Strategy (being developed in 2016)"},null,null,{"$f":"Risks!CJ32","v":0},{"$f":"IF(CJ27=0,\"N/A\",IF(CJ27=1,\"NO: E, J, K, P. NI: 3, 4, 7, 8, 9, 10, 11, 12, 13, 14, 15, 16, 17, 18, 22, 24, 25, 23, 26, 27, 28, 29, 30, 31, 32, 33, 34, 35, 36, 37, 38, 39, 40, 42, 47, 48.\", IF(CJ27=2,\"NO: E, J, K, P. NI: 3, 4, 7, 8, 9, 10, 11, 12, 13, 14, 15, 16, 17, 18, 22, 24, 25, 23, 26, 27, 28, 29, 30, 31, 32, 33, 34, 35, 36, 37, 38, 39, 40, 42, 47, 48.\",IF(CJ27=3,\"NO: E, J, K, P. NI: 3, 4, 7, 8, 9, 10, 11, 12, 13, 14, 15, 16, 17, 18, 22, 24, 25, 23, 26, 27, 28, 29, 30, 31, 32, 33, 34, 35, 36, 37, 38, 39, 40, 42, 47, 48.\",\"N/A\"))))","v":"N/A"}]
[null,null,"Security and crime",{"$f":"Risks!D33","v":3},{"$f":"IF(D28=0,\"N/A\",IF(D28=1,\"NO: G, H, I. NI: 31, 32, 33, 34.\", IF(D28=2,\"NO: G, H, I. NI: 31, 32, 33, 34.\",IF(D28=3,\"NO: G, H, I. NI: 31, 32, 33, 34.\",\"N/A\"))))","v":"NO: G, H, I. NI: 31, 32, 33, 34."},{"$f":"Risks!F33","v":3},{"$f":"IF(F28=0,\"N/A\",IF(F28=1,\"NO: G, H, I. NI: 31, 32, 33, 34.\", IF(F28=2,\"NO: G, H, I. NI: 31, 32, 33, 34.\",IF(F28=3,\"NO: G, H, I. NI: 31, 32, 33, 34.\",\"N/A\"))))","v":"NO: G, H, I. NI: 31, 32, 33, 34."},{"$f":"Risks!H33","v":3},{"$f":"IF(H28=0,\"N/A\",IF(H28=1,\"NO: G, H, I. NI: 31, 32, 33, 34.\", IF(H28=2,\"NO: G, H, I. NI: 31, 32, 33, 34.\",IF(H28=3,\"NO: G, H, I. NI: 31, 32, 33, 34.\",\"N/A\"))))","v":"NO: G, H, I. NI: 31, 32, 33, 34."},{"$f":"Risks!J33","v":3},{"$f":"IF(J28=0,\"N/A\",IF(J28=1,\"NO: G, H, I. NI: 31, 32, 33, 34.\", IF(J28=2,\"NO: G, H, I. NI: 31, 32, 33, 34.\",IF(J28=3,\"NO: G, H, I. NI: 31, 32, 33, 34.\",\"N/A\"))))","v":"NO: G, H, I. NI: 31, 32, 33, 34."},{"$f":"Risks!L33","v":3},{"$f":"IF(L28=0,\"N/A\",IF(L28=1,\"NO: G, H, I. NI: 31, 32, 33, 34.\", IF(L28=2,\"NO: G, H, I. NI: 31, 32, 33, 34.\",IF(L28=3,\"NO: G, H, I. NI: 31, 32, 33, 34.\",\"N/A\"))))","v":"NO: G, H, I. NI: 31, 32, 33, 34."},{"$f":"Risks!N33","v":3},{"$f":"IF(N28=0,\"N/A\",IF(N28=1,\"NO: G, H, I. NI: 31, 32, 33, 34.\", IF(N28=2,\"NO: G, H, I. NI: 31, 32, 33, 34.\",IF(N28=3,\"NO: G, H, I. NI: 31, 32, 33, 34.\",\"N/A\"))))","v":"NO: G, H, I. NI: 31, 32, 33, 34."},{"$f":"Risks!P33","v":2},{"$f":"IF(P28=0,\"N/A\",IF(P28=1,\"NO: G, H, I. NI: 31, 32, 33, 34.\", IF(P28=2,\"NO: G, H, I. NI: 31, 32, 33, 34.\",IF(P28=3,\"NO: G, H, I. NI: 31, 32, 33, 34.\",\"N/A\"))))","v":"NO: G, H, I. NI: 31, 32, 33, 34."},{"$f":"Risks!R33","v":3},{"$f":"IF(R28=0,\"N/A\",IF(R28=1,\"NO: G, H, I. NI: 31, 32, 33, 34.\", IF(R28=2,\"NO: G, H, I. NI: 31, 32, 33, 34.\",IF(R28=3,\"NO: G, H, I. NI: 31, 32, 33, 34.\",\"N/A\"))))","v":"NO: G, H, I. NI: 31, 32, 33, 34."},{"$f":"Risks!T33","v":0},{"$f":"IF(T28=0,\"N/A\",IF(T28=1,\"NO: G, H, I. NI: 31, 32, 33, 34.\", IF(T28=2,\"NO: G, H, I. NI: 31, 32, 33, 34.\",IF(T28=3,\"NO: G, H, I. NI: 31, 32, 33, 34.\",\"N/A\"))))","v":"N/A"},{"$f":"Risks!V33","v":0},{"$f":"IF(V28=0,\"N/A\",IF(V28=1,\"NO: G, H, I. NI: 31, 32, 33, 34.\", IF(V28=2,\"NO: G, H, I. NI: 31, 32, 33, 34.\",IF(V28=3,\"NO: G, H, I. NI: 31, 32, 33, 34.\",\"N/A\"))))","v":"N/A"},{"$f":"Risks!X33","v":0},{"$f":"IF(X28=0,\"N/A\",IF(X28=1,\"NO: G, H, I. NI: 31, 32, 33, 34.\", IF(X28=2,\"NO: G, H, I. NI: 31, 32, 33, 34.\",IF(X28=3,\"NO: G, H, I. NI: 31, 32, 33, 34.\",\"N/A\"))))","v":"N/A"},{"$f":"Risks!Z33","v":0},{"$f":"IF(Z28=0,\"N/A\",IF(Z28=1,\"NO: G, H, I. NI: 31, 32, 33, 34.\", IF(Z28=2,\"NO: G, H, I. NI: 31, 32, 33, 34.\",IF(Z28=3,\"NO: G, H, I. NI: 31, 32, 33, 34.\",\"N/A\"))))","v":"N/A"},{"$f":"Risks!AB33","v":0},{"$f":"IF(AB28=0,\"N/A\",IF(AB28=1,\"NO: G, H, I. NI: 31, 32, 33, 34.\", IF(AB28=2,\"NO: G, H, I. NI: 31, 32, 33, 34.\",IF(AB28=3,\"NO: G, H, I. NI: 31, 32, 33, 34.\",\"N/A\"))))","v":"N/A"},{"$f":"Risks!AD33","v":0},{"$f":"IF(AD28=0,\"N/A\",IF(AD28=1,\"NO: G, H, I. NI: 31, 32, 33, 34.\", IF(AD28=2,\"NO: G, H, I. NI: 31, 32, 33, 34.\",IF(AD28=3,\"NO: G, H, I. NI: 31, 32, 33, 34.\",\"N/A\"))))","v":"N/A"},{"$f":"Risks!AF33","v":0},{"$f":"IF(AF28=0,\"N/A\",IF(AF28=1,\"NO: G, H, I. NI: 31, 32, 33, 34.\", IF(AF28=2,\"NO: G, H, I. NI: 31, 32, 33, 34.\",IF(AF28=3,\"NO: G, H, I. NI: 31, 32, 33, 34.\",\"N/A\"))))","v":"N/A"},{"$f":"Risks!AH33","v":0},{"$f":"IF(AH28=0,\"N/A\",IF(AH28=1,\"NO: G, H, I. NI: 31, 32, 33, 34.\", IF(AH28=2,\"NO: G, H, I. NI: 31, 32, 33, 34.\",IF(AH28=3,\"NO: G, H, I. NI: 31, 32, 33, 34.\",\"N/A\"))))","v":"N/A"},{"$f":"Risks!AJ33","v":0},{"$f":"IF(AJ28=0,\"N/A\",IF(AJ28=1,\"NO: G, H, I. NI: 31, 32, 33, 34.\", IF(AJ28=2,\"NO: G, H, I. NI: 31, 32, 33, 34.\",IF(AJ28=3,\"NO: G, H, I. NI: 31, 32, 33, 34.\",\"N/A\"))))","v":"N/A"},{"$f":"Risks!AL33","v":0},{"$f":"IF(AL28=0,\"N/A\",IF(AL28=1,\"NO: G, H, I. NI: 31, 32, 33, 34.\", IF(AL28=2,\"NO: G, H, I. NI: 31, 32, 33, 34.\",IF(AL28=3,\"NO: G, H, I. NI: 31, 32, 33, 34.\",\"N/A\"))))","v":"N/A"},{"$f":"Risks!AN33","v":0},{"$f":"IF(AN28=0,\"N/A\",IF(AN28=1,\"NO: G, H, I. NI: 31, 32, 33, 34.\", IF(AN28=2,\"NO: G, H, I. NI: 31, 32, 33, 34.\",IF(AN28=3,\"NO: G, H, I. NI: 31, 32, 33, 34.\",\"N/A\"))))","v":"N/A"},{"$f":"Risks!AP33","v":0},{"$f":"IF(AP28=0,\"N/A\",IF(AP28=1,\"NO: G, H, I. NI: 31, 32, 33, 34.\", IF(AP28=2,\"NO: G, H, I. NI: 31, 32, 33, 34.\",IF(AP28=3,\"NO: G, H, I. NI: 31, 32, 33, 34.\",\"N/A\"))))","v":"N/A"},{"$f":"Risks!AR33","v":0},{"$f":"IF(AR28=0,\"N/A\",IF(AR28=1,\"NO: G, H, I. NI: 31, 32, 33, 34.\", IF(AR28=2,\"NO: G, H, I. NI: 31, 32, 33, 34.\",IF(AR28=3,\"NO: G, H, I. NI: 31, 32, 33, 34.\",\"N/A\"))))","v":"N/A"},{"$f":"Risks!AT33","v":0},{"$f":"IF(AT28=0,\"N/A\",IF(AT28=1,\"NO: G, H, I. NI: 31, 32, 33, 34.\", IF(AT28=2,\"NO: G, H, I. NI: 31, 32, 33, 34.\",IF(AT28=3,\"NO: G, H, I. NI: 31, 32, 33, 34.\",\"N/A\"))))","v":"N/A"},{"$f":"Risks!AV33","v":0},{"$f":"IF(AV28=0,\"N/A\",IF(AV28=1,\"NO: G, H, I. NI: 31, 32, 33, 34.\", IF(AV28=2,\"NO: G, H, I. NI: 31, 32, 33, 34.\",IF(AV28=3,\"NO: G, H, I. NI: 31, 32, 33, 34.\",\"N/A\"))))","v":"N/A"},{"$f":"Risks!AX33","v":0},{"$f":"IF(AX28=0,\"N/A\",IF(AX28=1,\"NO: G, H, I. NI: 31, 32, 33, 34.\", IF(AX28=2,\"NO: G, H, I. NI: 31, 32, 33, 34.\",IF(AX28=3,\"NO: G, H, I. NI: 31, 32, 33, 34.\",\"N/A\"))))","v":"N/A"},{"$f":"Risks!AZ33","v":0},{"$f":"IF(AZ28=0,\"N/A\",IF(AZ28=1,\"NO: G, H, I. NI: 31, 32, 33, 34.\", IF(AZ28=2,\"NO: G, H, I. NI: 31, 32, 33, 34.\",IF(AZ28=3,\"NO: G, H, I. NI: 31, 32, 33, 34.\",\"N/A\"))))","v":"N/A"},{"$f":"Risks!BB33","v":0},{"$f":"IF(BB28=0,\"N/A\",IF(BB28=1,\"NO: G, H, I. NI: 31, 32, 33, 34.\", IF(BB28=2,\"NO: G, H, I. NI: 31, 32, 33, 34.\",IF(BB28=3,\"NO: G, H, I. NI: 31, 32, 33, 34.\",\"N/A\"))))","v":"N/A"},{"$f":"Risks!BD33","v":0},{"$f":"IF(BD28=0,\"N/A\",IF(BD28=1,\"NO: G, H, I. NI: 31, 32, 33, 34.\", IF(BD28=2,\"NO: G, H, I. NI: 31, 32, 33, 34.\",IF(BD28=3,\"NO: G, H, I. NI: 31, 32, 33, 34.\",\"N/A\"))))","v":"N/A"},{"$f":"Risks!BF33","v":0},{"$f":"IF(BF28=0,\"N/A\",IF(BF28=1,\"NO: G, H, I. NI: 31, 32, 33, 34.\", IF(BF28=2,\"NO: G, H, I. NI: 31, 32, 33, 34.\",IF(BF28=3,\"NO: G, H, I. NI: 31, 32, 33, 34.\",\"N/A\"))))","v":"N/A"},{"$f":"Risks!BH33","v":0},{"$f":"IF(BH28=0,\"N/A\",IF(BH28=1,\"NO: G, H, I. NI: 31, 32, 33, 34.\", IF(BH28=2,\"NO: G, H, I. NI: 31, 32, 33, 34.\",IF(BH28=3,\"NO: G, H, I. NI: 31, 32, 33, 34.\",\"N/A\"))))","v":"N/A"},{"$f":"Risks!BJ33","v":0},{"$f":"IF(BJ28=0,\"N/A\",IF(BJ28=1,\"NO: G, H, I. NI: 31, 32, 33, 34.\", IF(BJ28=2,\"NO: G, H, I. NI: 31, 32, 33, 34.\",IF(BJ28=3,\"NO: G, H, I. NI: 31, 32, 33, 34.\",\"N/A\"))))","v":"N/A"},{"$f":"Risks!BL33","v":0},{"$f":"IF(BL28=0,\"N/A\",IF(BL28=1,\"NO: G, H, I. NI: 31, 32, 33, 34.\", IF(BL28=2,\"NO: G, H, I. NI: 31, 32, 33, 34.\",IF(BL28=3,\"NO: G, H, I. NI: 31, 32, 33, 34.\",\"N/A\"))))","v":"N/A"},{"$f":"Risks!BN33","v":0},{"$f":"IF(BN28=0,\"N/A\",IF(BN28=1,\"NO: I. NI: 27, 28, 29, 30, 31, 32, 40.\", IF(BN28=2,\"NO: I. NI: 27, 28, 29, 30, 31, 32, 40.\",IF(BN28=3,\"NO: I. NI: 27, 28, 29, 30, 31, 32, 40.\",\"N/A\"))))","v":"N/A"},{"$f":"Risks!BP33","v":0},{"$f":"IF(BP28=0,\"N/A\",IF(BP28=1,\"NO: I. NI: 27, 28, 29, 30, 31, 32, 40.\", IF(BP28=2,\"NO: I. NI: 27, 28, 29, 30, 31, 32, 40.\",IF(BP28=3,\"NO: I. NI: 27, 28, 29, 30, 31, 32, 40.\",\"N/A\"))))","v":"N/A"},{"$f":"Risks!BR33","v":0},{"$f":"IF(BR28=0,\"N/A\",IF(BR28=1,\"NO: I. NI: 27, 28, 29, 30, 31, 32, 40.\", IF(BR28=2,\"NO: I. NI: 27, 28, 29, 30, 31, 32, 40.\",IF(BR28=3,\"NO: I. NI: 27, 28, 29, 30, 31, 32, 40.\",\"N/A\"))))","v":"N/A"},{"$f":"Risks!BT33","v":0},{"$f":"IF(BT28=0,\"N/A\",IF(BT28=1,\"NO: I. NI: 27, 28, 29, 30, 31, 32, 40.\", IF(BT28=2,\"NO: I. NI: 27, 28, 29, 30, 31, 32, 40.\",IF(BT28=3,\"NO: I. NI: 27, 28, 29, 30, 31, 32, 40.\",\"N/A\"))))","v":"N/A"},{"$f":"Risks!BV33","v":0},{"$f":"IF(BV28=0,\"N/A\",IF(BV28=1,\"NO: I. NI: 27, 28, 29, 30, 31, 32, 40.\", IF(BV28=2,\"NO: I. NI: 27, 28, 29, 30, 31, 32, 40.\",IF(BV28=3,\"NO: I. NI: 27, 28, 29, 30, 31, 32, 40.\",\"N/A\"))))","v":"N/A"},{"$f":"Risks!BX33","v":0},{"$f":"IF(BX28=0,\"N/A\",IF(BX28=1,\"NO: I. NI: 27, 28, 29, 30, 31, 32, 40.\", IF(BX28=2,\"NO: I. NI: 27, 28, 29, 30, 31, 32, 40.\",IF(BX28=3,\"NO: I. NI: 27, 28, 29, 30, 31, 32, 40.\",\"N/A\"))))","v":"N/A"},{"$f":"Risks!BZ33","v":0},{"$f":"IF(BZ28=0,\"N/A\",IF(BZ28=1,\"NO: I. NI: 27, 28, 29, 30, 31, 32, 40.\", IF(BZ28=2,\"NO: I. NI: 27, 28, 29, 30, 31, 32, 40.\",IF(BZ28=3,\"NO: I. NI: 27, 28, 29, 30, 31, 32, 40.\",\"N/A\"))))","v":"N/A"},{"$f":"Risks!CB33","v":0},{"$f":"IF(CB28=0,\"N/A\",IF(CB28=1,\"NO: I. NI: 27, 28, 29, 30, 31, 32, 40.\", IF(CB28=2,\"NO: I. NI: 27, 28, 29, 30, 31, 32, 40.\",IF(CB28=3,\"NO: I. NI: 27, 28, 29, 30, 31, 32, 40.\",\"N/A\"))))","v":"N/A"},{"$f":"Risks!CD33","v":0},{"$f":"IF(CD28=0,\"N/A\",IF(CD28=1,\"NO: I. NI: 27, 28, 29, 30, 31, 32, 40.\", IF(CD28=2,\"NO: I. NI: 27, 28, 29, 30, 31, 32, 40.\",IF(CD28=3,\"NO: I. NI: 27, 28, 29, 30, 31, 32, 40.\",\"N/A\"))))","v":"N/A"},null,{"$f":"IssuesInput!F7","v":"Security Policy (2009) Information Security Policy (2014) \n"},null,null,{"$f":"Risks!CJ33","v":0},{"$f":"IF(CJ28=0,\"N/A\",IF(CJ28=1,\"NO: I. NI: 27, 28, 29, 30, 31, 32, 40.\", IF(CJ28=2,\"NO: I. NI: 27, 28, 29, 30, 31, 32, 40.\",IF(CJ28=3,\"NO: I. NI: 27, 28, 29, 30, 31, 32, 40.\",\"N/A\"))))","v":"N/A"}]
[null,null,"Fairly and ethically traded",{"$f":"Risks!D34","v":3},{"$f":"IF(D29=0,\"N/A\",IF(D29=1,\"NO: A, M. NI: 5, 8, 9, 10, 11, 14, 15, 38 .\", IF(D29=2,\"NO: A, M. NI: 5, 8, 9, 10, 11, 14, 15, 38 .\",IF(D29=3,\"NO: A, M. NI: 5, 8, 9, 10, 11, 14, 15, 38.\",\"N/A\"))))","v":"NO: A, M. NI: 5, 8, 9, 10, 11, 14, 15, 38."},{"$f":"Risks!F34","v":3},{"$f":"IF(F29=0,\"N/A\",IF(F29=1,\"NO: A, M. NI: 5, 8, 9, 10, 11, 14, 15, 38 .\", IF(F29=2,\"NO: A, M. NI: 5, 8, 9, 10, 11, 14, 15, 38 .\",IF(F29=3,\"NO: A, M. NI: 5, 8, 9, 10, 11, 14, 15, 38.\",\"N/A\"))))","v":"NO: A, M. NI: 5, 8, 9, 10, 11, 14, 15, 38."},{"$f":"Risks!H34","v":3},{"$f":"IF(H29=0,\"N/A\",IF(H29=1,\"NO: A, M. NI: 5, 8, 9, 10, 11, 14, 15, 38 .\", IF(H29=2,\"NO: A, M. NI: 5, 8, 9, 10, 11, 14, 15, 38 .\",IF(H29=3,\"NO: A, M. NI: 5, 8, 9, 10, 11, 14, 15, 38.\",\"N/A\"))))","v":"NO: A, M. NI: 5, 8, 9, 10, 11, 14, 15, 38."},{"$f":"Risks!J34","v":3},{"$f":"IF(J29=0,\"N/A\",IF(J29=1,\"NO: A, M. NI: 5, 8, 9, 10, 11, 14, 15, 38 .\", IF(J29=2,\"NO: A, M. NI: 5, 8, 9, 10, 11, 14, 15, 38 .\",IF(J29=3,\"NO: A, M. NI: 5, 8, 9, 10, 11, 14, 15, 38.\",\"N/A\"))))","v":"NO: A, M. NI: 5, 8, 9, 10, 11, 14, 15, 38."},{"$f":"Risks!L34","v":3},{"$f":"IF(L29=0,\"N/A\",IF(L29=1,\"NO: A, M. NI: 5, 8, 9, 10, 11, 14, 15, 38 .\", IF(L29=2,\"NO: A, M. NI: 5, 8, 9, 10, 11, 14, 15, 38 .\",IF(L29=3,\"NO: A, M. NI: 5, 8, 9, 10, 11, 14, 15, 38.\",\"N/A\"))))","v":"NO: A, M. NI: 5, 8, 9, 10, 11, 14, 15, 38."},{"$f":"Risks!N34","v":2},{"$f":"IF(N29=0,\"N/A\",IF(N29=1,\"NO: A, M. NI: 5, 8, 9, 10, 11, 14, 15, 38 .\", IF(N29=2,\"NO: A, M. NI: 5, 8, 9, 10, 11, 14, 15, 38 .\",IF(N29=3,\"NO: A, M. NI: 5, 8, 9, 10, 11, 14, 15, 38.\",\"N/A\"))))","v":"NO: A, M. NI: 5, 8, 9, 10, 11, 14, 15, 38 ."},{"$f":"Risks!P34","v":3},{"$f":"IF(P29=0,\"N/A\",IF(P29=1,\"NO: A, M. NI: 5, 8, 9, 10, 11, 14, 15, 38 .\", IF(P29=2,\"NO: A, M. NI: 5, 8, 9, 10, 11, 14, 15, 38 .\",IF(P29=3,\"NO: A, M. NI: 5, 8, 9, 10, 11, 14, 15, 38.\",\"N/A\"))))","v":"NO: A, M. NI: 5, 8, 9, 10, 11, 14, 15, 38."},{"$f":"Risks!R34","v":3},{"$f":"IF(R29=0,\"N/A\",IF(R29=1,\"NO: A, M. NI: 5, 8, 9, 10, 11, 14, 15, 38 .\", IF(R29=2,\"NO: A, M. NI: 5, 8, 9, 10, 11, 14, 15, 38 .\",IF(R29=3,\"NO: A, M. NI: 5, 8, 9, 10, 11, 14, 15, 38.\",\"N/A\"))))","v":"NO: A, M. NI: 5, 8, 9, 10, 11, 14, 15, 38."},{"$f":"Risks!T34","v":0},{"$f":"IF(T29=0,\"N/A\",IF(T29=1,\"NO: A, M. NI: 5, 8, 9, 10, 11, 14, 15, 38 .\", IF(T29=2,\"NO: A, M. NI: 5, 8, 9, 10, 11, 14, 15, 38 .\",IF(T29=3,\"NO: A, M. NI: 5, 8, 9, 10, 11, 14, 15, 38.\",\"N/A\"))))","v":"N/A"},{"$f":"Risks!V34","v":0},{"$f":"IF(V29=0,\"N/A\",IF(V29=1,\"NO: A, M. NI: 5, 8, 9, 10, 11, 14, 15, 38 .\", IF(V29=2,\"NO: A, M. NI: 5, 8, 9, 10, 11, 14, 15, 38 .\",IF(V29=3,\"NO: A, M. NI: 5, 8, 9, 10, 11, 14, 15, 38.\",\"N/A\"))))","v":"N/A"},{"$f":"Risks!X34","v":0},{"$f":"IF(X29=0,\"N/A\",IF(X29=1,\"NO: A, M. NI: 5, 8, 9, 10, 11, 14, 15, 38 .\", IF(X29=2,\"NO: A, M. NI: 5, 8, 9, 10, 11, 14, 15, 38 .\",IF(X29=3,\"NO: A, M. NI: 5, 8, 9, 10, 11, 14, 15, 38.\",\"N/A\"))))","v":"N/A"},{"$f":"Risks!Z34","v":0},{"$f":"IF(Z29=0,\"N/A\",IF(Z29=1,\"NO: A, M. NI: 5, 8, 9, 10, 11, 14, 15, 38 .\", IF(Z29=2,\"NO: A, M. NI: 5, 8, 9, 10, 11, 14, 15, 38 .\",IF(Z29=3,\"NO: A, M. NI: 5, 8, 9, 10, 11, 14, 15, 38.\",\"N/A\"))))","v":"N/A"},{"$f":"Risks!AB34","v":0},{"$f":"IF(AB29=0,\"N/A\",IF(AB29=1,\"NO: A, M. NI: 5, 8, 9, 10, 11, 14, 15, 38 .\", IF(AB29=2,\"NO: A, M. NI: 5, 8, 9, 10, 11, 14, 15, 38 .\",IF(AB29=3,\"NO: A, M. NI: 5, 8, 9, 10, 11, 14, 15, 38.\",\"N/A\"))))","v":"N/A"},{"$f":"Risks!AD34","v":0},{"$f":"IF(AD29=0,\"N/A\",IF(AD29=1,\"NO: A, M. NI: 5, 8, 9, 10, 11, 14, 15, 38 .\", IF(AD29=2,\"NO: A, M. NI: 5, 8, 9, 10, 11, 14, 15, 38 .\",IF(AD29=3,\"NO: A, M. NI: 5, 8, 9, 10, 11, 14, 15, 38.\",\"N/A\"))))","v":"N/A"},{"$f":"Risks!AF34","v":0},{"$f":"IF(AF29=0,\"N/A\",IF(AF29=1,\"NO: A, M. NI: 5, 8, 9, 10, 11, 14, 15, 38 .\", IF(AF29=2,\"NO: A, M. NI: 5, 8, 9, 10, 11, 14, 15, 38 .\",IF(AF29=3,\"NO: A, M. NI: 5, 8, 9, 10, 11, 14, 15, 38.\",\"N/A\"))))","v":"N/A"},{"$f":"Risks!AH34","v":0},{"$f":"IF(AH29=0,\"N/A\",IF(AH29=1,\"NO: A, M. NI: 5, 8, 9, 10, 11, 14, 15, 38 .\", IF(AH29=2,\"NO: A, M. NI: 5, 8, 9, 10, 11, 14, 15, 38 .\",IF(AH29=3,\"NO: A, M. NI: 5, 8, 9, 10, 11, 14, 15, 38.\",\"N/A\"))))","v":"N/A"},{"$f":"Risks!AJ34","v":0},{"$f":"IF(AJ29=0,\"N/A\",IF(AJ29=1,\"NO: A, M. NI: 5, 8, 9, 10, 11, 14, 15, 38 .\", IF(AJ29=2,\"NO: A, M. NI: 5, 8, 9, 10, 11, 14, 15, 38 .\",IF(AJ29=3,\"NO: A, M. NI: 5, 8, 9, 10, 11, 14, 15, 38.\",\"N/A\"))))","v":"N/A"},{"$f":"Risks!AL34","v":0},{"$f":"IF(AL29=0,\"N/A\",IF(AL29=1,\"NO: A, M. NI: 5, 8, 9, 10, 11, 14, 15, 38 .\", IF(AL29=2,\"NO: A, M. NI: 5, 8, 9, 10, 11, 14, 15, 38 .\",IF(AL29=3,\"NO: A, M. NI: 5, 8, 9, 10, 11, 14, 15, 38.\",\"N/A\"))))","v":"N/A"},{"$f":"Risks!AN34","v":0},{"$f":"IF(AN29=0,\"N/A\",IF(AN29=1,\"NO: A, M. NI: 5, 8, 9, 10, 11, 14, 15, 38 .\", IF(AN29=2,\"NO: A, M. NI: 5, 8, 9, 10, 11, 14, 15, 38 .\",IF(AN29=3,\"NO: A, M. NI: 5, 8, 9, 10, 11, 14, 15, 38.\",\"N/A\"))))","v":"N/A"},{"$f":"Risks!AP34","v":0},{"$f":"IF(AP29=0,\"N/A\",IF(AP29=1,\"NO: A, M. NI: 5, 8, 9, 10, 11, 14, 15, 38 .\", IF(AP29=2,\"NO: A, M. NI: 5, 8, 9, 10, 11, 14, 15, 38 .\",IF(AP29=3,\"NO: A, M. NI: 5, 8, 9, 10, 11, 14, 15, 38.\",\"N/A\"))))","v":"N/A"},{"$f":"Risks!AR34","v":0},{"$f":"IF(AR29=0,\"N/A\",IF(AR29=1,\"NO: A, M. NI: 5, 8, 9, 10, 11, 14, 15, 38 .\", IF(AR29=2,\"NO: A, M. NI: 5, 8, 9, 10, 11, 14, 15, 38 .\",IF(AR29=3,\"NO: A, M. NI: 5, 8, 9, 10, 11, 14, 15, 38.\",\"N/A\"))))","v":"N/A"},{"$f":"Risks!AT34","v":0},{"$f":"IF(AT29=0,\"N/A\",IF(AT29=1,\"NO: A, M. NI: 5, 8, 9, 10, 11, 14, 15, 38 .\", IF(AT29=2,\"NO: A, M. NI: 5, 8, 9, 10, 11, 14, 15, 38 .\",IF(AT29=3,\"NO: A, M. NI: 5, 8, 9, 10, 11, 14, 15, 38.\",\"N/A\"))))","v":"N/A"},{"$f":"Risks!AV34","v":0},{"$f":"IF(AV29=0,\"N/A\",IF(AV29=1,\"NO: A, M. NI: 5, 8, 9, 10, 11, 14, 15, 38 .\", IF(AV29=2,\"NO: A, M. NI: 5, 8, 9, 10, 11, 14, 15, 38 .\",IF(AV29=3,\"NO: A, M. NI: 5, 8, 9, 10, 11, 14, 15, 38.\",\"N/A\"))))","v":"N/A"},{"$f":"Risks!AX34","v":0},{"$f":"IF(AX29=0,\"N/A\",IF(AX29=1,\"NO: A, M. NI: 5, 8, 9, 10, 11, 14, 15, 38 .\", IF(AX29=2,\"NO: A, M. NI: 5, 8, 9, 10, 11, 14, 15, 38 .\",IF(AX29=3,\"NO: A, M. NI: 5, 8, 9, 10, 11, 14, 15, 38.\",\"N/A\"))))","v":"N/A"},{"$f":"Risks!AZ34","v":0},{"$f":"IF(AZ29=0,\"N/A\",IF(AZ29=1,\"NO: A, M. NI: 5, 8, 9, 10, 11, 14, 15, 38 .\", IF(AZ29=2,\"NO: A, M. NI: 5, 8, 9, 10, 11, 14, 15, 38 .\",IF(AZ29=3,\"NO: A, M. NI: 5, 8, 9, 10, 11, 14, 15, 38.\",\"N/A\"))))","v":"N/A"},{"$f":"Risks!BB34","v":0},{"$f":"IF(BB29=0,\"N/A\",IF(BB29=1,\"NO: A, M. NI: 5, 8, 9, 10, 11, 14, 15, 38 .\", IF(BB29=2,\"NO: A, M. NI: 5, 8, 9, 10, 11, 14, 15, 38 .\",IF(BB29=3,\"NO: A, M. NI: 5, 8, 9, 10, 11, 14, 15, 38.\",\"N/A\"))))","v":"N/A"},{"$f":"Risks!BD34","v":0},{"$f":"IF(BD29=0,\"N/A\",IF(BD29=1,\"NO: A, M. NI: 5, 8, 9, 10, 11, 14, 15, 38 .\", IF(BD29=2,\"NO: A, M. NI: 5, 8, 9, 10, 11, 14, 15, 38 .\",IF(BD29=3,\"NO: A, M. NI: 5, 8, 9, 10, 11, 14, 15, 38.\",\"N/A\"))))","v":"N/A"},{"$f":"Risks!BF34","v":0},{"$f":"IF(BF29=0,\"N/A\",IF(BF29=1,\"NO: A, M. NI: 5, 8, 9, 10, 11, 14, 15, 38 .\", IF(BF29=2,\"NO: A, M. NI: 5, 8, 9, 10, 11, 14, 15, 38 .\",IF(BF29=3,\"NO: A, M. NI: 5, 8, 9, 10, 11, 14, 15, 38.\",\"N/A\"))))","v":"N/A"},{"$f":"Risks!BH34","v":0},{"$f":"IF(BH29=0,\"N/A\",IF(BH29=1,\"NO: A, M. NI: 5, 8, 9, 10, 11, 14, 15, 38 .\", IF(BH29=2,\"NO: A, M. NI: 5, 8, 9, 10, 11, 14, 15, 38 .\",IF(BH29=3,\"NO: A, M. NI: 5, 8, 9, 10, 11, 14, 15, 38.\",\"N/A\"))))","v":"N/A"},{"$f":"Risks!BJ34","v":0},{"$f":"IF(BJ29=0,\"N/A\",IF(BJ29=1,\"NO: A, M. NI: 5, 8, 9, 10, 11, 14, 15, 38 .\", IF(BJ29=2,\"NO: A, M. NI: 5, 8, 9, 10, 11, 14, 15, 38 .\",IF(BJ29=3,\"NO: A, M. NI: 5, 8, 9, 10, 11, 14, 15, 38.\",\"N/A\"))))","v":"N/A"},{"$f":"Risks!BL34","v":0},{"$f":"IF(BL29=0,\"N/A\",IF(BL29=1,\"NO: A, M. NI: 5, 8, 9, 10, 11, 14, 15, 38 .\", IF(BL29=2,\"NO: A, M. NI: 5, 8, 9, 10, 11, 14, 15, 38 .\",IF(BL29=3,\"NO: A, M. NI: 5, 8, 9, 10, 11, 14, 15, 38.\",\"N/A\"))))","v":"N/A"},{"$f":"Risks!BN34","v":0},{"$f":"IF(BN29=0,\"N/A\",IF(BN29=1,\"NO: A, M. NI: 1, 2, 3, 4, 5, 6, 7, 8, 11, 12, 13, 35, 36, 37, 41, 42, 44.\", IF(BN29=2,\"NO: A, M. NI: 1, 2, 3, 4, 5, 6, 7, 8, 11, 12, 13, 35, 36, 37, 41, 42, 44.\",IF(BN29=3,\"NO: A, M. NI: 1, 2, 3, 4, 5, 6, 7, 8, 11, 12, 13, 35, 36, 37, 41, 42, 44.\",\"N/A\"))))","v":"N/A"},{"$f":"Risks!BP34","v":0},{"$f":"IF(BP29=0,\"N/A\",IF(BP29=1,\"NO: A, M. NI: 1, 2, 3, 4, 5, 6, 7, 8, 11, 12, 13, 35, 36, 37, 41, 42, 44.\", IF(BP29=2,\"NO: A, M. NI: 1, 2, 3, 4, 5, 6, 7, 8, 11, 12, 13, 35, 36, 37, 41, 42, 44.\",IF(BP29=3,\"NO: A, M. NI: 1, 2, 3, 4, 5, 6, 7, 8, 11, 12, 13, 35, 36, 37, 41, 42, 44.\",\"N/A\"))))","v":"N/A"},{"$f":"Risks!BR34","v":0},{"$f":"IF(BR29=0,\"N/A\",IF(BR29=1,\"NO: A, M. NI: 1, 2, 3, 4, 5, 6, 7, 8, 11, 12, 13, 35, 36, 37, 41, 42, 44.\", IF(BR29=2,\"NO: A, M. NI: 1, 2, 3, 4, 5, 6, 7, 8, 11, 12, 13, 35, 36, 37, 41, 42, 44.\",IF(BR29=3,\"NO: A, M. NI: 1, 2, 3, 4, 5, 6, 7, 8, 11, 12, 13, 35, 36, 37, 41, 42, 44.\",\"N/A\"))))","v":"N/A"},{"$f":"Risks!BT34","v":0},{"$f":"IF(BT29=0,\"N/A\",IF(BT29=1,\"NO: A, M. NI: 1, 2, 3, 4, 5, 6, 7, 8, 11, 12, 13, 35, 36, 37, 41, 42, 44.\", IF(BT29=2,\"NO: A, M. NI: 1, 2, 3, 4, 5, 6, 7, 8, 11, 12, 13, 35, 36, 37, 41, 42, 44.\",IF(BT29=3,\"NO: A, M. NI: 1, 2, 3, 4, 5, 6, 7, 8, 11, 12, 13, 35, 36, 37, 41, 42, 44.\",\"N/A\"))))","v":"N/A"},{"$f":"Risks!BV34","v":0},{"$f":"IF(BV29=0,\"N/A\",IF(BV29=1,\"NO: A, M. NI: 1, 2, 3, 4, 5, 6, 7, 8, 11, 12, 13, 35, 36, 37, 41, 42, 44.\", IF(BV29=2,\"NO: A, M. NI: 1, 2, 3, 4, 5, 6, 7, 8, 11, 12, 13, 35, 36, 37, 41, 42, 44.\",IF(BV29=3,\"NO: A, M. NI: 1, 2, 3, 4, 5, 6, 7, 8, 11, 12, 13, 35, 36, 37, 41, 42, 44.\",\"N/A\"))))","v":"N/A"},{"$f":"Risks!BX34","v":0},{"$f":"IF(BX29=0,\"N/A\",IF(BX29=1,\"NO: A, M. NI: 1, 2, 3, 4, 5, 6, 7, 8, 11, 12, 13, 35, 36, 37, 41, 42, 44.\", IF(BX29=2,\"NO: A, M. NI: 1, 2, 3, 4, 5, 6, 7, 8, 11, 12, 13, 35, 36, 37, 41, 42, 44.\",IF(BX29=3,\"NO: A, M. NI: 1, 2, 3, 4, 5, 6, 7, 8, 11, 12, 13, 35, 36, 37, 41, 42, 44.\",\"N/A\"))))","v":"N/A"},{"$f":"Risks!BZ34","v":0},{"$f":"IF(BZ29=0,\"N/A\",IF(BZ29=1,\"NO: A, M. NI: 1, 2, 3, 4, 5, 6, 7, 8, 11, 12, 13, 35, 36, 37, 41, 42, 44.\", IF(BZ29=2,\"NO: A, M. NI: 1, 2, 3, 4, 5, 6, 7, 8, 11, 12, 13, 35, 36, 37, 41, 42, 44.\",IF(BZ29=3,\"NO: A, M. NI: 1, 2, 3, 4, 5, 6, 7, 8, 11, 12, 13, 35, 36, 37, 41, 42, 44.\",\"N/A\"))))","v":"N/A"},{"$f":"Risks!CB34","v":0},{"$f":"IF(CB29=0,\"N/A\",IF(CB29=1,\"NO: A, M. NI: 1, 2, 3, 4, 5, 6, 7, 8, 11, 12, 13, 35, 36, 37, 41, 42, 44.\", IF(CB29=2,\"NO: A, M. NI: 1, 2, 3, 4, 5, 6, 7, 8, 11, 12, 13, 35, 36, 37, 41, 42, 44.\",IF(CB29=3,\"NO: A, M. NI: 1, 2, 3, 4, 5, 6, 7, 8, 11, 12, 13, 35, 36, 37, 41, 42, 44.\",\"N/A\"))))","v":"N/A"},{"$f":"Risks!CD34","v":0},{"$f":"IF(CD29=0,\"N/A\",IF(CD29=1,\"NO: A, M. NI: 1, 2, 3, 4, 5, 6, 7, 8, 11, 12, 13, 35, 36, 37, 41, 42, 44.\", IF(CD29=2,\"NO: A, M. NI: 1, 2, 3, 4, 5, 6, 7, 8, 11, 12, 13, 35, 36, 37, 41, 42, 44.\",IF(CD29=3,\"NO: A, M. NI: 1, 2, 3, 4, 5, 6, 7, 8, 11, 12, 13, 35, 36, 37, 41, 42, 44.\",\"N/A\"))))","v":"N/A"},null,{"$f":"IssuesInput!F8","v":"Conflict Minerals Policy (2016); Fair Trade Policy (2013); Modern Slavery being reviewed in 2016;"},null,null,{"$f":"Risks!CJ34","v":0},{"$f":"IF(CJ29=0,\"N/A\",IF(CJ29=1,\"NO: A, M. NI: 1, 2, 3, 4, 5, 6, 7, 8, 11, 12, 13, 35, 36, 37, 41, 42, 44.\", IF(CJ29=2,\"NO: A, M. NI: 1, 2, 3, 4, 5, 6, 7, 8, 11, 12, 13, 35, 36, 37, 41, 42, 44.\",IF(CJ29=3,\"NO: A, M. NI: 1, 2, 3, 4, 5, 6, 7, 8, 11, 12, 13, 35, 36, 37, 41, 42, 44.\",\"N/A\"))))","v":"N/A"}]
[null,null,"Equality",{"$f":"Risks!D35","v":2},{"$f":"IF(D30=0,\"N/A\",IF(D30=1,\"NO: G, M. NI: 5, 8, 9, 10, 11, 12, 13, 14, 15, 26, 36, 37, 38, 39, 40.\", IF(D30=2,\"NO: G, M. NI: 5, 8, 9, 10, 11, 12, 13, 14, 15, 26, 36, 37, 38, 39, 40.\",IF(D30=3,\"NO: G, M. NI: 5, 8, 9, 10, 11, 12, 13, 14, 15, 26, 36, 37, 38, 39, 40.\",\"N/A\"))))","v":"NO: G, M. NI: 5, 8, 9, 10, 11, 12, 13, 14, 15, 26, 36, 37, 38, 39, 40."},{"$f":"Risks!F35","v":2},{"$f":"IF(F30=0,\"N/A\",IF(F30=1,\"NO: G, M. NI: 5, 8, 9, 10, 11, 12, 13, 14, 15, 26, 36, 37, 38, 39, 40.\", IF(F30=2,\"NO: G, M. NI: 5, 8, 9, 10, 11, 12, 13, 14, 15, 26, 36, 37, 38, 39, 40.\",IF(F30=3,\"NO: G, M. NI: 5, 8, 9, 10, 11, 12, 13, 14, 15, 26, 36, 37, 38, 39, 40.\",\"N/A\"))))","v":"NO: G, M. NI: 5, 8, 9, 10, 11, 12, 13, 14, 15, 26, 36, 37, 38, 39, 40."},{"$f":"Risks!H35","v":2},{"$f":"IF(H30=0,\"N/A\",IF(H30=1,\"NO: G, M. NI: 5, 8, 9, 10, 11, 12, 13, 14, 15, 26, 36, 37, 38, 39, 40.\", IF(H30=2,\"NO: G, M. NI: 5, 8, 9, 10, 11, 12, 13, 14, 15, 26, 36, 37, 38, 39, 40.\",IF(H30=3,\"NO: G, M. NI: 5, 8, 9, 10, 11, 12, 13, 14, 15, 26, 36, 37, 38, 39, 40.\",\"N/A\"))))","v":"NO: G, M. NI: 5, 8, 9, 10, 11, 12, 13, 14, 15, 26, 36, 37, 38, 39, 40."},{"$f":"Risks!J35","v":2},{"$f":"IF(J30=0,\"N/A\",IF(J30=1,\"NO: G, M. NI: 5, 8, 9, 10, 11, 12, 13, 14, 15, 26, 36, 37, 38, 39, 40.\", IF(J30=2,\"NO: G, M. NI: 5, 8, 9, 10, 11, 12, 13, 14, 15, 26, 36, 37, 38, 39, 40.\",IF(J30=3,\"NO: G, M. NI: 5, 8, 9, 10, 11, 12, 13, 14, 15, 26, 36, 37, 38, 39, 40.\",\"N/A\"))))","v":"NO: G, M. NI: 5, 8, 9, 10, 11, 12, 13, 14, 15, 26, 36, 37, 38, 39, 40."},{"$f":"Risks!L35","v":2},{"$f":"IF(L30=0,\"N/A\",IF(L30=1,\"NO: G, M. NI: 5, 8, 9, 10, 11, 12, 13, 14, 15, 26, 36, 37, 38, 39, 40.\", IF(L30=2,\"NO: G, M. NI: 5, 8, 9, 10, 11, 12, 13, 14, 15, 26, 36, 37, 38, 39, 40.\",IF(L30=3,\"NO: G, M. NI: 5, 8, 9, 10, 11, 12, 13, 14, 15, 26, 36, 37, 38, 39, 40.\",\"N/A\"))))","v":"NO: G, M. NI: 5, 8, 9, 10, 11, 12, 13, 14, 15, 26, 36, 37, 38, 39, 40."},{"$f":"Risks!N35","v":1},{"$f":"IF(N30=0,\"N/A\",IF(N30=1,\"NO: G, M. NI: 5, 8, 9, 10, 11, 12, 13, 14, 15, 26, 36, 37, 38, 39, 40.\", IF(N30=2,\"NO: G, M. NI: 5, 8, 9, 10, 11, 12, 13, 14, 15, 26, 36, 37, 38, 39, 40.\",IF(N30=3,\"NO: G, M. NI: 5, 8, 9, 10, 11, 12, 13, 14, 15, 26, 36, 37, 38, 39, 40.\",\"N/A\"))))","v":"NO: G, M. NI: 5, 8, 9, 10, 11, 12, 13, 14, 15, 26, 36, 37, 38, 39, 40."},{"$f":"Risks!P35","v":2},{"$f":"IF(P30=0,\"N/A\",IF(P30=1,\"NO: G, M. NI: 5, 8, 9, 10, 11, 12, 13, 14, 15, 26, 36, 37, 38, 39, 40.\", IF(P30=2,\"NO: G, M. NI: 5, 8, 9, 10, 11, 12, 13, 14, 15, 26, 36, 37, 38, 39, 40.\",IF(P30=3,\"NO: G, M. NI: 5, 8, 9, 10, 11, 12, 13, 14, 15, 26, 36, 37, 38, 39, 40.\",\"N/A\"))))","v":"NO: G, M. NI: 5, 8, 9, 10, 11, 12, 13, 14, 15, 26, 36, 37, 38, 39, 40."},{"$f":"Risks!R35","v":3},{"$f":"IF(R30=0,\"N/A\",IF(R30=1,\"NO: G, M. NI: 5, 8, 9, 10, 11, 12, 13, 14, 15, 26, 36, 37, 38, 39, 40.\", IF(R30=2,\"NO: G, M. NI: 5, 8, 9, 10, 11, 12, 13, 14, 15, 26, 36, 37, 38, 39, 40.\",IF(R30=3,\"NO: G, M. NI: 5, 8, 9, 10, 11, 12, 13, 14, 15, 26, 36, 37, 38, 39, 40.\",\"N/A\"))))","v":"NO: G, M. NI: 5, 8, 9, 10, 11, 12, 13, 14, 15, 26, 36, 37, 38, 39, 40."},{"$f":"Risks!T35","v":0},{"$f":"IF(T30=0,\"N/A\",IF(T30=1,\"NO: G, M. NI: 5, 8, 9, 10, 11, 12, 13, 14, 15, 26, 36, 37, 38, 39, 40.\", IF(T30=2,\"NO: G, M. NI: 5, 8, 9, 10, 11, 12, 13, 14, 15, 26, 36, 37, 38, 39, 40.\",IF(T30=3,\"NO: G, M. NI: 5, 8, 9, 10, 11, 12, 13, 14, 15, 26, 36, 37, 38, 39, 40.\",\"N/A\"))))","v":"N/A"},{"$f":"Risks!V35","v":0},{"$f":"IF(V30=0,\"N/A\",IF(V30=1,\"NO: G, M. NI: 5, 8, 9, 10, 11, 12, 13, 14, 15, 26, 36, 37, 38, 39, 40.\", IF(V30=2,\"NO: G, M. NI: 5, 8, 9, 10, 11, 12, 13, 14, 15, 26, 36, 37, 38, 39, 40.\",IF(V30=3,\"NO: G, M. NI: 5, 8, 9, 10, 11, 12, 13, 14, 15, 26, 36, 37, 38, 39, 40.\",\"N/A\"))))","v":"N/A"},{"$f":"Risks!X35","v":0},{"$f":"IF(X30=0,\"N/A\",IF(X30=1,\"NO: G, M. NI: 5, 8, 9, 10, 11, 12, 13, 14, 15, 26, 36, 37, 38, 39, 40.\", IF(X30=2,\"NO: G, M. NI: 5, 8, 9, 10, 11, 12, 13, 14, 15, 26, 36, 37, 38, 39, 40.\",IF(X30=3,\"NO: G, M. NI: 5, 8, 9, 10, 11, 12, 13, 14, 15, 26, 36, 37, 38, 39, 40.\",\"N/A\"))))","v":"N/A"},{"$f":"Risks!Z35","v":0},{"$f":"IF(Z30=0,\"N/A\",IF(Z30=1,\"NO: G, M. NI: 5, 8, 9, 10, 11, 12, 13, 14, 15, 26, 36, 37, 38, 39, 40.\", IF(Z30=2,\"NO: G, M. NI: 5, 8, 9, 10, 11, 12, 13, 14, 15, 26, 36, 37, 38, 39, 40.\",IF(Z30=3,\"NO: G, M. NI: 5, 8, 9, 10, 11, 12, 13, 14, 15, 26, 36, 37, 38, 39, 40.\",\"N/A\"))))","v":"N/A"},{"$f":"Risks!AB35","v":0},{"$f":"IF(AB30=0,\"N/A\",IF(AB30=1,\"NO: G, M. NI: 5, 8, 9, 10, 11, 12, 13, 14, 15, 26, 36, 37, 38, 39, 40.\", IF(AB30=2,\"NO: G, M. NI: 5, 8, 9, 10, 11, 12, 13, 14, 15, 26, 36, 37, 38, 39, 40.\",IF(AB30=3,\"NO: G, M. NI: 5, 8, 9, 10, 11, 12, 13, 14, 15, 26, 36, 37, 38, 39, 40.\",\"N/A\"))))","v":"N/A"},{"$f":"Risks!AD35","v":0},{"$f":"IF(AD30=0,\"N/A\",IF(AD30=1,\"NO: G, M. NI: 5, 8, 9, 10, 11, 12, 13, 14, 15, 26, 36, 37, 38, 39, 40.\", IF(AD30=2,\"NO: G, M. NI: 5, 8, 9, 10, 11, 12, 13, 14, 15, 26, 36, 37, 38, 39, 40.\",IF(AD30=3,\"NO: G, M. NI: 5, 8, 9, 10, 11, 12, 13, 14, 15, 26, 36, 37, 38, 39, 40.\",\"N/A\"))))","v":"N/A"},{"$f":"Risks!AF35","v":0},{"$f":"IF(AF30=0,\"N/A\",IF(AF30=1,\"NO: G, M. NI: 5, 8, 9, 10, 11, 12, 13, 14, 15, 26, 36, 37, 38, 39, 40.\", IF(AF30=2,\"NO: G, M. NI: 5, 8, 9, 10, 11, 12, 13, 14, 15, 26, 36, 37, 38, 39, 40.\",IF(AF30=3,\"NO: G, M. NI: 5, 8, 9, 10, 11, 12, 13, 14, 15, 26, 36, 37, 38, 39, 40.\",\"N/A\"))))","v":"N/A"},{"$f":"Risks!AH35","v":0},{"$f":"IF(AH30=0,\"N/A\",IF(AH30=1,\"NO: G, M. NI: 5, 8, 9, 10, 11, 12, 13, 14, 15, 26, 36, 37, 38, 39, 40.\", IF(AH30=2,\"NO: G, M. NI: 5, 8, 9, 10, 11, 12, 13, 14, 15, 26, 36, 37, 38, 39, 40.\",IF(AH30=3,\"NO: G, M. NI: 5, 8, 9, 10, 11, 12, 13, 14, 15, 26, 36, 37, 38, 39, 40.\",\"N/A\"))))","v":"N/A"},{"$f":"Risks!AJ35","v":0},{"$f":"IF(AJ30=0,\"N/A\",IF(AJ30=1,\"NO: G, M. NI: 5, 8, 9, 10, 11, 12, 13, 14, 15, 26, 36, 37, 38, 39, 40.\", IF(AJ30=2,\"NO: G, M. NI: 5, 8, 9, 10, 11, 12, 13, 14, 15, 26, 36, 37, 38, 39, 40.\",IF(AJ30=3,\"NO: G, M. NI: 5, 8, 9, 10, 11, 12, 13, 14, 15, 26, 36, 37, 38, 39, 40.\",\"N/A\"))))","v":"N/A"},{"$f":"Risks!AL35","v":0},{"$f":"IF(AL30=0,\"N/A\",IF(AL30=1,\"NO: G, M. NI: 5, 8, 9, 10, 11, 12, 13, 14, 15, 26, 36, 37, 38, 39, 40.\", IF(AL30=2,\"NO: G, M. NI: 5, 8, 9, 10, 11, 12, 13, 14, 15, 26, 36, 37, 38, 39, 40.\",IF(AL30=3,\"NO: G, M. NI: 5, 8, 9, 10, 11, 12, 13, 14, 15, 26, 36, 37, 38, 39, 40.\",\"N/A\"))))","v":"N/A"},{"$f":"Risks!AN35","v":0},{"$f":"IF(AN30=0,\"N/A\",IF(AN30=1,\"NO: G, M. NI: 5, 8, 9, 10, 11, 12, 13, 14, 15, 26, 36, 37, 38, 39, 40.\", IF(AN30=2,\"NO: G, M. NI: 5, 8, 9, 10, 11, 12, 13, 14, 15, 26, 36, 37, 38, 39, 40.\",IF(AN30=3,\"NO: G, M. NI: 5, 8, 9, 10, 11, 12, 13, 14, 15, 26, 36, 37, 38, 39, 40.\",\"N/A\"))))","v":"N/A"},{"$f":"Risks!AP35","v":0},{"$f":"IF(AP30=0,\"N/A\",IF(AP30=1,\"NO: G, M. NI: 5, 8, 9, 10, 11, 12, 13, 14, 15, 26, 36, 37, 38, 39, 40.\", IF(AP30=2,\"NO: G, M. NI: 5, 8, 9, 10, 11, 12, 13, 14, 15, 26, 36, 37, 38, 39, 40.\",IF(AP30=3,\"NO: G, M. NI: 5, 8, 9, 10, 11, 12, 13, 14, 15, 26, 36, 37, 38, 39, 40.\",\"N/A\"))))","v":"N/A"},{"$f":"Risks!AR35","v":0},{"$f":"IF(AR30=0,\"N/A\",IF(AR30=1,\"NO: G, M. NI: 5, 8, 9, 10, 11, 12, 13, 14, 15, 26, 36, 37, 38, 39, 40.\", IF(AR30=2,\"NO: G, M. NI: 5, 8, 9, 10, 11, 12, 13, 14, 15, 26, 36, 37, 38, 39, 40.\",IF(AR30=3,\"NO: G, M. NI: 5, 8, 9, 10, 11, 12, 13, 14, 15, 26, 36, 37, 38, 39, 40.\",\"N/A\"))))","v":"N/A"},{"$f":"Risks!AT35","v":0},{"$f":"IF(AT30=0,\"N/A\",IF(AT30=1,\"NO: G, M. NI: 5, 8, 9, 10, 11, 12, 13, 14, 15, 26, 36, 37, 38, 39, 40.\", IF(AT30=2,\"NO: G, M. NI: 5, 8, 9, 10, 11, 12, 13, 14, 15, 26, 36, 37, 38, 39, 40.\",IF(AT30=3,\"NO: G, M. NI: 5, 8, 9, 10, 11, 12, 13, 14, 15, 26, 36, 37, 38, 39, 40.\",\"N/A\"))))","v":"N/A"},{"$f":"Risks!AV35","v":0},{"$f":"IF(AV30=0,\"N/A\",IF(AV30=1,\"NO: G, M. NI: 5, 8, 9, 10, 11, 12, 13, 14, 15, 26, 36, 37, 38, 39, 40.\", IF(AV30=2,\"NO: G, M. NI: 5, 8, 9, 10, 11, 12, 13, 14, 15, 26, 36, 37, 38, 39, 40.\",IF(AV30=3,\"NO: G, M. NI: 5, 8, 9, 10, 11, 12, 13, 14, 15, 26, 36, 37, 38, 39, 40.\",\"N/A\"))))","v":"N/A"},{"$f":"Risks!AX35","v":0},{"$f":"IF(AX30=0,\"N/A\",IF(AX30=1,\"NO: G, M. NI: 5, 8, 9, 10, 11, 12, 13, 14, 15, 26, 36, 37, 38, 39, 40.\", IF(AX30=2,\"NO: G, M. NI: 5, 8, 9, 10, 11, 12, 13, 14, 15, 26, 36, 37, 38, 39, 40.\",IF(AX30=3,\"NO: G, M. NI: 5, 8, 9, 10, 11, 12, 13, 14, 15, 26, 36, 37, 38, 39, 40.\",\"N/A\"))))","v":"N/A"},{"$f":"Risks!AZ35","v":0},{"$f":"IF(AZ30=0,\"N/A\",IF(AZ30=1,\"NO: G, M. NI: 5, 8, 9, 10, 11, 12, 13, 14, 15, 26, 36, 37, 38, 39, 40.\", IF(AZ30=2,\"NO: G, M. NI: 5, 8, 9, 10, 11, 12, 13, 14, 15, 26, 36, 37, 38, 39, 40.\",IF(AZ30=3,\"NO: G, M. NI: 5, 8, 9, 10, 11, 12, 13, 14, 15, 26, 36, 37, 38, 39, 40.\",\"N/A\"))))","v":"N/A"},{"$f":"Risks!BB35","v":0},{"$f":"IF(BB30=0,\"N/A\",IF(BB30=1,\"NO: G, M. NI: 5, 8, 9, 10, 11, 12, 13, 14, 15, 26, 36, 37, 38, 39, 40.\", IF(BB30=2,\"NO: G, M. NI: 5, 8, 9, 10, 11, 12, 13, 14, 15, 26, 36, 37, 38, 39, 40.\",IF(BB30=3,\"NO: G, M. NI: 5, 8, 9, 10, 11, 12, 13, 14, 15, 26, 36, 37, 38, 39, 40.\",\"N/A\"))))","v":"N/A"},{"$f":"Risks!BD35","v":0},{"$f":"IF(BD30=0,\"N/A\",IF(BD30=1,\"NO: G, M. NI: 5, 8, 9, 10, 11, 12, 13, 14, 15, 26, 36, 37, 38, 39, 40.\", IF(BD30=2,\"NO: G, M. NI: 5, 8, 9, 10, 11, 12, 13, 14, 15, 26, 36, 37, 38, 39, 40.\",IF(BD30=3,\"NO: G, M. NI: 5, 8, 9, 10, 11, 12, 13, 14, 15, 26, 36, 37, 38, 39, 40.\",\"N/A\"))))","v":"N/A"},{"$f":"Risks!BF35","v":0},{"$f":"IF(BF30=0,\"N/A\",IF(BF30=1,\"NO: G, M. NI: 5, 8, 9, 10, 11, 12, 13, 14, 15, 26, 36, 37, 38, 39, 40.\", IF(BF30=2,\"NO: G, M. NI: 5, 8, 9, 10, 11, 12, 13, 14, 15, 26, 36, 37, 38, 39, 40.\",IF(BF30=3,\"NO: G, M. NI: 5, 8, 9, 10, 11, 12, 13, 14, 15, 26, 36, 37, 38, 39, 40.\",\"N/A\"))))","v":"N/A"},{"$f":"Risks!BH35","v":0},{"$f":"IF(BH30=0,\"N/A\",IF(BH30=1,\"NO: G, M. NI: 5, 8, 9, 10, 11, 12, 13, 14, 15, 26, 36, 37, 38, 39, 40.\", IF(BH30=2,\"NO: G, M. NI: 5, 8, 9, 10, 11, 12, 13, 14, 15, 26, 36, 37, 38, 39, 40.\",IF(BH30=3,\"NO: G, M. NI: 5, 8, 9, 10, 11, 12, 13, 14, 15, 26, 36, 37, 38, 39, 40.\",\"N/A\"))))","v":"N/A"},{"$f":"Risks!BJ35","v":0},{"$f":"IF(BJ30=0,\"N/A\",IF(BJ30=1,\"NO: G, M. NI: 5, 8, 9, 10, 11, 12, 13, 14, 15, 26, 36, 37, 38, 39, 40.\", IF(BJ30=2,\"NO: G, M. NI: 5, 8, 9, 10, 11, 12, 13, 14, 15, 26, 36, 37, 38, 39, 40.\",IF(BJ30=3,\"NO: G, M. NI: 5, 8, 9, 10, 11, 12, 13, 14, 15, 26, 36, 37, 38, 39, 40.\",\"N/A\"))))","v":"N/A"},{"$f":"Risks!BL35","v":0},{"$f":"IF(BL30=0,\"N/A\",IF(BL30=1,\"NO: G, M. NI: 5, 8, 9, 10, 11, 12, 13, 14, 15, 26, 36, 37, 38, 39, 40.\", IF(BL30=2,\"NO: G, M. NI: 5, 8, 9, 10, 11, 12, 13, 14, 15, 26, 36, 37, 38, 39, 40.\",IF(BL30=3,\"NO: G, M. NI: 5, 8, 9, 10, 11, 12, 13, 14, 15, 26, 36, 37, 38, 39, 40.\",\"N/A\"))))","v":"N/A"},{"$f":"Risks!BN35","v":0},{"$f":"IF(BN30=0,\"N/A\",IF(BN30=1,\"NO: G, M. NI: 8, 11, 12, 13, 20, 21, 23, 31, 35, 36, 37, 39, 41, 43, 44.\", IF(BN30=2,\"NO: G, M. NI: 8, 11, 12, 13, 20, 21, 23, 31, 35, 36, 37, 39, 41, 43, 44.\",IF(BN30=3,\"NO: G, M. NI: 8, 11, 12, 13, 20, 21, 23, 31, 35, 36, 37, 39, 41, 43, 44.\",\"N/A\"))))","v":"N/A"},{"$f":"Risks!BP35","v":0},{"$f":"IF(BP30=0,\"N/A\",IF(BP30=1,\"NO: G, M. NI: 8, 11, 12, 13, 20, 21, 23, 31, 35, 36, 37, 39, 41, 43, 44.\", IF(BP30=2,\"NO: G, M. NI: 8, 11, 12, 13, 20, 21, 23, 31, 35, 36, 37, 39, 41, 43, 44.\",IF(BP30=3,\"NO: G, M. NI: 8, 11, 12, 13, 20, 21, 23, 31, 35, 36, 37, 39, 41, 43, 44.\",\"N/A\"))))","v":"N/A"},{"$f":"Risks!BR35","v":0},{"$f":"IF(BR30=0,\"N/A\",IF(BR30=1,\"NO: G, M. NI: 8, 11, 12, 13, 20, 21, 23, 31, 35, 36, 37, 39, 41, 43, 44.\", IF(BR30=2,\"NO: G, M. NI: 8, 11, 12, 13, 20, 21, 23, 31, 35, 36, 37, 39, 41, 43, 44.\",IF(BR30=3,\"NO: G, M. NI: 8, 11, 12, 13, 20, 21, 23, 31, 35, 36, 37, 39, 41, 43, 44.\",\"N/A\"))))","v":"N/A"},{"$f":"Risks!BT35","v":0},{"$f":"IF(BT30=0,\"N/A\",IF(BT30=1,\"NO: G, M. NI: 8, 11, 12, 13, 20, 21, 23, 31, 35, 36, 37, 39, 41, 43, 44.\", IF(BT30=2,\"NO: G, M. NI: 8, 11, 12, 13, 20, 21, 23, 31, 35, 36, 37, 39, 41, 43, 44.\",IF(BT30=3,\"NO: G, M. NI: 8, 11, 12, 13, 20, 21, 23, 31, 35, 36, 37, 39, 41, 43, 44.\",\"N/A\"))))","v":"N/A"},{"$f":"Risks!BV35","v":0},{"$f":"IF(BV30=0,\"N/A\",IF(BV30=1,\"NO: G, M. NI: 8, 11, 12, 13, 20, 21, 23, 31, 35, 36, 37, 39, 41, 43, 44.\", IF(BV30=2,\"NO: G, M. NI: 8, 11, 12, 13, 20, 21, 23, 31, 35, 36, 37, 39, 41, 43, 44.\",IF(BV30=3,\"NO: G, M. NI: 8, 11, 12, 13, 20, 21, 23, 31, 35, 36, 37, 39, 41, 43, 44.\",\"N/A\"))))","v":"N/A"},{"$f":"Risks!BX35","v":0},{"$f":"IF(BX30=0,\"N/A\",IF(BX30=1,\"NO: G, M. NI: 8, 11, 12, 13, 20, 21, 23, 31, 35, 36, 37, 39, 41, 43, 44.\", IF(BX30=2,\"NO: G, M. NI: 8, 11, 12, 13, 20, 21, 23, 31, 35, 36, 37, 39, 41, 43, 44.\",IF(BX30=3,\"NO: G, M. NI: 8, 11, 12, 13, 20, 21, 23, 31, 35, 36, 37, 39, 41, 43, 44.\",\"N/A\"))))","v":"N/A"},{"$f":"Risks!BZ35","v":0},{"$f":"IF(BZ30=0,\"N/A\",IF(BZ30=1,\"NO: G, M. NI: 8, 11, 12, 13, 20, 21, 23, 31, 35, 36, 37, 39, 41, 43, 44.\", IF(BZ30=2,\"NO: G, M. NI: 8, 11, 12, 13, 20, 21, 23, 31, 35, 36, 37, 39, 41, 43, 44.\",IF(BZ30=3,\"NO: G, M. NI: 8, 11, 12, 13, 20, 21, 23, 31, 35, 36, 37, 39, 41, 43, 44.\",\"N/A\"))))","v":"N/A"},{"$f":"Risks!CB35","v":0},{"$f":"IF(CB30=0,\"N/A\",IF(CB30=1,\"NO: G, M. NI: 8, 11, 12, 13, 20, 21, 23, 31, 35, 36, 37, 39, 41, 43, 44.\", IF(CB30=2,\"NO: G, M. NI: 8, 11, 12, 13, 20, 21, 23, 31, 35, 36, 37, 39, 41, 43, 44.\",IF(CB30=3,\"NO: G, M. NI: 8, 11, 12, 13, 20, 21, 23, 31, 35, 36, 37, 39, 41, 43, 44.\",\"N/A\"))))","v":"N/A"},{"$f":"Risks!CD35","v":0},{"$f":"IF(CD30=0,\"N/A\",IF(CD30=1,\"NO: G, M. NI: 8, 11, 12, 13, 20, 21, 23, 31, 35, 36, 37, 39, 41, 43, 44.\", IF(CD30=2,\"NO: G, M. NI: 8, 11, 12, 13, 20, 21, 23, 31, 35, 36, 37, 39, 41, 43, 44.\",IF(CD30=3,\"NO: G, M. NI: 8, 11, 12, 13, 20, 21, 23, 31, 35, 36, 37, 39, 41, 43, 44.\",\"N/A\"))))","v":"N/A"},null,{"$f":"IssuesInput!F9","v":"Equality and Diversity related policies for University here http://www.ed.ac.uk/equality-diversity/legislation-policies/policies "},null,null,{"$f":"Risks!CJ35","v":0},{"$f":"IF(CJ30=0,\"N/A\",IF(CJ30=1,\"NO: G, M. NI: 8, 11, 12, 13, 20, 21, 23, 31, 35, 36, 37, 39, 41, 43, 44.\", IF(CJ30=2,\"NO: G, M. NI: 8, 11, 12, 13, 20, 21, 23, 31, 35, 36, 37, 39, 41, 43, 44.\",IF(CJ30=3,\"NO: G, M. NI: 8, 11, 12, 13, 20, 21, 23, 31, 35, 36, 37, 39, 41, 43, 44.\",\"N/A\"))))","v":"N/A"}]
[null,null,"Fair Work",{"$f":"Risks!D36","v":1},{"$f":"IF(D31=0,\"N/A\",IF(D31=1,\"NO: A, B, G, M. NI: 1, 2, 3, 5, 6, 7,  8, 9, 10, 11, 12, 13, 14, 15, 16, 26, 36, 37, 38, 39, 40.\", IF(D31=2,\"NO: A, B, G, M. NI: 1, 2, 3, 5, 6, 7,  8, 9, 10, 11, 12, 13, 14, 15, 16, 26, 36, 37, 38, 39, 40.\",IF(D31=3,\"NO: A, B, G, M. NI: 1, 2, 3, 5, 6, 7,  8, 9, 10, 11, 12, 13, 14, 15, 16, 26, 36, 37, 38, 39, 40.\",\"N/A\"))))","v":"NO: A, B, G, M. NI: 1, 2, 3, 5, 6, 7,  8, 9, 10, 11, 12, 13, 14, 15, 16, 26, 36, 37, 38, 39, 40."},{"$f":"Risks!F36","v":0},{"$f":"IF(F31=0,\"N/A\",IF(F31=1,\"NO: A, B, G, M. NI: 1, 2, 3, 5, 6, 7,  8, 9, 10, 11, 12, 13, 14, 15, 16, 26, 36, 37, 38, 39, 40.\", IF(F31=2,\"NO: A, B, G, M. NI: 1, 2, 3, 5, 6, 7,  8, 9, 10, 11, 12, 13, 14, 15, 16, 26, 36, 37, 38, 39, 40.\",IF(F31=3,\"NO: A, B, G, M. NI: 1, 2, 3, 5, 6, 7,  8, 9, 10, 11, 12, 13, 14, 15, 16, 26, 36, 37, 38, 39, 40.\",\"N/A\"))))","v":"N/A"},{"$f":"Risks!H36","v":0},{"$f":"IF(H31=0,\"N/A\",IF(H31=1,\"NO: A, B, G, M. NI: 1, 2, 3, 5, 6, 7,  8, 9, 10, 11, 12, 13, 14, 15, 16, 26, 36, 37, 38, 39, 40.\", IF(H31=2,\"NO: A, B, G, M. NI: 1, 2, 3, 5, 6, 7,  8, 9, 10, 11, 12, 13, 14, 15, 16, 26, 36, 37, 38, 39, 40.\",IF(H31=3,\"NO: A, B, G, M. NI: 1, 2, 3, 5, 6, 7,  8, 9, 10, 11, 12, 13, 14, 15, 16, 26, 36, 37, 38, 39, 40.\",\"N/A\"))))","v":"N/A"},{"$f":"Risks!J36","v":1},{"$f":"IF(J31=0,\"N/A\",IF(J31=1,\"NO: A, B, G, M. NI: 1, 2, 3, 5, 6, 7,  8, 9, 10, 11, 12, 13, 14, 15, 16, 26, 36, 37, 38, 39, 40.\", IF(J31=2,\"NO: A, B, G, M. NI: 1, 2, 3, 5, 6, 7,  8, 9, 10, 11, 12, 13, 14, 15, 16, 26, 36, 37, 38, 39, 40.\",IF(J31=3,\"NO: A, B, G, M. NI: 1, 2, 3, 5, 6, 7,  8, 9, 10, 11, 12, 13, 14, 15, 16, 26, 36, 37, 38, 39, 40.\",\"N/A\"))))","v":"NO: A, B, G, M. NI: 1, 2, 3, 5, 6, 7,  8, 9, 10, 11, 12, 13, 14, 15, 16, 26, 36, 37, 38, 39, 40."},{"$f":"Risks!L36","v":1},{"$f":"IF(L31=0,\"N/A\",IF(L31=1,\"NO: A, B, G, M. NI: 1, 2, 3, 5, 6, 7,  8, 9, 10, 11, 12, 13, 14, 15, 16, 26, 36, 37, 38, 39, 40.\", IF(L31=2,\"NO: A, B, G, M. NI: 1, 2, 3, 5, 6, 7,  8, 9, 10, 11, 12, 13, 14, 15, 16, 26, 36, 37, 38, 39, 40.\",IF(L31=3,\"NO: A, B, G, M. NI: 1, 2, 3, 5, 6, 7,  8, 9, 10, 11, 12, 13, 14, 15, 16, 26, 36, 37, 38, 39, 40.\",\"N/A\"))))","v":"NO: A, B, G, M. NI: 1, 2, 3, 5, 6, 7,  8, 9, 10, 11, 12, 13, 14, 15, 16, 26, 36, 37, 38, 39, 40."},{"$f":"Risks!N36","v":0},{"$f":"IF(N31=0,\"N/A\",IF(N31=1,\"NO: A, B, G, M. NI: 1, 2, 3, 5, 6, 7,  8, 9, 10, 11, 12, 13, 14, 15, 16, 26, 36, 37, 38, 39, 40.\", IF(N31=2,\"NO: A, B, G, M. NI: 1, 2, 3, 5, 6, 7,  8, 9, 10, 11, 12, 13, 14, 15, 16, 26, 36, 37, 38, 39, 40.\",IF(N31=3,\"NO: A, B, G, M. NI: 1, 2, 3, 5, 6, 7,  8, 9, 10, 11, 12, 13, 14, 15, 16, 26, 36, 37, 38, 39, 40.\",\"N/A\"))))","v":"N/A"},{"$f":"Risks!P36","v":0},{"$f":"IF(P31=0,\"N/A\",IF(P31=1,\"NO: A, B, G, M. NI: 1, 2, 3, 5, 6, 7,  8, 9, 10, 11, 12, 13, 14, 15, 16, 26, 36, 37, 38, 39, 40.\", IF(P31=2,\"NO: A, B, G, M. NI: 1, 2, 3, 5, 6, 7,  8, 9, 10, 11, 12, 13, 14, 15, 16, 26, 36, 37, 38, 39, 40.\",IF(P31=3,\"NO: A, B, G, M. NI: 1, 2, 3, 5, 6, 7,  8, 9, 10, 11, 12, 13, 14, 15, 16, 26, 36, 37, 38, 39, 40.\",\"N/A\"))))","v":"N/A"},{"$f":"Risks!R36","v":0},{"$f":"IF(R31=0,\"N/A\",IF(R31=1,\"NO: A, B, G, M. NI: 1, 2, 3, 5, 6, 7,  8, 9, 10, 11, 12, 13, 14, 15, 16, 26, 36, 37, 38, 39, 40.\", IF(R31=2,\"NO: A, B, G, M. NI: 1, 2, 3, 5, 6, 7,  8, 9, 10, 11, 12, 13, 14, 15, 16, 26, 36, 37, 38, 39, 40.\",IF(R31=3,\"NO: A, B, G, M. NI: 1, 2, 3, 5, 6, 7,  8, 9, 10, 11, 12, 13, 14, 15, 16, 26, 36, 37, 38, 39, 40.\",\"N/A\"))))","v":"N/A"},{"$f":"Risks!T36","v":0},{"$f":"IF(T31=0,\"N/A\",IF(T31=1,\"NO: A, B, G, M. NI: 1, 2, 3, 5, 6, 7,  8, 9, 10, 11, 12, 13, 14, 15, 16, 26, 36, 37, 38, 39, 40.\", IF(T31=2,\"NO: A, B, G, M. NI: 1, 2, 3, 5, 6, 7,  8, 9, 10, 11, 12, 13, 14, 15, 16, 26, 36, 37, 38, 39, 40.\",IF(T31=3,\"NO: A, B, G, M. NI: 1, 2, 3, 5, 6, 7,  8, 9, 10, 11, 12, 13, 14, 15, 16, 26, 36, 37, 38, 39, 40.\",\"N/A\"))))","v":"N/A"},{"$f":"Risks!V36","v":0},{"$f":"IF(V31=0,\"N/A\",IF(V31=1,\"NO: A, B, G, M. NI: 1, 2, 3, 5, 6, 7,  8, 9, 10, 11, 12, 13, 14, 15, 16, 26, 36, 37, 38, 39, 40.\", IF(V31=2,\"NO: A, B, G, M. NI: 1, 2, 3, 5, 6, 7,  8, 9, 10, 11, 12, 13, 14, 15, 16, 26, 36, 37, 38, 39, 40.\",IF(V31=3,\"NO: A, B, G, M. NI: 1, 2, 3, 5, 6, 7,  8, 9, 10, 11, 12, 13, 14, 15, 16, 26, 36, 37, 38, 39, 40.\",\"N/A\"))))","v":"N/A"},{"$f":"Risks!X36","v":0},{"$f":"IF(X31=0,\"N/A\",IF(X31=1,\"NO: A, B, G, M. NI: 1, 2, 3, 5, 6, 7,  8, 9, 10, 11, 12, 13, 14, 15, 16, 26, 36, 37, 38, 39, 40.\", IF(X31=2,\"NO: A, B, G, M. NI: 1, 2, 3, 5, 6, 7,  8, 9, 10, 11, 12, 13, 14, 15, 16, 26, 36, 37, 38, 39, 40.\",IF(X31=3,\"NO: A, B, G, M. NI: 1, 2, 3, 5, 6, 7,  8, 9, 10, 11, 12, 13, 14, 15, 16, 26, 36, 37, 38, 39, 40.\",\"N/A\"))))","v":"N/A"},{"$f":"Risks!Z36","v":0},{"$f":"IF(Z31=0,\"N/A\",IF(Z31=1,\"NO: A, B, G, M. NI: 1, 2, 3, 5, 6, 7,  8, 9, 10, 11, 12, 13, 14, 15, 16, 26, 36, 37, 38, 39, 40.\", IF(Z31=2,\"NO: A, B, G, M. NI: 1, 2, 3, 5, 6, 7,  8, 9, 10, 11, 12, 13, 14, 15, 16, 26, 36, 37, 38, 39, 40.\",IF(Z31=3,\"NO: A, B, G, M. NI: 1, 2, 3, 5, 6, 7,  8, 9, 10, 11, 12, 13, 14, 15, 16, 26, 36, 37, 38, 39, 40.\",\"N/A\"))))","v":"N/A"},{"$f":"Risks!AB36","v":0},{"$f":"IF(AB31=0,\"N/A\",IF(AB31=1,\"NO: A, B, G, M. NI: 1, 2, 3, 5, 6, 7,  8, 9, 10, 11, 12, 13, 14, 15, 16, 26, 36, 37, 38, 39, 40.\", IF(AB31=2,\"NO: A, B, G, M. NI: 1, 2, 3, 5, 6, 7,  8, 9, 10, 11, 12, 13, 14, 15, 16, 26, 36, 37, 38, 39, 40.\",IF(AB31=3,\"NO: A, B, G, M. NI: 1, 2, 3, 5, 6, 7,  8, 9, 10, 11, 12, 13, 14, 15, 16, 26, 36, 37, 38, 39, 40.\",\"N/A\"))))","v":"N/A"},{"$f":"Risks!AD36","v":0},{"$f":"IF(AD31=0,\"N/A\",IF(AD31=1,\"NO: A, B, G, M. NI: 1, 2, 3, 5, 6, 7,  8, 9, 10, 11, 12, 13, 14, 15, 16, 26, 36, 37, 38, 39, 40.\", IF(AD31=2,\"NO: A, B, G, M. NI: 1, 2, 3, 5, 6, 7,  8, 9, 10, 11, 12, 13, 14, 15, 16, 26, 36, 37, 38, 39, 40.\",IF(AD31=3,\"NO: A, B, G, M. NI: 1, 2, 3, 5, 6, 7,  8, 9, 10, 11, 12, 13, 14, 15, 16, 26, 36, 37, 38, 39, 40.\",\"N/A\"))))","v":"N/A"},{"$f":"Risks!AF36","v":0},{"$f":"IF(AF31=0,\"N/A\",IF(AF31=1,\"NO: A, B, G, M. NI: 1, 2, 3, 5, 6, 7,  8, 9, 10, 11, 12, 13, 14, 15, 16, 26, 36, 37, 38, 39, 40.\", IF(AF31=2,\"NO: A, B, G, M. NI: 1, 2, 3, 5, 6, 7,  8, 9, 10, 11, 12, 13, 14, 15, 16, 26, 36, 37, 38, 39, 40.\",IF(AF31=3,\"NO: A, B, G, M. NI: 1, 2, 3, 5, 6, 7,  8, 9, 10, 11, 12, 13, 14, 15, 16, 26, 36, 37, 38, 39, 40.\",\"N/A\"))))","v":"N/A"},{"$f":"Risks!AH36","v":0},{"$f":"IF(AH31=0,\"N/A\",IF(AH31=1,\"NO: A, B, G, M. NI: 1, 2, 3, 5, 6, 7,  8, 9, 10, 11, 12, 13, 14, 15, 16, 26, 36, 37, 38, 39, 40.\", IF(AH31=2,\"NO: A, B, G, M. NI: 1, 2, 3, 5, 6, 7,  8, 9, 10, 11, 12, 13, 14, 15, 16, 26, 36, 37, 38, 39, 40.\",IF(AH31=3,\"NO: A, B, G, M. NI: 1, 2, 3, 5, 6, 7,  8, 9, 10, 11, 12, 13, 14, 15, 16, 26, 36, 37, 38, 39, 40.\",\"N/A\"))))","v":"N/A"},{"$f":"Risks!AJ36","v":0},{"$f":"IF(AJ31=0,\"N/A\",IF(AJ31=1,\"NO: A, B, G, M. NI: 1, 2, 3, 5, 6, 7,  8, 9, 10, 11, 12, 13, 14, 15, 16, 26, 36, 37, 38, 39, 40.\", IF(AJ31=2,\"NO: A, B, G, M. NI: 1, 2, 3, 5, 6, 7,  8, 9, 10, 11, 12, 13, 14, 15, 16, 26, 36, 37, 38, 39, 40.\",IF(AJ31=3,\"NO: A, B, G, M. NI: 1, 2, 3, 5, 6, 7,  8, 9, 10, 11, 12, 13, 14, 15, 16, 26, 36, 37, 38, 39, 40.\",\"N/A\"))))","v":"N/A"},{"$f":"Risks!AL36","v":0},{"$f":"IF(AL31=0,\"N/A\",IF(AL31=1,\"NO: A, B, G, M. NI: 1, 2, 3, 5, 6, 7,  8, 9, 10, 11, 12, 13, 14, 15, 16, 26, 36, 37, 38, 39, 40.\", IF(AL31=2,\"NO: A, B, G, M. NI: 1, 2, 3, 5, 6, 7,  8, 9, 10, 11, 12, 13, 14, 15, 16, 26, 36, 37, 38, 39, 40.\",IF(AL31=3,\"NO: A, B, G, M. NI: 1, 2, 3, 5, 6, 7,  8, 9, 10, 11, 12, 13, 14, 15, 16, 26, 36, 37, 38, 39, 40.\",\"N/A\"))))","v":"N/A"},{"$f":"Risks!AN36","v":0},{"$f":"IF(AN31=0,\"N/A\",IF(AN31=1,\"NO: A, B, G, M. NI: 1, 2, 3, 5, 6, 7,  8, 9, 10, 11, 12, 13, 14, 15, 16, 26, 36, 37, 38, 39, 40.\", IF(AN31=2,\"NO: A, B, G, M. NI: 1, 2, 3, 5, 6, 7,  8, 9, 10, 11, 12, 13, 14, 15, 16, 26, 36, 37, 38, 39, 40.\",IF(AN31=3,\"NO: A, B, G, M. NI: 1, 2, 3, 5, 6, 7,  8, 9, 10, 11, 12, 13, 14, 15, 16, 26, 36, 37, 38, 39, 40.\",\"N/A\"))))","v":"N/A"},{"$f":"Risks!AP36","v":0},{"$f":"IF(AP31=0,\"N/A\",IF(AP31=1,\"NO: A, B, G, M. NI: 1, 2, 3, 5, 6, 7,  8, 9, 10, 11, 12, 13, 14, 15, 16, 26, 36, 37, 38, 39, 40.\", IF(AP31=2,\"NO: A, B, G, M. NI: 1, 2, 3, 5, 6, 7,  8, 9, 10, 11, 12, 13, 14, 15, 16, 26, 36, 37, 38, 39, 40.\",IF(AP31=3,\"NO: A, B, G, M. NI: 1, 2, 3, 5, 6, 7,  8, 9, 10, 11, 12, 13, 14, 15, 16, 26, 36, 37, 38, 39, 40.\",\"N/A\"))))","v":"N/A"},{"$f":"Risks!AR36","v":0},{"$f":"IF(AR31=0,\"N/A\",IF(AR31=1,\"NO: A, B, G, M. NI: 1, 2, 3, 5, 6, 7,  8, 9, 10, 11, 12, 13, 14, 15, 16, 26, 36, 37, 38, 39, 40.\", IF(AR31=2,\"NO: A, B, G, M. NI: 1, 2, 3, 5, 6, 7,  8, 9, 10, 11, 12, 13, 14, 15, 16, 26, 36, 37, 38, 39, 40.\",IF(AR31=3,\"NO: A, B, G, M. NI: 1, 2, 3, 5, 6, 7,  8, 9, 10, 11, 12, 13, 14, 15, 16, 26, 36, 37, 38, 39, 40.\",\"N/A\"))))","v":"N/A"},{"$f":"Risks!AT36","v":0},{"$f":"IF(AT31=0,\"N/A\",IF(AT31=1,\"NO: A, B, G, M. NI: 1, 2, 3, 5, 6, 7,  8, 9, 10, 11, 12, 13, 14, 15, 16, 26, 36, 37, 38, 39, 40.\", IF(AT31=2,\"NO: A, B, G, M. NI: 1, 2, 3, 5, 6, 7,  8, 9, 10, 11, 12, 13, 14, 15, 16, 26, 36, 37, 38, 39, 40.\",IF(AT31=3,\"NO: A, B, G, M. NI: 1, 2, 3, 5, 6, 7,  8, 9, 10, 11, 12, 13, 14, 15, 16, 26, 36, 37, 38, 39, 40.\",\"N/A\"))))","v":"N/A"},{"$f":"Risks!AV36","v":0},{"$f":"IF(AV31=0,\"N/A\",IF(AV31=1,\"NO: A, B, G, M. NI: 1, 2, 3, 5, 6, 7,  8, 9, 10, 11, 12, 13, 14, 15, 16, 26, 36, 37, 38, 39, 40.\", IF(AV31=2,\"NO: A, B, G, M. NI: 1, 2, 3, 5, 6, 7,  8, 9, 10, 11, 12, 13, 14, 15, 16, 26, 36, 37, 38, 39, 40.\",IF(AV31=3,\"NO: A, B, G, M. NI: 1, 2, 3, 5, 6, 7,  8, 9, 10, 11, 12, 13, 14, 15, 16, 26, 36, 37, 38, 39, 40.\",\"N/A\"))))","v":"N/A"},{"$f":"Risks!AX36","v":0},{"$f":"IF(AX31=0,\"N/A\",IF(AX31=1,\"NO: A, B, G, M. NI: 1, 2, 3, 5, 6, 7,  8, 9, 10, 11, 12, 13, 14, 15, 16, 26, 36, 37, 38, 39, 40.\", IF(AX31=2,\"NO: A, B, G, M. NI: 1, 2, 3, 5, 6, 7,  8, 9, 10, 11, 12, 13, 14, 15, 16, 26, 36, 37, 38, 39, 40.\",IF(AX31=3,\"NO: A, B, G, M. NI: 1, 2, 3, 5, 6, 7,  8, 9, 10, 11, 12, 13, 14, 15, 16, 26, 36, 37, 38, 39, 40.\",\"N/A\"))))","v":"N/A"},{"$f":"Risks!AZ36","v":0},{"$f":"IF(AZ31=0,\"N/A\",IF(AZ31=1,\"NO: A, B, G, M. NI: 1, 2, 3, 5, 6, 7,  8, 9, 10, 11, 12, 13, 14, 15, 16, 26, 36, 37, 38, 39, 40.\", IF(AZ31=2,\"NO: A, B, G, M. NI: 1, 2, 3, 5, 6, 7,  8, 9, 10, 11, 12, 13, 14, 15, 16, 26, 36, 37, 38, 39, 40.\",IF(AZ31=3,\"NO: A, B, G, M. NI: 1, 2, 3, 5, 6, 7,  8, 9, 10, 11, 12, 13, 14, 15, 16, 26, 36, 37, 38, 39, 40.\",\"N/A\"))))","v":"N/A"},{"$f":"Risks!BB36","v":0},{"$f":"IF(BB31=0,\"N/A\",IF(BB31=1,\"NO: A, B, G, M. NI: 1, 2, 3, 5, 6, 7,  8, 9, 10, 11, 12, 13, 14, 15, 16, 26, 36, 37, 38, 39, 40.\", IF(BB31=2,\"NO: A, B, G, M. NI: 1, 2, 3, 5, 6, 7,  8, 9, 10, 11, 12, 13, 14, 15, 16, 26, 36, 37, 38, 39, 40.\",IF(BB31=3,\"NO: A, B, G, M. NI: 1, 2, 3, 5, 6, 7,  8, 9, 10, 11, 12, 13, 14, 15, 16, 26, 36, 37, 38, 39, 40.\",\"N/A\"))))","v":"N/A"},{"$f":"Risks!BD36","v":0},{"$f":"IF(BD31=0,\"N/A\",IF(BD31=1,\"NO: A, B, G, M. NI: 1, 2, 3, 5, 6, 7,  8, 9, 10, 11, 12, 13, 14, 15, 16, 26, 36, 37, 38, 39, 40.\", IF(BD31=2,\"NO: A, B, G, M. NI: 1, 2, 3, 5, 6, 7,  8, 9, 10, 11, 12, 13, 14, 15, 16, 26, 36, 37, 38, 39, 40.\",IF(BD31=3,\"NO: A, B, G, M. NI: 1, 2, 3, 5, 6, 7,  8, 9, 10, 11, 12, 13, 14, 15, 16, 26, 36, 37, 38, 39, 40.\",\"N/A\"))))","v":"N/A"},{"$f":"Risks!BF36","v":0},{"$f":"IF(BF31=0,\"N/A\",IF(BF31=1,\"NO: A, B, G, M. NI: 1, 2, 3, 5, 6, 7,  8, 9, 10, 11, 12, 13, 14, 15, 16, 26, 36, 37, 38, 39, 40.\", IF(BF31=2,\"NO: A, B, G, M. NI: 1, 2, 3, 5, 6, 7,  8, 9, 10, 11, 12, 13, 14, 15, 16, 26, 36, 37, 38, 39, 40.\",IF(BF31=3,\"NO: A, B, G, M. NI: 1, 2, 3, 5, 6, 7,  8, 9, 10, 11, 12, 13, 14, 15, 16, 26, 36, 37, 38, 39, 40.\",\"N/A\"))))","v":"N/A"},{"$f":"Risks!BH36","v":0},{"$f":"IF(BH31=0,\"N/A\",IF(BH31=1,\"NO: A, B, G, M. NI: 1, 2, 3, 5, 6, 7,  8, 9, 10, 11, 12, 13, 14, 15, 16, 26, 36, 37, 38, 39, 40.\", IF(BH31=2,\"NO: A, B, G, M. NI: 1, 2, 3, 5, 6, 7,  8, 9, 10, 11, 12, 13, 14, 15, 16, 26, 36, 37, 38, 39, 40.\",IF(BH31=3,\"NO: A, B, G, M. NI: 1, 2, 3, 5, 6, 7,  8, 9, 10, 11, 12, 13, 14, 15, 16, 26, 36, 37, 38, 39, 40.\",\"N/A\"))))","v":"N/A"},{"$f":"Risks!BJ36","v":0},{"$f":"IF(BJ31=0,\"N/A\",IF(BJ31=1,\"NO: A, B, G, M. NI: 1, 2, 3, 5, 6, 7,  8, 9, 10, 11, 12, 13, 14, 15, 16, 26, 36, 37, 38, 39, 40.\", IF(BJ31=2,\"NO: A, B, G, M. NI: 1, 2, 3, 5, 6, 7,  8, 9, 10, 11, 12, 13, 14, 15, 16, 26, 36, 37, 38, 39, 40.\",IF(BJ31=3,\"NO: A, B, G, M. NI: 1, 2, 3, 5, 6, 7,  8, 9, 10, 11, 12, 13, 14, 15, 16, 26, 36, 37, 38, 39, 40.\",\"N/A\"))))","v":"N/A"},{"$f":"Risks!BL36","v":0},{"$f":"IF(BL31=0,\"N/A\",IF(BL31=1,\"NO: A, B, G, M. NI: 1, 2, 3, 5, 6, 7,  8, 9, 10, 11, 12, 13, 14, 15, 16, 26, 36, 37, 38, 39, 40.\", IF(BL31=2,\"NO: A, B, G, M. NI: 1, 2, 3, 5, 6, 7,  8, 9, 10, 11, 12, 13, 14, 15, 16, 26, 36, 37, 38, 39, 40.\",IF(BL31=3,\"NO: A, B, G, M. NI: 1, 2, 3, 5, 6, 7,  8, 9, 10, 11, 12, 13, 14, 15, 16, 26, 36, 37, 38, 39, 40.\",\"N/A\"))))","v":"N/A"},{"$f":"Risks!BN36","v":0},{"$f":"IF(BN31=0,\"Please refer to NPF for relevant National Outcomes and Indicators.\",IF(BN31=1,\"Please refer to NPF for relevant National Outcomes and Indicators.\", IF(BN31=2,\"Please refer to NPF for relevant National Outcomes and Indicators.\",IF(BN31=3,\"Please refer to NPF for relevant National Outcomes and Indicators.\",\"Please refer to NPF for relevant National Outcomes and Indicators.\"))))","v":"Please refer to NPF for relevant National Outcomes and Indicators."},{"$f":"Risks!BP36","v":0},{"$f":"IF(BP31=0,\"Please refer to NPF for relevant National Outcomes and Indicators.\",IF(BP31=1,\"Please refer to NPF for relevant National Outcomes and Indicators.\", IF(BP31=2,\"Please refer to NPF for relevant National Outcomes and Indicators.\",IF(BP31=3,\"Please refer to NPF for relevant National Outcomes and Indicators.\",\"Please refer to NPF for relevant National Outcomes and Indicators.\"))))","v":"Please refer to NPF for relevant National Outcomes and Indicators."},{"$f":"Risks!BR36","v":0},{"$f":"IF(BR31=0,\"Please refer to NPF for relevant National Outcomes and Indicators.\",IF(BR31=1,\"Please refer to NPF for relevant National Outcomes and Indicators.\", IF(BR31=2,\"Please refer to NPF for relevant National Outcomes and Indicators.\",IF(BR31=3,\"Please refer to NPF for relevant National Outcomes and Indicators.\",\"Please refer to NPF for relevant National Outcomes and Indicators.\"))))","v":"Please refer to NPF for relevant National Outcomes and Indicators."},{"$f":"Risks!BT36","v":0},{"$f":"IF(BT31=0,\"Please refer to NPF for relevant National Outcomes and Indicators.\",IF(BT31=1,\"Please refer to NPF for relevant National Outcomes and Indicators.\", IF(BT31=2,\"Please refer to NPF for relevant National Outcomes and Indicators.\",IF(BT31=3,\"Please refer to NPF for relevant National Outcomes and Indicators.\",\"Please refer to NPF for relevant National Outcomes and Indicators.\"))))","v":"Please refer to NPF for relevant National Outcomes and Indicators."},{"$f":"Risks!BV36","v":0},{"$f":"IF(BV31=0,\"Please refer to NPF for relevant National Outcomes and Indicators.\",IF(BV31=1,\"Please refer to NPF for relevant National Outcomes and Indicators.\", IF(BV31=2,\"Please refer to NPF for relevant National Outcomes and Indicators.\",IF(BV31=3,\"Please refer to NPF for relevant National Outcomes and Indicators.\",\"Please refer to NPF for relevant National Outcomes and Indicators.\"))))","v":"Please refer to NPF for relevant National Outcomes and Indicators."},{"$f":"Risks!BX36","v":0},{"$f":"IF(BX31=0,\"Please refer to NPF for relevant National Outcomes and Indicators.\",IF(BX31=1,\"Please refer to NPF for relevant National Outcomes and Indicators.\", IF(BX31=2,\"Please refer to NPF for relevant National Outcomes and Indicators.\",IF(BX31=3,\"Please refer to NPF for relevant National Outcomes and Indicators.\",\"Please refer to NPF for relevant National Outcomes and Indicators.\"))))","v":"Please refer to NPF for relevant National Outcomes and Indicators."},{"$f":"Risks!BZ36","v":0},{"$f":"IF(BZ31=0,\"Please refer to NPF for relevant National Outcomes and Indicators.\",IF(BZ31=1,\"Please refer to NPF for relevant National Outcomes and Indicators.\", IF(BZ31=2,\"Please refer to NPF for relevant National Outcomes and Indicators.\",IF(BZ31=3,\"Please refer to NPF for relevant National Outcomes and Indicators.\",\"Please refer to NPF for relevant National Outcomes and Indicators.\"))))","v":"Please refer to NPF for relevant National Outcomes and Indicators."},{"$f":"Risks!CB36","v":0},{"$f":"IF(CB31=0,\"Please refer to NPF for relevant National Outcomes and Indicators.\",IF(CB31=1,\"Please refer to NPF for relevant National Outcomes and Indicators.\", IF(CB31=2,\"Please refer to NPF for relevant National Outcomes and Indicators.\",IF(CB31=3,\"Please refer to NPF for relevant National Outcomes and Indicators.\",\"Please refer to NPF for relevant National Outcomes and Indicators.\"))))","v":"Please refer to NPF for relevant National Outcomes and Indicators."},{"$f":"Risks!CD36","v":0},{"$f":"IF(CD31=0,\"Please refer to NPF for relevant National Outcomes and Indicators.\",IF(CD31=1,\"Please refer to NPF for relevant National Outcomes and Indicators.\", IF(CD31=2,\"Please refer to NPF for relevant National Outcomes and Indicators.\",IF(CD31=3,\"Please refer to NPF for relevant National Outcomes and Indicators.\",\"Please refer to NPF for relevant National Outcomes and Indicators.\"))))","v":"Please refer to NPF for relevant National Outcomes and Indicators."},null,{"$f":"IssuesInput!F10","v":"http://www.ed.ac.uk/human-resources/policies-guidance/a-to-z-policies"},null,null,{"$f":"Risks!CJ36","v":0},{"$f":"IF(CJ31=0,\"Please refer to NPF for relevant National Outcomes and Indicators.\",IF(CJ31=1,\"Please refer to NPF for relevant National Outcomes and Indicators.\", IF(CJ31=2,\"Please refer to NPF for relevant National Outcomes and Indicators.\",IF(CJ31=3,\"Please refer to NPF for relevant National Outcomes and Indicators.\",\"Please refer to NPF for relevant National Outcomes and Indicators.\"))))","v":"Please refer to NPF for relevant National Outcomes and Indicators."}]
[null,null,{"$f":"IF(INDEX(SocIssues,ROW()-ROW(C$24))=\"\",\"\",INDEX(SocIssues,ROW()-ROW(C$24)))","v":""},{"$f":"Risks!D37","v":0},{"$f":"IF(D32=0,\"Please refer to NPF for relevant National Outcomes and Indicators.\",IF(D32=1,\"Please refer to NPF for relevant National Outcomes and Indicators.\", IF(D32=2,\"Please refer to NPF for relevant National Outcomes and Indicators.\",IF(D32=3,\"Please refer to NPF for relevant National Outcomes and Indicators.\",\"Please refer to NPF for relevant National Outcomes and Indicators.\"))))","v":"Please refer to NPF for relevant National Outcomes and Indicators."},{"$f":"Risks!F37","v":0},{"$f":"IF(F32=0,\"Please refer to NPF for relevant National Outcomes and Indicators.\",IF(F32=1,\"Please refer to NPF for relevant National Outcomes and Indicators.\", IF(F32=2,\"Please refer to NPF for relevant National Outcomes and Indicators.\",IF(F32=3,\"Please refer to NPF for relevant National Outcomes and Indicators.\",\"Please refer to NPF for relevant National Outcomes and Indicators.\"))))","v":"Please refer to NPF for relevant National Outcomes and Indicators."},{"$f":"Risks!H37","v":0},{"$f":"IF(H32=0,\"Please refer to NPF for relevant National Outcomes and Indicators.\",IF(H32=1,\"Please refer to NPF for relevant National Outcomes and Indicators.\", IF(H32=2,\"Please refer to NPF for relevant National Outcomes and Indicators.\",IF(H32=3,\"Please refer to NPF for relevant National Outcomes and Indicators.\",\"Please refer to NPF for relevant National Outcomes and Indicators.\"))))","v":"Please refer to NPF for relevant National Outcomes and Indicators."},{"$f":"Risks!J37","v":0},{"$f":"IF(J32=0,\"Please refer to NPF for relevant National Outcomes and Indicators.\",IF(J32=1,\"Please refer to NPF for relevant National Outcomes and Indicators.\", IF(J32=2,\"Please refer to NPF for relevant National Outcomes and Indicators.\",IF(J32=3,\"Please refer to NPF for relevant National Outcomes and Indicators.\",\"Please refer to NPF for relevant National Outcomes and Indicators.\"))))","v":"Please refer to NPF for relevant National Outcomes and Indicators."},{"$f":"Risks!L37","v":0},{"$f":"IF(L32=0,\"Please refer to NPF for relevant National Outcomes and Indicators.\",IF(L32=1,\"Please refer to NPF for relevant National Outcomes and Indicators.\", IF(L32=2,\"Please refer to NPF for relevant National Outcomes and Indicators.\",IF(L32=3,\"Please refer to NPF for relevant National Outcomes and Indicators.\",\"Please refer to NPF for relevant National Outcomes and Indicators.\"))))","v":"Please refer to NPF for relevant National Outcomes and Indicators."},{"$f":"Risks!N37","v":0},{"$f":"IF(N32=0,\"Please refer to NPF for relevant National Outcomes and Indicators.\",IF(N32=1,\"Please refer to NPF for relevant National Outcomes and Indicators.\", IF(N32=2,\"Please refer to NPF for relevant National Outcomes and Indicators.\",IF(N32=3,\"Please refer to NPF for relevant National Outcomes and Indicators.\",\"Please refer to NPF for relevant National Outcomes and Indicators.\"))))","v":"Please refer to NPF for relevant National Outcomes and Indicators."},{"$f":"Risks!P37","v":0},{"$f":"IF(P32=0,\"Please refer to NPF for relevant National Outcomes and Indicators.\",IF(P32=1,\"Please refer to NPF for relevant National Outcomes and Indicators.\", IF(P32=2,\"Please refer to NPF for relevant National Outcomes and Indicators.\",IF(P32=3,\"Please refer to NPF for relevant National Outcomes and Indicators.\",\"Please refer to NPF for relevant National Outcomes and Indicators.\"))))","v":"Please refer to NPF for relevant National Outcomes and Indicators."},{"$f":"Risks!R37","v":0},{"$f":"IF(R32=0,\"Please refer to NPF for relevant National Outcomes and Indicators.\",IF(R32=1,\"Please refer to NPF for relevant National Outcomes and Indicators.\", IF(R32=2,\"Please refer to NPF for relevant National Outcomes and Indicators.\",IF(R32=3,\"Please refer to NPF for relevant National Outcomes and Indicators.\",\"Please refer to NPF for relevant National Outcomes and Indicators.\"))))","v":"Please refer to NPF for relevant National Outcomes and Indicators."},{"$f":"Risks!T37","v":0},{"$f":"IF(T32=0,\"Please refer to NPF for relevant National Outcomes and Indicators.\",IF(T32=1,\"Please refer to NPF for relevant National Outcomes and Indicators.\", IF(T32=2,\"Please refer to NPF for relevant National Outcomes and Indicators.\",IF(T32=3,\"Please refer to NPF for relevant National Outcomes and Indicators.\",\"Please refer to NPF for relevant National Outcomes and Indicators.\"))))","v":"Please refer to NPF for relevant National Outcomes and Indicators."},{"$f":"Risks!V37","v":0},{"$f":"IF(V32=0,\"Please refer to NPF for relevant National Outcomes and Indicators.\",IF(V32=1,\"Please refer to NPF for relevant National Outcomes and Indicators.\", IF(V32=2,\"Please refer to NPF for relevant National Outcomes and Indicators.\",IF(V32=3,\"Please refer to NPF for relevant National Outcomes and Indicators.\",\"Please refer to NPF for relevant National Outcomes and Indicators.\"))))","v":"Please refer to NPF for relevant National Outcomes and Indicators."},{"$f":"Risks!X37","v":0},{"$f":"IF(X32=0,\"Please refer to NPF for relevant National Outcomes and Indicators.\",IF(X32=1,\"Please refer to NPF for relevant National Outcomes and Indicators.\", IF(X32=2,\"Please refer to NPF for relevant National Outcomes and Indicators.\",IF(X32=3,\"Please refer to NPF for relevant National Outcomes and Indicators.\",\"Please refer to NPF for relevant National Outcomes and Indicators.\"))))","v":"Please refer to NPF for relevant National Outcomes and Indicators."},{"$f":"Risks!Z37","v":0},{"$f":"IF(Z32=0,\"Please refer to NPF for relevant National Outcomes and Indicators.\",IF(Z32=1,\"Please refer to NPF for relevant National Outcomes and Indicators.\", IF(Z32=2,\"Please refer to NPF for relevant National Outcomes and Indicators.\",IF(Z32=3,\"Please refer to NPF for relevant National Outcomes and Indicators.\",\"Please refer to NPF for relevant National Outcomes and Indicators.\"))))","v":"Please refer to NPF for relevant National Outcomes and Indicators."},{"$f":"Risks!AB37","v":0},{"$f":"IF(AB32=0,\"Please refer to NPF for relevant National Outcomes and Indicators.\",IF(AB32=1,\"Please refer to NPF for relevant National Outcomes and Indicators.\", IF(AB32=2,\"Please refer to NPF for relevant National Outcomes and Indicators.\",IF(AB32=3,\"Please refer to NPF for relevant National Outcomes and Indicators.\",\"Please refer to NPF for relevant National Outcomes and Indicators.\"))))","v":"Please refer to NPF for relevant National Outcomes and Indicators."},{"$f":"Risks!AD37","v":0},{"$f":"IF(AD32=0,\"Please refer to NPF for relevant National Outcomes and Indicators.\",IF(AD32=1,\"Please refer to NPF for relevant National Outcomes and Indicators.\", IF(AD32=2,\"Please refer to NPF for relevant National Outcomes and Indicators.\",IF(AD32=3,\"Please refer to NPF for relevant National Outcomes and Indicators.\",\"Please refer to NPF for relevant National Outcomes and Indicators.\"))))","v":"Please refer to NPF for relevant National Outcomes and Indicators."},{"$f":"Risks!AF37","v":0},{"$f":"IF(AF32=0,\"Please refer to NPF for relevant National Outcomes and Indicators.\",IF(AF32=1,\"Please refer to NPF for relevant National Outcomes and Indicators.\", IF(AF32=2,\"Please refer to NPF for relevant National Outcomes and Indicators.\",IF(AF32=3,\"Please refer to NPF for relevant National Outcomes and Indicators.\",\"Please refer to NPF for relevant National Outcomes and Indicators.\"))))","v":"Please refer to NPF for relevant National Outcomes and Indicators."},{"$f":"Risks!AH37","v":0},{"$f":"IF(AH32=0,\"Please refer to NPF for relevant National Outcomes and Indicators.\",IF(AH32=1,\"Please refer to NPF for relevant National Outcomes and Indicators.\", IF(AH32=2,\"Please refer to NPF for relevant National Outcomes and Indicators.\",IF(AH32=3,\"Please refer to NPF for relevant National Outcomes and Indicators.\",\"Please refer to NPF for relevant National Outcomes and Indicators.\"))))","v":"Please refer to NPF for relevant National Outcomes and Indicators."},{"$f":"Risks!AJ37","v":0},{"$f":"IF(AJ32=0,\"Please refer to NPF for relevant National Outcomes and Indicators.\",IF(AJ32=1,\"Please refer to NPF for relevant National Outcomes and Indicators.\", IF(AJ32=2,\"Please refer to NPF for relevant National Outcomes and Indicators.\",IF(AJ32=3,\"Please refer to NPF for relevant National Outcomes and Indicators.\",\"Please refer to NPF for relevant National Outcomes and Indicators.\"))))","v":"Please refer to NPF for relevant National Outcomes and Indicators."},{"$f":"Risks!AL37","v":0},{"$f":"IF(AL32=0,\"Please refer to NPF for relevant National Outcomes and Indicators.\",IF(AL32=1,\"Please refer to NPF for relevant National Outcomes and Indicators.\", IF(AL32=2,\"Please refer to NPF for relevant National Outcomes and Indicators.\",IF(AL32=3,\"Please refer to NPF for relevant National Outcomes and Indicators.\",\"Please refer to NPF for relevant National Outcomes and Indicators.\"))))","v":"Please refer to NPF for relevant National Outcomes and Indicators."},{"$f":"Risks!AN37","v":0},{"$f":"IF(AN32=0,\"Please refer to NPF for relevant National Outcomes and Indicators.\",IF(AN32=1,\"Please refer to NPF for relevant National Outcomes and Indicators.\", IF(AN32=2,\"Please refer to NPF for relevant National Outcomes and Indicators.\",IF(AN32=3,\"Please refer to NPF for relevant National Outcomes and Indicators.\",\"Please refer to NPF for relevant National Outcomes and Indicators.\"))))","v":"Please refer to NPF for relevant National Outcomes and Indicators."},{"$f":"Risks!AP37","v":0},{"$f":"IF(AP32=0,\"Please refer to NPF for relevant National Outcomes and Indicators.\",IF(AP32=1,\"Please refer to NPF for relevant National Outcomes and Indicators.\", IF(AP32=2,\"Please refer to NPF for relevant National Outcomes and Indicators.\",IF(AP32=3,\"Please refer to NPF for relevant National Outcomes and Indicators.\",\"Please refer to NPF for relevant National Outcomes and Indicators.\"))))","v":"Please refer to NPF for relevant National Outcomes and Indicators."},{"$f":"Risks!AR37","v":0},{"$f":"IF(AR32=0,\"Please refer to NPF for relevant National Outcomes and Indicators.\",IF(AR32=1,\"Please refer to NPF for relevant National Outcomes and Indicators.\", IF(AR32=2,\"Please refer to NPF for relevant National Outcomes and Indicators.\",IF(AR32=3,\"Please refer to NPF for relevant National Outcomes and Indicators.\",\"Please refer to NPF for relevant National Outcomes and Indicators.\"))))","v":"Please refer to NPF for relevant National Outcomes and Indicators."},{"$f":"Risks!AT37","v":0},{"$f":"IF(AT32=0,\"Please refer to NPF for relevant National Outcomes and Indicators.\",IF(AT32=1,\"Please refer to NPF for relevant National Outcomes and Indicators.\", IF(AT32=2,\"Please refer to NPF for relevant National Outcomes and Indicators.\",IF(AT32=3,\"Please refer to NPF for relevant National Outcomes and Indicators.\",\"Please refer to NPF for relevant National Outcomes and Indicators.\"))))","v":"Please refer to NPF for relevant National Outcomes and Indicators."},{"$f":"Risks!AV37","v":0},{"$f":"IF(AV32=0,\"Please refer to NPF for relevant National Outcomes and Indicators.\",IF(AV32=1,\"Please refer to NPF for relevant National Outcomes and Indicators.\", IF(AV32=2,\"Please refer to NPF for relevant National Outcomes and Indicators.\",IF(AV32=3,\"Please refer to NPF for relevant National Outcomes and Indicators.\",\"Please refer to NPF for relevant National Outcomes and Indicators.\"))))","v":"Please refer to NPF for relevant National Outcomes and Indicators."},{"$f":"Risks!AX37","v":0},{"$f":"IF(AX32=0,\"Please refer to NPF for relevant National Outcomes and Indicators.\",IF(AX32=1,\"Please refer to NPF for relevant National Outcomes and Indicators.\", IF(AX32=2,\"Please refer to NPF for relevant National Outcomes and Indicators.\",IF(AX32=3,\"Please refer to NPF for relevant National Outcomes and Indicators.\",\"Please refer to NPF for relevant National Outcomes and Indicators.\"))))","v":"Please refer to NPF for relevant National Outcomes and Indicators."},{"$f":"Risks!AZ37","v":0},{"$f":"IF(AZ32=0,\"Please refer to NPF for relevant National Outcomes and Indicators.\",IF(AZ32=1,\"Please refer to NPF for relevant National Outcomes and Indicators.\", IF(AZ32=2,\"Please refer to NPF for relevant National Outcomes and Indicators.\",IF(AZ32=3,\"Please refer to NPF for relevant National Outcomes and Indicators.\",\"Please refer to NPF for relevant National Outcomes and Indicators.\"))))","v":"Please refer to NPF for relevant National Outcomes and Indicators."},{"$f":"Risks!BB37","v":0},{"$f":"IF(BB32=0,\"Please refer to NPF for relevant National Outcomes and Indicators.\",IF(BB32=1,\"Please refer to NPF for relevant National Outcomes and Indicators.\", IF(BB32=2,\"Please refer to NPF for relevant National Outcomes and Indicators.\",IF(BB32=3,\"Please refer to NPF for relevant National Outcomes and Indicators.\",\"Please refer to NPF for relevant National Outcomes and Indicators.\"))))","v":"Please refer to NPF for relevant National Outcomes and Indicators."},{"$f":"Risks!BD37","v":0},{"$f":"IF(BD32=0,\"Please refer to NPF for relevant National Outcomes and Indicators.\",IF(BD32=1,\"Please refer to NPF for relevant National Outcomes and Indicators.\", IF(BD32=2,\"Please refer to NPF for relevant National Outcomes and Indicators.\",IF(BD32=3,\"Please refer to NPF for relevant National Outcomes and Indicators.\",\"Please refer to NPF for relevant National Outcomes and Indicators.\"))))","v":"Please refer to NPF for relevant National Outcomes and Indicators."},{"$f":"Risks!BF37","v":0},{"$f":"IF(BF32=0,\"Please refer to NPF for relevant National Outcomes and Indicators.\",IF(BF32=1,\"Please refer to NPF for relevant National Outcomes and Indicators.\", IF(BF32=2,\"Please refer to NPF for relevant National Outcomes and Indicators.\",IF(BF32=3,\"Please refer to NPF for relevant National Outcomes and Indicators.\",\"Please refer to NPF for relevant National Outcomes and Indicators.\"))))","v":"Please refer to NPF for relevant National Outcomes and Indicators."},{"$f":"Risks!BH37","v":0},{"$f":"IF(BH32=0,\"Please refer to NPF for relevant National Outcomes and Indicators.\",IF(BH32=1,\"Please refer to NPF for relevant National Outcomes and Indicators.\", IF(BH32=2,\"Please refer to NPF for relevant National Outcomes and Indicators.\",IF(BH32=3,\"Please refer to NPF for relevant National Outcomes and Indicators.\",\"Please refer to NPF for relevant National Outcomes and Indicators.\"))))","v":"Please refer to NPF for relevant National Outcomes and Indicators."},{"$f":"Risks!BJ37","v":0},{"$f":"IF(BJ32=0,\"Please refer to NPF for relevant National Outcomes and Indicators.\",IF(BJ32=1,\"Please refer to NPF for relevant National Outcomes and Indicators.\", IF(BJ32=2,\"Please refer to NPF for relevant National Outcomes and Indicators.\",IF(BJ32=3,\"Please refer to NPF for relevant National Outcomes and Indicators.\",\"Please refer to NPF for relevant National Outcomes and Indicators.\"))))","v":"Please refer to NPF for relevant National Outcomes and Indicators."},{"$f":"Risks!BL37","v":0},{"$f":"IF(BL32=0,\"Please refer to NPF for relevant National Outcomes and Indicators.\",IF(BL32=1,\"Please refer to NPF for relevant National Outcomes and Indicators.\", IF(BL32=2,\"Please refer to NPF for relevant National Outcomes and Indicators.\",IF(BL32=3,\"Please refer to NPF for relevant National Outcomes and Indicators.\",\"Please refer to NPF for relevant National Outcomes and Indicators.\"))))","v":"Please refer to NPF for relevant National Outcomes and Indicators."},{"$f":"Risks!BN37","v":0},"Please refer to NPF for relevant National Outcomes and Indicators.",{"$f":"Risks!BP37","v":0},"Please refer to NPF for relevant National Outcomes and Indicators.",{"$f":"Risks!BR37","v":0},"Please refer to NPF for relevant National Outcomes and Indicators.",{"$f":"Risks!BT37","v":0},"Please refer to NPF for relevant National Outcomes and Indicators.",{"$f":"Risks!BV37","v":0},"Please refer to NPF for relevant National Outcomes and Indicators.",{"$f":"Risks!BX37","v":0},"Please refer to NPF for relevant National Outcomes and Indicators.",{"$f":"Risks!BZ37","v":0},"Please refer to NPF for relevant National Outcomes and Indicators.",{"$f":"Risks!CB37","v":0},"Please refer to NPF for relevant National Outcomes and Indicators.",{"$f":"Risks!CD37","v":0},"Please refer to NPF for relevant National Outcomes and Indicators.",null,null,null,null,{"$f":"Risks!CJ37","v":0},"Please refer to NPF for relevant National Outcomes and Indicators."]
[null,null,"",{"$f":"Risks!D38","v":0},"Please refer to NPF for relevant National Outcomes and Indicators.",{"$f":"Risks!F38","v":0},"Please refer to NPF for relevant National Outcomes and Indicators.",{"$f":"Risks!H38","v":0},"Please refer to NPF for relevant National Outcomes and Indicators.",{"$f":"Risks!J38","v":0},"Please refer to NPF for relevant National Outcomes and Indicators.",{"$f":"Risks!L38","v":0},"Please refer to NPF for relevant National Outcomes and Indicators.",{"$f":"Risks!N38","v":0},"Please refer to NPF for relevant National Outcomes and Indicators.",{"$f":"Risks!P38","v":0},"Please refer to NPF for relevant National Outcomes and Indicators.",{"$f":"Risks!R38","v":0},"Please refer to NPF for relevant National Outcomes and Indicators.",{"$f":"Risks!T38","v":0},"Please refer to NPF for relevant National Outcomes and Indicators.",{"$f":"Risks!V38","v":0},"Please refer to NPF for relevant National Outcomes and Indicators.",{"$f":"Risks!X38","v":0},"Please refer to NPF for relevant National Outcomes and Indicators.",{"$f":"Risks!Z38","v":0},"Please refer to NPF for relevant National Outcomes and Indicators.",{"$f":"Risks!AB38","v":0},"Please refer to NPF for relevant National Outcomes and Indicators.",{"$f":"Risks!AD38","v":0},"Please refer to NPF for relevant National Outcomes and Indicators.",{"$f":"Risks!AF38","v":0},"Please refer to NPF for relevant National Outcomes and Indicators.",{"$f":"Risks!AH38","v":0},"Please refer to NPF for relevant National Outcomes and Indicators.",{"$f":"Risks!AJ38","v":0},"Please refer to NPF for relevant National Outcomes and Indicators.",{"$f":"Risks!AL38","v":0},"Please refer to NPF for relevant National Outcomes and Indicators.",{"$f":"Risks!AN38","v":0},"Please refer to NPF for relevant National Outcomes and Indicators.",{"$f":"Risks!AP38","v":0},"Please refer to NPF for relevant National Outcomes and Indicators.",{"$f":"Risks!AR38","v":0},"Please refer to NPF for relevant National Outcomes and Indicators.",{"$f":"Risks!AT38","v":0},"Please refer to NPF for relevant National Outcomes and Indicators.",{"$f":"Risks!AV38","v":0},"Please refer to NPF for relevant National Outcomes and Indicators.",{"$f":"Risks!AX38","v":0},"Please refer to NPF for relevant National Outcomes and Indicators.",{"$f":"Risks!AZ38","v":0},"Please refer to NPF for relevant National Outcomes and Indicators.",{"$f":"Risks!BB38","v":0},"Please refer to NPF for relevant National Outcomes and Indicators.",{"$f":"Risks!BD38","v":0},"Please refer to NPF for relevant National Outcomes and Indicators.",{"$f":"Risks!BF38","v":0},"Please refer to NPF for relevant National Outcomes and Indicators.",{"$f":"Risks!BH38","v":0},"Please refer to NPF for relevant National Outcomes and Indicators.",{"$f":"Risks!BJ38","v":0},"Please refer to NPF for relevant National Outcomes and Indicators.",{"$f":"Risks!BL38","v":0},"Please refer to NPF for relevant National Outcomes and Indicators.",{"$f":"Risks!BN38","v":0},"Please refer to NPF for relevant National Outcomes and Indicators.",{"$f":"Risks!BP38","v":0},"Please refer to NPF for relevant National Outcomes and Indicators.",{"$f":"Risks!BR38","v":0},"Please refer to NPF for relevant National Outcomes and Indicators.",{"$f":"Risks!BT38","v":0},"Please refer to NPF for relevant National Outcomes and Indicators.",{"$f":"Risks!BV38","v":0},"Please refer to NPF for relevant National Outcomes and Indicators.",{"$f":"Risks!BX38","v":0},"Please refer to NPF for relevant National Outcomes and Indicators.",{"$f":"Risks!BZ38","v":0},"Please refer to NPF for relevant National Outcomes and Indicators.",{"$f":"Risks!CB38","v":0},"Please refer to NPF for relevant National Outcomes and Indicators.",{"$f":"Risks!CD38","v":0},"Please refer to NPF for relevant National Outcomes and Indicators.",null,null,null,null,{"$f":"Risks!CJ38","v":0},"Please refer to NPF for relevant National Outcomes and Indicators."]
[null,null,"",{"$f":"Risks!D39","v":0},"Please refer to NPF for relevant National Outcomes and Indicators.",{"$f":"Risks!F39","v":0},"Please refer to NPF for relevant National Outcomes and Indicators.",{"$f":"Risks!H39","v":0},"Please refer to NPF for relevant National Outcomes and Indicators.",{"$f":"Risks!J39","v":0},"Please refer to NPF for relevant National Outcomes and Indicators.",{"$f":"Risks!L39","v":0},"Please refer to NPF for relevant National Outcomes and Indicators.",{"$f":"Risks!N39","v":0},"Please refer to NPF for relevant National Outcomes and Indicators.",{"$f":"Risks!P39","v":0},"Please refer to NPF for relevant National Outcomes and Indicators.",{"$f":"Risks!R39","v":0},"Please refer to NPF for relevant National Outcomes and Indicators.",{"$f":"Risks!T39","v":0},"Please refer to NPF for relevant National Outcomes and Indicators.",{"$f":"Risks!V39","v":0},"Please refer to NPF for relevant National Outcomes and Indicators.",{"$f":"Risks!X39","v":0},"Please refer to NPF for relevant National Outcomes and Indicators.",{"$f":"Risks!Z39","v":0},"Please refer to NPF for relevant National Outcomes and Indicators.",{"$f":"Risks!AB39","v":0},"Please refer to NPF for relevant National Outcomes and Indicators.",{"$f":"Risks!AD39","v":0},"Please refer to NPF for relevant National Outcomes and Indicators.",{"$f":"Risks!AF39","v":0},"Please refer to NPF for relevant National Outcomes and Indicators.",{"$f":"Risks!AH39","v":0},"Please refer to NPF for relevant National Outcomes and Indicators.",{"$f":"Risks!AJ39","v":0},"Please refer to NPF for relevant National Outcomes and Indicators.",{"$f":"Risks!AL39","v":0},"Please refer to NPF for relevant National Outcomes and Indicators.",{"$f":"Risks!AN39","v":0},"Please refer to NPF for relevant National Outcomes and Indicators.",{"$f":"Risks!AP39","v":0},"Please refer to NPF for relevant National Outcomes and Indicators.",{"$f":"Risks!AR39","v":0},"Please refer to NPF for relevant National Outcomes and Indicators.",{"$f":"Risks!AT39","v":0},"Please refer to NPF for relevant National Outcomes and Indicators.",{"$f":"Risks!AV39","v":0},"Please refer to NPF for relevant National Outcomes and Indicators.",{"$f":"Risks!AX39","v":0},"Please refer to NPF for relevant National Outcomes and Indicators.",{"$f":"Risks!AZ39","v":0},"Please refer to NPF for relevant National Outcomes and Indicators.",{"$f":"Risks!BB39","v":0},"Please refer to NPF for relevant National Outcomes and Indicators.",{"$f":"Risks!BD39","v":0},"Please refer to NPF for relevant National Outcomes and Indicators.",{"$f":"Risks!BF39","v":0},"Please refer to NPF for relevant National Outcomes and Indicators.",{"$f":"Risks!BH39","v":0},"Please refer to NPF for relevant National Outcomes and Indicators.",{"$f":"Risks!BJ39","v":0},"Please refer to NPF for relevant National Outcomes and Indicators.",{"$f":"Risks!BL39","v":0},"Please refer to NPF for relevant National Outcomes and Indicators.",{"$f":"Risks!BN39","v":0},"Please refer to NPF for relevant National Outcomes and Indicators.",{"$f":"Risks!BP39","v":0},"Please refer to NPF for relevant National Outcomes and Indicators.",{"$f":"Risks!BR39","v":0},"Please refer to NPF for relevant National Outcomes and Indicators.",{"$f":"Risks!BT39","v":0},"Please refer to NPF for relevant National Outcomes and Indicators.",{"$f":"Risks!BV39","v":0},"Please refer to NPF for relevant National Outcomes and Indicators.",{"$f":"Risks!BX39","v":0},"Please refer to NPF for relevant National Outcomes and Indicators.",{"$f":"Risks!BZ39","v":0},"Please refer to NPF for relevant National Outcomes and Indicators.",{"$f":"Risks!CB39","v":0},"Please refer to NPF for relevant National Outcomes and Indicators.",{"$f":"Risks!CD39","v":0},"Please refer to NPF for relevant National Outcomes and Indicators.",null,null,null,null,{"$f":"Risks!CJ39","v":0},"Please refer to NPF for relevant National Outcomes and Indicators."]
[null,null,"",{"$f":"Risks!D40","v":0},"Please refer to NPF for relevant National Outcomes and Indicators.",{"$f":"Risks!F40","v":0},"Please refer to NPF for relevant National Outcomes and Indicators.",{"$f":"Risks!H40","v":0},"Please refer to NPF for relevant National Outcomes and Indicators.",{"$f":"Risks!J40","v":0},"Please refer to NPF for relevant National Outcomes and Indicators.",{"$f":"Risks!L40","v":0},"Please refer to NPF for relevant National Outcomes and Indicators.",{"$f":"Risks!N40","v":0},"Please refer to NPF for relevant National Outcomes and Indicators.",{"$f":"Risks!P40","v":0},"Please refer to NPF for relevant National Outcomes and Indicators.",{"$f":"Risks!R40","v":0},"Please refer to NPF for relevant National Outcomes and Indicators.",{"$f":"Risks!T40","v":0},"Please refer to NPF for relevant National Outcomes and Indicators.",{"$f":"Risks!V40","v":0},"Please refer to NPF for relevant National Outcomes and Indicators.",{"$f":"Risks!X40","v":0},"Please refer to NPF for relevant National Outcomes and Indicators.",{"$f":"Risks!Z40","v":0},"Please refer to NPF for relevant National Outcomes and Indicators.",{"$f":"Risks!AB40","v":0},"Please refer to NPF for relevant National Outcomes and Indicators.",{"$f":"Risks!AD40","v":0},"Please refer to NPF for relevant National Outcomes and Indicators.",{"$f":"Risks!AF40","v":0},"Please refer to NPF for relevant National Outcomes and Indicators.",{"$f":"Risks!AH40","v":0},"Please refer to NPF for relevant National Outcomes and Indicators.",{"$f":"Risks!AJ40","v":0},"Please refer to NPF for relevant National Outcomes and Indicators.",{"$f":"Risks!AL40","v":0},"Please refer to NPF for relevant National Outcomes and Indicators.",{"$f":"Risks!AN40","v":0},"Please refer to NPF for relevant National Outcomes and Indicators.",{"$f":"Risks!AP40","v":0},"Please refer to NPF for relevant National Outcomes and Indicators.",{"$f":"Risks!AR40","v":0},"Please refer to NPF for relevant National Outcomes and Indicators.",{"$f":"Risks!AT40","v":0},"Please refer to NPF for relevant National Outcomes and Indicators.",{"$f":"Risks!AV40","v":0},"Please refer to NPF for relevant National Outcomes and Indicators.",{"$f":"Risks!AX40","v":0},"Please refer to NPF for relevant National Outcomes and Indicators.",{"$f":"Risks!AZ40","v":0},"Please refer to NPF for relevant National Outcomes and Indicators.",{"$f":"Risks!BB40","v":0},"Please refer to NPF for relevant National Outcomes and Indicators.",{"$f":"Risks!BD40","v":0},"Please refer to NPF for relevant National Outcomes and Indicators.",{"$f":"Risks!BF40","v":0},"Please refer to NPF for relevant National Outcomes and Indicators.",{"$f":"Risks!BH40","v":0},"Please refer to NPF for relevant National Outcomes and Indicators.",{"$f":"Risks!BJ40","v":0},"Please refer to NPF for relevant National Outcomes and Indicators.",{"$f":"Risks!BL40","v":0},"Please refer to NPF for relevant National Outcomes and Indicators.",{"$f":"Risks!BN40","v":0},"Please refer to NPF for relevant National Outcomes and Indicators.",{"$f":"Risks!BP40","v":0},"Please refer to NPF for relevant National Outcomes and Indicators.",{"$f":"Risks!BR40","v":0},"Please refer to NPF for relevant National Outcomes and Indicators.",{"$f":"Risks!BT40","v":0},"Please refer to NPF for relevant National Outcomes and Indicators.",{"$f":"Risks!BV40","v":0},"Please refer to NPF for relevant National Outcomes and Indicators.",{"$f":"Risks!BX40","v":0},"Please refer to NPF for relevant National Outcomes and Indicators.",{"$f":"Risks!BZ40","v":0},"Please refer to NPF for relevant National Outcomes and Indicators.",{"$f":"Risks!CB40","v":0},"Please refer to NPF for relevant National Outcomes and Indicators.",{"$f":"Risks!CD40","v":0},"Please refer to NPF for relevant National Outcomes and Indicators.",null,null,null,null,{"$f":"Risks!CJ40","v":0},"Please refer to NPF for relevant National Outcomes and Indicators."]
[null,null,"",{"$f":"Risks!D41","v":0},"Please refer to NPF for relevant National Outcomes and Indicators.",{"$f":"Risks!F41","v":0},"Please refer to NPF for relevant National Outcomes and Indicators.",{"$f":"Risks!H41","v":0},"Please refer to NPF for relevant National Outcomes and Indicators.",{"$f":"Risks!J41","v":0},"Please refer to NPF for relevant National Outcomes and Indicators.",{"$f":"Risks!L41","v":0},"Please refer to NPF for relevant National Outcomes and Indicators.",{"$f":"Risks!N41","v":0},"Please refer to NPF for relevant National Outcomes and Indicators.",{"$f":"Risks!P41","v":0},"Please refer to NPF for relevant National Outcomes and Indicators.",{"$f":"Risks!R41","v":0},"Please refer to NPF for relevant National Outcomes and Indicators.",{"$f":"Risks!T41","v":0},"Please refer to NPF for relevant National Outcomes and Indicators.",{"$f":"Risks!V41","v":0},"Please refer to NPF for relevant National Outcomes and Indicators.",{"$f":"Risks!X41","v":0},"Please refer to NPF for relevant National Outcomes and Indicators.",{"$f":"Risks!Z41","v":0},"Please refer to NPF for relevant National Outcomes and Indicators.",{"$f":"Risks!AB41","v":0},"Please refer to NPF for relevant National Outcomes and Indicators.",{"$f":"Risks!AD41","v":0},"Please refer to NPF for relevant National Outcomes and Indicators.",{"$f":"Risks!AF41","v":0},"Please refer to NPF for relevant National Outcomes and Indicators.",{"$f":"Risks!AH41","v":0},"Please refer to NPF for relevant National Outcomes and Indicators.",{"$f":"Risks!AJ41","v":0},"Please refer to NPF for relevant National Outcomes and Indicators.",{"$f":"Risks!AL41","v":0},"Please refer to NPF for relevant National Outcomes and Indicators.",{"$f":"Risks!AN41","v":0},"Please refer to NPF for relevant National Outcomes and Indicators.",{"$f":"Risks!AP41","v":0},"Please refer to NPF for relevant National Outcomes and Indicators.",{"$f":"Risks!AR41","v":0},"Please refer to NPF for relevant National Outcomes and Indicators.",{"$f":"Risks!AT41","v":0},"Please refer to NPF for relevant National Outcomes and Indicators.",{"$f":"Risks!AV41","v":0},"Please refer to NPF for relevant National Outcomes and Indicators.",{"$f":"Risks!AX41","v":0},"Please refer to NPF for relevant National Outcomes and Indicators.",{"$f":"Risks!AZ41","v":0},"Please refer to NPF for relevant National Outcomes and Indicators.",{"$f":"Risks!BB41","v":0},"Please refer to NPF for relevant National Outcomes and Indicators.",{"$f":"Risks!BD41","v":0},"Please refer to NPF for relevant National Outcomes and Indicators.",{"$f":"Risks!BF41","v":0},"Please refer to NPF for relevant National Outcomes and Indicators.",{"$f":"Risks!BH41","v":0},"Please refer to NPF for relevant National Outcomes and Indicators.",{"$f":"Risks!BJ41","v":0},"Please refer to NPF for relevant National Outcomes and Indicators.",{"$f":"Risks!BL41","v":0},"Please refer to NPF for relevant National Outcomes and Indicators.",{"$f":"Risks!BN41","v":0},"Please refer to NPF for relevant National Outcomes and Indicators.",{"$f":"Risks!BP41","v":0},"Please refer to NPF for relevant National Outcomes and Indicators.",{"$f":"Risks!BR41","v":0},"Please refer to NPF for relevant National Outcomes and Indicators.",{"$f":"Risks!BT41","v":0},"Please refer to NPF for relevant National Outcomes and Indicators.",{"$f":"Risks!BV41","v":0},"Please refer to NPF for relevant National Outcomes and Indicators.",{"$f":"Risks!BX41","v":0},"Please refer to NPF for relevant National Outcomes and Indicators.",{"$f":"Risks!BZ41","v":0},"Please refer to NPF for relevant National Outcomes and Indicators.",{"$f":"Risks!CB41","v":0},"Please refer to NPF for relevant National Outcomes and Indicators.",{"$f":"Risks!CD41","v":0},"Please refer to NPF for relevant National Outcomes and Indicators.",null,null,null,null,{"$f":"Risks!CJ41","v":0},"Please refer to NPF for relevant National Outcomes and Indicators."]
[null,null,"",{"$f":"Risks!D42","v":0},"Please refer to NPF for relevant National Outcomes and Indicators.",{"$f":"Risks!F42","v":0},"Please refer to NPF for relevant National Outcomes and Indicators.",{"$f":"Risks!H42","v":0},"Please refer to NPF for relevant National Outcomes and Indicators.",{"$f":"Risks!J42","v":0},"Please refer to NPF for relevant National Outcomes and Indicators.",{"$f":"Risks!L42","v":0},"Please refer to NPF for relevant National Outcomes and Indicators.",{"$f":"Risks!N42","v":0},"Please refer to NPF for relevant National Outcomes and Indicators.",{"$f":"Risks!P42","v":0},"Please refer to NPF for relevant National Outcomes and Indicators.",{"$f":"Risks!R42","v":0},"Please refer to NPF for relevant National Outcomes and Indicators.",{"$f":"Risks!T42","v":0},"Please refer to NPF for relevant National Outcomes and Indicators.",{"$f":"Risks!V42","v":0},"Please refer to NPF for relevant National Outcomes and Indicators.",{"$f":"Risks!X42","v":0},"Please refer to NPF for relevant National Outcomes and Indicators.",{"$f":"Risks!Z42","v":0},"Please refer to NPF for relevant National Outcomes and Indicators.",{"$f":"Risks!AB42","v":0},"Please refer to NPF for relevant National Outcomes and Indicators.",{"$f":"Risks!AD42","v":0},"Please refer to NPF for relevant National Outcomes and Indicators.",{"$f":"Risks!AF42","v":0},"Please refer to NPF for relevant National Outcomes and Indicators.",{"$f":"Risks!AH42","v":0},"Please refer to NPF for relevant National Outcomes and Indicators.",{"$f":"Risks!AJ42","v":0},"Please refer to NPF for relevant National Outcomes and Indicators.",{"$f":"Risks!AL42","v":0},"Please refer to NPF for relevant National Outcomes and Indicators.",{"$f":"Risks!AN42","v":0},"Please refer to NPF for relevant National Outcomes and Indicators.",{"$f":"Risks!AP42","v":0},"Please refer to NPF for relevant National Outcomes and Indicators.",{"$f":"Risks!AR42","v":0},"Please refer to NPF for relevant National Outcomes and Indicators.",{"$f":"Risks!AT42","v":0},"Please refer to NPF for relevant National Outcomes and Indicators.",{"$f":"Risks!AV42","v":0},"Please refer to NPF for relevant National Outcomes and Indicators.",{"$f":"Risks!AX42","v":0},"Please refer to NPF for relevant National Outcomes and Indicators.",{"$f":"Risks!AZ42","v":0},"Please refer to NPF for relevant National Outcomes and Indicators.",{"$f":"Risks!BB42","v":0},"Please refer to NPF for relevant National Outcomes and Indicators.",{"$f":"Risks!BD42","v":0},"Please refer to NPF for relevant National Outcomes and Indicators.",{"$f":"Risks!BF42","v":0},"Please refer to NPF for relevant National Outcomes and Indicators.",{"$f":"Risks!BH42","v":0},"Please refer to NPF for relevant National Outcomes and Indicators.",{"$f":"Risks!BJ42","v":0},"Please refer to NPF for relevant National Outcomes and Indicators.",{"$f":"Risks!BL42","v":0},"Please refer to NPF for relevant National Outcomes and Indicators.",{"$f":"Risks!BN42","v":0},"Please refer to NPF for relevant National Outcomes and Indicators.",{"$f":"Risks!BP42","v":0},"Please refer to NPF for relevant National Outcomes and Indicators.",{"$f":"Risks!BR42","v":0},"Please refer to NPF for relevant National Outcomes and Indicators.",{"$f":"Risks!BT42","v":0},"Please refer to NPF for relevant National Outcomes and Indicators.",{"$f":"Risks!BV42","v":0},"Please refer to NPF for relevant National Outcomes and Indicators.",{"$f":"Risks!BX42","v":0},"Please refer to NPF for relevant National Outcomes and Indicators.",{"$f":"Risks!BZ42","v":0},"Please refer to NPF for relevant National Outcomes and Indicators.",{"$f":"Risks!CB42","v":0},"Please refer to NPF for relevant National Outcomes and Indicators.",{"$f":"Risks!CD42","v":0},"Please refer to NPF for relevant National Outcomes and Indicators.",null,null,null,null,{"$f":"Risks!CJ42","v":0},"Please refer to NPF for relevant National Outcomes and Indicators."]
[null,null,"",{"$f":"Risks!D43","v":0},"Please refer to NPF for relevant National Outcomes and Indicators.",{"$f":"Risks!F43","v":0},"Please refer to NPF for relevant National Outcomes and Indicators.",{"$f":"Risks!H43","v":0},"Please refer to NPF for relevant National Outcomes and Indicators.",{"$f":"Risks!J43","v":0},"Please refer to NPF for relevant National Outcomes and Indicators.",{"$f":"Risks!L43","v":0},"Please refer to NPF for relevant National Outcomes and Indicators.",{"$f":"Risks!N43","v":0},"Please refer to NPF for relevant National Outcomes and Indicators.",{"$f":"Risks!P43","v":0},"Please refer to NPF for relevant National Outcomes and Indicators.",{"$f":"Risks!R43","v":0},"Please refer to NPF for relevant National Outcomes and Indicators.",{"$f":"Risks!T43","v":0},"Please refer to NPF for relevant National Outcomes and Indicators.",{"$f":"Risks!V43","v":0},"Please refer to NPF for relevant National Outcomes and Indicators.",{"$f":"Risks!X43","v":0},"Please refer to NPF for relevant National Outcomes and Indicators.",{"$f":"Risks!Z43","v":0},"Please refer to NPF for relevant National Outcomes and Indicators.",{"$f":"Risks!AB43","v":0},"Please refer to NPF for relevant National Outcomes and Indicators.",{"$f":"Risks!AD43","v":0},"Please refer to NPF for relevant National Outcomes and Indicators.",{"$f":"Risks!AF43","v":0},"Please refer to NPF for relevant National Outcomes and Indicators.",{"$f":"Risks!AH43","v":0},"Please refer to NPF for relevant National Outcomes and Indicators.",{"$f":"Risks!AJ43","v":0},"Please refer to NPF for relevant National Outcomes and Indicators.",{"$f":"Risks!AL43","v":0},"Please refer to NPF for relevant National Outcomes and Indicators.",{"$f":"Risks!AN43","v":0},"Please refer to NPF for relevant National Outcomes and Indicators.",{"$f":"Risks!AP43","v":0},"Please refer to NPF for relevant National Outcomes and Indicators.",{"$f":"Risks!AR43","v":0},"Please refer to NPF for relevant National Outcomes and Indicators.",{"$f":"Risks!AT43","v":0},"Please refer to NPF for relevant National Outcomes and Indicators.",{"$f":"Risks!AV43","v":0},"Please refer to NPF for relevant National Outcomes and Indicators.",{"$f":"Risks!AX43","v":0},"Please refer to NPF for relevant National Outcomes and Indicators.",{"$f":"Risks!AZ43","v":0},"Please refer to NPF for relevant National Outcomes and Indicators.",{"$f":"Risks!BB43","v":0},"Please refer to NPF for relevant National Outcomes and Indicators.",{"$f":"Risks!BD43","v":0},"Please refer to NPF for relevant National Outcomes and Indicators.",{"$f":"Risks!BF43","v":0},"Please refer to NPF for relevant National Outcomes and Indicators.",{"$f":"Risks!BH43","v":0},"Please refer to NPF for relevant National Outcomes and Indicators.",{"$f":"Risks!BJ43","v":0},"Please refer to NPF for relevant National Outcomes and Indicators.",{"$f":"Risks!BL43","v":0},"Please refer to NPF for relevant National Outcomes and Indicators.",{"$f":"Risks!BN43","v":0},"Please refer to NPF for relevant National Outcomes and Indicators.",{"$f":"Risks!BP43","v":0},"Please refer to NPF for relevant National Outcomes and Indicators.",{"$f":"Risks!BR43","v":0},"Please refer to NPF for relevant National Outcomes and Indicators.",{"$f":"Risks!BT43","v":0},"Please refer to NPF for relevant National Outcomes and Indicators.",{"$f":"Risks!BV43","v":0},"Please refer to NPF for relevant National Outcomes and Indicators.",{"$f":"Risks!BX43","v":0},"Please refer to NPF for relevant National Outcomes and Indicators.",{"$f":"Risks!BZ43","v":0},"Please refer to NPF for relevant National Outcomes and Indicators.",{"$f":"Risks!CB43","v":0},"Please refer to NPF for relevant National Outcomes and Indicators.",{"$f":"Risks!CD43","v":0},"Please refer to NPF for relevant National Outcomes and Indicators.",null,null,null,null,{"$f":"Risks!CJ43","v":0},"Please refer to NPF for relevant National Outcomes and Indicators."]
[null,null,"",{"$f":"Risks!D44","v":0},"Please refer to NPF for relevant National Outcomes and Indicators.",{"$f":"Risks!F44","v":0},"Please refer to NPF for relevant National Outcomes and Indicators.",{"$f":"Risks!H44","v":0},"Please refer to NPF for relevant National Outcomes and Indicators.",{"$f":"Risks!J44","v":0},"Please refer to NPF for relevant National Outcomes and Indicators.",{"$f":"Risks!L44","v":0},"Please refer to NPF for relevant National Outcomes and Indicators.",{"$f":"Risks!N44","v":0},"Please refer to NPF for relevant National Outcomes and Indicators.",{"$f":"Risks!P44","v":0},"Please refer to NPF for relevant National Outcomes and Indicators.",{"$f":"Risks!R44","v":0},"Please refer to NPF for relevant National Outcomes and Indicators.",{"$f":"Risks!T44","v":0},"Please refer to NPF for relevant National Outcomes and Indicators.",{"$f":"Risks!V44","v":0},"Please refer to NPF for relevant National Outcomes and Indicators.",{"$f":"Risks!X44","v":0},"Please refer to NPF for relevant National Outcomes and Indicators.",{"$f":"Risks!Z44","v":0},"Please refer to NPF for relevant National Outcomes and Indicators.",{"$f":"Risks!AB44","v":0},"Please refer to NPF for relevant National Outcomes and Indicators.",{"$f":"Risks!AD44","v":0},"Please refer to NPF for relevant National Outcomes and Indicators.",{"$f":"Risks!AF44","v":0},"Please refer to NPF for relevant National Outcomes and Indicators.",{"$f":"Risks!AH44","v":0},"Please refer to NPF for relevant National Outcomes and Indicators.",{"$f":"Risks!AJ44","v":0},"Please refer to NPF for relevant National Outcomes and Indicators.",{"$f":"Risks!AL44","v":0},"Please refer to NPF for relevant National Outcomes and Indicators.",{"$f":"Risks!AN44","v":0},"Please refer to NPF for relevant National Outcomes and Indicators.",{"$f":"Risks!AP44","v":0},"Please refer to NPF for relevant National Outcomes and Indicators.",{"$f":"Risks!AR44","v":0},"Please refer to NPF for relevant National Outcomes and Indicators.",{"$f":"Risks!AT44","v":0},"Please refer to NPF for relevant National Outcomes and Indicators.",{"$f":"Risks!AV44","v":0},"Please refer to NPF for relevant National Outcomes and Indicators.",{"$f":"Risks!AX44","v":0},"Please refer to NPF for relevant National Outcomes and Indicators.",{"$f":"Risks!AZ44","v":0},"Please refer to NPF for relevant National Outcomes and Indicators.",{"$f":"Risks!BB44","v":0},"Please refer to NPF for relevant National Outcomes and Indicators.",{"$f":"Risks!BD44","v":0},"Please refer to NPF for relevant National Outcomes and Indicators.",{"$f":"Risks!BF44","v":0},"Please refer to NPF for relevant National Outcomes and Indicators.",{"$f":"Risks!BH44","v":0},"Please refer to NPF for relevant National Outcomes and Indicators.",{"$f":"Risks!BJ44","v":0},"Please refer to NPF for relevant National Outcomes and Indicators.",{"$f":"Risks!BL44","v":0},"Please refer to NPF for relevant National Outcomes and Indicators.",{"$f":"Risks!BN44","v":0},"Please refer to NPF for relevant National Outcomes and Indicators.",{"$f":"Risks!BP44","v":0},"Please refer to NPF for relevant National Outcomes and Indicators.",{"$f":"Risks!BR44","v":0},"Please refer to NPF for relevant National Outcomes and Indicators.",{"$f":"Risks!BT44","v":0},"Please refer to NPF for relevant National Outcomes and Indicators.",{"$f":"Risks!BV44","v":0},"Please refer to NPF for relevant National Outcomes and Indicators.",{"$f":"Risks!BX44","v":0},"Please refer to NPF for relevant National Outcomes and Indicators.",{"$f":"Risks!BZ44","v":0},"Please refer to NPF for relevant National Outcomes and Indicators.",{"$f":"Risks!CB44","v":0},"Please refer to NPF for relevant National Outcomes and Indicators.",{"$f":"Risks!CD44","v":0},"Please refer to NPF for relevant National Outcomes and Indicators.",null,null,null,null,{"$f":"Risks!CJ44","v":0},"Please refer to NPF for relevant National Outcomes and Indicators."]
[null,null,"",{"$f":"Risks!D45","v":0},"Please refer to NPF for relevant National Outcomes and Indicators.",{"$f":"Risks!F45","v":0},"Please refer to NPF for relevant National Outcomes and Indicators.",{"$f":"Risks!H45","v":0},"Please refer to NPF for relevant National Outcomes and Indicators.",{"$f":"Risks!J45","v":0},"Please refer to NPF for relevant National Outcomes and Indicators.",{"$f":"Risks!L45","v":0},"Please refer to NPF for relevant National Outcomes and Indicators.",{"$f":"Risks!N45","v":0},"Please refer to NPF for relevant National Outcomes and Indicators.",{"$f":"Risks!P45","v":0},"Please refer to NPF for relevant National Outcomes and Indicators.",{"$f":"Risks!R45","v":0},"Please refer to NPF for relevant National Outcomes and Indicators.",{"$f":"Risks!T45","v":0},"Please refer to NPF for relevant National Outcomes and Indicators.",{"$f":"Risks!V45","v":0},"Please refer to NPF for relevant National Outcomes and Indicators.",{"$f":"Risks!X45","v":0},"Please refer to NPF for relevant National Outcomes and Indicators.",{"$f":"Risks!Z45","v":0},"Please refer to NPF for relevant National Outcomes and Indicators.",{"$f":"Risks!AB45","v":0},"Please refer to NPF for relevant National Outcomes and Indicators.",{"$f":"Risks!AD45","v":0},"Please refer to NPF for relevant National Outcomes and Indicators.",{"$f":"Risks!AF45","v":0},"Please refer to NPF for relevant National Outcomes and Indicators.",{"$f":"Risks!AH45","v":0},"Please refer to NPF for relevant National Outcomes and Indicators.",{"$f":"Risks!AJ45","v":0},"Please refer to NPF for relevant National Outcomes and Indicators.",{"$f":"Risks!AL45","v":0},"Please refer to NPF for relevant National Outcomes and Indicators.",{"$f":"Risks!AN45","v":0},"Please refer to NPF for relevant National Outcomes and Indicators.",{"$f":"Risks!AP45","v":0},"Please refer to NPF for relevant National Outcomes and Indicators.",{"$f":"Risks!AR45","v":0},"Please refer to NPF for relevant National Outcomes and Indicators.",{"$f":"Risks!AT45","v":0},"Please refer to NPF for relevant National Outcomes and Indicators.",{"$f":"Risks!AV45","v":0},"Please refer to NPF for relevant National Outcomes and Indicators.",{"$f":"Risks!AX45","v":0},"Please refer to NPF for relevant National Outcomes and Indicators.",{"$f":"Risks!AZ45","v":0},"Please refer to NPF for relevant National Outcomes and Indicators.",{"$f":"Risks!BB45","v":0},"Please refer to NPF for relevant National Outcomes and Indicators.",{"$f":"Risks!BD45","v":0},"Please refer to NPF for relevant National Outcomes and Indicators.",{"$f":"Risks!BF45","v":0},"Please refer to NPF for relevant National Outcomes and Indicators.",{"$f":"Risks!BH45","v":0},"Please refer to NPF for relevant National Outcomes and Indicators.",{"$f":"Risks!BJ45","v":0},"Please refer to NPF for relevant National Outcomes and Indicators.",{"$f":"Risks!BL45","v":0},"Please refer to NPF for relevant National Outcomes and Indicators.",{"$f":"Risks!BN45","v":0},"Please refer to NPF for relevant National Outcomes and Indicators.",{"$f":"Risks!BP45","v":0},"Please refer to NPF for relevant National Outcomes and Indicators.",{"$f":"Risks!BR45","v":0},"Please refer to NPF for relevant National Outcomes and Indicators.",{"$f":"Risks!BT45","v":0},"Please refer to NPF for relevant National Outcomes and Indicators.",{"$f":"Risks!BV45","v":0},"Please refer to NPF for relevant National Outcomes and Indicators.",{"$f":"Risks!BX45","v":0},"Please refer to NPF for relevant National Outcomes and Indicators.",{"$f":"Risks!BZ45","v":0},"Please refer to NPF for relevant National Outcomes and Indicators.",{"$f":"Risks!CB45","v":0},"Please refer to NPF for relevant National Outcomes and Indicators.",{"$f":"Risks!CD45","v":0},"Please refer to NPF for relevant National Outcomes and Indicators.",null,null,null,null,{"$f":"Risks!CJ45","v":0},"Please refer to NPF for relevant National Outcomes and Indicators."]
[null,null,"",{"$f":"Risks!D46","v":0},"Please refer to NPF for relevant National Outcomes and Indicators.",{"$f":"Risks!F46","v":0},"Please refer to NPF for relevant National Outcomes and Indicators.",{"$f":"Risks!H46","v":0},"Please refer to NPF for relevant National Outcomes and Indicators.",{"$f":"Risks!J46","v":0},"Please refer to NPF for relevant National Outcomes and Indicators.",{"$f":"Risks!L46","v":0},"Please refer to NPF for relevant National Outcomes and Indicators.",{"$f":"Risks!N46","v":0},"Please refer to NPF for relevant National Outcomes and Indicators.",{"$f":"Risks!P46","v":0},"Please refer to NPF for relevant National Outcomes and Indicators.",{"$f":"Risks!R46","v":0},"Please refer to NPF for relevant National Outcomes and Indicators.",{"$f":"Risks!T46","v":0},"Please refer to NPF for relevant National Outcomes and Indicators.",{"$f":"Risks!V46","v":0},"Please refer to NPF for relevant National Outcomes and Indicators.",{"$f":"Risks!X46","v":0},"Please refer to NPF for relevant National Outcomes and Indicators.",{"$f":"Risks!Z46","v":0},"Please refer to NPF for relevant National Outcomes and Indicators.",{"$f":"Risks!AB46","v":0},"Please refer to NPF for relevant National Outcomes and Indicators.",{"$f":"Risks!AD46","v":0},"Please refer to NPF for relevant National Outcomes and Indicators.",{"$f":"Risks!AF46","v":0},"Please refer to NPF for relevant National Outcomes and Indicators.",{"$f":"Risks!AH46","v":0},"Please refer to NPF for relevant National Outcomes and Indicators.",{"$f":"Risks!AJ46","v":0},"Please refer to NPF for relevant National Outcomes and Indicators.",{"$f":"Risks!AL46","v":0},"Please refer to NPF for relevant National Outcomes and Indicators.",{"$f":"Risks!AN46","v":0},"Please refer to NPF for relevant National Outcomes and Indicators.",{"$f":"Risks!AP46","v":0},"Please refer to NPF for relevant National Outcomes and Indicators.",{"$f":"Risks!AR46","v":0},"Please refer to NPF for relevant National Outcomes and Indicators.",{"$f":"Risks!AT46","v":0},"Please refer to NPF for relevant National Outcomes and Indicators.",{"$f":"Risks!AV46","v":0},"Please refer to NPF for relevant National Outcomes and Indicators.",{"$f":"Risks!AX46","v":0},"Please refer to NPF for relevant National Outcomes and Indicators.",{"$f":"Risks!AZ46","v":0},"Please refer to NPF for relevant National Outcomes and Indicators.",{"$f":"Risks!BB46","v":0},"Please refer to NPF for relevant National Outcomes and Indicators.",{"$f":"Risks!BD46","v":0},"Please refer to NPF for relevant National Outcomes and Indicators.",{"$f":"Risks!BF46","v":0},"Please refer to NPF for relevant National Outcomes and Indicators.",{"$f":"Risks!BH46","v":0},"Please refer to NPF for relevant National Outcomes and Indicators.",{"$f":"Risks!BJ46","v":0},"Please refer to NPF for relevant National Outcomes and Indicators.",{"$f":"Risks!BL46","v":0},"Please refer to NPF for relevant National Outcomes and Indicators.",{"$f":"Risks!BN46","v":0},"Please refer to NPF for relevant National Outcomes and Indicators.",{"$f":"Risks!BP46","v":0},"Please refer to NPF for relevant National Outcomes and Indicators.",{"$f":"Risks!BR46","v":0},"Please refer to NPF for relevant National Outcomes and Indicators.",{"$f":"Risks!BT46","v":0},"Please refer to NPF for relevant National Outcomes and Indicators.",{"$f":"Risks!BV46","v":0},"Please refer to NPF for relevant National Outcomes and Indicators.",{"$f":"Risks!BX46","v":0},"Please refer to NPF for relevant National Outcomes and Indicators.",{"$f":"Risks!BZ46","v":0},"Please refer to NPF for relevant National Outcomes and Indicators.",{"$f":"Risks!CB46","v":0},"Please refer to NPF for relevant National Outcomes and Indicators.",{"$f":"Risks!CD46","v":0},"Please refer to NPF for relevant National Outcomes and Indicators.",null,null,null,null,{"$f":"Risks!CJ46","v":0},"Please refer to NPF for relevant National Outcomes and Indicators."]
[null,null,"",{"$f":"Risks!D47","v":0},"Please refer to NPF for relevant National Outcomes and Indicators.",{"$f":"Risks!F47","v":0},"Please refer to NPF for relevant National Outcomes and Indicators.",{"$f":"Risks!H47","v":0},"Please refer to NPF for relevant National Outcomes and Indicators.",{"$f":"Risks!J47","v":0},"Please refer to NPF for relevant National Outcomes and Indicators.",{"$f":"Risks!L47","v":0},"Please refer to NPF for relevant National Outcomes and Indicators.",{"$f":"Risks!N47","v":0},"Please refer to NPF for relevant National Outcomes and Indicators.",{"$f":"Risks!P47","v":0},"Please refer to NPF for relevant National Outcomes and Indicators.",{"$f":"Risks!R47","v":0},"Please refer to NPF for relevant National Outcomes and Indicators.",{"$f":"Risks!T47","v":0},"Please refer to NPF for relevant National Outcomes and Indicators.",{"$f":"Risks!V47","v":0},"Please refer to NPF for relevant National Outcomes and Indicators.",{"$f":"Risks!X47","v":0},"Please refer to NPF for relevant National Outcomes and Indicators.",{"$f":"Risks!Z47","v":0},"Please refer to NPF for relevant National Outcomes and Indicators.",{"$f":"Risks!AB47","v":0},"Please refer to NPF for relevant National Outcomes and Indicators.",{"$f":"Risks!AD47","v":0},"Please refer to NPF for relevant National Outcomes and Indicators.",{"$f":"Risks!AF47","v":0},"Please refer to NPF for relevant National Outcomes and Indicators.",{"$f":"Risks!AH47","v":0},"Please refer to NPF for relevant National Outcomes and Indicators.",{"$f":"Risks!AJ47","v":0},"Please refer to NPF for relevant National Outcomes and Indicators.",{"$f":"Risks!AL47","v":0},"Please refer to NPF for relevant National Outcomes and Indicators.",{"$f":"Risks!AN47","v":0},"Please refer to NPF for relevant National Outcomes and Indicators.",{"$f":"Risks!AP47","v":0},"Please refer to NPF for relevant National Outcomes and Indicators.",{"$f":"Risks!AR47","v":0},"Please refer to NPF for relevant National Outcomes and Indicators.",{"$f":"Risks!AT47","v":0},"Please refer to NPF for relevant National Outcomes and Indicators.",{"$f":"Risks!AV47","v":0},"Please refer to NPF for relevant National Outcomes and Indicators.",{"$f":"Risks!AX47","v":0},"Please refer to NPF for relevant National Outcomes and Indicators.",{"$f":"Risks!AZ47","v":0},"Please refer to NPF for relevant National Outcomes and Indicators.",{"$f":"Risks!BB47","v":0},"Please refer to NPF for relevant National Outcomes and Indicators.",{"$f":"Risks!BD47","v":0},"Please refer to NPF for relevant National Outcomes and Indicators.",{"$f":"Risks!BF47","v":0},"Please refer to NPF for relevant National Outcomes and Indicators.",{"$f":"Risks!BH47","v":0},"Please refer to NPF for relevant National Outcomes and Indicators.",{"$f":"Risks!BJ47","v":0},"Please refer to NPF for relevant National Outcomes and Indicators.",{"$f":"Risks!BL47","v":0},"Please refer to NPF for relevant National Outcomes and Indicators.",{"$f":"Risks!BN47","v":0},"Please refer to NPF for relevant National Outcomes and Indicators.",{"$f":"Risks!BP47","v":0},"Please refer to NPF for relevant National Outcomes and Indicators.",{"$f":"Risks!BR47","v":0},"Please refer to NPF for relevant National Outcomes and Indicators.",{"$f":"Risks!BT47","v":0},"Please refer to NPF for relevant National Outcomes and Indicators.",{"$f":"Risks!BV47","v":0},"Please refer to NPF for relevant National Outcomes and Indicators.",{"$f":"Risks!BX47","v":0},"Please refer to NPF for relevant National Outcomes and Indicators.",{"$f":"Risks!BZ47","v":0},"Please refer to NPF for relevant National Outcomes and Indicators.",{"$f":"Risks!CB47","v":0},"Please refer to NPF for relevant National Outcomes and Indicators.",{"$f":"Risks!CD47","v":0},"Please refer to NPF for relevant National Outcomes and Indicators.",null,null,null,null,{"$f":"Risks!CJ47","v":0},"Please refer to NPF for relevant National Outcomes and Indicators."]
[null,null,"",{"$f":"Risks!D48","v":0},"Please refer to NPF for relevant National Outcomes and Indicators.",{"$f":"Risks!F48","v":0},"Please refer to NPF for relevant National Outcomes and Indicators.",{"$f":"Risks!H48","v":0},"Please refer to NPF for relevant National Outcomes and Indicators.",{"$f":"Risks!J48","v":0},"Please refer to NPF for relevant National Outcomes and Indicators.",{"$f":"Risks!L48","v":0},"Please refer to NPF for relevant National Outcomes and Indicators.",{"$f":"Risks!N48","v":0},"Please refer to NPF for relevant National Outcomes and Indicators.",{"$f":"Risks!P48","v":0},"Please refer to NPF for relevant National Outcomes and Indicators.",{"$f":"Risks!R48","v":0},"Please refer to NPF for relevant National Outcomes and Indicators.",{"$f":"Risks!T48","v":0},"Please refer to NPF for relevant National Outcomes and Indicators.",{"$f":"Risks!V48","v":0},"Please refer to NPF for relevant National Outcomes and Indicators.",{"$f":"Risks!X48","v":0},"Please refer to NPF for relevant National Outcomes and Indicators.",{"$f":"Risks!Z48","v":0},"Please refer to NPF for relevant National Outcomes and Indicators.",{"$f":"Risks!AB48","v":0},"Please refer to NPF for relevant National Outcomes and Indicators.",{"$f":"Risks!AD48","v":0},"Please refer to NPF for relevant National Outcomes and Indicators.",{"$f":"Risks!AF48","v":0},"Please refer to NPF for relevant National Outcomes and Indicators.",{"$f":"Risks!AH48","v":0},"Please refer to NPF for relevant National Outcomes and Indicators.",{"$f":"Risks!AJ48","v":0},"Please refer to NPF for relevant National Outcomes and Indicators.",{"$f":"Risks!AL48","v":0},"Please refer to NPF for relevant National Outcomes and Indicators.",{"$f":"Risks!AN48","v":0},"Please refer to NPF for relevant National Outcomes and Indicators.",{"$f":"Risks!AP48","v":0},"Please refer to NPF for relevant National Outcomes and Indicators.",{"$f":"Risks!AR48","v":0},"Please refer to NPF for relevant National Outcomes and Indicators.",{"$f":"Risks!AT48","v":0},"Please refer to NPF for relevant National Outcomes and Indicators.",{"$f":"Risks!AV48","v":0},"Please refer to NPF for relevant National Outcomes and Indicators.",{"$f":"Risks!AX48","v":0},"Please refer to NPF for relevant National Outcomes and Indicators.",{"$f":"Risks!AZ48","v":0},"Please refer to NPF for relevant National Outcomes and Indicators.",{"$f":"Risks!BB48","v":0},"Please refer to NPF for relevant National Outcomes and Indicators.",{"$f":"Risks!BD48","v":0},"Please refer to NPF for relevant National Outcomes and Indicators.",{"$f":"Risks!BF48","v":0},"Please refer to NPF for relevant National Outcomes and Indicators.",{"$f":"Risks!BH48","v":0},"Please refer to NPF for relevant National Outcomes and Indicators.",{"$f":"Risks!BJ48","v":0},"Please refer to NPF for relevant National Outcomes and Indicators.",{"$f":"Risks!BL48","v":0},"Please refer to NPF for relevant National Outcomes and Indicators.",{"$f":"Risks!BN48","v":0},"Please refer to NPF for relevant National Outcomes and Indicators.",{"$f":"Risks!BP48","v":0},"Please refer to NPF for relevant National Outcomes and Indicators.",{"$f":"Risks!BR48","v":0},"Please refer to NPF for relevant National Outcomes and Indicators.",{"$f":"Risks!BT48","v":0},"Please refer to NPF for relevant National Outcomes and Indicators.",{"$f":"Risks!BV48","v":0},"Please refer to NPF for relevant National Outcomes and Indicators.",{"$f":"Risks!BX48","v":0},"Please refer to NPF for relevant National Outcomes and Indicators.",{"$f":"Risks!BZ48","v":0},"Please refer to NPF for relevant National Outcomes and Indicators.",{"$f":"Risks!CB48","v":0},"Please refer to NPF for relevant National Outcomes and Indicators.",{"$f":"Risks!CD48","v":0},"Please refer to NPF for relevant National Outcomes and Indicators.",null,null,null,null,{"$f":"Risks!CJ48","v":0},"Please refer to NPF for relevant National Outcomes and Indicators."]
[null,null,"",{"$f":"Risks!D49","v":0},"Please refer to NPF for relevant National Outcomes and Indicators.",{"$f":"Risks!F49","v":0},"Please refer to NPF for relevant National Outcomes and Indicators.",{"$f":"Risks!H49","v":0},"Please refer to NPF for relevant National Outcomes and Indicators.",{"$f":"Risks!J49","v":0},"Please refer to NPF for relevant National Outcomes and Indicators.",{"$f":"Risks!L49","v":0},"Please refer to NPF for relevant National Outcomes and Indicators.",{"$f":"Risks!N49","v":0},"Please refer to NPF for relevant National Outcomes and Indicators.",{"$f":"Risks!P49","v":0},"Please refer to NPF for relevant National Outcomes and Indicators.",{"$f":"Risks!R49","v":0},"Please refer to NPF for relevant National Outcomes and Indicators.",{"$f":"Risks!T49","v":0},"Please refer to NPF for relevant National Outcomes and Indicators.",{"$f":"Risks!V49","v":0},"Please refer to NPF for relevant National Outcomes and Indicators.",{"$f":"Risks!X49","v":0},"Please refer to NPF for relevant National Outcomes and Indicators.",{"$f":"Risks!Z49","v":0},"Please refer to NPF for relevant National Outcomes and Indicators.",{"$f":"Risks!AB49","v":0},"Please refer to NPF for relevant National Outcomes and Indicators.",{"$f":"Risks!AD49","v":0},"Please refer to NPF for relevant National Outcomes and Indicators.",{"$f":"Risks!AF49","v":0},"Please refer to NPF for relevant National Outcomes and Indicators.",{"$f":"Risks!AH49","v":0},"Please refer to NPF for relevant National Outcomes and Indicators.",{"$f":"Risks!AJ49","v":0},"Please refer to NPF for relevant National Outcomes and Indicators.",{"$f":"Risks!AL49","v":0},"Please refer to NPF for relevant National Outcomes and Indicators.",{"$f":"Risks!AN49","v":0},"Please refer to NPF for relevant National Outcomes and Indicators.",{"$f":"Risks!AP49","v":0},"Please refer to NPF for relevant National Outcomes and Indicators.",{"$f":"Risks!AR49","v":0},"Please refer to NPF for relevant National Outcomes and Indicators.",{"$f":"Risks!AT49","v":0},"Please refer to NPF for relevant National Outcomes and Indicators.",{"$f":"Risks!AV49","v":0},"Please refer to NPF for relevant National Outcomes and Indicators.",{"$f":"Risks!AX49","v":0},"Please refer to NPF for relevant National Outcomes and Indicators.",{"$f":"Risks!AZ49","v":0},"Please refer to NPF for relevant National Outcomes and Indicators.",{"$f":"Risks!BB49","v":0},"Please refer to NPF for relevant National Outcomes and Indicators.",{"$f":"Risks!BD49","v":0},"Please refer to NPF for relevant National Outcomes and Indicators.",{"$f":"Risks!BF49","v":0},"Please refer to NPF for relevant National Outcomes and Indicators.",{"$f":"Risks!BH49","v":0},"Please refer to NPF for relevant National Outcomes and Indicators.",{"$f":"Risks!BJ49","v":0},"Please refer to NPF for relevant National Outcomes and Indicators.",{"$f":"Risks!BL49","v":0},"Please refer to NPF for relevant National Outcomes and Indicators.",{"$f":"Risks!BN49","v":0},"Please refer to NPF for relevant National Outcomes and Indicators.",{"$f":"Risks!BP49","v":0},"Please refer to NPF for relevant National Outcomes and Indicators.",{"$f":"Risks!BR49","v":0},"Please refer to NPF for relevant National Outcomes and Indicators.",{"$f":"Risks!BT49","v":0},"Please refer to NPF for relevant National Outcomes and Indicators.",{"$f":"Risks!BV49","v":0},"Please refer to NPF for relevant National Outcomes and Indicators.",{"$f":"Risks!BX49","v":0},"Please refer to NPF for relevant National Outcomes and Indicators.",{"$f":"Risks!BZ49","v":0},"Please refer to NPF for relevant National Outcomes and Indicators.",{"$f":"Risks!CB49","v":0},"Please refer to NPF for relevant National Outcomes and Indicators.",{"$f":"Risks!CD49","v":0},"Please refer to NPF for relevant National Outcomes and Indicators.",null,null,null,null,{"$f":"Risks!CJ49","v":0},"Please refer to NPF for relevant National Outcomes and Indicators."]
[]
[null,null,"Reminder of 'Scope' scores:\n(0= None; 1 = a little; 2 = medium; 3 = a lot)","SCOPE","SCOPE - COMMENTS","SCOPE","SCOPE - COMMENTS","SCOPE","SCOPE - COMMENTS","SCOPE","SCOPE - COMMENTS","SCOPE","SCOPE - COMMENTS","SCOPE","SCOPE - COMMENTS","SCOPE","SCOPE - COMMENTS","SCOPE","SCOPE - COMMENTS","SCOPE","SCOPE - COMMENTS","SCOPE","SCOPE - COMMENTS","SCOPE","SCOPE - COMMENTS","SCOPE","SCOPE - COMMENTS","SCOPE","SCOPE - COMMENTS","SCOPE","SCOPE - COMMENTS","SCOPE","SCOPE - COMMENTS","SCOPE","SCOPE - COMMENTS","SCOPE","SCOPE - COMMENTS","SCOPE","SCOPE - COMMENTS","SCOPE","SCOPE - COMMENTS","SCOPE","SCOPE - COMMENTS","SCOPE","SCOPE - COMMENTS","SCOPE","SCOPE - COMMENTS","SCOPE","SCOPE - COMMENTS","SCOPE","SCOPE - COMMENTS","SCOPE","SCOPE - COMMENTS","SCOPE","SCOPE - COMMENTS","SCOPE","SCOPE - COMMENTS","SCOPE","SCOPE - COMMENTS","SCOPE","SCOPE - COMMENTS","SCOPE","SCOPE - COMMENTS","SCOPE","SCOPE - COMMENTS","SCOPE","SCOPE - COMMENTS","SCOPE","SCOPE - COMMENTS","SCOPE","SCOPE - COMMENTS","SCOPE","SCOPE - COMMENTS","SCOPE","SCOPE - COMMENTS","SCOPE","SCOPE - COMMENTS","SCOPE","SCOPE - COMMENTS","SCOPE","SCOPE - COMMENTS","SCOPE","SCOPE - COMMENTS",null,null,null,null,"SCOPE","SCOPE - COMMENTS"]
[null,"Environmental - SCOPE",{"$f":"IF(INDEX(EnvIssues,ROW()-ROW(C$46))=\"\",\"\",INDEX(EnvIssues,ROW()-ROW(C$46)))","v":"Climate Change"},{"$f":"Scope!D4","v":2},{"$f":"IF(D47=0,\"N/A\",IF(D47=1,\"NO: N. NI: 4, 35, 52, 54\", IF(D47=2,\"NO: N. NI: 4, 35, 52, 54\",IF(D47=3,\"NO: N. NI: 4, 35, 52, 54\",\"N/A\"))))","v":"NO: N. NI: 4, 35, 52, 54"},{"$f":"Scope!F4","v":3},{"$f":"IF(F47=0,\"N/A\",IF(F47=1,\"NO: N. NI: 4, 35, 52, 54\", IF(F47=2,\"NO: N. NI: 4, 35, 52, 54\",IF(F47=3,\"NO: N. NI: 4, 35, 52, 54\",\"N/A\"))))","v":"NO: N. NI: 4, 35, 52, 54"},{"$f":"Scope!H4","v":3},{"$f":"IF(H47=0,\"N/A\",IF(H47=1,\"NO: N. NI: 4, 35, 52, 54\", IF(H47=2,\"NO: N. NI: 4, 35, 52, 54\",IF(H47=3,\"NO: N. NI: 4, 35, 52, 54\",\"N/A\"))))","v":"NO: N. NI: 4, 35, 52, 54"},{"$f":"Scope!J4","v":3},{"$f":"IF(J47=0,\"N/A\",IF(J47=1,\"NO: N. NI: 4, 35, 52, 54\", IF(J47=2,\"NO: N. NI: 4, 35, 52, 54\",IF(J47=3,\"NO: N. NI: 4, 35, 52, 54\",\"N/A\"))))","v":"NO: N. NI: 4, 35, 52, 54"},{"$f":"Scope!L4","v":2},{"$f":"IF(L47=0,\"N/A\",IF(L47=1,\"NO: N. NI: 4, 35, 52, 54\", IF(L47=2,\"NO: N. NI: 4, 35, 52, 54\",IF(L47=3,\"NO: N. NI: 4, 35, 52, 54\",\"N/A\"))))","v":"NO: N. NI: 4, 35, 52, 54"},{"$f":"Scope!N4","v":3},{"$f":"IF(N47=0,\"N/A\",IF(N47=1,\"NO: N. NI: 4, 35, 52, 54\", IF(N47=2,\"NO: N. NI: 4, 35, 52, 54\",IF(N47=3,\"NO: N. NI: 4, 35, 52, 54\",\"N/A\"))))","v":"NO: N. NI: 4, 35, 52, 54"},{"$f":"Scope!P4","v":3},{"$f":"IF(P47=0,\"N/A\",IF(P47=1,\"NO: N. NI: 4, 35, 52, 54\", IF(P47=2,\"NO: N. NI: 4, 35, 52, 54\",IF(P47=3,\"NO: N. NI: 4, 35, 52, 54\",\"N/A\"))))","v":"NO: N. NI: 4, 35, 52, 54"},{"$f":"Scope!R4","v":3},{"$f":"IF(R47=0,\"N/A\",IF(R47=1,\"NO: N. NI: 4, 35, 52, 54\", IF(R47=2,\"NO: N. NI: 4, 35, 52, 54\",IF(R47=3,\"NO: N. NI: 4, 35, 52, 54\",\"N/A\"))))","v":"NO: N. NI: 4, 35, 52, 54"},{"$f":"Scope!T4","v":"0"},{"$f":"IF(T47=0,\"N/A\",IF(T47=1,\"NO: N. NI: 4, 35, 52, 54\", IF(T47=2,\"NO: N. NI: 4, 35, 52, 54\",IF(T47=3,\"NO: N. NI: 4, 35, 52, 54\",\"N/A\"))))","v":"N/A"},{"$f":"Scope!V4","v":"0"},{"$f":"IF(V47=0,\"N/A\",IF(V47=1,\"NO: N. NI: 4, 35, 52, 54\", IF(V47=2,\"NO: N. NI: 4, 35, 52, 54\",IF(V47=3,\"NO: N. NI: 4, 35, 52, 54\",\"N/A\"))))","v":"N/A"},{"$f":"Scope!X4","v":"0"},{"$f":"IF(X47=0,\"N/A\",IF(X47=1,\"NO: N. NI: 4, 35, 52, 54\", IF(X47=2,\"NO: N. NI: 4, 35, 52, 54\",IF(X47=3,\"NO: N. NI: 4, 35, 52, 54\",\"N/A\"))))","v":"N/A"},{"$f":"Scope!Z4","v":"0"},{"$f":"IF(Z47=0,\"N/A\",IF(Z47=1,\"NO: N. NI: 4, 35, 52, 54\", IF(Z47=2,\"NO: N. NI: 4, 35, 52, 54\",IF(Z47=3,\"NO: N. NI: 4, 35, 52, 54\",\"N/A\"))))","v":"N/A"},{"$f":"Scope!AB4","v":"0"},{"$f":"IF(AB47=0,\"N/A\",IF(AB47=1,\"NO: N. NI: 4, 35, 52, 54\", IF(AB47=2,\"NO: N. NI: 4, 35, 52, 54\",IF(AB47=3,\"NO: N. NI: 4, 35, 52, 54\",\"N/A\"))))","v":"N/A"},{"$f":"Scope!AD4","v":"0"},{"$f":"IF(AD47=0,\"N/A\",IF(AD47=1,\"NO: N. NI: 4, 35, 52, 54\", IF(AD47=2,\"NO: N. NI: 4, 35, 52, 54\",IF(AD47=3,\"NO: N. NI: 4, 35, 52, 54\",\"N/A\"))))","v":"N/A"},{"$f":"Scope!AF4","v":"0"},{"$f":"IF(AF47=0,\"N/A\",IF(AF47=1,\"NO: N. NI: 4, 35, 52, 54\", IF(AF47=2,\"NO: N. NI: 4, 35, 52, 54\",IF(AF47=3,\"NO: N. NI: 4, 35, 52, 54\",\"N/A\"))))","v":"N/A"},{"$f":"Scope!AH4","v":"0"},{"$f":"IF(AH47=0,\"N/A\",IF(AH47=1,\"NO: N. NI: 4, 35, 52, 54\", IF(AH47=2,\"NO: N. NI: 4, 35, 52, 54\",IF(AH47=3,\"NO: N. NI: 4, 35, 52, 54\",\"N/A\"))))","v":"N/A"},{"$f":"Scope!AJ4","v":"0"},{"$f":"IF(AJ47=0,\"N/A\",IF(AJ47=1,\"NO: N. NI: 4, 35, 52, 54\", IF(AJ47=2,\"NO: N. NI: 4, 35, 52, 54\",IF(AJ47=3,\"NO: N. NI: 4, 35, 52, 54\",\"N/A\"))))","v":"N/A"},{"$f":"Scope!AL4","v":"0"},{"$f":"IF(AL47=0,\"N/A\",IF(AL47=1,\"NO: N. NI: 4, 35, 52, 54\", IF(AL47=2,\"NO: N. NI: 4, 35, 52, 54\",IF(AL47=3,\"NO: N. NI: 4, 35, 52, 54\",\"N/A\"))))","v":"N/A"},{"$f":"Scope!AN4","v":"0"},{"$f":"IF(AN47=0,\"N/A\",IF(AN47=1,\"NO: N. NI: 4, 35, 52, 54\", IF(AN47=2,\"NO: N. NI: 4, 35, 52, 54\",IF(AN47=3,\"NO: N. NI: 4, 35, 52, 54\",\"N/A\"))))","v":"N/A"},{"$f":"Scope!AP4","v":"0"},{"$f":"IF(AP47=0,\"N/A\",IF(AP47=1,\"NO: N. NI: 4, 35, 52, 54\", IF(AP47=2,\"NO: N. NI: 4, 35, 52, 54\",IF(AP47=3,\"NO: N. NI: 4, 35, 52, 54\",\"N/A\"))))","v":"N/A"},{"$f":"Scope!AR4","v":"0"},{"$f":"IF(AR47=0,\"N/A\",IF(AR47=1,\"NO: N. NI: 4, 35, 52, 54\", IF(AR47=2,\"NO: N. NI: 4, 35, 52, 54\",IF(AR47=3,\"NO: N. NI: 4, 35, 52, 54\",\"N/A\"))))","v":"N/A"},{"$f":"Scope!AT4","v":"0"},{"$f":"IF(AT47=0,\"N/A\",IF(AT47=1,\"NO: N. NI: 4, 35, 52, 54\", IF(AT47=2,\"NO: N. NI: 4, 35, 52, 54\",IF(AT47=3,\"NO: N. NI: 4, 35, 52, 54\",\"N/A\"))))","v":"N/A"},{"$f":"Scope!AV4","v":"0"},{"$f":"IF(AV47=0,\"N/A\",IF(AV47=1,\"NO: N. NI: 4, 35, 52, 54\", IF(AV47=2,\"NO: N. NI: 4, 35, 52, 54\",IF(AV47=3,\"NO: N. NI: 4, 35, 52, 54\",\"N/A\"))))","v":"N/A"},{"$f":"Scope!AX4","v":"0"},{"$f":"IF(AX47=0,\"N/A\",IF(AX47=1,\"NO: N. NI: 4, 35, 52, 54\", IF(AX47=2,\"NO: N. NI: 4, 35, 52, 54\",IF(AX47=3,\"NO: N. NI: 4, 35, 52, 54\",\"N/A\"))))","v":"N/A"},{"$f":"Scope!AZ4","v":"0"},{"$f":"IF(AZ47=0,\"N/A\",IF(AZ47=1,\"NO: N. NI: 4, 35, 52, 54\", IF(AZ47=2,\"NO: N. NI: 4, 35, 52, 54\",IF(AZ47=3,\"NO: N. NI: 4, 35, 52, 54\",\"N/A\"))))","v":"N/A"},{"$f":"Scope!BB4","v":"0"},{"$f":"IF(BB47=0,\"N/A\",IF(BB47=1,\"NO: N. NI: 4, 35, 52, 54\", IF(BB47=2,\"NO: N. NI: 4, 35, 52, 54\",IF(BB47=3,\"NO: N. NI: 4, 35, 52, 54\",\"N/A\"))))","v":"N/A"},{"$f":"Scope!BD4","v":"0"},{"$f":"IF(BD47=0,\"N/A\",IF(BD47=1,\"NO: N. NI: 4, 35, 52, 54\", IF(BD47=2,\"NO: N. NI: 4, 35, 52, 54\",IF(BD47=3,\"NO: N. NI: 4, 35, 52, 54\",\"N/A\"))))","v":"N/A"},{"$f":"Scope!BF4","v":"0"},{"$f":"IF(BF47=0,\"N/A\",IF(BF47=1,\"NO: N. NI: 4, 35, 52, 54\", IF(BF47=2,\"NO: N. NI: 4, 35, 52, 54\",IF(BF47=3,\"NO: N. NI: 4, 35, 52, 54\",\"N/A\"))))","v":"N/A"},{"$f":"Scope!BH4","v":"0"},{"$f":"IF(BH47=0,\"N/A\",IF(BH47=1,\"NO: N. NI: 4, 35, 52, 54\", IF(BH47=2,\"NO: N. NI: 4, 35, 52, 54\",IF(BH47=3,\"NO: N. NI: 4, 35, 52, 54\",\"N/A\"))))","v":"N/A"},{"$f":"Scope!BJ4","v":"0"},{"$f":"IF(BJ47=0,\"N/A\",IF(BJ47=1,\"NO: N. NI: 4, 35, 52, 54\", IF(BJ47=2,\"NO: N. NI: 4, 35, 52, 54\",IF(BJ47=3,\"NO: N. NI: 4, 35, 52, 54\",\"N/A\"))))","v":"N/A"},{"$f":"Scope!BL4","v":"0"},{"$f":"IF(BL47=0,\"N/A\",IF(BL47=1,\"NO: N. NI: 4, 35, 52, 54\", IF(BL47=2,\"NO: N. NI: 4, 35, 52, 54\",IF(BL47=3,\"NO: N. NI: 4, 35, 52, 54\",\"N/A\"))))","v":"N/A"},{"$f":"Scope!BN4","v":"0"},{"$f":"IF(BN47=0,\"N/A\",IF(BN47=1,\"NO: N. NI: 47, 48, 49, 50\", IF(BN47=2,\"NO: N. NI: 47, 48, 49, 50\",IF(BN47=3,\"NO: N. NI: 47, 48, 49, 50\",\"N/A\"))))","v":"N/A"},{"$f":"Scope!BP4","v":"0"},{"$f":"IF(BP47=0,\"N/A\",IF(BP47=1,\"NO: N. NI: 47, 48, 49, 50\", IF(BP47=2,\"NO: N. NI: 47, 48, 49, 50\",IF(BP47=3,\"NO: N. NI: 47, 48, 49, 50\",\"N/A\"))))","v":"N/A"},{"$f":"Scope!BR4","v":"0"},{"$f":"IF(BR47=0,\"N/A\",IF(BR47=1,\"NO: N. NI: 47, 48, 49, 50\", IF(BR47=2,\"NO: N. NI: 47, 48, 49, 50\",IF(BR47=3,\"NO: N. NI: 47, 48, 49, 50\",\"N/A\"))))","v":"N/A"},{"$f":"Scope!BT4","v":"0"},{"$f":"IF(BT47=0,\"N/A\",IF(BT47=1,\"NO: N. NI: 47, 48, 49, 50\", IF(BT47=2,\"NO: N. NI: 47, 48, 49, 50\",IF(BT47=3,\"NO: N. NI: 47, 48, 49, 50\",\"N/A\"))))","v":"N/A"},{"$f":"Scope!BV4","v":"0"},{"$f":"IF(BV47=0,\"N/A\",IF(BV47=1,\"NO: N. NI: 47, 48, 49, 50\", IF(BV47=2,\"NO: N. NI: 47, 48, 49, 50\",IF(BV47=3,\"NO: N. NI: 47, 48, 49, 50\",\"N/A\"))))","v":"N/A"},{"$f":"Scope!BX4","v":"0"},{"$f":"IF(BX47=0,\"N/A\",IF(BX47=1,\"NO: N. NI: 47, 48, 49, 50\", IF(BX47=2,\"NO: N. NI: 47, 48, 49, 50\",IF(BX47=3,\"NO: N. NI: 47, 48, 49, 50\",\"N/A\"))))","v":"N/A"},{"$f":"Scope!BZ4","v":"0"},{"$f":"IF(BZ47=0,\"N/A\",IF(BZ47=1,\"NO: N. NI: 47, 48, 49, 50\", IF(BZ47=2,\"NO: N. NI: 47, 48, 49, 50\",IF(BZ47=3,\"NO: N. NI: 47, 48, 49, 50\",\"N/A\"))))","v":"N/A"},{"$f":"Scope!CB4","v":"0"},{"$f":"IF(CB47=0,\"N/A\",IF(CB47=1,\"NO: N. NI: 47, 48, 49, 50\", IF(CB47=2,\"NO: N. NI: 47, 48, 49, 50\",IF(CB47=3,\"NO: N. NI: 47, 48, 49, 50\",\"N/A\"))))","v":"N/A"},{"$f":"Scope!CD4","v":"0"},{"$f":"IF(CD47=0,\"N/A\",IF(CD47=1,\"NO: N. NI: 47, 48, 49, 50\", IF(CD47=2,\"NO: N. NI: 47, 48, 49, 50\",IF(CD47=3,\"NO: N. NI: 47, 48, 49, 50\",\"N/A\"))))","v":"N/A"},null,{"$f":"IssuesInput!D4","v":"Climate Strategy (2016); Energy Policy (2003); Transport and Travel Planning Policy (2010); Business Travel Guidance (2016); Accommodation services sustainability (updated 2013) \n"},null,null,{"$f":"Scope!CJ4","v":"0"},{"$f":"IF(CJ47=0,\"N/A\",IF(CJ47=1,\"NO: N. NI: 47, 48, 49, 50\", IF(CJ47=2,\"NO: N. NI: 47, 48, 49, 50\",IF(CJ47=3,\"NO: N. NI: 47, 48, 49, 50\",\"N/A\"))))","v":"N/A"}]
[null,"Scroll down to view all scores","Materials",{"$f":"Scope!D5","v":3},{"$f":"IF(D48=0,\"N/A\",IF(D48=1,\"NO: N. NI: 52, 54\", IF(D48=2,\"NO: N. NI: 52, 54\",IF(D48=3,\"NO: N. NI: 52, 54\",\"N/A\"))))","v":"NO: N. NI: 52, 54"},{"$f":"Scope!F5","v":1},{"$f":"IF(F48=0,\"N/A\",IF(F48=1,\"NO: N. NI: 52, 54\", IF(F48=2,\"NO: N. NI: 52, 54\",IF(F48=3,\"NO: N. NI: 52, 54\",\"N/A\"))))","v":"NO: N. NI: 52, 54"},{"$f":"Scope!H5","v":0},{"$f":"IF(H48=0,\"N/A\",IF(H48=1,\"NO: N. NI: 52, 54\", IF(H48=2,\"NO: N. NI: 52, 54\",IF(H48=3,\"NO: N. NI: 52, 54\",\"N/A\"))))","v":"N/A"},{"$f":"Scope!J5","v":3},{"$f":"IF(J48=0,\"N/A\",IF(J48=1,\"NO: N. NI: 52, 54\", IF(J48=2,\"NO: N. NI: 52, 54\",IF(J48=3,\"NO: N. NI: 52, 54\",\"N/A\"))))","v":"NO: N. NI: 52, 54"},{"$f":"Scope!L5","v":1},{"$f":"IF(L48=0,\"N/A\",IF(L48=1,\"NO: N. NI: 52, 54\", IF(L48=2,\"NO: N. NI: 52, 54\",IF(L48=3,\"NO: N. NI: 52, 54\",\"N/A\"))))","v":"NO: N. NI: 52, 54"},{"$f":"Scope!N5","v":2},{"$f":"IF(N48=0,\"N/A\",IF(N48=1,\"NO: N. NI: 52, 54\", IF(N48=2,\"NO: N. NI: 52, 54\",IF(N48=3,\"NO: N. NI: 52, 54\",\"N/A\"))))","v":"NO: N. NI: 52, 54"},{"$f":"Scope!P5","v":2},{"$f":"IF(P48=0,\"N/A\",IF(P48=1,\"NO: N. NI: 52, 54\", IF(P48=2,\"NO: N. NI: 52, 54\",IF(P48=3,\"NO: N. NI: 52, 54\",\"N/A\"))))","v":"NO: N. NI: 52, 54"},{"$f":"Scope!R5","v":3},{"$f":"IF(R48=0,\"N/A\",IF(R48=1,\"NO: N. NI: 52, 54\", IF(R48=2,\"NO: N. NI: 52, 54\",IF(R48=3,\"NO: N. NI: 52, 54\",\"N/A\"))))","v":"NO: N. NI: 52, 54"},{"$f":"Scope!T5","v":"0"},{"$f":"IF(T48=0,\"N/A\",IF(T48=1,\"NO: N. NI: 52, 54\", IF(T48=2,\"NO: N. NI: 52, 54\",IF(T48=3,\"NO: N. NI: 52, 54\",\"N/A\"))))","v":"N/A"},{"$f":"Scope!V5","v":"0"},{"$f":"IF(V48=0,\"N/A\",IF(V48=1,\"NO: N. NI: 52, 54\", IF(V48=2,\"NO: N. NI: 52, 54\",IF(V48=3,\"NO: N. NI: 52, 54\",\"N/A\"))))","v":"N/A"},{"$f":"Scope!X5","v":"0"},{"$f":"IF(X48=0,\"N/A\",IF(X48=1,\"NO: N. NI: 52, 54\", IF(X48=2,\"NO: N. NI: 52, 54\",IF(X48=3,\"NO: N. NI: 52, 54\",\"N/A\"))))","v":"N/A"},{"$f":"Scope!Z5","v":"0"},{"$f":"IF(Z48=0,\"N/A\",IF(Z48=1,\"NO: N. NI: 52, 54\", IF(Z48=2,\"NO: N. NI: 52, 54\",IF(Z48=3,\"NO: N. NI: 52, 54\",\"N/A\"))))","v":"N/A"},{"$f":"Scope!AB5","v":"0"},{"$f":"IF(AB48=0,\"N/A\",IF(AB48=1,\"NO: N. NI: 52, 54\", IF(AB48=2,\"NO: N. NI: 52, 54\",IF(AB48=3,\"NO: N. NI: 52, 54\",\"N/A\"))))","v":"N/A"},{"$f":"Scope!AD5","v":"0"},{"$f":"IF(AD48=0,\"N/A\",IF(AD48=1,\"NO: N. NI: 52, 54\", IF(AD48=2,\"NO: N. NI: 52, 54\",IF(AD48=3,\"NO: N. NI: 52, 54\",\"N/A\"))))","v":"N/A"},{"$f":"Scope!AF5","v":"0"},{"$f":"IF(AF48=0,\"N/A\",IF(AF48=1,\"NO: N. NI: 52, 54\", IF(AF48=2,\"NO: N. NI: 52, 54\",IF(AF48=3,\"NO: N. NI: 52, 54\",\"N/A\"))))","v":"N/A"},{"$f":"Scope!AH5","v":"0"},{"$f":"IF(AH48=0,\"N/A\",IF(AH48=1,\"NO: N. NI: 52, 54\", IF(AH48=2,\"NO: N. NI: 52, 54\",IF(AH48=3,\"NO: N. NI: 52, 54\",\"N/A\"))))","v":"N/A"},{"$f":"Scope!AJ5","v":"0"},{"$f":"IF(AJ48=0,\"N/A\",IF(AJ48=1,\"NO: N. NI: 52, 54\", IF(AJ48=2,\"NO: N. NI: 52, 54\",IF(AJ48=3,\"NO: N. NI: 52, 54\",\"N/A\"))))","v":"N/A"},{"$f":"Scope!AL5","v":"0"},{"$f":"IF(AL48=0,\"N/A\",IF(AL48=1,\"NO: N. NI: 52, 54\", IF(AL48=2,\"NO: N. NI: 52, 54\",IF(AL48=3,\"NO: N. NI: 52, 54\",\"N/A\"))))","v":"N/A"},{"$f":"Scope!AN5","v":"0"},{"$f":"IF(AN48=0,\"N/A\",IF(AN48=1,\"NO: N. NI: 52, 54\", IF(AN48=2,\"NO: N. NI: 52, 54\",IF(AN48=3,\"NO: N. NI: 52, 54\",\"N/A\"))))","v":"N/A"},{"$f":"Scope!AP5","v":"0"},{"$f":"IF(AP48=0,\"N/A\",IF(AP48=1,\"NO: N. NI: 52, 54\", IF(AP48=2,\"NO: N. NI: 52, 54\",IF(AP48=3,\"NO: N. NI: 52, 54\",\"N/A\"))))","v":"N/A"},{"$f":"Scope!AR5","v":"0"},{"$f":"IF(AR48=0,\"N/A\",IF(AR48=1,\"NO: N. NI: 52, 54\", IF(AR48=2,\"NO: N. NI: 52, 54\",IF(AR48=3,\"NO: N. NI: 52, 54\",\"N/A\"))))","v":"N/A"},{"$f":"Scope!AT5","v":"0"},{"$f":"IF(AT48=0,\"N/A\",IF(AT48=1,\"NO: N. NI: 52, 54\", IF(AT48=2,\"NO: N. NI: 52, 54\",IF(AT48=3,\"NO: N. NI: 52, 54\",\"N/A\"))))","v":"N/A"},{"$f":"Scope!AV5","v":"0"},{"$f":"IF(AV48=0,\"N/A\",IF(AV48=1,\"NO: N. NI: 52, 54\", IF(AV48=2,\"NO: N. NI: 52, 54\",IF(AV48=3,\"NO: N. NI: 52, 54\",\"N/A\"))))","v":"N/A"},{"$f":"Scope!AX5","v":"0"},{"$f":"IF(AX48=0,\"N/A\",IF(AX48=1,\"NO: N. NI: 52, 54\", IF(AX48=2,\"NO: N. NI: 52, 54\",IF(AX48=3,\"NO: N. NI: 52, 54\",\"N/A\"))))","v":"N/A"},{"$f":"Scope!AZ5","v":"0"},{"$f":"IF(AZ48=0,\"N/A\",IF(AZ48=1,\"NO: N. NI: 52, 54\", IF(AZ48=2,\"NO: N. NI: 52, 54\",IF(AZ48=3,\"NO: N. NI: 52, 54\",\"N/A\"))))","v":"N/A"},{"$f":"Scope!BB5","v":"0"},{"$f":"IF(BB48=0,\"N/A\",IF(BB48=1,\"NO: N. NI: 52, 54\", IF(BB48=2,\"NO: N. NI: 52, 54\",IF(BB48=3,\"NO: N. NI: 52, 54\",\"N/A\"))))","v":"N/A"},{"$f":"Scope!BD5","v":"0"},{"$f":"IF(BD48=0,\"N/A\",IF(BD48=1,\"NO: N. NI: 52, 54\", IF(BD48=2,\"NO: N. NI: 52, 54\",IF(BD48=3,\"NO: N. NI: 52, 54\",\"N/A\"))))","v":"N/A"},{"$f":"Scope!BF5","v":"0"},{"$f":"IF(BF48=0,\"N/A\",IF(BF48=1,\"NO: N. NI: 52, 54\", IF(BF48=2,\"NO: N. NI: 52, 54\",IF(BF48=3,\"NO: N. NI: 52, 54\",\"N/A\"))))","v":"N/A"},{"$f":"Scope!BH5","v":"0"},{"$f":"IF(BH48=0,\"N/A\",IF(BH48=1,\"NO: N. NI: 52, 54\", IF(BH48=2,\"NO: N. NI: 52, 54\",IF(BH48=3,\"NO: N. NI: 52, 54\",\"N/A\"))))","v":"N/A"},{"$f":"Scope!BJ5","v":"0"},{"$f":"IF(BJ48=0,\"N/A\",IF(BJ48=1,\"NO: N. NI: 52, 54\", IF(BJ48=2,\"NO: N. NI: 52, 54\",IF(BJ48=3,\"NO: N. NI: 52, 54\",\"N/A\"))))","v":"N/A"},{"$f":"Scope!BL5","v":"0"},{"$f":"IF(BL48=0,\"N/A\",IF(BL48=1,\"NO: N. NI: 52, 54\", IF(BL48=2,\"NO: N. NI: 52, 54\",IF(BL48=3,\"NO: N. NI: 52, 54\",\"N/A\"))))","v":"N/A"},{"$f":"Scope!BN5","v":"0"},"N/A",{"$f":"Scope!BP5","v":"0"},"N/A",{"$f":"Scope!BR5","v":"0"},"N/A",{"$f":"Scope!BT5","v":"0"},"N/A",{"$f":"Scope!BV5","v":"0"},"N/A",{"$f":"Scope!BX5","v":"0"},"N/A",{"$f":"Scope!BZ5","v":"0"},"N/A",{"$f":"Scope!CB5","v":"0"},"N/A",{"$f":"Scope!CD5","v":"0"},"N/A",null,{"$f":"IssuesInput!D5","v":0},null,null,{"$f":"Scope!CJ5","v":"0"},"N/A"]
[null,null,"Waste",{"$f":"Scope!D6","v":3},{"$f":"IF(D49=0,\"N/A\",IF(D49=1,\"NO: N. NI: 52, 54\", IF(D49=2,\"NO: N. NI: 52, 54\",IF(D49=3,\"NO: N. NI: 52, 54\",\"N/A\"))))","v":"NO: N. NI: 52, 54"},{"$f":"Scope!F6","v":1},{"$f":"IF(F49=0,\"N/A\",IF(F49=1,\"NO: N. NI: 52, 54\", IF(F49=2,\"NO: N. NI: 52, 54\",IF(F49=3,\"NO: N. NI: 52, 54\",\"N/A\"))))","v":"NO: N. NI: 52, 54"},{"$f":"Scope!H6","v":1},{"$f":"IF(H49=0,\"N/A\",IF(H49=1,\"NO: N. NI: 52, 54\", IF(H49=2,\"NO: N. NI: 52, 54\",IF(H49=3,\"NO: N. NI: 52, 54\",\"N/A\"))))","v":"NO: N. NI: 52, 54"},{"$f":"Scope!J6","v":3},{"$f":"IF(J49=0,\"N/A\",IF(J49=1,\"NO: N. NI: 52, 54\", IF(J49=2,\"NO: N. NI: 52, 54\",IF(J49=3,\"NO: N. NI: 52, 54\",\"N/A\"))))","v":"NO: N. NI: 52, 54"},{"$f":"Scope!L6","v":1},{"$f":"IF(L49=0,\"N/A\",IF(L49=1,\"NO: N. NI: 52, 54\", IF(L49=2,\"NO: N. NI: 52, 54\",IF(L49=3,\"NO: N. NI: 52, 54\",\"N/A\"))))","v":"NO: N. NI: 52, 54"},{"$f":"Scope!N6","v":2},{"$f":"IF(N49=0,\"N/A\",IF(N49=1,\"NO: N. NI: 52, 54\", IF(N49=2,\"NO: N. NI: 52, 54\",IF(N49=3,\"NO: N. NI: 52, 54\",\"N/A\"))))","v":"NO: N. NI: 52, 54"},{"$f":"Scope!P6","v":3},{"$f":"IF(P49=0,\"N/A\",IF(P49=1,\"NO: N. NI: 52, 54\", IF(P49=2,\"NO: N. NI: 52, 54\",IF(P49=3,\"NO: N. NI: 52, 54\",\"N/A\"))))","v":"NO: N. NI: 52, 54"},{"$f":"Scope!R6","v":1},{"$f":"IF(R49=0,\"N/A\",IF(R49=1,\"NO: N. NI: 52, 54\", IF(R49=2,\"NO: N. NI: 52, 54\",IF(R49=3,\"NO: N. NI: 52, 54\",\"N/A\"))))","v":"NO: N. NI: 52, 54"},{"$f":"Scope!T6","v":"0"},{"$f":"IF(T49=0,\"N/A\",IF(T49=1,\"NO: N. NI: 52, 54\", IF(T49=2,\"NO: N. NI: 52, 54\",IF(T49=3,\"NO: N. NI: 52, 54\",\"N/A\"))))","v":"N/A"},{"$f":"Scope!V6","v":"0"},{"$f":"IF(V49=0,\"N/A\",IF(V49=1,\"NO: N. NI: 52, 54\", IF(V49=2,\"NO: N. NI: 52, 54\",IF(V49=3,\"NO: N. NI: 52, 54\",\"N/A\"))))","v":"N/A"},{"$f":"Scope!X6","v":"0"},{"$f":"IF(X49=0,\"N/A\",IF(X49=1,\"NO: N. NI: 52, 54\", IF(X49=2,\"NO: N. NI: 52, 54\",IF(X49=3,\"NO: N. NI: 52, 54\",\"N/A\"))))","v":"N/A"},{"$f":"Scope!Z6","v":"0"},{"$f":"IF(Z49=0,\"N/A\",IF(Z49=1,\"NO: N. NI: 52, 54\", IF(Z49=2,\"NO: N. NI: 52, 54\",IF(Z49=3,\"NO: N. NI: 52, 54\",\"N/A\"))))","v":"N/A"},{"$f":"Scope!AB6","v":"0"},{"$f":"IF(AB49=0,\"N/A\",IF(AB49=1,\"NO: N. NI: 52, 54\", IF(AB49=2,\"NO: N. NI: 52, 54\",IF(AB49=3,\"NO: N. NI: 52, 54\",\"N/A\"))))","v":"N/A"},{"$f":"Scope!AD6","v":"0"},{"$f":"IF(AD49=0,\"N/A\",IF(AD49=1,\"NO: N. NI: 52, 54\", IF(AD49=2,\"NO: N. NI: 52, 54\",IF(AD49=3,\"NO: N. NI: 52, 54\",\"N/A\"))))","v":"N/A"},{"$f":"Scope!AF6","v":"0"},{"$f":"IF(AF49=0,\"N/A\",IF(AF49=1,\"NO: N. NI: 52, 54\", IF(AF49=2,\"NO: N. NI: 52, 54\",IF(AF49=3,\"NO: N. NI: 52, 54\",\"N/A\"))))","v":"N/A"},{"$f":"Scope!AH6","v":"0"},{"$f":"IF(AH49=0,\"N/A\",IF(AH49=1,\"NO: N. NI: 52, 54\", IF(AH49=2,\"NO: N. NI: 52, 54\",IF(AH49=3,\"NO: N. NI: 52, 54\",\"N/A\"))))","v":"N/A"},{"$f":"Scope!AJ6","v":"0"},{"$f":"IF(AJ49=0,\"N/A\",IF(AJ49=1,\"NO: N. NI: 52, 54\", IF(AJ49=2,\"NO: N. NI: 52, 54\",IF(AJ49=3,\"NO: N. NI: 52, 54\",\"N/A\"))))","v":"N/A"},{"$f":"Scope!AL6","v":"0"},{"$f":"IF(AL49=0,\"N/A\",IF(AL49=1,\"NO: N. NI: 52, 54\", IF(AL49=2,\"NO: N. NI: 52, 54\",IF(AL49=3,\"NO: N. NI: 52, 54\",\"N/A\"))))","v":"N/A"},{"$f":"Scope!AN6","v":"0"},{"$f":"IF(AN49=0,\"N/A\",IF(AN49=1,\"NO: N. NI: 52, 54\", IF(AN49=2,\"NO: N. NI: 52, 54\",IF(AN49=3,\"NO: N. NI: 52, 54\",\"N/A\"))))","v":"N/A"},{"$f":"Scope!AP6","v":"0"},{"$f":"IF(AP49=0,\"N/A\",IF(AP49=1,\"NO: N. NI: 52, 54\", IF(AP49=2,\"NO: N. NI: 52, 54\",IF(AP49=3,\"NO: N. NI: 52, 54\",\"N/A\"))))","v":"N/A"},{"$f":"Scope!AR6","v":"0"},{"$f":"IF(AR49=0,\"N/A\",IF(AR49=1,\"NO: N. NI: 52, 54\", IF(AR49=2,\"NO: N. NI: 52, 54\",IF(AR49=3,\"NO: N. NI: 52, 54\",\"N/A\"))))","v":"N/A"},{"$f":"Scope!AT6","v":"0"},{"$f":"IF(AT49=0,\"N/A\",IF(AT49=1,\"NO: N. NI: 52, 54\", IF(AT49=2,\"NO: N. NI: 52, 54\",IF(AT49=3,\"NO: N. NI: 52, 54\",\"N/A\"))))","v":"N/A"},{"$f":"Scope!AV6","v":"0"},{"$f":"IF(AV49=0,\"N/A\",IF(AV49=1,\"NO: N. NI: 52, 54\", IF(AV49=2,\"NO: N. NI: 52, 54\",IF(AV49=3,\"NO: N. NI: 52, 54\",\"N/A\"))))","v":"N/A"},{"$f":"Scope!AX6","v":"0"},{"$f":"IF(AX49=0,\"N/A\",IF(AX49=1,\"NO: N. NI: 52, 54\", IF(AX49=2,\"NO: N. NI: 52, 54\",IF(AX49=3,\"NO: N. NI: 52, 54\",\"N/A\"))))","v":"N/A"},{"$f":"Scope!AZ6","v":"0"},{"$f":"IF(AZ49=0,\"N/A\",IF(AZ49=1,\"NO: N. NI: 52, 54\", IF(AZ49=2,\"NO: N. NI: 52, 54\",IF(AZ49=3,\"NO: N. NI: 52, 54\",\"N/A\"))))","v":"N/A"},{"$f":"Scope!BB6","v":"0"},{"$f":"IF(BB49=0,\"N/A\",IF(BB49=1,\"NO: N. NI: 52, 54\", IF(BB49=2,\"NO: N. NI: 52, 54\",IF(BB49=3,\"NO: N. NI: 52, 54\",\"N/A\"))))","v":"N/A"},{"$f":"Scope!BD6","v":"0"},{"$f":"IF(BD49=0,\"N/A\",IF(BD49=1,\"NO: N. NI: 52, 54\", IF(BD49=2,\"NO: N. NI: 52, 54\",IF(BD49=3,\"NO: N. NI: 52, 54\",\"N/A\"))))","v":"N/A"},{"$f":"Scope!BF6","v":"0"},{"$f":"IF(BF49=0,\"N/A\",IF(BF49=1,\"NO: N. NI: 52, 54\", IF(BF49=2,\"NO: N. NI: 52, 54\",IF(BF49=3,\"NO: N. NI: 52, 54\",\"N/A\"))))","v":"N/A"},{"$f":"Scope!BH6","v":"0"},{"$f":"IF(BH49=0,\"N/A\",IF(BH49=1,\"NO: N. NI: 52, 54\", IF(BH49=2,\"NO: N. NI: 52, 54\",IF(BH49=3,\"NO: N. NI: 52, 54\",\"N/A\"))))","v":"N/A"},{"$f":"Scope!BJ6","v":"0"},{"$f":"IF(BJ49=0,\"N/A\",IF(BJ49=1,\"NO: N. NI: 52, 54\", IF(BJ49=2,\"NO: N. NI: 52, 54\",IF(BJ49=3,\"NO: N. NI: 52, 54\",\"N/A\"))))","v":"N/A"},{"$f":"Scope!BL6","v":"0"},{"$f":"IF(BL49=0,\"N/A\",IF(BL49=1,\"NO: N. NI: 52, 54\", IF(BL49=2,\"NO: N. NI: 52, 54\",IF(BL49=3,\"NO: N. NI: 52, 54\",\"N/A\"))))","v":"N/A"},{"$f":"Scope!BN6","v":"0"},"N/A",{"$f":"Scope!BP6","v":"0"},"N/A",{"$f":"Scope!BR6","v":"0"},"N/A",{"$f":"Scope!BT6","v":"0"},"N/A",{"$f":"Scope!BV6","v":"0"},"N/A",{"$f":"Scope!BX6","v":"0"},"N/A",{"$f":"Scope!BZ6","v":"0"},"N/A",{"$f":"Scope!CB6","v":"0"},"N/A",{"$f":"Scope!CD6","v":"0"},"N/A",null,{"$f":"IssuesInput!D6","v":"Recycling and Waste Management Policy (2013); )"},null,null,{"$f":"Scope!CJ6","v":"0"},"N/A"]
[null,null,"Hazardous materials",{"$f":"Scope!D7","v":1},{"$f":"IF(D50=0,\"N/A\",IF(D50=1,\"NO: N. NI: 50, 52, 54\", IF(D50=2,\"NO: N. NI: 50, 52, 54\",IF(D50=3,\"NO: N. NI: 50, 52, 54\",\"N/A\"))))","v":"NO: N. NI: 50, 52, 54"},{"$f":"Scope!F7","v":1},{"$f":"IF(F50=0,\"N/A\",IF(F50=1,\"NO: N. NI: 50, 52, 54\", IF(F50=2,\"NO: N. NI: 50, 52, 54\",IF(F50=3,\"NO: N. NI: 50, 52, 54\",\"N/A\"))))","v":"NO: N. NI: 50, 52, 54"},{"$f":"Scope!H7","v":1},{"$f":"IF(H50=0,\"N/A\",IF(H50=1,\"NO: N. NI: 50, 52, 54\", IF(H50=2,\"NO: N. NI: 50, 52, 54\",IF(H50=3,\"NO: N. NI: 50, 52, 54\",\"N/A\"))))","v":"NO: N. NI: 50, 52, 54"},{"$f":"Scope!J7","v":1},{"$f":"IF(J50=0,\"N/A\",IF(J50=1,\"NO: N. NI: 50, 52, 54\", IF(J50=2,\"NO: N. NI: 50, 52, 54\",IF(J50=3,\"NO: N. NI: 50, 52, 54\",\"N/A\"))))","v":"NO: N. NI: 50, 52, 54"},{"$f":"Scope!L7","v":2},{"$f":"IF(L50=0,\"N/A\",IF(L50=1,\"NO: N. NI: 50, 52, 54\", IF(L50=2,\"NO: N. NI: 50, 52, 54\",IF(L50=3,\"NO: N. NI: 50, 52, 54\",\"N/A\"))))","v":"NO: N. NI: 50, 52, 54"},{"$f":"Scope!N7","v":1},{"$f":"IF(N50=0,\"N/A\",IF(N50=1,\"NO: N. NI: 50, 52, 54\", IF(N50=2,\"NO: N. NI: 50, 52, 54\",IF(N50=3,\"NO: N. NI: 50, 52, 54\",\"N/A\"))))","v":"NO: N. NI: 50, 52, 54"},{"$f":"Scope!P7","v":1},{"$f":"IF(P50=0,\"N/A\",IF(P50=1,\"NO: N. NI: 50, 52, 54\", IF(P50=2,\"NO: N. NI: 50, 52, 54\",IF(P50=3,\"NO: N. NI: 50, 52, 54\",\"N/A\"))))","v":"NO: N. NI: 50, 52, 54"},{"$f":"Scope!R7","v":1},{"$f":"IF(R50=0,\"N/A\",IF(R50=1,\"NO: N. NI: 50, 52, 54\", IF(R50=2,\"NO: N. NI: 50, 52, 54\",IF(R50=3,\"NO: N. NI: 50, 52, 54\",\"N/A\"))))","v":"NO: N. NI: 50, 52, 54"},{"$f":"Scope!T7","v":"0"},{"$f":"IF(T50=0,\"N/A\",IF(T50=1,\"NO: N. NI: 50, 52, 54\", IF(T50=2,\"NO: N. NI: 50, 52, 54\",IF(T50=3,\"NO: N. NI: 50, 52, 54\",\"N/A\"))))","v":"N/A"},{"$f":"Scope!V7","v":"0"},{"$f":"IF(V50=0,\"N/A\",IF(V50=1,\"NO: N. NI: 50, 52, 54\", IF(V50=2,\"NO: N. NI: 50, 52, 54\",IF(V50=3,\"NO: N. NI: 50, 52, 54\",\"N/A\"))))","v":"N/A"},{"$f":"Scope!X7","v":"0"},{"$f":"IF(X50=0,\"N/A\",IF(X50=1,\"NO: N. NI: 50, 52, 54\", IF(X50=2,\"NO: N. NI: 50, 52, 54\",IF(X50=3,\"NO: N. NI: 50, 52, 54\",\"N/A\"))))","v":"N/A"},{"$f":"Scope!Z7","v":"0"},{"$f":"IF(Z50=0,\"N/A\",IF(Z50=1,\"NO: N. NI: 50, 52, 54\", IF(Z50=2,\"NO: N. NI: 50, 52, 54\",IF(Z50=3,\"NO: N. NI: 50, 52, 54\",\"N/A\"))))","v":"N/A"},{"$f":"Scope!AB7","v":"0"},{"$f":"IF(AB50=0,\"N/A\",IF(AB50=1,\"NO: N. NI: 50, 52, 54\", IF(AB50=2,\"NO: N. NI: 50, 52, 54\",IF(AB50=3,\"NO: N. NI: 50, 52, 54\",\"N/A\"))))","v":"N/A"},{"$f":"Scope!AD7","v":"0"},{"$f":"IF(AD50=0,\"N/A\",IF(AD50=1,\"NO: N. NI: 50, 52, 54\", IF(AD50=2,\"NO: N. NI: 50, 52, 54\",IF(AD50=3,\"NO: N. NI: 50, 52, 54\",\"N/A\"))))","v":"N/A"},{"$f":"Scope!AF7","v":"0"},{"$f":"IF(AF50=0,\"N/A\",IF(AF50=1,\"NO: N. NI: 50, 52, 54\", IF(AF50=2,\"NO: N. NI: 50, 52, 54\",IF(AF50=3,\"NO: N. NI: 50, 52, 54\",\"N/A\"))))","v":"N/A"},{"$f":"Scope!AH7","v":"0"},{"$f":"IF(AH50=0,\"N/A\",IF(AH50=1,\"NO: N. NI: 50, 52, 54\", IF(AH50=2,\"NO: N. NI: 50, 52, 54\",IF(AH50=3,\"NO: N. NI: 50, 52, 54\",\"N/A\"))))","v":"N/A"},{"$f":"Scope!AJ7","v":"0"},{"$f":"IF(AJ50=0,\"N/A\",IF(AJ50=1,\"NO: N. NI: 50, 52, 54\", IF(AJ50=2,\"NO: N. NI: 50, 52, 54\",IF(AJ50=3,\"NO: N. NI: 50, 52, 54\",\"N/A\"))))","v":"N/A"},{"$f":"Scope!AL7","v":"0"},{"$f":"IF(AL50=0,\"N/A\",IF(AL50=1,\"NO: N. NI: 50, 52, 54\", IF(AL50=2,\"NO: N. NI: 50, 52, 54\",IF(AL50=3,\"NO: N. NI: 50, 52, 54\",\"N/A\"))))","v":"N/A"},{"$f":"Scope!AN7","v":"0"},{"$f":"IF(AN50=0,\"N/A\",IF(AN50=1,\"NO: N. NI: 50, 52, 54\", IF(AN50=2,\"NO: N. NI: 50, 52, 54\",IF(AN50=3,\"NO: N. NI: 50, 52, 54\",\"N/A\"))))","v":"N/A"},{"$f":"Scope!AP7","v":"0"},{"$f":"IF(AP50=0,\"N/A\",IF(AP50=1,\"NO: N. NI: 50, 52, 54\", IF(AP50=2,\"NO: N. NI: 50, 52, 54\",IF(AP50=3,\"NO: N. NI: 50, 52, 54\",\"N/A\"))))","v":"N/A"},{"$f":"Scope!AR7","v":"0"},{"$f":"IF(AR50=0,\"N/A\",IF(AR50=1,\"NO: N. NI: 50, 52, 54\", IF(AR50=2,\"NO: N. NI: 50, 52, 54\",IF(AR50=3,\"NO: N. NI: 50, 52, 54\",\"N/A\"))))","v":"N/A"},{"$f":"Scope!AT7","v":"0"},{"$f":"IF(AT50=0,\"N/A\",IF(AT50=1,\"NO: N. NI: 50, 52, 54\", IF(AT50=2,\"NO: N. NI: 50, 52, 54\",IF(AT50=3,\"NO: N. NI: 50, 52, 54\",\"N/A\"))))","v":"N/A"},{"$f":"Scope!AV7","v":"0"},{"$f":"IF(AV50=0,\"N/A\",IF(AV50=1,\"NO: N. NI: 50, 52, 54\", IF(AV50=2,\"NO: N. NI: 50, 52, 54\",IF(AV50=3,\"NO: N. NI: 50, 52, 54\",\"N/A\"))))","v":"N/A"},{"$f":"Scope!AX7","v":"0"},{"$f":"IF(AX50=0,\"N/A\",IF(AX50=1,\"NO: N. NI: 50, 52, 54\", IF(AX50=2,\"NO: N. NI: 50, 52, 54\",IF(AX50=3,\"NO: N. NI: 50, 52, 54\",\"N/A\"))))","v":"N/A"},{"$f":"Scope!AZ7","v":"0"},{"$f":"IF(AZ50=0,\"N/A\",IF(AZ50=1,\"NO: N. NI: 50, 52, 54\", IF(AZ50=2,\"NO: N. NI: 50, 52, 54\",IF(AZ50=3,\"NO: N. NI: 50, 52, 54\",\"N/A\"))))","v":"N/A"},{"$f":"Scope!BB7","v":"0"},{"$f":"IF(BB50=0,\"N/A\",IF(BB50=1,\"NO: N. NI: 50, 52, 54\", IF(BB50=2,\"NO: N. NI: 50, 52, 54\",IF(BB50=3,\"NO: N. NI: 50, 52, 54\",\"N/A\"))))","v":"N/A"},{"$f":"Scope!BD7","v":"0"},{"$f":"IF(BD50=0,\"N/A\",IF(BD50=1,\"NO: N. NI: 50, 52, 54\", IF(BD50=2,\"NO: N. NI: 50, 52, 54\",IF(BD50=3,\"NO: N. NI: 50, 52, 54\",\"N/A\"))))","v":"N/A"},{"$f":"Scope!BF7","v":"0"},{"$f":"IF(BF50=0,\"N/A\",IF(BF50=1,\"NO: N. NI: 50, 52, 54\", IF(BF50=2,\"NO: N. NI: 50, 52, 54\",IF(BF50=3,\"NO: N. NI: 50, 52, 54\",\"N/A\"))))","v":"N/A"},{"$f":"Scope!BH7","v":"0"},{"$f":"IF(BH50=0,\"N/A\",IF(BH50=1,\"NO: N. NI: 50, 52, 54\", IF(BH50=2,\"NO: N. NI: 50, 52, 54\",IF(BH50=3,\"NO: N. NI: 50, 52, 54\",\"N/A\"))))","v":"N/A"},{"$f":"Scope!BJ7","v":"0"},{"$f":"IF(BJ50=0,\"N/A\",IF(BJ50=1,\"NO: N. NI: 50, 52, 54\", IF(BJ50=2,\"NO: N. NI: 50, 52, 54\",IF(BJ50=3,\"NO: N. NI: 50, 52, 54\",\"N/A\"))))","v":"N/A"},{"$f":"Scope!BL7","v":"0"},{"$f":"IF(BL50=0,\"N/A\",IF(BL50=1,\"NO: N. NI: 50, 52, 54\", IF(BL50=2,\"NO: N. NI: 50, 52, 54\",IF(BL50=3,\"NO: N. NI: 50, 52, 54\",\"N/A\"))))","v":"N/A"},{"$f":"Scope!BN7","v":"0"},"N/A",{"$f":"Scope!BP7","v":"0"},"N/A",{"$f":"Scope!BR7","v":"0"},"N/A",{"$f":"Scope!BT7","v":"0"},"N/A",{"$f":"Scope!BV7","v":"0"},"N/A",{"$f":"Scope!BX7","v":"0"},"N/A",{"$f":"Scope!BZ7","v":"0"},"N/A",{"$f":"Scope!CB7","v":"0"},"N/A",{"$f":"Scope!CD7","v":"0"},"N/A",null,{"$f":"IssuesInput!D7","v":0},null,null,{"$f":"Scope!CJ7","v":"0"},"N/A"]
[null,null,"Biodiversity",{"$f":"Scope!D8","v":0},{"$f":"IF(D51=0,\"N/A\",IF(D51=1,\"NO: N. NI: 48, 49, 50, 51, 52, 54\", IF(D51=2,\"NO: N. NI: 48, 49, 50, 51, 52, 54\",IF(D51=3,\"NO: N. NI: 48, 49, 50, 51, 52, 54\",\"N/A\"))))","v":"N/A"},{"$f":"Scope!F8","v":0},{"$f":"IF(F51=0,\"N/A\",IF(F51=1,\"NO: N. NI: 48, 49, 50, 51, 52, 54\", IF(F51=2,\"NO: N. NI: 48, 49, 50, 51, 52, 54\",IF(F51=3,\"NO: N. NI: 48, 49, 50, 51, 52, 54\",\"N/A\"))))","v":"N/A"},{"$f":"Scope!H8","v":0},{"$f":"IF(H51=0,\"N/A\",IF(H51=1,\"NO: N. NI: 48, 49, 50, 51, 52, 54\", IF(H51=2,\"NO: N. NI: 48, 49, 50, 51, 52, 54\",IF(H51=3,\"NO: N. NI: 48, 49, 50, 51, 52, 54\",\"N/A\"))))","v":"N/A"},{"$f":"Scope!J8","v":0},{"$f":"IF(J51=0,\"N/A\",IF(J51=1,\"NO: N. NI: 48, 49, 50, 51, 52, 54\", IF(J51=2,\"NO: N. NI: 48, 49, 50, 51, 52, 54\",IF(J51=3,\"NO: N. NI: 48, 49, 50, 51, 52, 54\",\"N/A\"))))","v":"N/A"},{"$f":"Scope!L8","v":0},{"$f":"IF(L51=0,\"N/A\",IF(L51=1,\"NO: N. NI: 48, 49, 50, 51, 52, 54\", IF(L51=2,\"NO: N. NI: 48, 49, 50, 51, 52, 54\",IF(L51=3,\"NO: N. NI: 48, 49, 50, 51, 52, 54\",\"N/A\"))))","v":"N/A"},{"$f":"Scope!N8","v":0},{"$f":"IF(N51=0,\"N/A\",IF(N51=1,\"NO: N. NI: 48, 49, 50, 51, 52, 54\", IF(N51=2,\"NO: N. NI: 48, 49, 50, 51, 52, 54\",IF(N51=3,\"NO: N. NI: 48, 49, 50, 51, 52, 54\",\"N/A\"))))","v":"N/A"},{"$f":"Scope!P8","v":0},{"$f":"IF(P51=0,\"N/A\",IF(P51=1,\"NO: N. NI: 48, 49, 50, 51, 52, 54\", IF(P51=2,\"NO: N. NI: 48, 49, 50, 51, 52, 54\",IF(P51=3,\"NO: N. NI: 48, 49, 50, 51, 52, 54\",\"N/A\"))))","v":"N/A"},{"$f":"Scope!R8","v":0},{"$f":"IF(R51=0,\"N/A\",IF(R51=1,\"NO: N. NI: 48, 49, 50, 51, 52, 54\", IF(R51=2,\"NO: N. NI: 48, 49, 50, 51, 52, 54\",IF(R51=3,\"NO: N. NI: 48, 49, 50, 51, 52, 54\",\"N/A\"))))","v":"N/A"},{"$f":"Scope!T8","v":"0"},{"$f":"IF(T51=0,\"N/A\",IF(T51=1,\"NO: N. NI: 48, 49, 50, 51, 52, 54\", IF(T51=2,\"NO: N. NI: 48, 49, 50, 51, 52, 54\",IF(T51=3,\"NO: N. NI: 48, 49, 50, 51, 52, 54\",\"N/A\"))))","v":"N/A"},{"$f":"Scope!V8","v":"0"},{"$f":"IF(V51=0,\"N/A\",IF(V51=1,\"NO: N. NI: 48, 49, 50, 51, 52, 54\", IF(V51=2,\"NO: N. NI: 48, 49, 50, 51, 52, 54\",IF(V51=3,\"NO: N. NI: 48, 49, 50, 51, 52, 54\",\"N/A\"))))","v":"N/A"},{"$f":"Scope!X8","v":"0"},{"$f":"IF(X51=0,\"N/A\",IF(X51=1,\"NO: N. NI: 48, 49, 50, 51, 52, 54\", IF(X51=2,\"NO: N. NI: 48, 49, 50, 51, 52, 54\",IF(X51=3,\"NO: N. NI: 48, 49, 50, 51, 52, 54\",\"N/A\"))))","v":"N/A"},{"$f":"Scope!Z8","v":"0"},{"$f":"IF(Z51=0,\"N/A\",IF(Z51=1,\"NO: N. NI: 48, 49, 50, 51, 52, 54\", IF(Z51=2,\"NO: N. NI: 48, 49, 50, 51, 52, 54\",IF(Z51=3,\"NO: N. NI: 48, 49, 50, 51, 52, 54\",\"N/A\"))))","v":"N/A"},{"$f":"Scope!AB8","v":"0"},{"$f":"IF(AB51=0,\"N/A\",IF(AB51=1,\"NO: N. NI: 48, 49, 50, 51, 52, 54\", IF(AB51=2,\"NO: N. NI: 48, 49, 50, 51, 52, 54\",IF(AB51=3,\"NO: N. NI: 48, 49, 50, 51, 52, 54\",\"N/A\"))))","v":"N/A"},{"$f":"Scope!AD8","v":"0"},{"$f":"IF(AD51=0,\"N/A\",IF(AD51=1,\"NO: N. NI: 48, 49, 50, 51, 52, 54\", IF(AD51=2,\"NO: N. NI: 48, 49, 50, 51, 52, 54\",IF(AD51=3,\"NO: N. NI: 48, 49, 50, 51, 52, 54\",\"N/A\"))))","v":"N/A"},{"$f":"Scope!AF8","v":"0"},{"$f":"IF(AF51=0,\"N/A\",IF(AF51=1,\"NO: N. NI: 48, 49, 50, 51, 52, 54\", IF(AF51=2,\"NO: N. NI: 48, 49, 50, 51, 52, 54\",IF(AF51=3,\"NO: N. NI: 48, 49, 50, 51, 52, 54\",\"N/A\"))))","v":"N/A"},{"$f":"Scope!AH8","v":"0"},{"$f":"IF(AH51=0,\"N/A\",IF(AH51=1,\"NO: N. NI: 48, 49, 50, 51, 52, 54\", IF(AH51=2,\"NO: N. NI: 48, 49, 50, 51, 52, 54\",IF(AH51=3,\"NO: N. NI: 48, 49, 50, 51, 52, 54\",\"N/A\"))))","v":"N/A"},{"$f":"Scope!AJ8","v":"0"},{"$f":"IF(AJ51=0,\"N/A\",IF(AJ51=1,\"NO: N. NI: 48, 49, 50, 51, 52, 54\", IF(AJ51=2,\"NO: N. NI: 48, 49, 50, 51, 52, 54\",IF(AJ51=3,\"NO: N. NI: 48, 49, 50, 51, 52, 54\",\"N/A\"))))","v":"N/A"},{"$f":"Scope!AL8","v":"0"},{"$f":"IF(AL51=0,\"N/A\",IF(AL51=1,\"NO: N. NI: 48, 49, 50, 51, 52, 54\", IF(AL51=2,\"NO: N. NI: 48, 49, 50, 51, 52, 54\",IF(AL51=3,\"NO: N. NI: 48, 49, 50, 51, 52, 54\",\"N/A\"))))","v":"N/A"},{"$f":"Scope!AN8","v":"0"},{"$f":"IF(AN51=0,\"N/A\",IF(AN51=1,\"NO: N. NI: 48, 49, 50, 51, 52, 54\", IF(AN51=2,\"NO: N. NI: 48, 49, 50, 51, 52, 54\",IF(AN51=3,\"NO: N. NI: 48, 49, 50, 51, 52, 54\",\"N/A\"))))","v":"N/A"},{"$f":"Scope!AP8","v":"0"},{"$f":"IF(AP51=0,\"N/A\",IF(AP51=1,\"NO: N. NI: 48, 49, 50, 51, 52, 54\", IF(AP51=2,\"NO: N. NI: 48, 49, 50, 51, 52, 54\",IF(AP51=3,\"NO: N. NI: 48, 49, 50, 51, 52, 54\",\"N/A\"))))","v":"N/A"},{"$f":"Scope!AR8","v":"0"},{"$f":"IF(AR51=0,\"N/A\",IF(AR51=1,\"NO: N. NI: 48, 49, 50, 51, 52, 54\", IF(AR51=2,\"NO: N. NI: 48, 49, 50, 51, 52, 54\",IF(AR51=3,\"NO: N. NI: 48, 49, 50, 51, 52, 54\",\"N/A\"))))","v":"N/A"},{"$f":"Scope!AT8","v":"0"},{"$f":"IF(AT51=0,\"N/A\",IF(AT51=1,\"NO: N. NI: 48, 49, 50, 51, 52, 54\", IF(AT51=2,\"NO: N. NI: 48, 49, 50, 51, 52, 54\",IF(AT51=3,\"NO: N. NI: 48, 49, 50, 51, 52, 54\",\"N/A\"))))","v":"N/A"},{"$f":"Scope!AV8","v":"0"},{"$f":"IF(AV51=0,\"N/A\",IF(AV51=1,\"NO: N. NI: 48, 49, 50, 51, 52, 54\", IF(AV51=2,\"NO: N. NI: 48, 49, 50, 51, 52, 54\",IF(AV51=3,\"NO: N. NI: 48, 49, 50, 51, 52, 54\",\"N/A\"))))","v":"N/A"},{"$f":"Scope!AX8","v":"0"},{"$f":"IF(AX51=0,\"N/A\",IF(AX51=1,\"NO: N. NI: 48, 49, 50, 51, 52, 54\", IF(AX51=2,\"NO: N. NI: 48, 49, 50, 51, 52, 54\",IF(AX51=3,\"NO: N. NI: 48, 49, 50, 51, 52, 54\",\"N/A\"))))","v":"N/A"},{"$f":"Scope!AZ8","v":"0"},{"$f":"IF(AZ51=0,\"N/A\",IF(AZ51=1,\"NO: N. NI: 48, 49, 50, 51, 52, 54\", IF(AZ51=2,\"NO: N. NI: 48, 49, 50, 51, 52, 54\",IF(AZ51=3,\"NO: N. NI: 48, 49, 50, 51, 52, 54\",\"N/A\"))))","v":"N/A"},{"$f":"Scope!BB8","v":"0"},{"$f":"IF(BB51=0,\"N/A\",IF(BB51=1,\"NO: N. NI: 48, 49, 50, 51, 52, 54\", IF(BB51=2,\"NO: N. NI: 48, 49, 50, 51, 52, 54\",IF(BB51=3,\"NO: N. NI: 48, 49, 50, 51, 52, 54\",\"N/A\"))))","v":"N/A"},{"$f":"Scope!BD8","v":"0"},{"$f":"IF(BD51=0,\"N/A\",IF(BD51=1,\"NO: N. NI: 48, 49, 50, 51, 52, 54\", IF(BD51=2,\"NO: N. NI: 48, 49, 50, 51, 52, 54\",IF(BD51=3,\"NO: N. NI: 48, 49, 50, 51, 52, 54\",\"N/A\"))))","v":"N/A"},{"$f":"Scope!BF8","v":"0"},{"$f":"IF(BF51=0,\"N/A\",IF(BF51=1,\"NO: N. NI: 48, 49, 50, 51, 52, 54\", IF(BF51=2,\"NO: N. NI: 48, 49, 50, 51, 52, 54\",IF(BF51=3,\"NO: N. NI: 48, 49, 50, 51, 52, 54\",\"N/A\"))))","v":"N/A"},{"$f":"Scope!BH8","v":"0"},{"$f":"IF(BH51=0,\"N/A\",IF(BH51=1,\"NO: N. NI: 48, 49, 50, 51, 52, 54\", IF(BH51=2,\"NO: N. NI: 48, 49, 50, 51, 52, 54\",IF(BH51=3,\"NO: N. NI: 48, 49, 50, 51, 52, 54\",\"N/A\"))))","v":"N/A"},{"$f":"Scope!BJ8","v":"0"},{"$f":"IF(BJ51=0,\"N/A\",IF(BJ51=1,\"NO: N. NI: 48, 49, 50, 51, 52, 54\", IF(BJ51=2,\"NO: N. NI: 48, 49, 50, 51, 52, 54\",IF(BJ51=3,\"NO: N. NI: 48, 49, 50, 51, 52, 54\",\"N/A\"))))","v":"N/A"},{"$f":"Scope!BL8","v":"0"},{"$f":"IF(BL51=0,\"N/A\",IF(BL51=1,\"NO: N. NI: 48, 49, 50, 51, 52, 54\", IF(BL51=2,\"NO: N. NI: 48, 49, 50, 51, 52, 54\",IF(BL51=3,\"NO: N. NI: 48, 49, 50, 51, 52, 54\",\"N/A\"))))","v":"N/A"},{"$f":"Scope!BN8","v":"0"},"N/A",{"$f":"Scope!BP8","v":"0"},"N/A",{"$f":"Scope!BR8","v":"0"},"N/A",{"$f":"Scope!BT8","v":"0"},"N/A",{"$f":"Scope!BV8","v":"0"},"N/A",{"$f":"Scope!BX8","v":"0"},"N/A",{"$f":"Scope!BZ8","v":"0"},"N/A",{"$f":"Scope!CB8","v":"0"},"N/A",{"$f":"Scope!CD8","v":"0"},"N/A",null,{"$f":"IssuesInput!D8","v":"Biodiversity Policy (2012)"},null,null,{"$f":"Scope!CJ8","v":"0"},"N/A"]
[null,null,"Heritage",{"$f":"Scope!D9","v":"0"},{"$f":"IF(D52=0,\"N/A\",IF(D52=1,\"NO: N. NI: 40, 41, 43, 44, 45, 46, 47, 48, 50\", IF(D52=2,\"NO: N. NI: 40, 41, 43, 44, 45, 46, 47, 48, 50\",IF(D52=3,\"NO: N. NI: 40, 41, 43, 44, 45, 46, 47, 48, 50\",\"N/A\"))))","v":"N/A"},{"$f":"Scope!F9","v":"0"},{"$f":"IF(F52=0,\"N/A\",IF(F52=1,\"NO: N. NI: 40, 41, 43, 44, 45, 46, 47, 48, 50\", IF(F52=2,\"NO: N. NI: 40, 41, 43, 44, 45, 46, 47, 48, 50\",IF(F52=3,\"NO: N. NI: 40, 41, 43, 44, 45, 46, 47, 48, 50\",\"N/A\"))))","v":"N/A"},{"$f":"Scope!H9","v":"0"},{"$f":"IF(H52=0,\"N/A\",IF(H52=1,\"NO: N. NI: 40, 41, 43, 44, 45, 46, 47, 48, 50\", IF(H52=2,\"NO: N. NI: 40, 41, 43, 44, 45, 46, 47, 48, 50\",IF(H52=3,\"NO: N. NI: 40, 41, 43, 44, 45, 46, 47, 48, 50\",\"N/A\"))))","v":"N/A"},{"$f":"Scope!J9","v":"0"},{"$f":"IF(J52=0,\"N/A\",IF(J52=1,\"NO: N. NI: 40, 41, 43, 44, 45, 46, 47, 48, 50\", IF(J52=2,\"NO: N. NI: 40, 41, 43, 44, 45, 46, 47, 48, 50\",IF(J52=3,\"NO: N. NI: 40, 41, 43, 44, 45, 46, 47, 48, 50\",\"N/A\"))))","v":"N/A"},{"$f":"Scope!L9","v":0},{"$f":"IF(L52=0,\"N/A\",IF(L52=1,\"NO: N. NI: 40, 41, 43, 44, 45, 46, 47, 48, 50\", IF(L52=2,\"NO: N. NI: 40, 41, 43, 44, 45, 46, 47, 48, 50\",IF(L52=3,\"NO: N. NI: 40, 41, 43, 44, 45, 46, 47, 48, 50\",\"N/A\"))))","v":"N/A"},{"$f":"Scope!N9","v":0},{"$f":"IF(N52=0,\"N/A\",IF(N52=1,\"NO: N. NI: 40, 41, 43, 44, 45, 46, 47, 48, 50\", IF(N52=2,\"NO: N. NI: 40, 41, 43, 44, 45, 46, 47, 48, 50\",IF(N52=3,\"NO: N. NI: 40, 41, 43, 44, 45, 46, 47, 48, 50\",\"N/A\"))))","v":"N/A"},{"$f":"Scope!P9","v":"0"},{"$f":"IF(P52=0,\"N/A\",IF(P52=1,\"NO: N. NI: 40, 41, 43, 44, 45, 46, 47, 48, 50\", IF(P52=2,\"NO: N. NI: 40, 41, 43, 44, 45, 46, 47, 48, 50\",IF(P52=3,\"NO: N. NI: 40, 41, 43, 44, 45, 46, 47, 48, 50\",\"N/A\"))))","v":"N/A"},{"$f":"Scope!R9","v":"0"},{"$f":"IF(R52=0,\"N/A\",IF(R52=1,\"NO: N. NI: 40, 41, 43, 44, 45, 46, 47, 48, 50\", IF(R52=2,\"NO: N. NI: 40, 41, 43, 44, 45, 46, 47, 48, 50\",IF(R52=3,\"NO: N. NI: 40, 41, 43, 44, 45, 46, 47, 48, 50\",\"N/A\"))))","v":"N/A"},{"$f":"Scope!T9","v":"0"},{"$f":"IF(T52=0,\"N/A\",IF(T52=1,\"NO: N. NI: 40, 41, 43, 44, 45, 46, 47, 48, 50\", IF(T52=2,\"NO: N. NI: 40, 41, 43, 44, 45, 46, 47, 48, 50\",IF(T52=3,\"NO: N. NI: 40, 41, 43, 44, 45, 46, 47, 48, 50\",\"N/A\"))))","v":"N/A"},{"$f":"Scope!V9","v":"0"},{"$f":"IF(V52=0,\"N/A\",IF(V52=1,\"NO: N. NI: 40, 41, 43, 44, 45, 46, 47, 48, 50\", IF(V52=2,\"NO: N. NI: 40, 41, 43, 44, 45, 46, 47, 48, 50\",IF(V52=3,\"NO: N. NI: 40, 41, 43, 44, 45, 46, 47, 48, 50\",\"N/A\"))))","v":"N/A"},{"$f":"Scope!X9","v":"0"},{"$f":"IF(X52=0,\"N/A\",IF(X52=1,\"NO: N. NI: 40, 41, 43, 44, 45, 46, 47, 48, 50\", IF(X52=2,\"NO: N. NI: 40, 41, 43, 44, 45, 46, 47, 48, 50\",IF(X52=3,\"NO: N. NI: 40, 41, 43, 44, 45, 46, 47, 48, 50\",\"N/A\"))))","v":"N/A"},{"$f":"Scope!Z9","v":"0"},{"$f":"IF(Z52=0,\"N/A\",IF(Z52=1,\"NO: N. NI: 40, 41, 43, 44, 45, 46, 47, 48, 50\", IF(Z52=2,\"NO: N. NI: 40, 41, 43, 44, 45, 46, 47, 48, 50\",IF(Z52=3,\"NO: N. NI: 40, 41, 43, 44, 45, 46, 47, 48, 50\",\"N/A\"))))","v":"N/A"},{"$f":"Scope!AB9","v":"0"},{"$f":"IF(AB52=0,\"N/A\",IF(AB52=1,\"NO: N. NI: 40, 41, 43, 44, 45, 46, 47, 48, 50\", IF(AB52=2,\"NO: N. NI: 40, 41, 43, 44, 45, 46, 47, 48, 50\",IF(AB52=3,\"NO: N. NI: 40, 41, 43, 44, 45, 46, 47, 48, 50\",\"N/A\"))))","v":"N/A"},{"$f":"Scope!AD9","v":"0"},{"$f":"IF(AD52=0,\"N/A\",IF(AD52=1,\"NO: N. NI: 40, 41, 43, 44, 45, 46, 47, 48, 50\", IF(AD52=2,\"NO: N. NI: 40, 41, 43, 44, 45, 46, 47, 48, 50\",IF(AD52=3,\"NO: N. NI: 40, 41, 43, 44, 45, 46, 47, 48, 50\",\"N/A\"))))","v":"N/A"},{"$f":"Scope!AF9","v":"0"},{"$f":"IF(AF52=0,\"N/A\",IF(AF52=1,\"NO: N. NI: 40, 41, 43, 44, 45, 46, 47, 48, 50\", IF(AF52=2,\"NO: N. NI: 40, 41, 43, 44, 45, 46, 47, 48, 50\",IF(AF52=3,\"NO: N. NI: 40, 41, 43, 44, 45, 46, 47, 48, 50\",\"N/A\"))))","v":"N/A"},{"$f":"Scope!AH9","v":"0"},{"$f":"IF(AH52=0,\"N/A\",IF(AH52=1,\"NO: N. NI: 40, 41, 43, 44, 45, 46, 47, 48, 50\", IF(AH52=2,\"NO: N. NI: 40, 41, 43, 44, 45, 46, 47, 48, 50\",IF(AH52=3,\"NO: N. NI: 40, 41, 43, 44, 45, 46, 47, 48, 50\",\"N/A\"))))","v":"N/A"},{"$f":"Scope!AJ9","v":"0"},{"$f":"IF(AJ52=0,\"N/A\",IF(AJ52=1,\"NO: N. NI: 40, 41, 43, 44, 45, 46, 47, 48, 50\", IF(AJ52=2,\"NO: N. NI: 40, 41, 43, 44, 45, 46, 47, 48, 50\",IF(AJ52=3,\"NO: N. NI: 40, 41, 43, 44, 45, 46, 47, 48, 50\",\"N/A\"))))","v":"N/A"},{"$f":"Scope!AL9","v":"0"},{"$f":"IF(AL52=0,\"N/A\",IF(AL52=1,\"NO: N. NI: 40, 41, 43, 44, 45, 46, 47, 48, 50\", IF(AL52=2,\"NO: N. NI: 40, 41, 43, 44, 45, 46, 47, 48, 50\",IF(AL52=3,\"NO: N. NI: 40, 41, 43, 44, 45, 46, 47, 48, 50\",\"N/A\"))))","v":"N/A"},{"$f":"Scope!AN9","v":"0"},{"$f":"IF(AN52=0,\"N/A\",IF(AN52=1,\"NO: N. NI: 40, 41, 43, 44, 45, 46, 47, 48, 50\", IF(AN52=2,\"NO: N. NI: 40, 41, 43, 44, 45, 46, 47, 48, 50\",IF(AN52=3,\"NO: N. NI: 40, 41, 43, 44, 45, 46, 47, 48, 50\",\"N/A\"))))","v":"N/A"},{"$f":"Scope!AP9","v":"0"},{"$f":"IF(AP52=0,\"N/A\",IF(AP52=1,\"NO: N. NI: 40, 41, 43, 44, 45, 46, 47, 48, 50\", IF(AP52=2,\"NO: N. NI: 40, 41, 43, 44, 45, 46, 47, 48, 50\",IF(AP52=3,\"NO: N. NI: 40, 41, 43, 44, 45, 46, 47, 48, 50\",\"N/A\"))))","v":"N/A"},{"$f":"Scope!AR9","v":"0"},{"$f":"IF(AR52=0,\"N/A\",IF(AR52=1,\"NO: N. NI: 40, 41, 43, 44, 45, 46, 47, 48, 50\", IF(AR52=2,\"NO: N. NI: 40, 41, 43, 44, 45, 46, 47, 48, 50\",IF(AR52=3,\"NO: N. NI: 40, 41, 43, 44, 45, 46, 47, 48, 50\",\"N/A\"))))","v":"N/A"},{"$f":"Scope!AT9","v":"0"},{"$f":"IF(AT52=0,\"N/A\",IF(AT52=1,\"NO: N. NI: 40, 41, 43, 44, 45, 46, 47, 48, 50\", IF(AT52=2,\"NO: N. NI: 40, 41, 43, 44, 45, 46, 47, 48, 50\",IF(AT52=3,\"NO: N. NI: 40, 41, 43, 44, 45, 46, 47, 48, 50\",\"N/A\"))))","v":"N/A"},{"$f":"Scope!AV9","v":"0"},{"$f":"IF(AV52=0,\"N/A\",IF(AV52=1,\"NO: N. NI: 40, 41, 43, 44, 45, 46, 47, 48, 50\", IF(AV52=2,\"NO: N. NI: 40, 41, 43, 44, 45, 46, 47, 48, 50\",IF(AV52=3,\"NO: N. NI: 40, 41, 43, 44, 45, 46, 47, 48, 50\",\"N/A\"))))","v":"N/A"},{"$f":"Scope!AX9","v":"0"},{"$f":"IF(AX52=0,\"N/A\",IF(AX52=1,\"NO: N. NI: 40, 41, 43, 44, 45, 46, 47, 48, 50\", IF(AX52=2,\"NO: N. NI: 40, 41, 43, 44, 45, 46, 47, 48, 50\",IF(AX52=3,\"NO: N. NI: 40, 41, 43, 44, 45, 46, 47, 48, 50\",\"N/A\"))))","v":"N/A"},{"$f":"Scope!AZ9","v":"0"},{"$f":"IF(AZ52=0,\"N/A\",IF(AZ52=1,\"NO: N. NI: 40, 41, 43, 44, 45, 46, 47, 48, 50\", IF(AZ52=2,\"NO: N. NI: 40, 41, 43, 44, 45, 46, 47, 48, 50\",IF(AZ52=3,\"NO: N. NI: 40, 41, 43, 44, 45, 46, 47, 48, 50\",\"N/A\"))))","v":"N/A"},{"$f":"Scope!BB9","v":"0"},{"$f":"IF(BB52=0,\"N/A\",IF(BB52=1,\"NO: N. NI: 40, 41, 43, 44, 45, 46, 47, 48, 50\", IF(BB52=2,\"NO: N. NI: 40, 41, 43, 44, 45, 46, 47, 48, 50\",IF(BB52=3,\"NO: N. NI: 40, 41, 43, 44, 45, 46, 47, 48, 50\",\"N/A\"))))","v":"N/A"},{"$f":"Scope!BD9","v":"0"},{"$f":"IF(BD52=0,\"N/A\",IF(BD52=1,\"NO: N. NI: 40, 41, 43, 44, 45, 46, 47, 48, 50\", IF(BD52=2,\"NO: N. NI: 40, 41, 43, 44, 45, 46, 47, 48, 50\",IF(BD52=3,\"NO: N. NI: 40, 41, 43, 44, 45, 46, 47, 48, 50\",\"N/A\"))))","v":"N/A"},{"$f":"Scope!BF9","v":"0"},{"$f":"IF(BF52=0,\"N/A\",IF(BF52=1,\"NO: N. NI: 40, 41, 43, 44, 45, 46, 47, 48, 50\", IF(BF52=2,\"NO: N. NI: 40, 41, 43, 44, 45, 46, 47, 48, 50\",IF(BF52=3,\"NO: N. NI: 40, 41, 43, 44, 45, 46, 47, 48, 50\",\"N/A\"))))","v":"N/A"},{"$f":"Scope!BH9","v":"0"},{"$f":"IF(BH52=0,\"N/A\",IF(BH52=1,\"NO: N. NI: 40, 41, 43, 44, 45, 46, 47, 48, 50\", IF(BH52=2,\"NO: N. NI: 40, 41, 43, 44, 45, 46, 47, 48, 50\",IF(BH52=3,\"NO: N. NI: 40, 41, 43, 44, 45, 46, 47, 48, 50\",\"N/A\"))))","v":"N/A"},{"$f":"Scope!BJ9","v":"0"},{"$f":"IF(BJ52=0,\"N/A\",IF(BJ52=1,\"NO: N. NI: 40, 41, 43, 44, 45, 46, 47, 48, 50\", IF(BJ52=2,\"NO: N. NI: 40, 41, 43, 44, 45, 46, 47, 48, 50\",IF(BJ52=3,\"NO: N. NI: 40, 41, 43, 44, 45, 46, 47, 48, 50\",\"N/A\"))))","v":"N/A"},{"$f":"Scope!BL9","v":"0"},{"$f":"IF(BL52=0,\"N/A\",IF(BL52=1,\"NO: N. NI: 40, 41, 43, 44, 45, 46, 47, 48, 50\", IF(BL52=2,\"NO: N. NI: 40, 41, 43, 44, 45, 46, 47, 48, 50\",IF(BL52=3,\"NO: N. NI: 40, 41, 43, 44, 45, 46, 47, 48, 50\",\"N/A\"))))","v":"N/A"},{"$f":"Scope!BN9","v":"0"},"N/A",{"$f":"Scope!BP9","v":"0"},"N/A",{"$f":"Scope!BR9","v":"0"},"N/A",{"$f":"Scope!BT9","v":"0"},"N/A",{"$f":"Scope!BV9","v":"0"},"N/A",{"$f":"Scope!BX9","v":"0"},"N/A",{"$f":"Scope!BZ9","v":"0"},"N/A",{"$f":"Scope!CB9","v":"0"},"N/A",{"$f":"Scope!CD9","v":"0"},"N/A",null,{"$f":"IssuesInput!D9","v":0},null,null,{"$f":"Scope!CJ9","v":"0"},"N/A"]
[null,null,"Water",{"$f":"Scope!D10","v":0},{"$f":"IF(D53=0,\"N/A\",IF(D53=1,\"NO: N. NI: 52, 54\", IF(D53=2,\"NO: N. NI: 52, 54\",IF(D53=3,\"NO: N. NI: 52, 54\",\"N/A\"))))","v":"N/A"},{"$f":"Scope!F10","v":0},{"$f":"IF(F53=0,\"N/A\",IF(F53=1,\"NO: N. NI: 52, 54\", IF(F53=2,\"NO: N. NI: 52, 54\",IF(F53=3,\"NO: N. NI: 52, 54\",\"N/A\"))))","v":"N/A"},{"$f":"Scope!H10","v":0},{"$f":"IF(H53=0,\"N/A\",IF(H53=1,\"NO: N. NI: 52, 54\", IF(H53=2,\"NO: N. NI: 52, 54\",IF(H53=3,\"NO: N. NI: 52, 54\",\"N/A\"))))","v":"N/A"},{"$f":"Scope!J10","v":0},{"$f":"IF(J53=0,\"N/A\",IF(J53=1,\"NO: N. NI: 52, 54\", IF(J53=2,\"NO: N. NI: 52, 54\",IF(J53=3,\"NO: N. NI: 52, 54\",\"N/A\"))))","v":"N/A"},{"$f":"Scope!L10","v":0},{"$f":"IF(L53=0,\"N/A\",IF(L53=1,\"NO: N. NI: 52, 54\", IF(L53=2,\"NO: N. NI: 52, 54\",IF(L53=3,\"NO: N. NI: 52, 54\",\"N/A\"))))","v":"N/A"},{"$f":"Scope!N10","v":1},{"$f":"IF(N53=0,\"N/A\",IF(N53=1,\"NO: N. NI: 52, 54\", IF(N53=2,\"NO: N. NI: 52, 54\",IF(N53=3,\"NO: N. NI: 52, 54\",\"N/A\"))))","v":"NO: N. NI: 52, 54"},{"$f":"Scope!P10","v":1},{"$f":"IF(P53=0,\"N/A\",IF(P53=1,\"NO: N. NI: 52, 54\", IF(P53=2,\"NO: N. NI: 52, 54\",IF(P53=3,\"NO: N. NI: 52, 54\",\"N/A\"))))","v":"NO: N. NI: 52, 54"},{"$f":"Scope!R10","v":0},{"$f":"IF(R53=0,\"N/A\",IF(R53=1,\"NO: N. NI: 52, 54\", IF(R53=2,\"NO: N. NI: 52, 54\",IF(R53=3,\"NO: N. NI: 52, 54\",\"N/A\"))))","v":"N/A"},{"$f":"Scope!T10","v":"0"},{"$f":"IF(T53=0,\"N/A\",IF(T53=1,\"NO: N. NI: 52, 54\", IF(T53=2,\"NO: N. NI: 52, 54\",IF(T53=3,\"NO: N. NI: 52, 54\",\"N/A\"))))","v":"N/A"},{"$f":"Scope!V10","v":"0"},{"$f":"IF(V53=0,\"N/A\",IF(V53=1,\"NO: N. NI: 52, 54\", IF(V53=2,\"NO: N. NI: 52, 54\",IF(V53=3,\"NO: N. NI: 52, 54\",\"N/A\"))))","v":"N/A"},{"$f":"Scope!X10","v":"0"},{"$f":"IF(X53=0,\"N/A\",IF(X53=1,\"NO: N. NI: 52, 54\", IF(X53=2,\"NO: N. NI: 52, 54\",IF(X53=3,\"NO: N. NI: 52, 54\",\"N/A\"))))","v":"N/A"},{"$f":"Scope!Z10","v":"0"},{"$f":"IF(Z53=0,\"N/A\",IF(Z53=1,\"NO: N. NI: 52, 54\", IF(Z53=2,\"NO: N. NI: 52, 54\",IF(Z53=3,\"NO: N. NI: 52, 54\",\"N/A\"))))","v":"N/A"},{"$f":"Scope!AB10","v":"0"},{"$f":"IF(AB53=0,\"N/A\",IF(AB53=1,\"NO: N. NI: 52, 54\", IF(AB53=2,\"NO: N. NI: 52, 54\",IF(AB53=3,\"NO: N. NI: 52, 54\",\"N/A\"))))","v":"N/A"},{"$f":"Scope!AD10","v":"0"},{"$f":"IF(AD53=0,\"N/A\",IF(AD53=1,\"NO: N. NI: 52, 54\", IF(AD53=2,\"NO: N. NI: 52, 54\",IF(AD53=3,\"NO: N. NI: 52, 54\",\"N/A\"))))","v":"N/A"},{"$f":"Scope!AF10","v":"0"},{"$f":"IF(AF53=0,\"N/A\",IF(AF53=1,\"NO: N. NI: 52, 54\", IF(AF53=2,\"NO: N. NI: 52, 54\",IF(AF53=3,\"NO: N. NI: 52, 54\",\"N/A\"))))","v":"N/A"},{"$f":"Scope!AH10","v":"0"},{"$f":"IF(AH53=0,\"N/A\",IF(AH53=1,\"NO: N. NI: 52, 54\", IF(AH53=2,\"NO: N. NI: 52, 54\",IF(AH53=3,\"NO: N. NI: 52, 54\",\"N/A\"))))","v":"N/A"},{"$f":"Scope!AJ10","v":"0"},{"$f":"IF(AJ53=0,\"N/A\",IF(AJ53=1,\"NO: N. NI: 52, 54\", IF(AJ53=2,\"NO: N. NI: 52, 54\",IF(AJ53=3,\"NO: N. NI: 52, 54\",\"N/A\"))))","v":"N/A"},{"$f":"Scope!AL10","v":"0"},{"$f":"IF(AL53=0,\"N/A\",IF(AL53=1,\"NO: N. NI: 52, 54\", IF(AL53=2,\"NO: N. NI: 52, 54\",IF(AL53=3,\"NO: N. NI: 52, 54\",\"N/A\"))))","v":"N/A"},{"$f":"Scope!AN10","v":"0"},{"$f":"IF(AN53=0,\"N/A\",IF(AN53=1,\"NO: N. NI: 52, 54\", IF(AN53=2,\"NO: N. NI: 52, 54\",IF(AN53=3,\"NO: N. NI: 52, 54\",\"N/A\"))))","v":"N/A"},{"$f":"Scope!AP10","v":"0"},{"$f":"IF(AP53=0,\"N/A\",IF(AP53=1,\"NO: N. NI: 52, 54\", IF(AP53=2,\"NO: N. NI: 52, 54\",IF(AP53=3,\"NO: N. NI: 52, 54\",\"N/A\"))))","v":"N/A"},{"$f":"Scope!AR10","v":"0"},{"$f":"IF(AR53=0,\"N/A\",IF(AR53=1,\"NO: N. NI: 52, 54\", IF(AR53=2,\"NO: N. NI: 52, 54\",IF(AR53=3,\"NO: N. NI: 52, 54\",\"N/A\"))))","v":"N/A"},{"$f":"Scope!AT10","v":"0"},{"$f":"IF(AT53=0,\"N/A\",IF(AT53=1,\"NO: N. NI: 52, 54\", IF(AT53=2,\"NO: N. NI: 52, 54\",IF(AT53=3,\"NO: N. NI: 52, 54\",\"N/A\"))))","v":"N/A"},{"$f":"Scope!AV10","v":"0"},{"$f":"IF(AV53=0,\"N/A\",IF(AV53=1,\"NO: N. NI: 52, 54\", IF(AV53=2,\"NO: N. NI: 52, 54\",IF(AV53=3,\"NO: N. NI: 52, 54\",\"N/A\"))))","v":"N/A"},{"$f":"Scope!AX10","v":"0"},{"$f":"IF(AX53=0,\"N/A\",IF(AX53=1,\"NO: N. NI: 52, 54\", IF(AX53=2,\"NO: N. NI: 52, 54\",IF(AX53=3,\"NO: N. NI: 52, 54\",\"N/A\"))))","v":"N/A"},{"$f":"Scope!AZ10","v":"0"},{"$f":"IF(AZ53=0,\"N/A\",IF(AZ53=1,\"NO: N. NI: 52, 54\", IF(AZ53=2,\"NO: N. NI: 52, 54\",IF(AZ53=3,\"NO: N. NI: 52, 54\",\"N/A\"))))","v":"N/A"},{"$f":"Scope!BB10","v":"0"},{"$f":"IF(BB53=0,\"N/A\",IF(BB53=1,\"NO: N. NI: 52, 54\", IF(BB53=2,\"NO: N. NI: 52, 54\",IF(BB53=3,\"NO: N. NI: 52, 54\",\"N/A\"))))","v":"N/A"},{"$f":"Scope!BD10","v":"0"},{"$f":"IF(BD53=0,\"N/A\",IF(BD53=1,\"NO: N. NI: 52, 54\", IF(BD53=2,\"NO: N. NI: 52, 54\",IF(BD53=3,\"NO: N. NI: 52, 54\",\"N/A\"))))","v":"N/A"},{"$f":"Scope!BF10","v":"0"},{"$f":"IF(BF53=0,\"N/A\",IF(BF53=1,\"NO: N. NI: 52, 54\", IF(BF53=2,\"NO: N. NI: 52, 54\",IF(BF53=3,\"NO: N. NI: 52, 54\",\"N/A\"))))","v":"N/A"},{"$f":"Scope!BH10","v":"0"},{"$f":"IF(BH53=0,\"N/A\",IF(BH53=1,\"NO: N. NI: 52, 54\", IF(BH53=2,\"NO: N. NI: 52, 54\",IF(BH53=3,\"NO: N. NI: 52, 54\",\"N/A\"))))","v":"N/A"},{"$f":"Scope!BJ10","v":"0"},{"$f":"IF(BJ53=0,\"N/A\",IF(BJ53=1,\"NO: N. NI: 52, 54\", IF(BJ53=2,\"NO: N. NI: 52, 54\",IF(BJ53=3,\"NO: N. NI: 52, 54\",\"N/A\"))))","v":"N/A"},{"$f":"Scope!BL10","v":"0"},{"$f":"IF(BL53=0,\"N/A\",IF(BL53=1,\"NO: N. NI: 52, 54\", IF(BL53=2,\"NO: N. NI: 52, 54\",IF(BL53=3,\"NO: N. NI: 52, 54\",\"N/A\"))))","v":"N/A"},{"$f":"Scope!BN10","v":"0"},"N/A",{"$f":"Scope!BP10","v":"0"},"N/A",{"$f":"Scope!BR10","v":"0"},"N/A",{"$f":"Scope!BT10","v":"0"},"N/A",{"$f":"Scope!BV10","v":"0"},"N/A",{"$f":"Scope!BX10","v":"0"},"N/A",{"$f":"Scope!BZ10","v":"0"},"N/A",{"$f":"Scope!CB10","v":"0"},"N/A",{"$f":"Scope!CD10","v":"0"},"N/A",null,{"$f":"IssuesInput!D10","v":"Drinking Water Policy (2009); "},null,null,{"$f":"Scope!CJ10","v":"0"},"N/A"]
[null,null,"",{"$f":"Scope!D11","v":"0"},{"$f":"IF(D54=0,\"Please refer to NPF for relevant National Outcomes and Indicators.\",IF(D54=1,\"Please refer to NPF for relevant National Outcomes and Indicators.\", IF(D54=2,\"Please refer to NPF for relevant National Outcomes and Indicators.\",IF(D54=3,\"Please refer to NPF for relevant National Outcomes and Indicators.\",\"Please refer to NPF for relevant National Outcomes and Indicators.\"))))","v":"Please refer to NPF for relevant National Outcomes and Indicators."},{"$f":"Scope!F11","v":"0"},{"$f":"IF(F54=0,\"Please refer to NPF for relevant National Outcomes and Indicators.\",IF(F54=1,\"Please refer to NPF for relevant National Outcomes and Indicators.\", IF(F54=2,\"Please refer to NPF for relevant National Outcomes and Indicators.\",IF(F54=3,\"Please refer to NPF for relevant National Outcomes and Indicators.\",\"Please refer to NPF for relevant National Outcomes and Indicators.\"))))","v":"Please refer to NPF for relevant National Outcomes and Indicators."},{"$f":"Scope!H11","v":"0"},{"$f":"IF(H54=0,\"Please refer to NPF for relevant National Outcomes and Indicators.\",IF(H54=1,\"Please refer to NPF for relevant National Outcomes and Indicators.\", IF(H54=2,\"Please refer to NPF for relevant National Outcomes and Indicators.\",IF(H54=3,\"Please refer to NPF for relevant National Outcomes and Indicators.\",\"Please refer to NPF for relevant National Outcomes and Indicators.\"))))","v":"Please refer to NPF for relevant National Outcomes and Indicators."},{"$f":"Scope!J11","v":"0"},{"$f":"IF(J54=0,\"Please refer to NPF for relevant National Outcomes and Indicators.\",IF(J54=1,\"Please refer to NPF for relevant National Outcomes and Indicators.\", IF(J54=2,\"Please refer to NPF for relevant National Outcomes and Indicators.\",IF(J54=3,\"Please refer to NPF for relevant National Outcomes and Indicators.\",\"Please refer to NPF for relevant National Outcomes and Indicators.\"))))","v":"Please refer to NPF for relevant National Outcomes and Indicators."},{"$f":"Scope!L11","v":"0"},{"$f":"IF(L54=0,\"Please refer to NPF for relevant National Outcomes and Indicators.\",IF(L54=1,\"Please refer to NPF for relevant National Outcomes and Indicators.\", IF(L54=2,\"Please refer to NPF for relevant National Outcomes and Indicators.\",IF(L54=3,\"Please refer to NPF for relevant National Outcomes and Indicators.\",\"Please refer to NPF for relevant National Outcomes and Indicators.\"))))","v":"Please refer to NPF for relevant National Outcomes and Indicators."},{"$f":"Scope!N11","v":"0"},{"$f":"IF(N54=0,\"Please refer to NPF for relevant National Outcomes and Indicators.\",IF(N54=1,\"Please refer to NPF for relevant National Outcomes and Indicators.\", IF(N54=2,\"Please refer to NPF for relevant National Outcomes and Indicators.\",IF(N54=3,\"Please refer to NPF for relevant National Outcomes and Indicators.\",\"Please refer to NPF for relevant National Outcomes and Indicators.\"))))","v":"Please refer to NPF for relevant National Outcomes and Indicators."},{"$f":"Scope!P11","v":"0"},{"$f":"IF(P54=0,\"Please refer to NPF for relevant National Outcomes and Indicators.\",IF(P54=1,\"Please refer to NPF for relevant National Outcomes and Indicators.\", IF(P54=2,\"Please refer to NPF for relevant National Outcomes and Indicators.\",IF(P54=3,\"Please refer to NPF for relevant National Outcomes and Indicators.\",\"Please refer to NPF for relevant National Outcomes and Indicators.\"))))","v":"Please refer to NPF for relevant National Outcomes and Indicators."},{"$f":"Scope!R11","v":"0"},{"$f":"IF(R54=0,\"Please refer to NPF for relevant National Outcomes and Indicators.\",IF(R54=1,\"Please refer to NPF for relevant National Outcomes and Indicators.\", IF(R54=2,\"Please refer to NPF for relevant National Outcomes and Indicators.\",IF(R54=3,\"Please refer to NPF for relevant National Outcomes and Indicators.\",\"Please refer to NPF for relevant National Outcomes and Indicators.\"))))","v":"Please refer to NPF for relevant National Outcomes and Indicators."},{"$f":"Scope!T11","v":"0"},{"$f":"IF(T54=0,\"Please refer to NPF for relevant National Outcomes and Indicators.\",IF(T54=1,\"Please refer to NPF for relevant National Outcomes and Indicators.\", IF(T54=2,\"Please refer to NPF for relevant National Outcomes and Indicators.\",IF(T54=3,\"Please refer to NPF for relevant National Outcomes and Indicators.\",\"Please refer to NPF for relevant National Outcomes and Indicators.\"))))","v":"Please refer to NPF for relevant National Outcomes and Indicators."},{"$f":"Scope!V11","v":"0"},{"$f":"IF(V54=0,\"Please refer to NPF for relevant National Outcomes and Indicators.\",IF(V54=1,\"Please refer to NPF for relevant National Outcomes and Indicators.\", IF(V54=2,\"Please refer to NPF for relevant National Outcomes and Indicators.\",IF(V54=3,\"Please refer to NPF for relevant National Outcomes and Indicators.\",\"Please refer to NPF for relevant National Outcomes and Indicators.\"))))","v":"Please refer to NPF for relevant National Outcomes and Indicators."},{"$f":"Scope!X11","v":"0"},{"$f":"IF(X54=0,\"Please refer to NPF for relevant National Outcomes and Indicators.\",IF(X54=1,\"Please refer to NPF for relevant National Outcomes and Indicators.\", IF(X54=2,\"Please refer to NPF for relevant National Outcomes and Indicators.\",IF(X54=3,\"Please refer to NPF for relevant National Outcomes and Indicators.\",\"Please refer to NPF for relevant National Outcomes and Indicators.\"))))","v":"Please refer to NPF for relevant National Outcomes and Indicators."},{"$f":"Scope!Z11","v":"0"},{"$f":"IF(Z54=0,\"Please refer to NPF for relevant National Outcomes and Indicators.\",IF(Z54=1,\"Please refer to NPF for relevant National Outcomes and Indicators.\", IF(Z54=2,\"Please refer to NPF for relevant National Outcomes and Indicators.\",IF(Z54=3,\"Please refer to NPF for relevant National Outcomes and Indicators.\",\"Please refer to NPF for relevant National Outcomes and Indicators.\"))))","v":"Please refer to NPF for relevant National Outcomes and Indicators."},{"$f":"Scope!AB11","v":"0"},{"$f":"IF(AB54=0,\"Please refer to NPF for relevant National Outcomes and Indicators.\",IF(AB54=1,\"Please refer to NPF for relevant National Outcomes and Indicators.\", IF(AB54=2,\"Please refer to NPF for relevant National Outcomes and Indicators.\",IF(AB54=3,\"Please refer to NPF for relevant National Outcomes and Indicators.\",\"Please refer to NPF for relevant National Outcomes and Indicators.\"))))","v":"Please refer to NPF for relevant National Outcomes and Indicators."},{"$f":"Scope!AD11","v":"0"},{"$f":"IF(AD54=0,\"Please refer to NPF for relevant National Outcomes and Indicators.\",IF(AD54=1,\"Please refer to NPF for relevant National Outcomes and Indicators.\", IF(AD54=2,\"Please refer to NPF for relevant National Outcomes and Indicators.\",IF(AD54=3,\"Please refer to NPF for relevant National Outcomes and Indicators.\",\"Please refer to NPF for relevant National Outcomes and Indicators.\"))))","v":"Please refer to NPF for relevant National Outcomes and Indicators."},{"$f":"Scope!AF11","v":"0"},{"$f":"IF(AF54=0,\"Please refer to NPF for relevant National Outcomes and Indicators.\",IF(AF54=1,\"Please refer to NPF for relevant National Outcomes and Indicators.\", IF(AF54=2,\"Please refer to NPF for relevant National Outcomes and Indicators.\",IF(AF54=3,\"Please refer to NPF for relevant National Outcomes and Indicators.\",\"Please refer to NPF for relevant National Outcomes and Indicators.\"))))","v":"Please refer to NPF for relevant National Outcomes and Indicators."},{"$f":"Scope!AH11","v":"0"},{"$f":"IF(AH54=0,\"Please refer to NPF for relevant National Outcomes and Indicators.\",IF(AH54=1,\"Please refer to NPF for relevant National Outcomes and Indicators.\", IF(AH54=2,\"Please refer to NPF for relevant National Outcomes and Indicators.\",IF(AH54=3,\"Please refer to NPF for relevant National Outcomes and Indicators.\",\"Please refer to NPF for relevant National Outcomes and Indicators.\"))))","v":"Please refer to NPF for relevant National Outcomes and Indicators."},{"$f":"Scope!AJ11","v":"0"},{"$f":"IF(AJ54=0,\"Please refer to NPF for relevant National Outcomes and Indicators.\",IF(AJ54=1,\"Please refer to NPF for relevant National Outcomes and Indicators.\", IF(AJ54=2,\"Please refer to NPF for relevant National Outcomes and Indicators.\",IF(AJ54=3,\"Please refer to NPF for relevant National Outcomes and Indicators.\",\"Please refer to NPF for relevant National Outcomes and Indicators.\"))))","v":"Please refer to NPF for relevant National Outcomes and Indicators."},{"$f":"Scope!AL11","v":"0"},{"$f":"IF(AL54=0,\"Please refer to NPF for relevant National Outcomes and Indicators.\",IF(AL54=1,\"Please refer to NPF for relevant National Outcomes and Indicators.\", IF(AL54=2,\"Please refer to NPF for relevant National Outcomes and Indicators.\",IF(AL54=3,\"Please refer to NPF for relevant National Outcomes and Indicators.\",\"Please refer to NPF for relevant National Outcomes and Indicators.\"))))","v":"Please refer to NPF for relevant National Outcomes and Indicators."},{"$f":"Scope!AN11","v":"0"},{"$f":"IF(AN54=0,\"Please refer to NPF for relevant National Outcomes and Indicators.\",IF(AN54=1,\"Please refer to NPF for relevant National Outcomes and Indicators.\", IF(AN54=2,\"Please refer to NPF for relevant National Outcomes and Indicators.\",IF(AN54=3,\"Please refer to NPF for relevant National Outcomes and Indicators.\",\"Please refer to NPF for relevant National Outcomes and Indicators.\"))))","v":"Please refer to NPF for relevant National Outcomes and Indicators."},{"$f":"Scope!AP11","v":"0"},{"$f":"IF(AP54=0,\"Please refer to NPF for relevant National Outcomes and Indicators.\",IF(AP54=1,\"Please refer to NPF for relevant National Outcomes and Indicators.\", IF(AP54=2,\"Please refer to NPF for relevant National Outcomes and Indicators.\",IF(AP54=3,\"Please refer to NPF for relevant National Outcomes and Indicators.\",\"Please refer to NPF for relevant National Outcomes and Indicators.\"))))","v":"Please refer to NPF for relevant National Outcomes and Indicators."},{"$f":"Scope!AR11","v":"0"},{"$f":"IF(AR54=0,\"Please refer to NPF for relevant National Outcomes and Indicators.\",IF(AR54=1,\"Please refer to NPF for relevant National Outcomes and Indicators.\", IF(AR54=2,\"Please refer to NPF for relevant National Outcomes and Indicators.\",IF(AR54=3,\"Please refer to NPF for relevant National Outcomes and Indicators.\",\"Please refer to NPF for relevant National Outcomes and Indicators.\"))))","v":"Please refer to NPF for relevant National Outcomes and Indicators."},{"$f":"Scope!AT11","v":"0"},{"$f":"IF(AT54=0,\"Please refer to NPF for relevant National Outcomes and Indicators.\",IF(AT54=1,\"Please refer to NPF for relevant National Outcomes and Indicators.\", IF(AT54=2,\"Please refer to NPF for relevant National Outcomes and Indicators.\",IF(AT54=3,\"Please refer to NPF for relevant National Outcomes and Indicators.\",\"Please refer to NPF for relevant National Outcomes and Indicators.\"))))","v":"Please refer to NPF for relevant National Outcomes and Indicators."},{"$f":"Scope!AV11","v":"0"},{"$f":"IF(AV54=0,\"Please refer to NPF for relevant National Outcomes and Indicators.\",IF(AV54=1,\"Please refer to NPF for relevant National Outcomes and Indicators.\", IF(AV54=2,\"Please refer to NPF for relevant National Outcomes and Indicators.\",IF(AV54=3,\"Please refer to NPF for relevant National Outcomes and Indicators.\",\"Please refer to NPF for relevant National Outcomes and Indicators.\"))))","v":"Please refer to NPF for relevant National Outcomes and Indicators."},{"$f":"Scope!AX11","v":"0"},{"$f":"IF(AX54=0,\"Please refer to NPF for relevant National Outcomes and Indicators.\",IF(AX54=1,\"Please refer to NPF for relevant National Outcomes and Indicators.\", IF(AX54=2,\"Please refer to NPF for relevant National Outcomes and Indicators.\",IF(AX54=3,\"Please refer to NPF for relevant National Outcomes and Indicators.\",\"Please refer to NPF for relevant National Outcomes and Indicators.\"))))","v":"Please refer to NPF for relevant National Outcomes and Indicators."},{"$f":"Scope!AZ11","v":"0"},{"$f":"IF(AZ54=0,\"Please refer to NPF for relevant National Outcomes and Indicators.\",IF(AZ54=1,\"Please refer to NPF for relevant National Outcomes and Indicators.\", IF(AZ54=2,\"Please refer to NPF for relevant National Outcomes and Indicators.\",IF(AZ54=3,\"Please refer to NPF for relevant National Outcomes and Indicators.\",\"Please refer to NPF for relevant National Outcomes and Indicators.\"))))","v":"Please refer to NPF for relevant National Outcomes and Indicators."},{"$f":"Scope!BB11","v":"0"},{"$f":"IF(BB54=0,\"Please refer to NPF for relevant National Outcomes and Indicators.\",IF(BB54=1,\"Please refer to NPF for relevant National Outcomes and Indicators.\", IF(BB54=2,\"Please refer to NPF for relevant National Outcomes and Indicators.\",IF(BB54=3,\"Please refer to NPF for relevant National Outcomes and Indicators.\",\"Please refer to NPF for relevant National Outcomes and Indicators.\"))))","v":"Please refer to NPF for relevant National Outcomes and Indicators."},{"$f":"Scope!BD11","v":"0"},{"$f":"IF(BD54=0,\"Please refer to NPF for relevant National Outcomes and Indicators.\",IF(BD54=1,\"Please refer to NPF for relevant National Outcomes and Indicators.\", IF(BD54=2,\"Please refer to NPF for relevant National Outcomes and Indicators.\",IF(BD54=3,\"Please refer to NPF for relevant National Outcomes and Indicators.\",\"Please refer to NPF for relevant National Outcomes and Indicators.\"))))","v":"Please refer to NPF for relevant National Outcomes and Indicators."},{"$f":"Scope!BF11","v":"0"},{"$f":"IF(BF54=0,\"Please refer to NPF for relevant National Outcomes and Indicators.\",IF(BF54=1,\"Please refer to NPF for relevant National Outcomes and Indicators.\", IF(BF54=2,\"Please refer to NPF for relevant National Outcomes and Indicators.\",IF(BF54=3,\"Please refer to NPF for relevant National Outcomes and Indicators.\",\"Please refer to NPF for relevant National Outcomes and Indicators.\"))))","v":"Please refer to NPF for relevant National Outcomes and Indicators."},{"$f":"Scope!BH11","v":"0"},{"$f":"IF(BH54=0,\"Please refer to NPF for relevant National Outcomes and Indicators.\",IF(BH54=1,\"Please refer to NPF for relevant National Outcomes and Indicators.\", IF(BH54=2,\"Please refer to NPF for relevant National Outcomes and Indicators.\",IF(BH54=3,\"Please refer to NPF for relevant National Outcomes and Indicators.\",\"Please refer to NPF for relevant National Outcomes and Indicators.\"))))","v":"Please refer to NPF for relevant National Outcomes and Indicators."},{"$f":"Scope!BJ11","v":"0"},{"$f":"IF(BJ54=0,\"Please refer to NPF for relevant National Outcomes and Indicators.\",IF(BJ54=1,\"Please refer to NPF for relevant National Outcomes and Indicators.\", IF(BJ54=2,\"Please refer to NPF for relevant National Outcomes and Indicators.\",IF(BJ54=3,\"Please refer to NPF for relevant National Outcomes and Indicators.\",\"Please refer to NPF for relevant National Outcomes and Indicators.\"))))","v":"Please refer to NPF for relevant National Outcomes and Indicators."},{"$f":"Scope!BL11","v":"0"},{"$f":"IF(BL54=0,\"Please refer to NPF for relevant National Outcomes and Indicators.\",IF(BL54=1,\"Please refer to NPF for relevant National Outcomes and Indicators.\", IF(BL54=2,\"Please refer to NPF for relevant National Outcomes and Indicators.\",IF(BL54=3,\"Please refer to NPF for relevant National Outcomes and Indicators.\",\"Please refer to NPF for relevant National Outcomes and Indicators.\"))))","v":"Please refer to NPF for relevant National Outcomes and Indicators."},{"$f":"Scope!BN11","v":"0"},{"$f":"IF(BN54=0,\"Please refer to NPF for relevant National Outcomes and Indicators.\",IF(BN54=1,\"Please refer to NPF for relevant National Outcomes and Indicators.\", IF(BN54=2,\"Please refer to NPF for relevant National Outcomes and Indicators.\",IF(BN54=3,\"Please refer to NPF for relevant National Outcomes and Indicators.\",\"Please refer to NPF for relevant National Outcomes and Indicators.\"))))","v":"Please refer to NPF for relevant National Outcomes and Indicators."},{"$f":"Scope!BP11","v":"0"},{"$f":"IF(BP54=0,\"Please refer to NPF for relevant National Outcomes and Indicators.\",IF(BP54=1,\"Please refer to NPF for relevant National Outcomes and Indicators.\", IF(BP54=2,\"Please refer to NPF for relevant National Outcomes and Indicators.\",IF(BP54=3,\"Please refer to NPF for relevant National Outcomes and Indicators.\",\"Please refer to NPF for relevant National Outcomes and Indicators.\"))))","v":"Please refer to NPF for relevant National Outcomes and Indicators."},{"$f":"Scope!BR11","v":"0"},{"$f":"IF(BR54=0,\"Please refer to NPF for relevant National Outcomes and Indicators.\",IF(BR54=1,\"Please refer to NPF for relevant National Outcomes and Indicators.\", IF(BR54=2,\"Please refer to NPF for relevant National Outcomes and Indicators.\",IF(BR54=3,\"Please refer to NPF for relevant National Outcomes and Indicators.\",\"Please refer to NPF for relevant National Outcomes and Indicators.\"))))","v":"Please refer to NPF for relevant National Outcomes and Indicators."},{"$f":"Scope!BT11","v":"0"},{"$f":"IF(BT54=0,\"Please refer to NPF for relevant National Outcomes and Indicators.\",IF(BT54=1,\"Please refer to NPF for relevant National Outcomes and Indicators.\", IF(BT54=2,\"Please refer to NPF for relevant National Outcomes and Indicators.\",IF(BT54=3,\"Please refer to NPF for relevant National Outcomes and Indicators.\",\"Please refer to NPF for relevant National Outcomes and Indicators.\"))))","v":"Please refer to NPF for relevant National Outcomes and Indicators."},{"$f":"Scope!BV11","v":"0"},{"$f":"IF(BV54=0,\"Please refer to NPF for relevant National Outcomes and Indicators.\",IF(BV54=1,\"Please refer to NPF for relevant National Outcomes and Indicators.\", IF(BV54=2,\"Please refer to NPF for relevant National Outcomes and Indicators.\",IF(BV54=3,\"Please refer to NPF for relevant National Outcomes and Indicators.\",\"Please refer to NPF for relevant National Outcomes and Indicators.\"))))","v":"Please refer to NPF for relevant National Outcomes and Indicators."},{"$f":"Scope!BX11","v":"0"},{"$f":"IF(BX54=0,\"Please refer to NPF for relevant National Outcomes and Indicators.\",IF(BX54=1,\"Please refer to NPF for relevant National Outcomes and Indicators.\", IF(BX54=2,\"Please refer to NPF for relevant National Outcomes and Indicators.\",IF(BX54=3,\"Please refer to NPF for relevant National Outcomes and Indicators.\",\"Please refer to NPF for relevant National Outcomes and Indicators.\"))))","v":"Please refer to NPF for relevant National Outcomes and Indicators."},{"$f":"Scope!BZ11","v":"0"},{"$f":"IF(BZ54=0,\"Please refer to NPF for relevant National Outcomes and Indicators.\",IF(BZ54=1,\"Please refer to NPF for relevant National Outcomes and Indicators.\", IF(BZ54=2,\"Please refer to NPF for relevant National Outcomes and Indicators.\",IF(BZ54=3,\"Please refer to NPF for relevant National Outcomes and Indicators.\",\"Please refer to NPF for relevant National Outcomes and Indicators.\"))))","v":"Please refer to NPF for relevant National Outcomes and Indicators."},{"$f":"Scope!CB11","v":"0"},{"$f":"IF(CB54=0,\"Please refer to NPF for relevant National Outcomes and Indicators.\",IF(CB54=1,\"Please refer to NPF for relevant National Outcomes and Indicators.\", IF(CB54=2,\"Please refer to NPF for relevant National Outcomes and Indicators.\",IF(CB54=3,\"Please refer to NPF for relevant National Outcomes and Indicators.\",\"Please refer to NPF for relevant National Outcomes and Indicators.\"))))","v":"Please refer to NPF for relevant National Outcomes and Indicators."},{"$f":"Scope!CD11","v":"0"},{"$f":"IF(CD54=0,\"Please refer to NPF for relevant National Outcomes and Indicators.\",IF(CD54=1,\"Please refer to NPF for relevant National Outcomes and Indicators.\", IF(CD54=2,\"Please refer to NPF for relevant National Outcomes and Indicators.\",IF(CD54=3,\"Please refer to NPF for relevant National Outcomes and Indicators.\",\"Please refer to NPF for relevant National Outcomes and Indicators.\"))))","v":"Please refer to NPF for relevant National Outcomes and Indicators."},null,null,null,null,{"$f":"Scope!CJ11","v":"0"},{"$f":"IF(CJ54=0,\"Please refer to NPF for relevant National Outcomes and Indicators.\",IF(CJ54=1,\"Please refer to NPF for relevant National Outcomes and Indicators.\", IF(CJ54=2,\"Please refer to NPF for relevant National Outcomes and Indicators.\",IF(CJ54=3,\"Please refer to NPF for relevant National Outcomes and Indicators.\",\"Please refer to NPF for relevant National Outcomes and Indicators.\"))))","v":"Please refer to NPF for relevant National Outcomes and Indicators."}]
[null,null,"",{"$f":"Scope!D12","v":"0"},{"$f":"IF(D55=0,\"Please refer to NPF for relevant National Outcomes and Indicators.\",IF(D55=1,\"Please refer to NPF for relevant National Outcomes and Indicators.\", IF(D55=2,\"Please refer to NPF for relevant National Outcomes and Indicators.\",IF(D55=3,\"Please refer to NPF for relevant National Outcomes and Indicators.\",\"Please refer to NPF for relevant National Outcomes and Indicators.\"))))","v":"Please refer to NPF for relevant National Outcomes and Indicators."},{"$f":"Scope!F12","v":"0"},{"$f":"IF(F55=0,\"Please refer to NPF for relevant National Outcomes and Indicators.\",IF(F55=1,\"Please refer to NPF for relevant National Outcomes and Indicators.\", IF(F55=2,\"Please refer to NPF for relevant National Outcomes and Indicators.\",IF(F55=3,\"Please refer to NPF for relevant National Outcomes and Indicators.\",\"Please refer to NPF for relevant National Outcomes and Indicators.\"))))","v":"Please refer to NPF for relevant National Outcomes and Indicators."},{"$f":"Scope!H12","v":"0"},{"$f":"IF(H55=0,\"Please refer to NPF for relevant National Outcomes and Indicators.\",IF(H55=1,\"Please refer to NPF for relevant National Outcomes and Indicators.\", IF(H55=2,\"Please refer to NPF for relevant National Outcomes and Indicators.\",IF(H55=3,\"Please refer to NPF for relevant National Outcomes and Indicators.\",\"Please refer to NPF for relevant National Outcomes and Indicators.\"))))","v":"Please refer to NPF for relevant National Outcomes and Indicators."},{"$f":"Scope!J12","v":"0"},{"$f":"IF(J55=0,\"Please refer to NPF for relevant National Outcomes and Indicators.\",IF(J55=1,\"Please refer to NPF for relevant National Outcomes and Indicators.\", IF(J55=2,\"Please refer to NPF for relevant National Outcomes and Indicators.\",IF(J55=3,\"Please refer to NPF for relevant National Outcomes and Indicators.\",\"Please refer to NPF for relevant National Outcomes and Indicators.\"))))","v":"Please refer to NPF for relevant National Outcomes and Indicators."},{"$f":"Scope!L12","v":"0"},{"$f":"IF(L55=0,\"Please refer to NPF for relevant National Outcomes and Indicators.\",IF(L55=1,\"Please refer to NPF for relevant National Outcomes and Indicators.\", IF(L55=2,\"Please refer to NPF for relevant National Outcomes and Indicators.\",IF(L55=3,\"Please refer to NPF for relevant National Outcomes and Indicators.\",\"Please refer to NPF for relevant National Outcomes and Indicators.\"))))","v":"Please refer to NPF for relevant National Outcomes and Indicators."},{"$f":"Scope!N12","v":"0"},{"$f":"IF(N55=0,\"Please refer to NPF for relevant National Outcomes and Indicators.\",IF(N55=1,\"Please refer to NPF for relevant National Outcomes and Indicators.\", IF(N55=2,\"Please refer to NPF for relevant National Outcomes and Indicators.\",IF(N55=3,\"Please refer to NPF for relevant National Outcomes and Indicators.\",\"Please refer to NPF for relevant National Outcomes and Indicators.\"))))","v":"Please refer to NPF for relevant National Outcomes and Indicators."},{"$f":"Scope!P12","v":"0"},{"$f":"IF(P55=0,\"Please refer to NPF for relevant National Outcomes and Indicators.\",IF(P55=1,\"Please refer to NPF for relevant National Outcomes and Indicators.\", IF(P55=2,\"Please refer to NPF for relevant National Outcomes and Indicators.\",IF(P55=3,\"Please refer to NPF for relevant National Outcomes and Indicators.\",\"Please refer to NPF for relevant National Outcomes and Indicators.\"))))","v":"Please refer to NPF for relevant National Outcomes and Indicators."},{"$f":"Scope!R12","v":"0"},{"$f":"IF(R55=0,\"Please refer to NPF for relevant National Outcomes and Indicators.\",IF(R55=1,\"Please refer to NPF for relevant National Outcomes and Indicators.\", IF(R55=2,\"Please refer to NPF for relevant National Outcomes and Indicators.\",IF(R55=3,\"Please refer to NPF for relevant National Outcomes and Indicators.\",\"Please refer to NPF for relevant National Outcomes and Indicators.\"))))","v":"Please refer to NPF for relevant National Outcomes and Indicators."},{"$f":"Scope!T12","v":"0"},{"$f":"IF(T55=0,\"Please refer to NPF for relevant National Outcomes and Indicators.\",IF(T55=1,\"Please refer to NPF for relevant National Outcomes and Indicators.\", IF(T55=2,\"Please refer to NPF for relevant National Outcomes and Indicators.\",IF(T55=3,\"Please refer to NPF for relevant National Outcomes and Indicators.\",\"Please refer to NPF for relevant National Outcomes and Indicators.\"))))","v":"Please refer to NPF for relevant National Outcomes and Indicators."},{"$f":"Scope!V12","v":"0"},{"$f":"IF(V55=0,\"Please refer to NPF for relevant National Outcomes and Indicators.\",IF(V55=1,\"Please refer to NPF for relevant National Outcomes and Indicators.\", IF(V55=2,\"Please refer to NPF for relevant National Outcomes and Indicators.\",IF(V55=3,\"Please refer to NPF for relevant National Outcomes and Indicators.\",\"Please refer to NPF for relevant National Outcomes and Indicators.\"))))","v":"Please refer to NPF for relevant National Outcomes and Indicators."},{"$f":"Scope!X12","v":"0"},{"$f":"IF(X55=0,\"Please refer to NPF for relevant National Outcomes and Indicators.\",IF(X55=1,\"Please refer to NPF for relevant National Outcomes and Indicators.\", IF(X55=2,\"Please refer to NPF for relevant National Outcomes and Indicators.\",IF(X55=3,\"Please refer to NPF for relevant National Outcomes and Indicators.\",\"Please refer to NPF for relevant National Outcomes and Indicators.\"))))","v":"Please refer to NPF for relevant National Outcomes and Indicators."},{"$f":"Scope!Z12","v":"0"},{"$f":"IF(Z55=0,\"Please refer to NPF for relevant National Outcomes and Indicators.\",IF(Z55=1,\"Please refer to NPF for relevant National Outcomes and Indicators.\", IF(Z55=2,\"Please refer to NPF for relevant National Outcomes and Indicators.\",IF(Z55=3,\"Please refer to NPF for relevant National Outcomes and Indicators.\",\"Please refer to NPF for relevant National Outcomes and Indicators.\"))))","v":"Please refer to NPF for relevant National Outcomes and Indicators."},{"$f":"Scope!AB12","v":"0"},{"$f":"IF(AB55=0,\"Please refer to NPF for relevant National Outcomes and Indicators.\",IF(AB55=1,\"Please refer to NPF for relevant National Outcomes and Indicators.\", IF(AB55=2,\"Please refer to NPF for relevant National Outcomes and Indicators.\",IF(AB55=3,\"Please refer to NPF for relevant National Outcomes and Indicators.\",\"Please refer to NPF for relevant National Outcomes and Indicators.\"))))","v":"Please refer to NPF for relevant National Outcomes and Indicators."},{"$f":"Scope!AD12","v":"0"},{"$f":"IF(AD55=0,\"Please refer to NPF for relevant National Outcomes and Indicators.\",IF(AD55=1,\"Please refer to NPF for relevant National Outcomes and Indicators.\", IF(AD55=2,\"Please refer to NPF for relevant National Outcomes and Indicators.\",IF(AD55=3,\"Please refer to NPF for relevant National Outcomes and Indicators.\",\"Please refer to NPF for relevant National Outcomes and Indicators.\"))))","v":"Please refer to NPF for relevant National Outcomes and Indicators."},{"$f":"Scope!AF12","v":"0"},{"$f":"IF(AF55=0,\"Please refer to NPF for relevant National Outcomes and Indicators.\",IF(AF55=1,\"Please refer to NPF for relevant National Outcomes and Indicators.\", IF(AF55=2,\"Please refer to NPF for relevant National Outcomes and Indicators.\",IF(AF55=3,\"Please refer to NPF for relevant National Outcomes and Indicators.\",\"Please refer to NPF for relevant National Outcomes and Indicators.\"))))","v":"Please refer to NPF for relevant National Outcomes and Indicators."},{"$f":"Scope!AH12","v":"0"},{"$f":"IF(AH55=0,\"Please refer to NPF for relevant National Outcomes and Indicators.\",IF(AH55=1,\"Please refer to NPF for relevant National Outcomes and Indicators.\", IF(AH55=2,\"Please refer to NPF for relevant National Outcomes and Indicators.\",IF(AH55=3,\"Please refer to NPF for relevant National Outcomes and Indicators.\",\"Please refer to NPF for relevant National Outcomes and Indicators.\"))))","v":"Please refer to NPF for relevant National Outcomes and Indicators."},{"$f":"Scope!AJ12","v":"0"},{"$f":"IF(AJ55=0,\"Please refer to NPF for relevant National Outcomes and Indicators.\",IF(AJ55=1,\"Please refer to NPF for relevant National Outcomes and Indicators.\", IF(AJ55=2,\"Please refer to NPF for relevant National Outcomes and Indicators.\",IF(AJ55=3,\"Please refer to NPF for relevant National Outcomes and Indicators.\",\"Please refer to NPF for relevant National Outcomes and Indicators.\"))))","v":"Please refer to NPF for relevant National Outcomes and Indicators."},{"$f":"Scope!AL12","v":"0"},{"$f":"IF(AL55=0,\"Please refer to NPF for relevant National Outcomes and Indicators.\",IF(AL55=1,\"Please refer to NPF for relevant National Outcomes and Indicators.\", IF(AL55=2,\"Please refer to NPF for relevant National Outcomes and Indicators.\",IF(AL55=3,\"Please refer to NPF for relevant National Outcomes and Indicators.\",\"Please refer to NPF for relevant National Outcomes and Indicators.\"))))","v":"Please refer to NPF for relevant National Outcomes and Indicators."},{"$f":"Scope!AN12","v":"0"},{"$f":"IF(AN55=0,\"Please refer to NPF for relevant National Outcomes and Indicators.\",IF(AN55=1,\"Please refer to NPF for relevant National Outcomes and Indicators.\", IF(AN55=2,\"Please refer to NPF for relevant National Outcomes and Indicators.\",IF(AN55=3,\"Please refer to NPF for relevant National Outcomes and Indicators.\",\"Please refer to NPF for relevant National Outcomes and Indicators.\"))))","v":"Please refer to NPF for relevant National Outcomes and Indicators."},{"$f":"Scope!AP12","v":"0"},{"$f":"IF(AP55=0,\"Please refer to NPF for relevant National Outcomes and Indicators.\",IF(AP55=1,\"Please refer to NPF for relevant National Outcomes and Indicators.\", IF(AP55=2,\"Please refer to NPF for relevant National Outcomes and Indicators.\",IF(AP55=3,\"Please refer to NPF for relevant National Outcomes and Indicators.\",\"Please refer to NPF for relevant National Outcomes and Indicators.\"))))","v":"Please refer to NPF for relevant National Outcomes and Indicators."},{"$f":"Scope!AR12","v":"0"},{"$f":"IF(AR55=0,\"Please refer to NPF for relevant National Outcomes and Indicators.\",IF(AR55=1,\"Please refer to NPF for relevant National Outcomes and Indicators.\", IF(AR55=2,\"Please refer to NPF for relevant National Outcomes and Indicators.\",IF(AR55=3,\"Please refer to NPF for relevant National Outcomes and Indicators.\",\"Please refer to NPF for relevant National Outcomes and Indicators.\"))))","v":"Please refer to NPF for relevant National Outcomes and Indicators."},{"$f":"Scope!AT12","v":"0"},{"$f":"IF(AT55=0,\"Please refer to NPF for relevant National Outcomes and Indicators.\",IF(AT55=1,\"Please refer to NPF for relevant National Outcomes and Indicators.\", IF(AT55=2,\"Please refer to NPF for relevant National Outcomes and Indicators.\",IF(AT55=3,\"Please refer to NPF for relevant National Outcomes and Indicators.\",\"Please refer to NPF for relevant National Outcomes and Indicators.\"))))","v":"Please refer to NPF for relevant National Outcomes and Indicators."},{"$f":"Scope!AV12","v":"0"},{"$f":"IF(AV55=0,\"Please refer to NPF for relevant National Outcomes and Indicators.\",IF(AV55=1,\"Please refer to NPF for relevant National Outcomes and Indicators.\", IF(AV55=2,\"Please refer to NPF for relevant National Outcomes and Indicators.\",IF(AV55=3,\"Please refer to NPF for relevant National Outcomes and Indicators.\",\"Please refer to NPF for relevant National Outcomes and Indicators.\"))))","v":"Please refer to NPF for relevant National Outcomes and Indicators."},{"$f":"Scope!AX12","v":"0"},{"$f":"IF(AX55=0,\"Please refer to NPF for relevant National Outcomes and Indicators.\",IF(AX55=1,\"Please refer to NPF for relevant National Outcomes and Indicators.\", IF(AX55=2,\"Please refer to NPF for relevant National Outcomes and Indicators.\",IF(AX55=3,\"Please refer to NPF for relevant National Outcomes and Indicators.\",\"Please refer to NPF for relevant National Outcomes and Indicators.\"))))","v":"Please refer to NPF for relevant National Outcomes and Indicators."},{"$f":"Scope!AZ12","v":"0"},{"$f":"IF(AZ55=0,\"Please refer to NPF for relevant National Outcomes and Indicators.\",IF(AZ55=1,\"Please refer to NPF for relevant National Outcomes and Indicators.\", IF(AZ55=2,\"Please refer to NPF for relevant National Outcomes and Indicators.\",IF(AZ55=3,\"Please refer to NPF for relevant National Outcomes and Indicators.\",\"Please refer to NPF for relevant National Outcomes and Indicators.\"))))","v":"Please refer to NPF for relevant National Outcomes and Indicators."},{"$f":"Scope!BB12","v":"0"},{"$f":"IF(BB55=0,\"Please refer to NPF for relevant National Outcomes and Indicators.\",IF(BB55=1,\"Please refer to NPF for relevant National Outcomes and Indicators.\", IF(BB55=2,\"Please refer to NPF for relevant National Outcomes and Indicators.\",IF(BB55=3,\"Please refer to NPF for relevant National Outcomes and Indicators.\",\"Please refer to NPF for relevant National Outcomes and Indicators.\"))))","v":"Please refer to NPF for relevant National Outcomes and Indicators."},{"$f":"Scope!BD12","v":"0"},{"$f":"IF(BD55=0,\"Please refer to NPF for relevant National Outcomes and Indicators.\",IF(BD55=1,\"Please refer to NPF for relevant National Outcomes and Indicators.\", IF(BD55=2,\"Please refer to NPF for relevant National Outcomes and Indicators.\",IF(BD55=3,\"Please refer to NPF for relevant National Outcomes and Indicators.\",\"Please refer to NPF for relevant National Outcomes and Indicators.\"))))","v":"Please refer to NPF for relevant National Outcomes and Indicators."},{"$f":"Scope!BF12","v":"0"},{"$f":"IF(BF55=0,\"Please refer to NPF for relevant National Outcomes and Indicators.\",IF(BF55=1,\"Please refer to NPF for relevant National Outcomes and Indicators.\", IF(BF55=2,\"Please refer to NPF for relevant National Outcomes and Indicators.\",IF(BF55=3,\"Please refer to NPF for relevant National Outcomes and Indicators.\",\"Please refer to NPF for relevant National Outcomes and Indicators.\"))))","v":"Please refer to NPF for relevant National Outcomes and Indicators."},{"$f":"Scope!BH12","v":"0"},{"$f":"IF(BH55=0,\"Please refer to NPF for relevant National Outcomes and Indicators.\",IF(BH55=1,\"Please refer to NPF for relevant National Outcomes and Indicators.\", IF(BH55=2,\"Please refer to NPF for relevant National Outcomes and Indicators.\",IF(BH55=3,\"Please refer to NPF for relevant National Outcomes and Indicators.\",\"Please refer to NPF for relevant National Outcomes and Indicators.\"))))","v":"Please refer to NPF for relevant National Outcomes and Indicators."},{"$f":"Scope!BJ12","v":"0"},{"$f":"IF(BJ55=0,\"Please refer to NPF for relevant National Outcomes and Indicators.\",IF(BJ55=1,\"Please refer to NPF for relevant National Outcomes and Indicators.\", IF(BJ55=2,\"Please refer to NPF for relevant National Outcomes and Indicators.\",IF(BJ55=3,\"Please refer to NPF for relevant National Outcomes and Indicators.\",\"Please refer to NPF for relevant National Outcomes and Indicators.\"))))","v":"Please refer to NPF for relevant National Outcomes and Indicators."},{"$f":"Scope!BL12","v":"0"},{"$f":"IF(BL55=0,\"Please refer to NPF for relevant National Outcomes and Indicators.\",IF(BL55=1,\"Please refer to NPF for relevant National Outcomes and Indicators.\", IF(BL55=2,\"Please refer to NPF for relevant National Outcomes and Indicators.\",IF(BL55=3,\"Please refer to NPF for relevant National Outcomes and Indicators.\",\"Please refer to NPF for relevant National Outcomes and Indicators.\"))))","v":"Please refer to NPF for relevant National Outcomes and Indicators."},{"$f":"Scope!BN12","v":"0"},{"$f":"IF(BN55=0,\"Please refer to NPF for relevant National Outcomes and Indicators.\",IF(BN55=1,\"Please refer to NPF for relevant National Outcomes and Indicators.\", IF(BN55=2,\"Please refer to NPF for relevant National Outcomes and Indicators.\",IF(BN55=3,\"Please refer to NPF for relevant National Outcomes and Indicators.\",\"Please refer to NPF for relevant National Outcomes and Indicators.\"))))","v":"Please refer to NPF for relevant National Outcomes and Indicators."},{"$f":"Scope!BP12","v":"0"},{"$f":"IF(BP55=0,\"Please refer to NPF for relevant National Outcomes and Indicators.\",IF(BP55=1,\"Please refer to NPF for relevant National Outcomes and Indicators.\", IF(BP55=2,\"Please refer to NPF for relevant National Outcomes and Indicators.\",IF(BP55=3,\"Please refer to NPF for relevant National Outcomes and Indicators.\",\"Please refer to NPF for relevant National Outcomes and Indicators.\"))))","v":"Please refer to NPF for relevant National Outcomes and Indicators."},{"$f":"Scope!BR12","v":"0"},{"$f":"IF(BR55=0,\"Please refer to NPF for relevant National Outcomes and Indicators.\",IF(BR55=1,\"Please refer to NPF for relevant National Outcomes and Indicators.\", IF(BR55=2,\"Please refer to NPF for relevant National Outcomes and Indicators.\",IF(BR55=3,\"Please refer to NPF for relevant National Outcomes and Indicators.\",\"Please refer to NPF for relevant National Outcomes and Indicators.\"))))","v":"Please refer to NPF for relevant National Outcomes and Indicators."},{"$f":"Scope!BT12","v":"0"},{"$f":"IF(BT55=0,\"Please refer to NPF for relevant National Outcomes and Indicators.\",IF(BT55=1,\"Please refer to NPF for relevant National Outcomes and Indicators.\", IF(BT55=2,\"Please refer to NPF for relevant National Outcomes and Indicators.\",IF(BT55=3,\"Please refer to NPF for relevant National Outcomes and Indicators.\",\"Please refer to NPF for relevant National Outcomes and Indicators.\"))))","v":"Please refer to NPF for relevant National Outcomes and Indicators."},{"$f":"Scope!BV12","v":"0"},{"$f":"IF(BV55=0,\"Please refer to NPF for relevant National Outcomes and Indicators.\",IF(BV55=1,\"Please refer to NPF for relevant National Outcomes and Indicators.\", IF(BV55=2,\"Please refer to NPF for relevant National Outcomes and Indicators.\",IF(BV55=3,\"Please refer to NPF for relevant National Outcomes and Indicators.\",\"Please refer to NPF for relevant National Outcomes and Indicators.\"))))","v":"Please refer to NPF for relevant National Outcomes and Indicators."},{"$f":"Scope!BX12","v":"0"},{"$f":"IF(BX55=0,\"Please refer to NPF for relevant National Outcomes and Indicators.\",IF(BX55=1,\"Please refer to NPF for relevant National Outcomes and Indicators.\", IF(BX55=2,\"Please refer to NPF for relevant National Outcomes and Indicators.\",IF(BX55=3,\"Please refer to NPF for relevant National Outcomes and Indicators.\",\"Please refer to NPF for relevant National Outcomes and Indicators.\"))))","v":"Please refer to NPF for relevant National Outcomes and Indicators."},{"$f":"Scope!BZ12","v":"0"},{"$f":"IF(BZ55=0,\"Please refer to NPF for relevant National Outcomes and Indicators.\",IF(BZ55=1,\"Please refer to NPF for relevant National Outcomes and Indicators.\", IF(BZ55=2,\"Please refer to NPF for relevant National Outcomes and Indicators.\",IF(BZ55=3,\"Please refer to NPF for relevant National Outcomes and Indicators.\",\"Please refer to NPF for relevant National Outcomes and Indicators.\"))))","v":"Please refer to NPF for relevant National Outcomes and Indicators."},{"$f":"Scope!CB12","v":"0"},{"$f":"IF(CB55=0,\"Please refer to NPF for relevant National Outcomes and Indicators.\",IF(CB55=1,\"Please refer to NPF for relevant National Outcomes and Indicators.\", IF(CB55=2,\"Please refer to NPF for relevant National Outcomes and Indicators.\",IF(CB55=3,\"Please refer to NPF for relevant National Outcomes and Indicators.\",\"Please refer to NPF for relevant National Outcomes and Indicators.\"))))","v":"Please refer to NPF for relevant National Outcomes and Indicators."},{"$f":"Scope!CD12","v":"0"},{"$f":"IF(CD55=0,\"Please refer to NPF for relevant National Outcomes and Indicators.\",IF(CD55=1,\"Please refer to NPF for relevant National Outcomes and Indicators.\", IF(CD55=2,\"Please refer to NPF for relevant National Outcomes and Indicators.\",IF(CD55=3,\"Please refer to NPF for relevant National Outcomes and Indicators.\",\"Please refer to NPF for relevant National Outcomes and Indicators.\"))))","v":"Please refer to NPF for relevant National Outcomes and Indicators."},null,null,null,null,{"$f":"Scope!CJ12","v":"0"},{"$f":"IF(CJ55=0,\"Please refer to NPF for relevant National Outcomes and Indicators.\",IF(CJ55=1,\"Please refer to NPF for relevant National Outcomes and Indicators.\", IF(CJ55=2,\"Please refer to NPF for relevant National Outcomes and Indicators.\",IF(CJ55=3,\"Please refer to NPF for relevant National Outcomes and Indicators.\",\"Please refer to NPF for relevant National Outcomes and Indicators.\"))))","v":"Please refer to NPF for relevant National Outcomes and Indicators."}]
[null,null,"",{"$f":"Scope!D13","v":"0"},"Please refer to NPF for relevant National Outcomes and Indicators.",{"$f":"Scope!F13","v":"0"},"Please refer to NPF for relevant National Outcomes and Indicators.",{"$f":"Scope!H13","v":"0"},"Please refer to NPF for relevant National Outcomes and Indicators.",{"$f":"Scope!J13","v":"0"},"Please refer to NPF for relevant National Outcomes and Indicators.",{"$f":"Scope!L13","v":"0"},"Please refer to NPF for relevant National Outcomes and Indicators.",{"$f":"Scope!N13","v":"0"},"Please refer to NPF for relevant National Outcomes and Indicators.",{"$f":"Scope!P13","v":"0"},"Please refer to NPF for relevant National Outcomes and Indicators.",{"$f":"Scope!R13","v":"0"},"Please refer to NPF for relevant National Outcomes and Indicators.",{"$f":"Scope!T13","v":"0"},"Please refer to NPF for relevant National Outcomes and Indicators.",{"$f":"Scope!V13","v":"0"},"Please refer to NPF for relevant National Outcomes and Indicators.",{"$f":"Scope!X13","v":"0"},"Please refer to NPF for relevant National Outcomes and Indicators.",{"$f":"Scope!Z13","v":"0"},"Please refer to NPF for relevant National Outcomes and Indicators.",{"$f":"Scope!AB13","v":"0"},"Please refer to NPF for relevant National Outcomes and Indicators.",{"$f":"Scope!AD13","v":"0"},"Please refer to NPF for relevant National Outcomes and Indicators.",{"$f":"Scope!AF13","v":"0"},"Please refer to NPF for relevant National Outcomes and Indicators.",{"$f":"Scope!AH13","v":"0"},"Please refer to NPF for relevant National Outcomes and Indicators.",{"$f":"Scope!AJ13","v":"0"},"Please refer to NPF for relevant National Outcomes and Indicators.",{"$f":"Scope!AL13","v":"0"},"Please refer to NPF for relevant National Outcomes and Indicators.",{"$f":"Scope!AN13","v":"0"},"Please refer to NPF for relevant National Outcomes and Indicators.",{"$f":"Scope!AP13","v":"0"},"Please refer to NPF for relevant National Outcomes and Indicators.",{"$f":"Scope!AR13","v":"0"},"Please refer to NPF for relevant National Outcomes and Indicators.",{"$f":"Scope!AT13","v":"0"},"Please refer to NPF for relevant National Outcomes and Indicators.",{"$f":"Scope!AV13","v":"0"},"Please refer to NPF for relevant National Outcomes and Indicators.",{"$f":"Scope!AX13","v":"0"},"Please refer to NPF for relevant National Outcomes and Indicators.",{"$f":"Scope!AZ13","v":"0"},"Please refer to NPF for relevant National Outcomes and Indicators.",{"$f":"Scope!BB13","v":"0"},"Please refer to NPF for relevant National Outcomes and Indicators.",{"$f":"Scope!BD13","v":"0"},"Please refer to NPF for relevant National Outcomes and Indicators.",{"$f":"Scope!BF13","v":"0"},"Please refer to NPF for relevant National Outcomes and Indicators.",{"$f":"Scope!BH13","v":"0"},"Please refer to NPF for relevant National Outcomes and Indicators.",{"$f":"Scope!BJ13","v":"0"},"Please refer to NPF for relevant National Outcomes and Indicators.",{"$f":"Scope!BL13","v":"0"},"Please refer to NPF for relevant National Outcomes and Indicators.",{"$f":"Scope!BN13","v":"0"},"Please refer to NPF for relevant National Outcomes and Indicators.",{"$f":"Scope!BP13","v":"0"},"Please refer to NPF for relevant National Outcomes and Indicators.",{"$f":"Scope!BR13","v":"0"},"Please refer to NPF for relevant National Outcomes and Indicators.",{"$f":"Scope!BT13","v":"0"},"Please refer to NPF for relevant National Outcomes and Indicators.",{"$f":"Scope!BV13","v":"0"},"Please refer to NPF for relevant National Outcomes and Indicators.",{"$f":"Scope!BX13","v":"0"},"Please refer to NPF for relevant National Outcomes and Indicators.",{"$f":"Scope!BZ13","v":"0"},"Please refer to NPF for relevant National Outcomes and Indicators.",{"$f":"Scope!CB13","v":"0"},"Please refer to NPF for relevant National Outcomes and Indicators.",{"$f":"Scope!CD13","v":"0"},"Please refer to NPF for relevant National Outcomes and Indicators.",null,null,null,null,{"$f":"Scope!CJ13","v":"0"},"Please refer to NPF for relevant National Outcomes and Indicators."]
[null,null,"",{"$f":"Scope!D14","v":"0"},"Please refer to NPF for relevant National Outcomes and Indicators.",{"$f":"Scope!F14","v":"0"},"Please refer to NPF for relevant National Outcomes and Indicators.",{"$f":"Scope!H14","v":"0"},"Please refer to NPF for relevant National Outcomes and Indicators.",{"$f":"Scope!J14","v":"0"},"Please refer to NPF for relevant National Outcomes and Indicators.",{"$f":"Scope!L14","v":"0"},"Please refer to NPF for relevant National Outcomes and Indicators.",{"$f":"Scope!N14","v":"0"},"Please refer to NPF for relevant National Outcomes and Indicators.",{"$f":"Scope!P14","v":"0"},"Please refer to NPF for relevant National Outcomes and Indicators.",{"$f":"Scope!R14","v":"0"},"Please refer to NPF for relevant National Outcomes and Indicators.",{"$f":"Scope!T14","v":"0"},"Please refer to NPF for relevant National Outcomes and Indicators.",{"$f":"Scope!V14","v":"0"},"Please refer to NPF for relevant National Outcomes and Indicators.",{"$f":"Scope!X14","v":"0"},"Please refer to NPF for relevant National Outcomes and Indicators.",{"$f":"Scope!Z14","v":"0"},"Please refer to NPF for relevant National Outcomes and Indicators.",{"$f":"Scope!AB14","v":"0"},"Please refer to NPF for relevant National Outcomes and Indicators.",{"$f":"Scope!AD14","v":"0"},"Please refer to NPF for relevant National Outcomes and Indicators.",{"$f":"Scope!AF14","v":"0"},"Please refer to NPF for relevant National Outcomes and Indicators.",{"$f":"Scope!AH14","v":"0"},"Please refer to NPF for relevant National Outcomes and Indicators.",{"$f":"Scope!AJ14","v":"0"},"Please refer to NPF for relevant National Outcomes and Indicators.",{"$f":"Scope!AL14","v":"0"},"Please refer to NPF for relevant National Outcomes and Indicators.",{"$f":"Scope!AN14","v":"0"},"Please refer to NPF for relevant National Outcomes and Indicators.",{"$f":"Scope!AP14","v":"0"},"Please refer to NPF for relevant National Outcomes and Indicators.",{"$f":"Scope!AR14","v":"0"},"Please refer to NPF for relevant National Outcomes and Indicators.",{"$f":"Scope!AT14","v":"0"},"Please refer to NPF for relevant National Outcomes and Indicators.",{"$f":"Scope!AV14","v":"0"},"Please refer to NPF for relevant National Outcomes and Indicators.",{"$f":"Scope!AX14","v":"0"},"Please refer to NPF for relevant National Outcomes and Indicators.",{"$f":"Scope!AZ14","v":"0"},"Please refer to NPF for relevant National Outcomes and Indicators.",{"$f":"Scope!BB14","v":"0"},"Please refer to NPF for relevant National Outcomes and Indicators.",{"$f":"Scope!BD14","v":"0"},"Please refer to NPF for relevant National Outcomes and Indicators.",{"$f":"Scope!BF14","v":"0"},"Please refer to NPF for relevant National Outcomes and Indicators.",{"$f":"Scope!BH14","v":"0"},"Please refer to NPF for relevant National Outcomes and Indicators.",{"$f":"Scope!BJ14","v":"0"},"Please refer to NPF for relevant National Outcomes and Indicators.",{"$f":"Scope!BL14","v":"0"},"Please refer to NPF for relevant National Outcomes and Indicators.",{"$f":"Scope!BN14","v":"0"},"Please refer to NPF for relevant National Outcomes and Indicators.",{"$f":"Scope!BP14","v":"0"},"Please refer to NPF for relevant National Outcomes and Indicators.",{"$f":"Scope!BR14","v":"0"},"Please refer to NPF for relevant National Outcomes and Indicators.",{"$f":"Scope!BT14","v":"0"},"Please refer to NPF for relevant National Outcomes and Indicators.",{"$f":"Scope!BV14","v":"0"},"Please refer to NPF for relevant National Outcomes and Indicators.",{"$f":"Scope!BX14","v":"0"},"Please refer to NPF for relevant National Outcomes and Indicators.",{"$f":"Scope!BZ14","v":"0"},"Please refer to NPF for relevant National Outcomes and Indicators.",{"$f":"Scope!CB14","v":"0"},"Please refer to NPF for relevant National Outcomes and Indicators.",{"$f":"Scope!CD14","v":"0"},"Please refer to NPF for relevant National Outcomes and Indicators.",null,null,null,null,{"$f":"Scope!CJ14","v":"0"},"Please refer to NPF for relevant National Outcomes and Indicators."]
[null,null,"",{"$f":"Scope!D15","v":"0"},"Please refer to NPF for relevant National Outcomes and Indicators.",{"$f":"Scope!F15","v":"0"},"Please refer to NPF for relevant National Outcomes and Indicators.",{"$f":"Scope!H15","v":"0"},"Please refer to NPF for relevant National Outcomes and Indicators.",{"$f":"Scope!J15","v":"0"},"Please refer to NPF for relevant National Outcomes and Indicators.",{"$f":"Scope!L15","v":"0"},"Please refer to NPF for relevant National Outcomes and Indicators.",{"$f":"Scope!N15","v":"0"},"Please refer to NPF for relevant National Outcomes and Indicators.",{"$f":"Scope!P15","v":"0"},"Please refer to NPF for relevant National Outcomes and Indicators.",{"$f":"Scope!R15","v":"0"},"Please refer to NPF for relevant National Outcomes and Indicators.",{"$f":"Scope!T15","v":"0"},"Please refer to NPF for relevant National Outcomes and Indicators.",{"$f":"Scope!V15","v":"0"},"Please refer to NPF for relevant National Outcomes and Indicators.",{"$f":"Scope!X15","v":"0"},"Please refer to NPF for relevant National Outcomes and Indicators.",{"$f":"Scope!Z15","v":"0"},"Please refer to NPF for relevant National Outcomes and Indicators.",{"$f":"Scope!AB15","v":"0"},"Please refer to NPF for relevant National Outcomes and Indicators.",{"$f":"Scope!AD15","v":"0"},"Please refer to NPF for relevant National Outcomes and Indicators.",{"$f":"Scope!AF15","v":"0"},"Please refer to NPF for relevant National Outcomes and Indicators.",{"$f":"Scope!AH15","v":"0"},"Please refer to NPF for relevant National Outcomes and Indicators.",{"$f":"Scope!AJ15","v":"0"},"Please refer to NPF for relevant National Outcomes and Indicators.",{"$f":"Scope!AL15","v":"0"},"Please refer to NPF for relevant National Outcomes and Indicators.",{"$f":"Scope!AN15","v":"0"},"Please refer to NPF for relevant National Outcomes and Indicators.",{"$f":"Scope!AP15","v":"0"},"Please refer to NPF for relevant National Outcomes and Indicators.",{"$f":"Scope!AR15","v":"0"},"Please refer to NPF for relevant National Outcomes and Indicators.",{"$f":"Scope!AT15","v":"0"},"Please refer to NPF for relevant National Outcomes and Indicators.",{"$f":"Scope!AV15","v":"0"},"Please refer to NPF for relevant National Outcomes and Indicators.",{"$f":"Scope!AX15","v":"0"},"Please refer to NPF for relevant National Outcomes and Indicators.",{"$f":"Scope!AZ15","v":"0"},"Please refer to NPF for relevant National Outcomes and Indicators.",{"$f":"Scope!BB15","v":"0"},"Please refer to NPF for relevant National Outcomes and Indicators.",{"$f":"Scope!BD15","v":"0"},"Please refer to NPF for relevant National Outcomes and Indicators.",{"$f":"Scope!BF15","v":"0"},"Please refer to NPF for relevant National Outcomes and Indicators.",{"$f":"Scope!BH15","v":"0"},"Please refer to NPF for relevant National Outcomes and Indicators.",{"$f":"Scope!BJ15","v":"0"},"Please refer to NPF for relevant National Outcomes and Indicators.",{"$f":"Scope!BL15","v":"0"},"Please refer to NPF for relevant National Outcomes and Indicators.",{"$f":"Scope!BN15","v":"0"},"Please refer to NPF for relevant National Outcomes and Indicators.",{"$f":"Scope!BP15","v":"0"},"Please refer to NPF for relevant National Outcomes and Indicators.",{"$f":"Scope!BR15","v":"0"},"Please refer to NPF for relevant National Outcomes and Indicators.",{"$f":"Scope!BT15","v":"0"},"Please refer to NPF for relevant National Outcomes and Indicators.",{"$f":"Scope!BV15","v":"0"},"Please refer to NPF for relevant National Outcomes and Indicators.",{"$f":"Scope!BX15","v":"0"},"Please refer to NPF for relevant National Outcomes and Indicators.",{"$f":"Scope!BZ15","v":"0"},"Please refer to NPF for relevant National Outcomes and Indicators.",{"$f":"Scope!CB15","v":"0"},"Please refer to NPF for relevant National Outcomes and Indicators.",{"$f":"Scope!CD15","v":"0"},"Please refer to NPF for relevant National Outcomes and Indicators.",null,null,null,null,{"$f":"Scope!CJ15","v":"0"},"Please refer to NPF for relevant National Outcomes and Indicators."]
[null,null,"",{"$f":"Scope!D16","v":"0"},"Please refer to NPF for relevant National Outcomes and Indicators.",{"$f":"Scope!F16","v":"0"},"Please refer to NPF for relevant National Outcomes and Indicators.",{"$f":"Scope!H16","v":"0"},"Please refer to NPF for relevant National Outcomes and Indicators.",{"$f":"Scope!J16","v":"0"},"Please refer to NPF for relevant National Outcomes and Indicators.",{"$f":"Scope!L16","v":"0"},"Please refer to NPF for relevant National Outcomes and Indicators.",{"$f":"Scope!N16","v":"0"},"Please refer to NPF for relevant National Outcomes and Indicators.",{"$f":"Scope!P16","v":"0"},"Please refer to NPF for relevant National Outcomes and Indicators.",{"$f":"Scope!R16","v":"0"},"Please refer to NPF for relevant National Outcomes and Indicators.",{"$f":"Scope!T16","v":"0"},"Please refer to NPF for relevant National Outcomes and Indicators.",{"$f":"Scope!V16","v":"0"},"Please refer to NPF for relevant National Outcomes and Indicators.",{"$f":"Scope!X16","v":"0"},"Please refer to NPF for relevant National Outcomes and Indicators.",{"$f":"Scope!Z16","v":"0"},"Please refer to NPF for relevant National Outcomes and Indicators.",{"$f":"Scope!AB16","v":"0"},"Please refer to NPF for relevant National Outcomes and Indicators.",{"$f":"Scope!AD16","v":"0"},"Please refer to NPF for relevant National Outcomes and Indicators.",{"$f":"Scope!AF16","v":"0"},"Please refer to NPF for relevant National Outcomes and Indicators.",{"$f":"Scope!AH16","v":"0"},"Please refer to NPF for relevant National Outcomes and Indicators.",{"$f":"Scope!AJ16","v":"0"},"Please refer to NPF for relevant National Outcomes and Indicators.",{"$f":"Scope!AL16","v":"0"},"Please refer to NPF for relevant National Outcomes and Indicators.",{"$f":"Scope!AN16","v":"0"},"Please refer to NPF for relevant National Outcomes and Indicators.",{"$f":"Scope!AP16","v":"0"},"Please refer to NPF for relevant National Outcomes and Indicators.",{"$f":"Scope!AR16","v":"0"},"Please refer to NPF for relevant National Outcomes and Indicators.",{"$f":"Scope!AT16","v":"0"},"Please refer to NPF for relevant National Outcomes and Indicators.",{"$f":"Scope!AV16","v":"0"},"Please refer to NPF for relevant National Outcomes and Indicators.",{"$f":"Scope!AX16","v":"0"},"Please refer to NPF for relevant National Outcomes and Indicators.",{"$f":"Scope!AZ16","v":"0"},"Please refer to NPF for relevant National Outcomes and Indicators.",{"$f":"Scope!BB16","v":"0"},"Please refer to NPF for relevant National Outcomes and Indicators.",{"$f":"Scope!BD16","v":"0"},"Please refer to NPF for relevant National Outcomes and Indicators.",{"$f":"Scope!BF16","v":"0"},"Please refer to NPF for relevant National Outcomes and Indicators.",{"$f":"Scope!BH16","v":"0"},"Please refer to NPF for relevant National Outcomes and Indicators.",{"$f":"Scope!BJ16","v":"0"},"Please refer to NPF for relevant National Outcomes and Indicators.",{"$f":"Scope!BL16","v":"0"},"Please refer to NPF for relevant National Outcomes and Indicators.",{"$f":"Scope!BN16","v":"0"},"Please refer to NPF for relevant National Outcomes and Indicators.",{"$f":"Scope!BP16","v":"0"},"Please refer to NPF for relevant National Outcomes and Indicators.",{"$f":"Scope!BR16","v":"0"},"Please refer to NPF for relevant National Outcomes and Indicators.",{"$f":"Scope!BT16","v":"0"},"Please refer to NPF for relevant National Outcomes and Indicators.",{"$f":"Scope!BV16","v":"0"},"Please refer to NPF for relevant National Outcomes and Indicators.",{"$f":"Scope!BX16","v":"0"},"Please refer to NPF for relevant National Outcomes and Indicators.",{"$f":"Scope!BZ16","v":"0"},"Please refer to NPF for relevant National Outcomes and Indicators.",{"$f":"Scope!CB16","v":"0"},"Please refer to NPF for relevant National Outcomes and Indicators.",{"$f":"Scope!CD16","v":"0"},"Please refer to NPF for relevant National Outcomes and Indicators.",null,null,null,null,{"$f":"Scope!CJ16","v":"0"},"Please refer to NPF for relevant National Outcomes and Indicators."]
[null,null,"",{"$f":"Scope!D17","v":"0"},"Please refer to NPF for relevant National Outcomes and Indicators.",{"$f":"Scope!F17","v":"0"},"Please refer to NPF for relevant National Outcomes and Indicators.",{"$f":"Scope!H17","v":"0"},"Please refer to NPF for relevant National Outcomes and Indicators.",{"$f":"Scope!J17","v":"0"},"Please refer to NPF for relevant National Outcomes and Indicators.",{"$f":"Scope!L17","v":"0"},"Please refer to NPF for relevant National Outcomes and Indicators.",{"$f":"Scope!N17","v":"0"},"Please refer to NPF for relevant National Outcomes and Indicators.",{"$f":"Scope!P17","v":"0"},"Please refer to NPF for relevant National Outcomes and Indicators.",{"$f":"Scope!R17","v":"0"},"Please refer to NPF for relevant National Outcomes and Indicators.",{"$f":"Scope!T17","v":"0"},"Please refer to NPF for relevant National Outcomes and Indicators.",{"$f":"Scope!V17","v":"0"},"Please refer to NPF for relevant National Outcomes and Indicators.",{"$f":"Scope!X17","v":"0"},"Please refer to NPF for relevant National Outcomes and Indicators.",{"$f":"Scope!Z17","v":"0"},"Please refer to NPF for relevant National Outcomes and Indicators.",{"$f":"Scope!AB17","v":"0"},"Please refer to NPF for relevant National Outcomes and Indicators.",{"$f":"Scope!AD17","v":"0"},"Please refer to NPF for relevant National Outcomes and Indicators.",{"$f":"Scope!AF17","v":"0"},"Please refer to NPF for relevant National Outcomes and Indicators.",{"$f":"Scope!AH17","v":"0"},"Please refer to NPF for relevant National Outcomes and Indicators.",{"$f":"Scope!AJ17","v":"0"},"Please refer to NPF for relevant National Outcomes and Indicators.",{"$f":"Scope!AL17","v":"0"},"Please refer to NPF for relevant National Outcomes and Indicators.",{"$f":"Scope!AN17","v":"0"},"Please refer to NPF for relevant National Outcomes and Indicators.",{"$f":"Scope!AP17","v":"0"},"Please refer to NPF for relevant National Outcomes and Indicators.",{"$f":"Scope!AR17","v":"0"},"Please refer to NPF for relevant National Outcomes and Indicators.",{"$f":"Scope!AT17","v":"0"},"Please refer to NPF for relevant National Outcomes and Indicators.",{"$f":"Scope!AV17","v":"0"},"Please refer to NPF for relevant National Outcomes and Indicators.",{"$f":"Scope!AX17","v":"0"},"Please refer to NPF for relevant National Outcomes and Indicators.",{"$f":"Scope!AZ17","v":"0"},"Please refer to NPF for relevant National Outcomes and Indicators.",{"$f":"Scope!BB17","v":"0"},"Please refer to NPF for relevant National Outcomes and Indicators.",{"$f":"Scope!BD17","v":"0"},"Please refer to NPF for relevant National Outcomes and Indicators.",{"$f":"Scope!BF17","v":"0"},"Please refer to NPF for relevant National Outcomes and Indicators.",{"$f":"Scope!BH17","v":"0"},"Please refer to NPF for relevant National Outcomes and Indicators.",{"$f":"Scope!BJ17","v":"0"},"Please refer to NPF for relevant National Outcomes and Indicators.",{"$f":"Scope!BL17","v":"0"},"Please refer to NPF for relevant National Outcomes and Indicators.",{"$f":"Scope!BN17","v":"0"},"Please refer to NPF for relevant National Outcomes and Indicators.",{"$f":"Scope!BP17","v":"0"},"Please refer to NPF for relevant National Outcomes and Indicators.",{"$f":"Scope!BR17","v":"0"},"Please refer to NPF for relevant National Outcomes and Indicators.",{"$f":"Scope!BT17","v":"0"},"Please refer to NPF for relevant National Outcomes and Indicators.",{"$f":"Scope!BV17","v":"0"},"Please refer to NPF for relevant National Outcomes and Indicators.",{"$f":"Scope!BX17","v":"0"},"Please refer to NPF for relevant National Outcomes and Indicators.",{"$f":"Scope!BZ17","v":"0"},"Please refer to NPF for relevant National Outcomes and Indicators.",{"$f":"Scope!CB17","v":"0"},"Please refer to NPF for relevant National Outcomes and Indicators.",{"$f":"Scope!CD17","v":"0"},"Please refer to NPF for relevant National Outcomes and Indicators.",null,null,null,null,{"$f":"Scope!CJ17","v":"0"},"Please refer to NPF for relevant National Outcomes and Indicators."]
[null,null,"",{"$f":"Scope!D18","v":"0"},"Please refer to NPF for relevant National Outcomes and Indicators.",{"$f":"Scope!F18","v":"0"},"Please refer to NPF for relevant National Outcomes and Indicators.",{"$f":"Scope!H18","v":"0"},"Please refer to NPF for relevant National Outcomes and Indicators.",{"$f":"Scope!J18","v":"0"},"Please refer to NPF for relevant National Outcomes and Indicators.",{"$f":"Scope!L18","v":"0"},"Please refer to NPF for relevant National Outcomes and Indicators.",{"$f":"Scope!N18","v":"0"},"Please refer to NPF for relevant National Outcomes and Indicators.",{"$f":"Scope!P18","v":"0"},"Please refer to NPF for relevant National Outcomes and Indicators.",{"$f":"Scope!R18","v":"0"},"Please refer to NPF for relevant National Outcomes and Indicators.",{"$f":"Scope!T18","v":"0"},"Please refer to NPF for relevant National Outcomes and Indicators.",{"$f":"Scope!V18","v":"0"},"Please refer to NPF for relevant National Outcomes and Indicators.",{"$f":"Scope!X18","v":"0"},"Please refer to NPF for relevant National Outcomes and Indicators.",{"$f":"Scope!Z18","v":"0"},"Please refer to NPF for relevant National Outcomes and Indicators.",{"$f":"Scope!AB18","v":"0"},"Please refer to NPF for relevant National Outcomes and Indicators.",{"$f":"Scope!AD18","v":"0"},"Please refer to NPF for relevant National Outcomes and Indicators.",{"$f":"Scope!AF18","v":"0"},"Please refer to NPF for relevant National Outcomes and Indicators.",{"$f":"Scope!AH18","v":"0"},"Please refer to NPF for relevant National Outcomes and Indicators.",{"$f":"Scope!AJ18","v":"0"},"Please refer to NPF for relevant National Outcomes and Indicators.",{"$f":"Scope!AL18","v":"0"},"Please refer to NPF for relevant National Outcomes and Indicators.",{"$f":"Scope!AN18","v":"0"},"Please refer to NPF for relevant National Outcomes and Indicators.",{"$f":"Scope!AP18","v":"0"},"Please refer to NPF for relevant National Outcomes and Indicators.",{"$f":"Scope!AR18","v":"0"},"Please refer to NPF for relevant National Outcomes and Indicators.",{"$f":"Scope!AT18","v":"0"},"Please refer to NPF for relevant National Outcomes and Indicators.",{"$f":"Scope!AV18","v":"0"},"Please refer to NPF for relevant National Outcomes and Indicators.",{"$f":"Scope!AX18","v":"0"},"Please refer to NPF for relevant National Outcomes and Indicators.",{"$f":"Scope!AZ18","v":"0"},"Please refer to NPF for relevant National Outcomes and Indicators.",{"$f":"Scope!BB18","v":"0"},"Please refer to NPF for relevant National Outcomes and Indicators.",{"$f":"Scope!BD18","v":"0"},"Please refer to NPF for relevant National Outcomes and Indicators.",{"$f":"Scope!BF18","v":"0"},"Please refer to NPF for relevant National Outcomes and Indicators.",{"$f":"Scope!BH18","v":"0"},"Please refer to NPF for relevant National Outcomes and Indicators.",{"$f":"Scope!BJ18","v":"0"},"Please refer to NPF for relevant National Outcomes and Indicators.",{"$f":"Scope!BL18","v":"0"},"Please refer to NPF for relevant National Outcomes and Indicators.",{"$f":"Scope!BN18","v":"0"},"Please refer to NPF for relevant National Outcomes and Indicators.",{"$f":"Scope!BP18","v":"0"},"Please refer to NPF for relevant National Outcomes and Indicators.",{"$f":"Scope!BR18","v":"0"},"Please refer to NPF for relevant National Outcomes and Indicators.",{"$f":"Scope!BT18","v":"0"},"Please refer to NPF for relevant National Outcomes and Indicators.",{"$f":"Scope!BV18","v":"0"},"Please refer to NPF for relevant National Outcomes and Indicators.",{"$f":"Scope!BX18","v":"0"},"Please refer to NPF for relevant National Outcomes and Indicators.",{"$f":"Scope!BZ18","v":"0"},"Please refer to NPF for relevant National Outcomes and Indicators.",{"$f":"Scope!CB18","v":"0"},"Please refer to NPF for relevant National Outcomes and Indicators.",{"$f":"Scope!CD18","v":"0"},"Please refer to NPF for relevant National Outcomes and Indicators.",null,null,null,null,{"$f":"Scope!CJ18","v":"0"},"Please refer to NPF for relevant National Outcomes and Indicators."]
[null,null,"",{"$f":"Scope!D19","v":"0"},"Please refer to NPF for relevant National Outcomes and Indicators.",{"$f":"Scope!F19","v":"0"},"Please refer to NPF for relevant National Outcomes and Indicators.",{"$f":"Scope!H19","v":"0"},"Please refer to NPF for relevant National Outcomes and Indicators.",{"$f":"Scope!J19","v":"0"},"Please refer to NPF for relevant National Outcomes and Indicators.",{"$f":"Scope!L19","v":"0"},"Please refer to NPF for relevant National Outcomes and Indicators.",{"$f":"Scope!N19","v":"0"},"Please refer to NPF for relevant National Outcomes and Indicators.",{"$f":"Scope!P19","v":"0"},"Please refer to NPF for relevant National Outcomes and Indicators.",{"$f":"Scope!R19","v":"0"},"Please refer to NPF for relevant National Outcomes and Indicators.",{"$f":"Scope!T19","v":"0"},"Please refer to NPF for relevant National Outcomes and Indicators.",{"$f":"Scope!V19","v":"0"},"Please refer to NPF for relevant National Outcomes and Indicators.",{"$f":"Scope!X19","v":"0"},"Please refer to NPF for relevant National Outcomes and Indicators.",{"$f":"Scope!Z19","v":"0"},"Please refer to NPF for relevant National Outcomes and Indicators.",{"$f":"Scope!AB19","v":"0"},"Please refer to NPF for relevant National Outcomes and Indicators.",{"$f":"Scope!AD19","v":"0"},"Please refer to NPF for relevant National Outcomes and Indicators.",{"$f":"Scope!AF19","v":"0"},"Please refer to NPF for relevant National Outcomes and Indicators.",{"$f":"Scope!AH19","v":"0"},"Please refer to NPF for relevant National Outcomes and Indicators.",{"$f":"Scope!AJ19","v":"0"},"Please refer to NPF for relevant National Outcomes and Indicators.",{"$f":"Scope!AL19","v":"0"},"Please refer to NPF for relevant National Outcomes and Indicators.",{"$f":"Scope!AN19","v":"0"},"Please refer to NPF for relevant National Outcomes and Indicators.",{"$f":"Scope!AP19","v":"0"},"Please refer to NPF for relevant National Outcomes and Indicators.",{"$f":"Scope!AR19","v":"0"},"Please refer to NPF for relevant National Outcomes and Indicators.",{"$f":"Scope!AT19","v":"0"},"Please refer to NPF for relevant National Outcomes and Indicators.",{"$f":"Scope!AV19","v":"0"},"Please refer to NPF for relevant National Outcomes and Indicators.",{"$f":"Scope!AX19","v":"0"},"Please refer to NPF for relevant National Outcomes and Indicators.",{"$f":"Scope!AZ19","v":"0"},"Please refer to NPF for relevant National Outcomes and Indicators.",{"$f":"Scope!BB19","v":"0"},"Please refer to NPF for relevant National Outcomes and Indicators.",{"$f":"Scope!BD19","v":"0"},"Please refer to NPF for relevant National Outcomes and Indicators.",{"$f":"Scope!BF19","v":"0"},"Please refer to NPF for relevant National Outcomes and Indicators.",{"$f":"Scope!BH19","v":"0"},"Please refer to NPF for relevant National Outcomes and Indicators.",{"$f":"Scope!BJ19","v":"0"},"Please refer to NPF for relevant National Outcomes and Indicators.",{"$f":"Scope!BL19","v":"0"},"Please refer to NPF for relevant National Outcomes and Indicators.",{"$f":"Scope!BN19","v":"0"},"Please refer to NPF for relevant National Outcomes and Indicators.",{"$f":"Scope!BP19","v":"0"},"Please refer to NPF for relevant National Outcomes and Indicators.",{"$f":"Scope!BR19","v":"0"},"Please refer to NPF for relevant National Outcomes and Indicators.",{"$f":"Scope!BT19","v":"0"},"Please refer to NPF for relevant National Outcomes and Indicators.",{"$f":"Scope!BV19","v":"0"},"Please refer to NPF for relevant National Outcomes and Indicators.",{"$f":"Scope!BX19","v":"0"},"Please refer to NPF for relevant National Outcomes and Indicators.",{"$f":"Scope!BZ19","v":"0"},"Please refer to NPF for relevant National Outcomes and Indicators.",{"$f":"Scope!CB19","v":"0"},"Please refer to NPF for relevant National Outcomes and Indicators.",{"$f":"Scope!CD19","v":"0"},"Please refer to NPF for relevant National Outcomes and Indicators.",null,null,null,null,{"$f":"Scope!CJ19","v":"0"},"Please refer to NPF for relevant National Outcomes and Indicators."]
[null,null,"",{"$f":"Scope!D20","v":"0"},"Please refer to NPF for relevant National Outcomes and Indicators.",{"$f":"Scope!F20","v":"0"},"Please refer to NPF for relevant National Outcomes and Indicators.",{"$f":"Scope!H20","v":"0"},"Please refer to NPF for relevant National Outcomes and Indicators.",{"$f":"Scope!J20","v":"0"},"Please refer to NPF for relevant National Outcomes and Indicators.",{"$f":"Scope!L20","v":"0"},"Please refer to NPF for relevant National Outcomes and Indicators.",{"$f":"Scope!N20","v":"0"},"Please refer to NPF for relevant National Outcomes and Indicators.",{"$f":"Scope!P20","v":"0"},"Please refer to NPF for relevant National Outcomes and Indicators.",{"$f":"Scope!R20","v":"0"},"Please refer to NPF for relevant National Outcomes and Indicators.",{"$f":"Scope!T20","v":"0"},"Please refer to NPF for relevant National Outcomes and Indicators.",{"$f":"Scope!V20","v":"0"},"Please refer to NPF for relevant National Outcomes and Indicators.",{"$f":"Scope!X20","v":"0"},"Please refer to NPF for relevant National Outcomes and Indicators.",{"$f":"Scope!Z20","v":"0"},"Please refer to NPF for relevant National Outcomes and Indicators.",{"$f":"Scope!AB20","v":"0"},"Please refer to NPF for relevant National Outcomes and Indicators.",{"$f":"Scope!AD20","v":"0"},"Please refer to NPF for relevant National Outcomes and Indicators.",{"$f":"Scope!AF20","v":"0"},"Please refer to NPF for relevant National Outcomes and Indicators.",{"$f":"Scope!AH20","v":"0"},"Please refer to NPF for relevant National Outcomes and Indicators.",{"$f":"Scope!AJ20","v":"0"},"Please refer to NPF for relevant National Outcomes and Indicators.",{"$f":"Scope!AL20","v":"0"},"Please refer to NPF for relevant National Outcomes and Indicators.",{"$f":"Scope!AN20","v":"0"},"Please refer to NPF for relevant National Outcomes and Indicators.",{"$f":"Scope!AP20","v":"0"},"Please refer to NPF for relevant National Outcomes and Indicators.",{"$f":"Scope!AR20","v":"0"},"Please refer to NPF for relevant National Outcomes and Indicators.",{"$f":"Scope!AT20","v":"0"},"Please refer to NPF for relevant National Outcomes and Indicators.",{"$f":"Scope!AV20","v":"0"},"Please refer to NPF for relevant National Outcomes and Indicators.",{"$f":"Scope!AX20","v":"0"},"Please refer to NPF for relevant National Outcomes and Indicators.",{"$f":"Scope!AZ20","v":"0"},"Please refer to NPF for relevant National Outcomes and Indicators.",{"$f":"Scope!BB20","v":"0"},"Please refer to NPF for relevant National Outcomes and Indicators.",{"$f":"Scope!BD20","v":"0"},"Please refer to NPF for relevant National Outcomes and Indicators.",{"$f":"Scope!BF20","v":"0"},"Please refer to NPF for relevant National Outcomes and Indicators.",{"$f":"Scope!BH20","v":"0"},"Please refer to NPF for relevant National Outcomes and Indicators.",{"$f":"Scope!BJ20","v":"0"},"Please refer to NPF for relevant National Outcomes and Indicators.",{"$f":"Scope!BL20","v":"0"},"Please refer to NPF for relevant National Outcomes and Indicators.",{"$f":"Scope!BN20","v":"0"},"Please refer to NPF for relevant National Outcomes and Indicators.",{"$f":"Scope!BP20","v":"0"},"Please refer to NPF for relevant National Outcomes and Indicators.",{"$f":"Scope!BR20","v":"0"},"Please refer to NPF for relevant National Outcomes and Indicators.",{"$f":"Scope!BT20","v":"0"},"Please refer to NPF for relevant National Outcomes and Indicators.",{"$f":"Scope!BV20","v":"0"},"Please refer to NPF for relevant National Outcomes and Indicators.",{"$f":"Scope!BX20","v":"0"},"Please refer to NPF for relevant National Outcomes and Indicators.",{"$f":"Scope!BZ20","v":"0"},"Please refer to NPF for relevant National Outcomes and Indicators.",{"$f":"Scope!CB20","v":"0"},"Please refer to NPF for relevant National Outcomes and Indicators.",{"$f":"Scope!CD20","v":"0"},"Please refer to NPF for relevant National Outcomes and Indicators.",null,null,null,null,{"$f":"Scope!CJ20","v":"0"},"Please refer to NPF for relevant National Outcomes and Indicators."]
[null,null,"",{"$f":"Scope!D21","v":"0"},"Please refer to NPF for relevant National Outcomes and Indicators.",{"$f":"Scope!F21","v":"0"},"Please refer to NPF for relevant National Outcomes and Indicators.",{"$f":"Scope!H21","v":"0"},"Please refer to NPF for relevant National Outcomes and Indicators.",{"$f":"Scope!J21","v":"0"},"Please refer to NPF for relevant National Outcomes and Indicators.",{"$f":"Scope!L21","v":"0"},"Please refer to NPF for relevant National Outcomes and Indicators.",{"$f":"Scope!N21","v":"0"},"Please refer to NPF for relevant National Outcomes and Indicators.",{"$f":"Scope!P21","v":"0"},"Please refer to NPF for relevant National Outcomes and Indicators.",{"$f":"Scope!R21","v":"0"},"Please refer to NPF for relevant National Outcomes and Indicators.",{"$f":"Scope!T21","v":"0"},"Please refer to NPF for relevant National Outcomes and Indicators.",{"$f":"Scope!V21","v":"0"},"Please refer to NPF for relevant National Outcomes and Indicators.",{"$f":"Scope!X21","v":"0"},"Please refer to NPF for relevant National Outcomes and Indicators.",{"$f":"Scope!Z21","v":"0"},"Please refer to NPF for relevant National Outcomes and Indicators.",{"$f":"Scope!AB21","v":"0"},"Please refer to NPF for relevant National Outcomes and Indicators.",{"$f":"Scope!AD21","v":"0"},"Please refer to NPF for relevant National Outcomes and Indicators.",{"$f":"Scope!AF21","v":"0"},"Please refer to NPF for relevant National Outcomes and Indicators.",{"$f":"Scope!AH21","v":"0"},"Please refer to NPF for relevant National Outcomes and Indicators.",{"$f":"Scope!AJ21","v":"0"},"Please refer to NPF for relevant National Outcomes and Indicators.",{"$f":"Scope!AL21","v":"0"},"Please refer to NPF for relevant National Outcomes and Indicators.",{"$f":"Scope!AN21","v":"0"},"Please refer to NPF for relevant National Outcomes and Indicators.",{"$f":"Scope!AP21","v":"0"},"Please refer to NPF for relevant National Outcomes and Indicators.",{"$f":"Scope!AR21","v":"0"},"Please refer to NPF for relevant National Outcomes and Indicators.",{"$f":"Scope!AT21","v":"0"},"Please refer to NPF for relevant National Outcomes and Indicators.",{"$f":"Scope!AV21","v":"0"},"Please refer to NPF for relevant National Outcomes and Indicators.",{"$f":"Scope!AX21","v":"0"},"Please refer to NPF for relevant National Outcomes and Indicators.",{"$f":"Scope!AZ21","v":"0"},"Please refer to NPF for relevant National Outcomes and Indicators.",{"$f":"Scope!BB21","v":"0"},"Please refer to NPF for relevant National Outcomes and Indicators.",{"$f":"Scope!BD21","v":"0"},"Please refer to NPF for relevant National Outcomes and Indicators.",{"$f":"Scope!BF21","v":"0"},"Please refer to NPF for relevant National Outcomes and Indicators.",{"$f":"Scope!BH21","v":"0"},"Please refer to NPF for relevant National Outcomes and Indicators.",{"$f":"Scope!BJ21","v":"0"},"Please refer to NPF for relevant National Outcomes and Indicators.",{"$f":"Scope!BL21","v":"0"},"Please refer to NPF for relevant National Outcomes and Indicators.",{"$f":"Scope!BN21","v":"0"},"Please refer to NPF for relevant National Outcomes and Indicators.",{"$f":"Scope!BP21","v":"0"},"Please refer to NPF for relevant National Outcomes and Indicators.",{"$f":"Scope!BR21","v":"0"},"Please refer to NPF for relevant National Outcomes and Indicators.",{"$f":"Scope!BT21","v":"0"},"Please refer to NPF for relevant National Outcomes and Indicators.",{"$f":"Scope!BV21","v":"0"},"Please refer to NPF for relevant National Outcomes and Indicators.",{"$f":"Scope!BX21","v":"0"},"Please refer to NPF for relevant National Outcomes and Indicators.",{"$f":"Scope!BZ21","v":"0"},"Please refer to NPF for relevant National Outcomes and Indicators.",{"$f":"Scope!CB21","v":"0"},"Please refer to NPF for relevant National Outcomes and Indicators.",{"$f":"Scope!CD21","v":"0"},"Please refer to NPF for relevant National Outcomes and Indicators.",null,null,null,null,{"$f":"Scope!CJ21","v":"0"},"Please refer to NPF for relevant National Outcomes and Indicators."]
[null,null,"",{"$f":"Scope!D22","v":"0"},"Please refer to NPF for relevant National Outcomes and Indicators.",{"$f":"Scope!F22","v":"0"},"Please refer to NPF for relevant National Outcomes and Indicators.",{"$f":"Scope!H22","v":"0"},"Please refer to NPF for relevant National Outcomes and Indicators.",{"$f":"Scope!J22","v":"0"},"Please refer to NPF for relevant National Outcomes and Indicators.",{"$f":"Scope!L22","v":"0"},"Please refer to NPF for relevant National Outcomes and Indicators.",{"$f":"Scope!N22","v":"0"},"Please refer to NPF for relevant National Outcomes and Indicators.",{"$f":"Scope!P22","v":"0"},"Please refer to NPF for relevant National Outcomes and Indicators.",{"$f":"Scope!R22","v":"0"},"Please refer to NPF for relevant National Outcomes and Indicators.",{"$f":"Scope!T22","v":"0"},"Please refer to NPF for relevant National Outcomes and Indicators.",{"$f":"Scope!V22","v":"0"},"Please refer to NPF for relevant National Outcomes and Indicators.",{"$f":"Scope!X22","v":"0"},"Please refer to NPF for relevant National Outcomes and Indicators.",{"$f":"Scope!Z22","v":"0"},"Please refer to NPF for relevant National Outcomes and Indicators.",{"$f":"Scope!AB22","v":"0"},"Please refer to NPF for relevant National Outcomes and Indicators.",{"$f":"Scope!AD22","v":"0"},"Please refer to NPF for relevant National Outcomes and Indicators.",{"$f":"Scope!AF22","v":"0"},"Please refer to NPF for relevant National Outcomes and Indicators.",{"$f":"Scope!AH22","v":"0"},"Please refer to NPF for relevant National Outcomes and Indicators.",{"$f":"Scope!AJ22","v":"0"},"Please refer to NPF for relevant National Outcomes and Indicators.",{"$f":"Scope!AL22","v":"0"},"Please refer to NPF for relevant National Outcomes and Indicators.",{"$f":"Scope!AN22","v":"0"},"Please refer to NPF for relevant National Outcomes and Indicators.",{"$f":"Scope!AP22","v":"0"},"Please refer to NPF for relevant National Outcomes and Indicators.",{"$f":"Scope!AR22","v":"0"},"Please refer to NPF for relevant National Outcomes and Indicators.",{"$f":"Scope!AT22","v":"0"},"Please refer to NPF for relevant National Outcomes and Indicators.",{"$f":"Scope!AV22","v":"0"},"Please refer to NPF for relevant National Outcomes and Indicators.",{"$f":"Scope!AX22","v":"0"},"Please refer to NPF for relevant National Outcomes and Indicators.",{"$f":"Scope!AZ22","v":"0"},"Please refer to NPF for relevant National Outcomes and Indicators.",{"$f":"Scope!BB22","v":"0"},"Please refer to NPF for relevant National Outcomes and Indicators.",{"$f":"Scope!BD22","v":"0"},"Please refer to NPF for relevant National Outcomes and Indicators.",{"$f":"Scope!BF22","v":"0"},"Please refer to NPF for relevant National Outcomes and Indicators.",{"$f":"Scope!BH22","v":"0"},"Please refer to NPF for relevant National Outcomes and Indicators.",{"$f":"Scope!BJ22","v":"0"},"Please refer to NPF for relevant National Outcomes and Indicators.",{"$f":"Scope!BL22","v":"0"},"Please refer to NPF for relevant National Outcomes and Indicators.",{"$f":"Scope!BN22","v":"0"},"Please refer to NPF for relevant National Outcomes and Indicators.",{"$f":"Scope!BP22","v":"0"},"Please refer to NPF for relevant National Outcomes and Indicators.",{"$f":"Scope!BR22","v":"0"},"Please refer to NPF for relevant National Outcomes and Indicators.",{"$f":"Scope!BT22","v":"0"},"Please refer to NPF for relevant National Outcomes and Indicators.",{"$f":"Scope!BV22","v":"0"},"Please refer to NPF for relevant National Outcomes and Indicators.",{"$f":"Scope!BX22","v":"0"},"Please refer to NPF for relevant National Outcomes and Indicators.",{"$f":"Scope!BZ22","v":"0"},"Please refer to NPF for relevant National Outcomes and Indicators.",{"$f":"Scope!CB22","v":"0"},"Please refer to NPF for relevant National Outcomes and Indicators.",{"$f":"Scope!CD22","v":"0"},"Please refer to NPF for relevant National Outcomes and Indicators.",null,null,null,null,{"$f":"Scope!CJ22","v":"0"},"Please refer to NPF for relevant National Outcomes and Indicators."]
[null,null,"",{"$f":"Scope!D23","v":"0"},"Please refer to NPF for relevant National Outcomes and Indicators.",{"$f":"Scope!F23","v":"0"},"Please refer to NPF for relevant National Outcomes and Indicators.",{"$f":"Scope!H23","v":"0"},"Please refer to NPF for relevant National Outcomes and Indicators.",{"$f":"Scope!J23","v":"0"},"Please refer to NPF for relevant National Outcomes and Indicators.",{"$f":"Scope!L23","v":"0"},"Please refer to NPF for relevant National Outcomes and Indicators.",{"$f":"Scope!N23","v":"0"},"Please refer to NPF for relevant National Outcomes and Indicators.",{"$f":"Scope!P23","v":"0"},"Please refer to NPF for relevant National Outcomes and Indicators.",{"$f":"Scope!R23","v":"0"},"Please refer to NPF for relevant National Outcomes and Indicators.",{"$f":"Scope!T23","v":"0"},"Please refer to NPF for relevant National Outcomes and Indicators.",{"$f":"Scope!V23","v":"0"},"Please refer to NPF for relevant National Outcomes and Indicators.",{"$f":"Scope!X23","v":"0"},"Please refer to NPF for relevant National Outcomes and Indicators.",{"$f":"Scope!Z23","v":"0"},"Please refer to NPF for relevant National Outcomes and Indicators.",{"$f":"Scope!AB23","v":"0"},"Please refer to NPF for relevant National Outcomes and Indicators.",{"$f":"Scope!AD23","v":"0"},"Please refer to NPF for relevant National Outcomes and Indicators.",{"$f":"Scope!AF23","v":"0"},"Please refer to NPF for relevant National Outcomes and Indicators.",{"$f":"Scope!AH23","v":"0"},"Please refer to NPF for relevant National Outcomes and Indicators.",{"$f":"Scope!AJ23","v":"0"},"Please refer to NPF for relevant National Outcomes and Indicators.",{"$f":"Scope!AL23","v":"0"},"Please refer to NPF for relevant National Outcomes and Indicators.",{"$f":"Scope!AN23","v":"0"},"Please refer to NPF for relevant National Outcomes and Indicators.",{"$f":"Scope!AP23","v":"0"},"Please refer to NPF for relevant National Outcomes and Indicators.",{"$f":"Scope!AR23","v":"0"},"Please refer to NPF for relevant National Outcomes and Indicators.",{"$f":"Scope!AT23","v":"0"},"Please refer to NPF for relevant National Outcomes and Indicators.",{"$f":"Scope!AV23","v":"0"},"Please refer to NPF for relevant National Outcomes and Indicators.",{"$f":"Scope!AX23","v":"0"},"Please refer to NPF for relevant National Outcomes and Indicators.",{"$f":"Scope!AZ23","v":"0"},"Please refer to NPF for relevant National Outcomes and Indicators.",{"$f":"Scope!BB23","v":"0"},"Please refer to NPF for relevant National Outcomes and Indicators.",{"$f":"Scope!BD23","v":"0"},"Please refer to NPF for relevant National Outcomes and Indicators.",{"$f":"Scope!BF23","v":"0"},"Please refer to NPF for relevant National Outcomes and Indicators.",{"$f":"Scope!BH23","v":"0"},"Please refer to NPF for relevant National Outcomes and Indicators.",{"$f":"Scope!BJ23","v":"0"},"Please refer to NPF for relevant National Outcomes and Indicators.",{"$f":"Scope!BL23","v":"0"},"Please refer to NPF for relevant National Outcomes and Indicators.",{"$f":"Scope!BN23","v":"0"},"Please refer to NPF for relevant National Outcomes and Indicators.",{"$f":"Scope!BP23","v":"0"},"Please refer to NPF for relevant National Outcomes and Indicators.",{"$f":"Scope!BR23","v":"0"},"Please refer to NPF for relevant National Outcomes and Indicators.",{"$f":"Scope!BT23","v":"0"},"Please refer to NPF for relevant National Outcomes and Indicators.",{"$f":"Scope!BV23","v":"0"},"Please refer to NPF for relevant National Outcomes and Indicators.",{"$f":"Scope!BX23","v":"0"},"Please refer to NPF for relevant National Outcomes and Indicators.",{"$f":"Scope!BZ23","v":"0"},"Please refer to NPF for relevant National Outcomes and Indicators.",{"$f":"Scope!CB23","v":"0"},"Please refer to NPF for relevant National Outcomes and Indicators.",{"$f":"Scope!CD23","v":"0"},"Please refer to NPF for relevant National Outcomes and Indicators.",null,null,null,null,{"$f":"Scope!CJ23","v":"0"},"Please refer to NPF for relevant National Outcomes and Indicators."]
[]
[null,null,"Reminder of 'Scope' scores:\n(0= None; 1 = a little; 2 = medium; 3 = a lot)","SCOPE","SCOPE - COMMENTS","SCOPE","SCOPE - COMMENTS","SCOPE","SCOPE - COMMENTS","SCOPE","SCOPE - COMMENTS","SCOPE","SCOPE - COMMENTS","SCOPE","SCOPE - COMMENTS","SCOPE","SCOPE - COMMENTS","SCOPE","SCOPE - COMMENTS","SCOPE","SCOPE - COMMENTS","SCOPE","SCOPE - COMMENTS","SCOPE","SCOPE - COMMENTS","SCOPE","SCOPE - COMMENTS","SCOPE","SCOPE - COMMENTS","SCOPE","SCOPE - COMMENTS","SCOPE","SCOPE - COMMENTS","SCOPE","SCOPE - COMMENTS","SCOPE","SCOPE - COMMENTS","SCOPE","SCOPE - COMMENTS","SCOPE","SCOPE - COMMENTS","SCOPE","SCOPE - COMMENTS","SCOPE","SCOPE - COMMENTS","SCOPE","SCOPE - COMMENTS","SCOPE","SCOPE - COMMENTS","SCOPE","SCOPE - COMMENTS","SCOPE","SCOPE - COMMENTS","SCOPE","SCOPE - COMMENTS","SCOPE","SCOPE - COMMENTS","SCOPE","SCOPE - COMMENTS","SCOPE","SCOPE - COMMENTS","SCOPE","SCOPE - COMMENTS","SCOPE","SCOPE - COMMENTS","SCOPE","SCOPE - COMMENTS","SCOPE","SCOPE - COMMENTS","SCOPE","SCOPE - COMMENTS","SCOPE","SCOPE - COMMENTS","SCOPE","SCOPE - COMMENTS","SCOPE","SCOPE - COMMENTS","SCOPE","SCOPE - COMMENTS","SCOPE","SCOPE - COMMENTS","SCOPE","SCOPE - COMMENTS",null,null,null,null,"SCOPE","SCOPE - COMMENTS"]
[null,"Socio-economic - SCOPE",{"$f":"IF(INDEX(SocIssues,ROW()-ROW(C$68))=\"\",\"\",INDEX(SocIssues,ROW()-ROW(C$68)))","v":"Employment, skills and training"},{"$f":"Scope!D25","v":3},{"$f":"IF(D69=0,\"N/A\",IF(D69=1,\"NO: A, B, C, D, G, H, M. NI: 5, 6, 7, 8, 9, 10, 11, 12, 13, 14, 15, 16, 17, 18, 19, 20, 22, 23, 24, 26, 29, 30, 31, 32, 33, 34, 35, 37, 38, 39.\", IF(D69=2,\"NO: A, B, C, D, G, H, M. NI: 5, 6, 7, 8, 9, 10, 11, 12, 13, 14, 15, 16, 17, 18, 19, 20, 22, 23, 24, 26, 29, 30, 31, 32, 33, 34, 35, 37, 38, 39.\",IF(D69=3,\"NO: A, B, C, D, G, H, M. NI: 5, 6, 7, 8, 9, 10, 11, 12, 13, 14, 15, 16, 17, 18, 19, 20, 22, 23, 24, 26, 29, 30, 31, 32, 33, 34, 35, 37, 38, 39.\",\"N/A\"))))","v":"NO: A, B, C, D, G, H, M. NI: 5, 6, 7, 8, 9, 10, 11, 12, 13, 14, 15, 16, 17, 18, 19, 20, 22, 23, 24, 26, 29, 30, 31, 32, 33, 34, 35, 37, 38, 39."},{"$f":"Scope!F25","v":1},{"$f":"IF(F69=0,\"N/A\",IF(F69=1,\"NO: A, B, C, D, G, H, M. NI: 5, 6, 7, 8, 9, 10, 11, 12, 13, 14, 15, 16, 17, 18, 19, 20, 22, 23, 24, 26, 29, 30, 31, 32, 33, 34, 35, 37, 38, 39.\", IF(F69=2,\"NO: A, B, C, D, G, H, M. NI: 5, 6, 7, 8, 9, 10, 11, 12, 13, 14, 15, 16, 17, 18, 19, 20, 22, 23, 24, 26, 29, 30, 31, 32, 33, 34, 35, 37, 38, 39.\",IF(F69=3,\"NO: A, B, C, D, G, H, M. NI: 5, 6, 7, 8, 9, 10, 11, 12, 13, 14, 15, 16, 17, 18, 19, 20, 22, 23, 24, 26, 29, 30, 31, 32, 33, 34, 35, 37, 38, 39.\",\"N/A\"))))","v":"NO: A, B, C, D, G, H, M. NI: 5, 6, 7, 8, 9, 10, 11, 12, 13, 14, 15, 16, 17, 18, 19, 20, 22, 23, 24, 26, 29, 30, 31, 32, 33, 34, 35, 37, 38, 39."},{"$f":"Scope!H25","v":0},{"$f":"IF(H69=0,\"N/A\",IF(H69=1,\"NO: A, B, C, D, G, H, M. NI: 5, 6, 7, 8, 9, 10, 11, 12, 13, 14, 15, 16, 17, 18, 19, 20, 22, 23, 24, 26, 29, 30, 31, 32, 33, 34, 35, 37, 38, 39.\", IF(H69=2,\"NO: A, B, C, D, G, H, M. NI: 5, 6, 7, 8, 9, 10, 11, 12, 13, 14, 15, 16, 17, 18, 19, 20, 22, 23, 24, 26, 29, 30, 31, 32, 33, 34, 35, 37, 38, 39.\",IF(H69=3,\"NO: A, B, C, D, G, H, M. NI: 5, 6, 7, 8, 9, 10, 11, 12, 13, 14, 15, 16, 17, 18, 19, 20, 22, 23, 24, 26, 29, 30, 31, 32, 33, 34, 35, 37, 38, 39.\",\"N/A\"))))","v":"N/A"},{"$f":"Scope!J25","v":3},{"$f":"IF(J69=0,\"N/A\",IF(J69=1,\"NO: A, B, C, D, G, H, M. NI: 5, 6, 7, 8, 9, 10, 11, 12, 13, 14, 15, 16, 17, 18, 19, 20, 22, 23, 24, 26, 29, 30, 31, 32, 33, 34, 35, 37, 38, 39.\", IF(J69=2,\"NO: A, B, C, D, G, H, M. NI: 5, 6, 7, 8, 9, 10, 11, 12, 13, 14, 15, 16, 17, 18, 19, 20, 22, 23, 24, 26, 29, 30, 31, 32, 33, 34, 35, 37, 38, 39.\",IF(J69=3,\"NO: A, B, C, D, G, H, M. NI: 5, 6, 7, 8, 9, 10, 11, 12, 13, 14, 15, 16, 17, 18, 19, 20, 22, 23, 24, 26, 29, 30, 31, 32, 33, 34, 35, 37, 38, 39.\",\"N/A\"))))","v":"NO: A, B, C, D, G, H, M. NI: 5, 6, 7, 8, 9, 10, 11, 12, 13, 14, 15, 16, 17, 18, 19, 20, 22, 23, 24, 26, 29, 30, 31, 32, 33, 34, 35, 37, 38, 39."},{"$f":"Scope!L25","v":0},{"$f":"IF(L69=0,\"N/A\",IF(L69=1,\"NO: A, B, C, D, G, H, M. NI: 5, 6, 7, 8, 9, 10, 11, 12, 13, 14, 15, 16, 17, 18, 19, 20, 22, 23, 24, 26, 29, 30, 31, 32, 33, 34, 35, 37, 38, 39.\", IF(L69=2,\"NO: A, B, C, D, G, H, M. NI: 5, 6, 7, 8, 9, 10, 11, 12, 13, 14, 15, 16, 17, 18, 19, 20, 22, 23, 24, 26, 29, 30, 31, 32, 33, 34, 35, 37, 38, 39.\",IF(L69=3,\"NO: A, B, C, D, G, H, M. NI: 5, 6, 7, 8, 9, 10, 11, 12, 13, 14, 15, 16, 17, 18, 19, 20, 22, 23, 24, 26, 29, 30, 31, 32, 33, 34, 35, 37, 38, 39.\",\"N/A\"))))","v":"N/A"},{"$f":"Scope!N25","v":2},{"$f":"IF(N69=0,\"N/A\",IF(N69=1,\"NO: A, B, C, D, G, H, M. NI: 5, 6, 7, 8, 9, 10, 11, 12, 13, 14, 15, 16, 17, 18, 19, 20, 22, 23, 24, 26, 29, 30, 31, 32, 33, 34, 35, 37, 38, 39.\", IF(N69=2,\"NO: A, B, C, D, G, H, M. NI: 5, 6, 7, 8, 9, 10, 11, 12, 13, 14, 15, 16, 17, 18, 19, 20, 22, 23, 24, 26, 29, 30, 31, 32, 33, 34, 35, 37, 38, 39.\",IF(N69=3,\"NO: A, B, C, D, G, H, M. NI: 5, 6, 7, 8, 9, 10, 11, 12, 13, 14, 15, 16, 17, 18, 19, 20, 22, 23, 24, 26, 29, 30, 31, 32, 33, 34, 35, 37, 38, 39.\",\"N/A\"))))","v":"NO: A, B, C, D, G, H, M. NI: 5, 6, 7, 8, 9, 10, 11, 12, 13, 14, 15, 16, 17, 18, 19, 20, 22, 23, 24, 26, 29, 30, 31, 32, 33, 34, 35, 37, 38, 39."},{"$f":"Scope!P25","v":"0"},{"$f":"IF(P69=0,\"N/A\",IF(P69=1,\"NO: A, B, C, D, G, H, M. NI: 5, 6, 7, 8, 9, 10, 11, 12, 13, 14, 15, 16, 17, 18, 19, 20, 22, 23, 24, 26, 29, 30, 31, 32, 33, 34, 35, 37, 38, 39.\", IF(P69=2,\"NO: A, B, C, D, G, H, M. NI: 5, 6, 7, 8, 9, 10, 11, 12, 13, 14, 15, 16, 17, 18, 19, 20, 22, 23, 24, 26, 29, 30, 31, 32, 33, 34, 35, 37, 38, 39.\",IF(P69=3,\"NO: A, B, C, D, G, H, M. NI: 5, 6, 7, 8, 9, 10, 11, 12, 13, 14, 15, 16, 17, 18, 19, 20, 22, 23, 24, 26, 29, 30, 31, 32, 33, 34, 35, 37, 38, 39.\",\"N/A\"))))","v":"N/A"},{"$f":"Scope!R25","v":1},{"$f":"IF(R69=0,\"N/A\",IF(R69=1,\"NO: A, B, C, D, G, H, M. NI: 5, 6, 7, 8, 9, 10, 11, 12, 13, 14, 15, 16, 17, 18, 19, 20, 22, 23, 24, 26, 29, 30, 31, 32, 33, 34, 35, 37, 38, 39.\", IF(R69=2,\"NO: A, B, C, D, G, H, M. NI: 5, 6, 7, 8, 9, 10, 11, 12, 13, 14, 15, 16, 17, 18, 19, 20, 22, 23, 24, 26, 29, 30, 31, 32, 33, 34, 35, 37, 38, 39.\",IF(R69=3,\"NO: A, B, C, D, G, H, M. NI: 5, 6, 7, 8, 9, 10, 11, 12, 13, 14, 15, 16, 17, 18, 19, 20, 22, 23, 24, 26, 29, 30, 31, 32, 33, 34, 35, 37, 38, 39.\",\"N/A\"))))","v":"NO: A, B, C, D, G, H, M. NI: 5, 6, 7, 8, 9, 10, 11, 12, 13, 14, 15, 16, 17, 18, 19, 20, 22, 23, 24, 26, 29, 30, 31, 32, 33, 34, 35, 37, 38, 39."},{"$f":"Scope!T25","v":"0"},{"$f":"IF(T69=0,\"N/A\",IF(T69=1,\"NO: A, B, C, D, G, H, M. NI: 5, 6, 7, 8, 9, 10, 11, 12, 13, 14, 15, 16, 17, 18, 19, 20, 22, 23, 24, 26, 29, 30, 31, 32, 33, 34, 35, 37, 38, 39.\", IF(T69=2,\"NO: A, B, C, D, G, H, M. NI: 5, 6, 7, 8, 9, 10, 11, 12, 13, 14, 15, 16, 17, 18, 19, 20, 22, 23, 24, 26, 29, 30, 31, 32, 33, 34, 35, 37, 38, 39.\",IF(T69=3,\"NO: A, B, C, D, G, H, M. NI: 5, 6, 7, 8, 9, 10, 11, 12, 13, 14, 15, 16, 17, 18, 19, 20, 22, 23, 24, 26, 29, 30, 31, 32, 33, 34, 35, 37, 38, 39.\",\"N/A\"))))","v":"N/A"},{"$f":"Scope!V25","v":"0"},{"$f":"IF(V69=0,\"N/A\",IF(V69=1,\"NO: A, B, C, D, G, H, M. NI: 5, 6, 7, 8, 9, 10, 11, 12, 13, 14, 15, 16, 17, 18, 19, 20, 22, 23, 24, 26, 29, 30, 31, 32, 33, 34, 35, 37, 38, 39.\", IF(V69=2,\"NO: A, B, C, D, G, H, M. NI: 5, 6, 7, 8, 9, 10, 11, 12, 13, 14, 15, 16, 17, 18, 19, 20, 22, 23, 24, 26, 29, 30, 31, 32, 33, 34, 35, 37, 38, 39.\",IF(V69=3,\"NO: A, B, C, D, G, H, M. NI: 5, 6, 7, 8, 9, 10, 11, 12, 13, 14, 15, 16, 17, 18, 19, 20, 22, 23, 24, 26, 29, 30, 31, 32, 33, 34, 35, 37, 38, 39.\",\"N/A\"))))","v":"N/A"},{"$f":"Scope!X25","v":"0"},{"$f":"IF(X69=0,\"N/A\",IF(X69=1,\"NO: A, B, C, D, G, H, M. NI: 5, 6, 7, 8, 9, 10, 11, 12, 13, 14, 15, 16, 17, 18, 19, 20, 22, 23, 24, 26, 29, 30, 31, 32, 33, 34, 35, 37, 38, 39.\", IF(X69=2,\"NO: A, B, C, D, G, H, M. NI: 5, 6, 7, 8, 9, 10, 11, 12, 13, 14, 15, 16, 17, 18, 19, 20, 22, 23, 24, 26, 29, 30, 31, 32, 33, 34, 35, 37, 38, 39.\",IF(X69=3,\"NO: A, B, C, D, G, H, M. NI: 5, 6, 7, 8, 9, 10, 11, 12, 13, 14, 15, 16, 17, 18, 19, 20, 22, 23, 24, 26, 29, 30, 31, 32, 33, 34, 35, 37, 38, 39.\",\"N/A\"))))","v":"N/A"},{"$f":"Scope!Z25","v":"0"},{"$f":"IF(Z69=0,\"N/A\",IF(Z69=1,\"NO: A, B, C, D, G, H, M. NI: 5, 6, 7, 8, 9, 10, 11, 12, 13, 14, 15, 16, 17, 18, 19, 20, 22, 23, 24, 26, 29, 30, 31, 32, 33, 34, 35, 37, 38, 39.\", IF(Z69=2,\"NO: A, B, C, D, G, H, M. NI: 5, 6, 7, 8, 9, 10, 11, 12, 13, 14, 15, 16, 17, 18, 19, 20, 22, 23, 24, 26, 29, 30, 31, 32, 33, 34, 35, 37, 38, 39.\",IF(Z69=3,\"NO: A, B, C, D, G, H, M. NI: 5, 6, 7, 8, 9, 10, 11, 12, 13, 14, 15, 16, 17, 18, 19, 20, 22, 23, 24, 26, 29, 30, 31, 32, 33, 34, 35, 37, 38, 39.\",\"N/A\"))))","v":"N/A"},{"$f":"Scope!AB25","v":"0"},{"$f":"IF(AB69=0,\"N/A\",IF(AB69=1,\"NO: A, B, C, D, G, H, M. NI: 5, 6, 7, 8, 9, 10, 11, 12, 13, 14, 15, 16, 17, 18, 19, 20, 22, 23, 24, 26, 29, 30, 31, 32, 33, 34, 35, 37, 38, 39.\", IF(AB69=2,\"NO: A, B, C, D, G, H, M. NI: 5, 6, 7, 8, 9, 10, 11, 12, 13, 14, 15, 16, 17, 18, 19, 20, 22, 23, 24, 26, 29, 30, 31, 32, 33, 34, 35, 37, 38, 39.\",IF(AB69=3,\"NO: A, B, C, D, G, H, M. NI: 5, 6, 7, 8, 9, 10, 11, 12, 13, 14, 15, 16, 17, 18, 19, 20, 22, 23, 24, 26, 29, 30, 31, 32, 33, 34, 35, 37, 38, 39.\",\"N/A\"))))","v":"N/A"},{"$f":"Scope!AD25","v":"0"},{"$f":"IF(AD69=0,\"N/A\",IF(AD69=1,\"NO: A, B, C, D, G, H, M. NI: 5, 6, 7, 8, 9, 10, 11, 12, 13, 14, 15, 16, 17, 18, 19, 20, 22, 23, 24, 26, 29, 30, 31, 32, 33, 34, 35, 37, 38, 39.\", IF(AD69=2,\"NO: A, B, C, D, G, H, M. NI: 5, 6, 7, 8, 9, 10, 11, 12, 13, 14, 15, 16, 17, 18, 19, 20, 22, 23, 24, 26, 29, 30, 31, 32, 33, 34, 35, 37, 38, 39.\",IF(AD69=3,\"NO: A, B, C, D, G, H, M. NI: 5, 6, 7, 8, 9, 10, 11, 12, 13, 14, 15, 16, 17, 18, 19, 20, 22, 23, 24, 26, 29, 30, 31, 32, 33, 34, 35, 37, 38, 39.\",\"N/A\"))))","v":"N/A"},{"$f":"Scope!AF25","v":"0"},{"$f":"IF(AF69=0,\"N/A\",IF(AF69=1,\"NO: A, B, C, D, G, H, M. NI: 5, 6, 7, 8, 9, 10, 11, 12, 13, 14, 15, 16, 17, 18, 19, 20, 22, 23, 24, 26, 29, 30, 31, 32, 33, 34, 35, 37, 38, 39.\", IF(AF69=2,\"NO: A, B, C, D, G, H, M. NI: 5, 6, 7, 8, 9, 10, 11, 12, 13, 14, 15, 16, 17, 18, 19, 20, 22, 23, 24, 26, 29, 30, 31, 32, 33, 34, 35, 37, 38, 39.\",IF(AF69=3,\"NO: A, B, C, D, G, H, M. NI: 5, 6, 7, 8, 9, 10, 11, 12, 13, 14, 15, 16, 17, 18, 19, 20, 22, 23, 24, 26, 29, 30, 31, 32, 33, 34, 35, 37, 38, 39.\",\"N/A\"))))","v":"N/A"},{"$f":"Scope!AH25","v":"0"},{"$f":"IF(AH69=0,\"N/A\",IF(AH69=1,\"NO: A, B, C, D, G, H, M. NI: 5, 6, 7, 8, 9, 10, 11, 12, 13, 14, 15, 16, 17, 18, 19, 20, 22, 23, 24, 26, 29, 30, 31, 32, 33, 34, 35, 37, 38, 39.\", IF(AH69=2,\"NO: A, B, C, D, G, H, M. NI: 5, 6, 7, 8, 9, 10, 11, 12, 13, 14, 15, 16, 17, 18, 19, 20, 22, 23, 24, 26, 29, 30, 31, 32, 33, 34, 35, 37, 38, 39.\",IF(AH69=3,\"NO: A, B, C, D, G, H, M. NI: 5, 6, 7, 8, 9, 10, 11, 12, 13, 14, 15, 16, 17, 18, 19, 20, 22, 23, 24, 26, 29, 30, 31, 32, 33, 34, 35, 37, 38, 39.\",\"N/A\"))))","v":"N/A"},{"$f":"Scope!AJ25","v":"0"},{"$f":"IF(AJ69=0,\"N/A\",IF(AJ69=1,\"NO: A, B, C, D, G, H, M. NI: 5, 6, 7, 8, 9, 10, 11, 12, 13, 14, 15, 16, 17, 18, 19, 20, 22, 23, 24, 26, 29, 30, 31, 32, 33, 34, 35, 37, 38, 39.\", IF(AJ69=2,\"NO: A, B, C, D, G, H, M. NI: 5, 6, 7, 8, 9, 10, 11, 12, 13, 14, 15, 16, 17, 18, 19, 20, 22, 23, 24, 26, 29, 30, 31, 32, 33, 34, 35, 37, 38, 39.\",IF(AJ69=3,\"NO: A, B, C, D, G, H, M. NI: 5, 6, 7, 8, 9, 10, 11, 12, 13, 14, 15, 16, 17, 18, 19, 20, 22, 23, 24, 26, 29, 30, 31, 32, 33, 34, 35, 37, 38, 39.\",\"N/A\"))))","v":"N/A"},{"$f":"Scope!AL25","v":"0"},{"$f":"IF(AL69=0,\"N/A\",IF(AL69=1,\"NO: A, B, C, D, G, H, M. NI: 5, 6, 7, 8, 9, 10, 11, 12, 13, 14, 15, 16, 17, 18, 19, 20, 22, 23, 24, 26, 29, 30, 31, 32, 33, 34, 35, 37, 38, 39.\", IF(AL69=2,\"NO: A, B, C, D, G, H, M. NI: 5, 6, 7, 8, 9, 10, 11, 12, 13, 14, 15, 16, 17, 18, 19, 20, 22, 23, 24, 26, 29, 30, 31, 32, 33, 34, 35, 37, 38, 39.\",IF(AL69=3,\"NO: A, B, C, D, G, H, M. NI: 5, 6, 7, 8, 9, 10, 11, 12, 13, 14, 15, 16, 17, 18, 19, 20, 22, 23, 24, 26, 29, 30, 31, 32, 33, 34, 35, 37, 38, 39.\",\"N/A\"))))","v":"N/A"},{"$f":"Scope!AN25","v":"0"},{"$f":"IF(AN69=0,\"N/A\",IF(AN69=1,\"NO: A, B, C, D, G, H, M. NI: 5, 6, 7, 8, 9, 10, 11, 12, 13, 14, 15, 16, 17, 18, 19, 20, 22, 23, 24, 26, 29, 30, 31, 32, 33, 34, 35, 37, 38, 39.\", IF(AN69=2,\"NO: A, B, C, D, G, H, M. NI: 5, 6, 7, 8, 9, 10, 11, 12, 13, 14, 15, 16, 17, 18, 19, 20, 22, 23, 24, 26, 29, 30, 31, 32, 33, 34, 35, 37, 38, 39.\",IF(AN69=3,\"NO: A, B, C, D, G, H, M. NI: 5, 6, 7, 8, 9, 10, 11, 12, 13, 14, 15, 16, 17, 18, 19, 20, 22, 23, 24, 26, 29, 30, 31, 32, 33, 34, 35, 37, 38, 39.\",\"N/A\"))))","v":"N/A"},{"$f":"Scope!AP25","v":"0"},{"$f":"IF(AP69=0,\"N/A\",IF(AP69=1,\"NO: A, B, C, D, G, H, M. NI: 5, 6, 7, 8, 9, 10, 11, 12, 13, 14, 15, 16, 17, 18, 19, 20, 22, 23, 24, 26, 29, 30, 31, 32, 33, 34, 35, 37, 38, 39.\", IF(AP69=2,\"NO: A, B, C, D, G, H, M. NI: 5, 6, 7, 8, 9, 10, 11, 12, 13, 14, 15, 16, 17, 18, 19, 20, 22, 23, 24, 26, 29, 30, 31, 32, 33, 34, 35, 37, 38, 39.\",IF(AP69=3,\"NO: A, B, C, D, G, H, M. NI: 5, 6, 7, 8, 9, 10, 11, 12, 13, 14, 15, 16, 17, 18, 19, 20, 22, 23, 24, 26, 29, 30, 31, 32, 33, 34, 35, 37, 38, 39.\",\"N/A\"))))","v":"N/A"},{"$f":"Scope!AR25","v":"0"},{"$f":"IF(AR69=0,\"N/A\",IF(AR69=1,\"NO: A, B, C, D, G, H, M. NI: 5, 6, 7, 8, 9, 10, 11, 12, 13, 14, 15, 16, 17, 18, 19, 20, 22, 23, 24, 26, 29, 30, 31, 32, 33, 34, 35, 37, 38, 39.\", IF(AR69=2,\"NO: A, B, C, D, G, H, M. NI: 5, 6, 7, 8, 9, 10, 11, 12, 13, 14, 15, 16, 17, 18, 19, 20, 22, 23, 24, 26, 29, 30, 31, 32, 33, 34, 35, 37, 38, 39.\",IF(AR69=3,\"NO: A, B, C, D, G, H, M. NI: 5, 6, 7, 8, 9, 10, 11, 12, 13, 14, 15, 16, 17, 18, 19, 20, 22, 23, 24, 26, 29, 30, 31, 32, 33, 34, 35, 37, 38, 39.\",\"N/A\"))))","v":"N/A"},{"$f":"Scope!AT25","v":"0"},{"$f":"IF(AT69=0,\"N/A\",IF(AT69=1,\"NO: A, B, C, D, G, H, M. NI: 5, 6, 7, 8, 9, 10, 11, 12, 13, 14, 15, 16, 17, 18, 19, 20, 22, 23, 24, 26, 29, 30, 31, 32, 33, 34, 35, 37, 38, 39.\", IF(AT69=2,\"NO: A, B, C, D, G, H, M. NI: 5, 6, 7, 8, 9, 10, 11, 12, 13, 14, 15, 16, 17, 18, 19, 20, 22, 23, 24, 26, 29, 30, 31, 32, 33, 34, 35, 37, 38, 39.\",IF(AT69=3,\"NO: A, B, C, D, G, H, M. NI: 5, 6, 7, 8, 9, 10, 11, 12, 13, 14, 15, 16, 17, 18, 19, 20, 22, 23, 24, 26, 29, 30, 31, 32, 33, 34, 35, 37, 38, 39.\",\"N/A\"))))","v":"N/A"},{"$f":"Scope!AV25","v":"0"},{"$f":"IF(AV69=0,\"N/A\",IF(AV69=1,\"NO: A, B, C, D, G, H, M. NI: 5, 6, 7, 8, 9, 10, 11, 12, 13, 14, 15, 16, 17, 18, 19, 20, 22, 23, 24, 26, 29, 30, 31, 32, 33, 34, 35, 37, 38, 39.\", IF(AV69=2,\"NO: A, B, C, D, G, H, M. NI: 5, 6, 7, 8, 9, 10, 11, 12, 13, 14, 15, 16, 17, 18, 19, 20, 22, 23, 24, 26, 29, 30, 31, 32, 33, 34, 35, 37, 38, 39.\",IF(AV69=3,\"NO: A, B, C, D, G, H, M. NI: 5, 6, 7, 8, 9, 10, 11, 12, 13, 14, 15, 16, 17, 18, 19, 20, 22, 23, 24, 26, 29, 30, 31, 32, 33, 34, 35, 37, 38, 39.\",\"N/A\"))))","v":"N/A"},{"$f":"Scope!AX25","v":"0"},{"$f":"IF(AX69=0,\"N/A\",IF(AX69=1,\"NO: A, B, C, D, G, H, M. NI: 5, 6, 7, 8, 9, 10, 11, 12, 13, 14, 15, 16, 17, 18, 19, 20, 22, 23, 24, 26, 29, 30, 31, 32, 33, 34, 35, 37, 38, 39.\", IF(AX69=2,\"NO: A, B, C, D, G, H, M. NI: 5, 6, 7, 8, 9, 10, 11, 12, 13, 14, 15, 16, 17, 18, 19, 20, 22, 23, 24, 26, 29, 30, 31, 32, 33, 34, 35, 37, 38, 39.\",IF(AX69=3,\"NO: A, B, C, D, G, H, M. NI: 5, 6, 7, 8, 9, 10, 11, 12, 13, 14, 15, 16, 17, 18, 19, 20, 22, 23, 24, 26, 29, 30, 31, 32, 33, 34, 35, 37, 38, 39.\",\"N/A\"))))","v":"N/A"},{"$f":"Scope!AZ25","v":"0"},{"$f":"IF(AZ69=0,\"N/A\",IF(AZ69=1,\"NO: A, B, C, D, G, H, M. NI: 5, 6, 7, 8, 9, 10, 11, 12, 13, 14, 15, 16, 17, 18, 19, 20, 22, 23, 24, 26, 29, 30, 31, 32, 33, 34, 35, 37, 38, 39.\", IF(AZ69=2,\"NO: A, B, C, D, G, H, M. NI: 5, 6, 7, 8, 9, 10, 11, 12, 13, 14, 15, 16, 17, 18, 19, 20, 22, 23, 24, 26, 29, 30, 31, 32, 33, 34, 35, 37, 38, 39.\",IF(AZ69=3,\"NO: A, B, C, D, G, H, M. NI: 5, 6, 7, 8, 9, 10, 11, 12, 13, 14, 15, 16, 17, 18, 19, 20, 22, 23, 24, 26, 29, 30, 31, 32, 33, 34, 35, 37, 38, 39.\",\"N/A\"))))","v":"N/A"},{"$f":"Scope!BB25","v":"0"},{"$f":"IF(BB69=0,\"N/A\",IF(BB69=1,\"NO: A, B, C, D, G, H, M. NI: 5, 6, 7, 8, 9, 10, 11, 12, 13, 14, 15, 16, 17, 18, 19, 20, 22, 23, 24, 26, 29, 30, 31, 32, 33, 34, 35, 37, 38, 39.\", IF(BB69=2,\"NO: A, B, C, D, G, H, M. NI: 5, 6, 7, 8, 9, 10, 11, 12, 13, 14, 15, 16, 17, 18, 19, 20, 22, 23, 24, 26, 29, 30, 31, 32, 33, 34, 35, 37, 38, 39.\",IF(BB69=3,\"NO: A, B, C, D, G, H, M. NI: 5, 6, 7, 8, 9, 10, 11, 12, 13, 14, 15, 16, 17, 18, 19, 20, 22, 23, 24, 26, 29, 30, 31, 32, 33, 34, 35, 37, 38, 39.\",\"N/A\"))))","v":"N/A"},{"$f":"Scope!BD25","v":"0"},{"$f":"IF(BD69=0,\"N/A\",IF(BD69=1,\"NO: A, B, C, D, G, H, M. NI: 5, 6, 7, 8, 9, 10, 11, 12, 13, 14, 15, 16, 17, 18, 19, 20, 22, 23, 24, 26, 29, 30, 31, 32, 33, 34, 35, 37, 38, 39.\", IF(BD69=2,\"NO: A, B, C, D, G, H, M. NI: 5, 6, 7, 8, 9, 10, 11, 12, 13, 14, 15, 16, 17, 18, 19, 20, 22, 23, 24, 26, 29, 30, 31, 32, 33, 34, 35, 37, 38, 39.\",IF(BD69=3,\"NO: A, B, C, D, G, H, M. NI: 5, 6, 7, 8, 9, 10, 11, 12, 13, 14, 15, 16, 17, 18, 19, 20, 22, 23, 24, 26, 29, 30, 31, 32, 33, 34, 35, 37, 38, 39.\",\"N/A\"))))","v":"N/A"},{"$f":"Scope!BF25","v":"0"},{"$f":"IF(BF69=0,\"N/A\",IF(BF69=1,\"NO: A, B, C, D, G, H, M. NI: 5, 6, 7, 8, 9, 10, 11, 12, 13, 14, 15, 16, 17, 18, 19, 20, 22, 23, 24, 26, 29, 30, 31, 32, 33, 34, 35, 37, 38, 39.\", IF(BF69=2,\"NO: A, B, C, D, G, H, M. NI: 5, 6, 7, 8, 9, 10, 11, 12, 13, 14, 15, 16, 17, 18, 19, 20, 22, 23, 24, 26, 29, 30, 31, 32, 33, 34, 35, 37, 38, 39.\",IF(BF69=3,\"NO: A, B, C, D, G, H, M. NI: 5, 6, 7, 8, 9, 10, 11, 12, 13, 14, 15, 16, 17, 18, 19, 20, 22, 23, 24, 26, 29, 30, 31, 32, 33, 34, 35, 37, 38, 39.\",\"N/A\"))))","v":"N/A"},{"$f":"Scope!BH25","v":"0"},{"$f":"IF(BH69=0,\"N/A\",IF(BH69=1,\"NO: A, B, C, D, G, H, M. NI: 5, 6, 7, 8, 9, 10, 11, 12, 13, 14, 15, 16, 17, 18, 19, 20, 22, 23, 24, 26, 29, 30, 31, 32, 33, 34, 35, 37, 38, 39.\", IF(BH69=2,\"NO: A, B, C, D, G, H, M. NI: 5, 6, 7, 8, 9, 10, 11, 12, 13, 14, 15, 16, 17, 18, 19, 20, 22, 23, 24, 26, 29, 30, 31, 32, 33, 34, 35, 37, 38, 39.\",IF(BH69=3,\"NO: A, B, C, D, G, H, M. NI: 5, 6, 7, 8, 9, 10, 11, 12, 13, 14, 15, 16, 17, 18, 19, 20, 22, 23, 24, 26, 29, 30, 31, 32, 33, 34, 35, 37, 38, 39.\",\"N/A\"))))","v":"N/A"},{"$f":"Scope!BJ25","v":"0"},{"$f":"IF(BJ69=0,\"N/A\",IF(BJ69=1,\"NO: A, B, C, D, G, H, M. NI: 5, 6, 7, 8, 9, 10, 11, 12, 13, 14, 15, 16, 17, 18, 19, 20, 22, 23, 24, 26, 29, 30, 31, 32, 33, 34, 35, 37, 38, 39.\", IF(BJ69=2,\"NO: A, B, C, D, G, H, M. NI: 5, 6, 7, 8, 9, 10, 11, 12, 13, 14, 15, 16, 17, 18, 19, 20, 22, 23, 24, 26, 29, 30, 31, 32, 33, 34, 35, 37, 38, 39.\",IF(BJ69=3,\"NO: A, B, C, D, G, H, M. NI: 5, 6, 7, 8, 9, 10, 11, 12, 13, 14, 15, 16, 17, 18, 19, 20, 22, 23, 24, 26, 29, 30, 31, 32, 33, 34, 35, 37, 38, 39.\",\"N/A\"))))","v":"N/A"},{"$f":"Scope!BL25","v":"0"},{"$f":"IF(BL69=0,\"N/A\",IF(BL69=1,\"NO: A, B, C, D, G, H, M. NI: 5, 6, 7, 8, 9, 10, 11, 12, 13, 14, 15, 16, 17, 18, 19, 20, 22, 23, 24, 26, 29, 30, 31, 32, 33, 34, 35, 37, 38, 39.\", IF(BL69=2,\"NO: A, B, C, D, G, H, M. NI: 5, 6, 7, 8, 9, 10, 11, 12, 13, 14, 15, 16, 17, 18, 19, 20, 22, 23, 24, 26, 29, 30, 31, 32, 33, 34, 35, 37, 38, 39.\",IF(BL69=3,\"NO: A, B, C, D, G, H, M. NI: 5, 6, 7, 8, 9, 10, 11, 12, 13, 14, 15, 16, 17, 18, 19, 20, 22, 23, 24, 26, 29, 30, 31, 32, 33, 34, 35, 37, 38, 39.\",\"N/A\"))))","v":"N/A"},{"$f":"Scope!BN25","v":"0"},{"$f":"IF(BN69=0,\"N/A\",IF(BN69=1,\"NO: A, B, C, D, G, H, M. NI: 1, 2, 3, 4, 5, 6, 7, 8, 9, 10, 11, 12, 13, 14, 15, 16, 17, 18, 20, 21, 23, 28, 29, 31, 35, 36, 37, 38, 39, 40, 41, 42, 43, 44, 50.\", IF(BN69=2,\"NO: A, B, C, D, G, H, M. NI: 1, 2, 3, 4, 5, 6, 7, 8, 9, 10, 11, 12, 13, 14, 15, 16, 17, 18, 20, 21, 23, 28, 29, 31, 35, 36, 37, 38, 39, 40, 41, 42, 43, 44, 50.\",IF(BN69=3,\"NO: A, B, C, D, G, H, M. NI: 1, 2, 3, 4, 5, 6, 7, 8, 9, 10, 11, 12, 13, 14, 15, 16, 17, 18, 20, 21, 23, 28, 29, 31, 35, 36, 37, 38, 39, 40, 41, 42, 43, 44, 50.\",\"N/A\"))))","v":"N/A"},{"$f":"Scope!BP25","v":"0"},{"$f":"IF(BP69=0,\"N/A\",IF(BP69=1,\"NO: A, B, C, D, G, H, M. NI: 1, 2, 3, 4, 5, 6, 7, 8, 9, 10, 11, 12, 13, 14, 15, 16, 17, 18, 20, 21, 23, 28, 29, 31, 35, 36, 37, 38, 39, 40, 41, 42, 43, 44, 50.\", IF(BP69=2,\"NO: A, B, C, D, G, H, M. NI: 1, 2, 3, 4, 5, 6, 7, 8, 9, 10, 11, 12, 13, 14, 15, 16, 17, 18, 20, 21, 23, 28, 29, 31, 35, 36, 37, 38, 39, 40, 41, 42, 43, 44, 50.\",IF(BP69=3,\"NO: A, B, C, D, G, H, M. NI: 1, 2, 3, 4, 5, 6, 7, 8, 9, 10, 11, 12, 13, 14, 15, 16, 17, 18, 20, 21, 23, 28, 29, 31, 35, 36, 37, 38, 39, 40, 41, 42, 43, 44, 50.\",\"N/A\"))))","v":"N/A"},{"$f":"Scope!BR25","v":"0"},{"$f":"IF(BR69=0,\"N/A\",IF(BR69=1,\"NO: A, B, C, D, G, H, M. NI: 1, 2, 3, 4, 5, 6, 7, 8, 9, 10, 11, 12, 13, 14, 15, 16, 17, 18, 20, 21, 23, 28, 29, 31, 35, 36, 37, 38, 39, 40, 41, 42, 43, 44, 50.\", IF(BR69=2,\"NO: A, B, C, D, G, H, M. NI: 1, 2, 3, 4, 5, 6, 7, 8, 9, 10, 11, 12, 13, 14, 15, 16, 17, 18, 20, 21, 23, 28, 29, 31, 35, 36, 37, 38, 39, 40, 41, 42, 43, 44, 50.\",IF(BR69=3,\"NO: A, B, C, D, G, H, M. NI: 1, 2, 3, 4, 5, 6, 7, 8, 9, 10, 11, 12, 13, 14, 15, 16, 17, 18, 20, 21, 23, 28, 29, 31, 35, 36, 37, 38, 39, 40, 41, 42, 43, 44, 50.\",\"N/A\"))))","v":"N/A"},{"$f":"Scope!BT25","v":"0"},{"$f":"IF(BT69=0,\"N/A\",IF(BT69=1,\"NO: A, B, C, D, G, H, M. NI: 1, 2, 3, 4, 5, 6, 7, 8, 9, 10, 11, 12, 13, 14, 15, 16, 17, 18, 20, 21, 23, 28, 29, 31, 35, 36, 37, 38, 39, 40, 41, 42, 43, 44, 50.\", IF(BT69=2,\"NO: A, B, C, D, G, H, M. NI: 1, 2, 3, 4, 5, 6, 7, 8, 9, 10, 11, 12, 13, 14, 15, 16, 17, 18, 20, 21, 23, 28, 29, 31, 35, 36, 37, 38, 39, 40, 41, 42, 43, 44, 50.\",IF(BT69=3,\"NO: A, B, C, D, G, H, M. NI: 1, 2, 3, 4, 5, 6, 7, 8, 9, 10, 11, 12, 13, 14, 15, 16, 17, 18, 20, 21, 23, 28, 29, 31, 35, 36, 37, 38, 39, 40, 41, 42, 43, 44, 50.\",\"N/A\"))))","v":"N/A"},{"$f":"Scope!BV25","v":"0"},{"$f":"IF(BV69=0,\"N/A\",IF(BV69=1,\"NO: A, B, C, D, G, H, M. NI: 1, 2, 3, 4, 5, 6, 7, 8, 9, 10, 11, 12, 13, 14, 15, 16, 17, 18, 20, 21, 23, 28, 29, 31, 35, 36, 37, 38, 39, 40, 41, 42, 43, 44, 50.\", IF(BV69=2,\"NO: A, B, C, D, G, H, M. NI: 1, 2, 3, 4, 5, 6, 7, 8, 9, 10, 11, 12, 13, 14, 15, 16, 17, 18, 20, 21, 23, 28, 29, 31, 35, 36, 37, 38, 39, 40, 41, 42, 43, 44, 50.\",IF(BV69=3,\"NO: A, B, C, D, G, H, M. NI: 1, 2, 3, 4, 5, 6, 7, 8, 9, 10, 11, 12, 13, 14, 15, 16, 17, 18, 20, 21, 23, 28, 29, 31, 35, 36, 37, 38, 39, 40, 41, 42, 43, 44, 50.\",\"N/A\"))))","v":"N/A"},{"$f":"Scope!BX25","v":"0"},{"$f":"IF(BX69=0,\"N/A\",IF(BX69=1,\"NO: A, B, C, D, G, H, M. NI: 1, 2, 3, 4, 5, 6, 7, 8, 9, 10, 11, 12, 13, 14, 15, 16, 17, 18, 20, 21, 23, 28, 29, 31, 35, 36, 37, 38, 39, 40, 41, 42, 43, 44, 50.\", IF(BX69=2,\"NO: A, B, C, D, G, H, M. NI: 1, 2, 3, 4, 5, 6, 7, 8, 9, 10, 11, 12, 13, 14, 15, 16, 17, 18, 20, 21, 23, 28, 29, 31, 35, 36, 37, 38, 39, 40, 41, 42, 43, 44, 50.\",IF(BX69=3,\"NO: A, B, C, D, G, H, M. NI: 1, 2, 3, 4, 5, 6, 7, 8, 9, 10, 11, 12, 13, 14, 15, 16, 17, 18, 20, 21, 23, 28, 29, 31, 35, 36, 37, 38, 39, 40, 41, 42, 43, 44, 50.\",\"N/A\"))))","v":"N/A"},{"$f":"Scope!BZ25","v":"0"},{"$f":"IF(BZ69=0,\"N/A\",IF(BZ69=1,\"NO: A, B, C, D, G, H, M. NI: 1, 2, 3, 4, 5, 6, 7, 8, 9, 10, 11, 12, 13, 14, 15, 16, 17, 18, 20, 21, 23, 28, 29, 31, 35, 36, 37, 38, 39, 40, 41, 42, 43, 44, 50.\", IF(BZ69=2,\"NO: A, B, C, D, G, H, M. NI: 1, 2, 3, 4, 5, 6, 7, 8, 9, 10, 11, 12, 13, 14, 15, 16, 17, 18, 20, 21, 23, 28, 29, 31, 35, 36, 37, 38, 39, 40, 41, 42, 43, 44, 50.\",IF(BZ69=3,\"NO: A, B, C, D, G, H, M. NI: 1, 2, 3, 4, 5, 6, 7, 8, 9, 10, 11, 12, 13, 14, 15, 16, 17, 18, 20, 21, 23, 28, 29, 31, 35, 36, 37, 38, 39, 40, 41, 42, 43, 44, 50.\",\"N/A\"))))","v":"N/A"},{"$f":"Scope!CB25","v":"0"},{"$f":"IF(CB69=0,\"N/A\",IF(CB69=1,\"NO: A, B, C, D, G, H, M. NI: 1, 2, 3, 4, 5, 6, 7, 8, 9, 10, 11, 12, 13, 14, 15, 16, 17, 18, 20, 21, 23, 28, 29, 31, 35, 36, 37, 38, 39, 40, 41, 42, 43, 44, 50.\", IF(CB69=2,\"NO: A, B, C, D, G, H, M. NI: 1, 2, 3, 4, 5, 6, 7, 8, 9, 10, 11, 12, 13, 14, 15, 16, 17, 18, 20, 21, 23, 28, 29, 31, 35, 36, 37, 38, 39, 40, 41, 42, 43, 44, 50.\",IF(CB69=3,\"NO: A, B, C, D, G, H, M. NI: 1, 2, 3, 4, 5, 6, 7, 8, 9, 10, 11, 12, 13, 14, 15, 16, 17, 18, 20, 21, 23, 28, 29, 31, 35, 36, 37, 38, 39, 40, 41, 42, 43, 44, 50.\",\"N/A\"))))","v":"N/A"},{"$f":"Scope!CD25","v":"0"},{"$f":"IF(CD69=0,\"N/A\",IF(CD69=1,\"NO: A, B, C, D, G, H, M. NI: 1, 2, 3, 4, 5, 6, 7, 8, 9, 10, 11, 12, 13, 14, 15, 16, 17, 18, 20, 21, 23, 28, 29, 31, 35, 36, 37, 38, 39, 40, 41, 42, 43, 44, 50.\", IF(CD69=2,\"NO: A, B, C, D, G, H, M. NI: 1, 2, 3, 4, 5, 6, 7, 8, 9, 10, 11, 12, 13, 14, 15, 16, 17, 18, 20, 21, 23, 28, 29, 31, 35, 36, 37, 38, 39, 40, 41, 42, 43, 44, 50.\",IF(CD69=3,\"NO: A, B, C, D, G, H, M. NI: 1, 2, 3, 4, 5, 6, 7, 8, 9, 10, 11, 12, 13, 14, 15, 16, 17, 18, 20, 21, 23, 28, 29, 31, 35, 36, 37, 38, 39, 40, 41, 42, 43, 44, 50.\",\"N/A\"))))","v":"N/A"},null,{"$f":"IssuesInput!F4","v":0},null,null,{"$f":"Scope!CJ25","v":"0"},{"$f":"IF(CJ69=0,\"N/A\",IF(CJ69=1,\"NO: A, B, C, D, G, H, M. NI: 1, 2, 3, 4, 5, 6, 7, 8, 9, 10, 11, 12, 13, 14, 15, 16, 17, 18, 20, 21, 23, 28, 29, 31, 35, 36, 37, 38, 39, 40, 41, 42, 43, 44, 50.\", IF(CJ69=2,\"NO: A, B, C, D, G, H, M. NI: 1, 2, 3, 4, 5, 6, 7, 8, 9, 10, 11, 12, 13, 14, 15, 16, 17, 18, 20, 21, 23, 28, 29, 31, 35, 36, 37, 38, 39, 40, 41, 42, 43, 44, 50.\",IF(CJ69=3,\"NO: A, B, C, D, G, H, M. NI: 1, 2, 3, 4, 5, 6, 7, 8, 9, 10, 11, 12, 13, 14, 15, 16, 17, 18, 20, 21, 23, 28, 29, 31, 35, 36, 37, 38, 39, 40, 41, 42, 43, 44, 50.\",\"N/A\"))))","v":"N/A"}]
[null,"Scroll down to view all scores","Health and wellbeing",{"$f":"Scope!D26","v":1},{"$f":"IF(D70=0,\"N/A\",IF(D70=1,\"NO: A, F, N. NI: 1, 2, 3, 5, 6, 7, 8, 9, 10, 11, 12, 13, 14, 15, 16, 17, 18, 19, 20, 22, 23, 24, 25, 26, 27, 28, 29, 30, 31, 32, 33, 36, 37, 39. \", IF(D70=2,\"NO: A, F, N. NI: 1, 2, 3, 5, 6, 7, 8, 9, 10, 11, 12, 13, 14, 15, 16, 17, 18, 19, 20, 22, 23, 24, 25, 26, 27, 28, 29, 30, 31, 32, 33, 36, 37, 39. \",IF(D70=3,\"NO: A, F, N. NI: 1, 2, 3, 5, 6, 7, 8, 9, 10, 11, 12, 13, 14, 15, 16, 17, 18, 19, 20, 22, 23, 24, 25, 26, 27, 28, 29, 30, 31, 32, 33, 36, 37, 39. \",\"N/A\"))))","v":"NO: A, F, N. NI: 1, 2, 3, 5, 6, 7, 8, 9, 10, 11, 12, 13, 14, 15, 16, 17, 18, 19, 20, 22, 23, 24, 25, 26, 27, 28, 29, 30, 31, 32, 33, 36, 37, 39. "},{"$f":"Scope!F26","v":0},{"$f":"IF(F70=0,\"N/A\",IF(F70=1,\"NO: A, F, N. NI: 1, 2, 3, 5, 6, 7, 8, 9, 10, 11, 12, 13, 14, 15, 16, 17, 18, 19, 20, 22, 23, 24, 25, 26, 27, 28, 29, 30, 31, 32, 33, 36, 37, 39. \", IF(F70=2,\"NO: A, F, N. NI: 1, 2, 3, 5, 6, 7, 8, 9, 10, 11, 12, 13, 14, 15, 16, 17, 18, 19, 20, 22, 23, 24, 25, 26, 27, 28, 29, 30, 31, 32, 33, 36, 37, 39. \",IF(F70=3,\"NO: A, F, N. NI: 1, 2, 3, 5, 6, 7, 8, 9, 10, 11, 12, 13, 14, 15, 16, 17, 18, 19, 20, 22, 23, 24, 25, 26, 27, 28, 29, 30, 31, 32, 33, 36, 37, 39. \",\"N/A\"))))","v":"N/A"},{"$f":"Scope!H26","v":0},{"$f":"IF(H70=0,\"N/A\",IF(H70=1,\"NO: A, F, N. NI: 1, 2, 3, 5, 6, 7, 8, 9, 10, 11, 12, 13, 14, 15, 16, 17, 18, 19, 20, 22, 23, 24, 25, 26, 27, 28, 29, 30, 31, 32, 33, 36, 37, 39. \", IF(H70=2,\"NO: A, F, N. NI: 1, 2, 3, 5, 6, 7, 8, 9, 10, 11, 12, 13, 14, 15, 16, 17, 18, 19, 20, 22, 23, 24, 25, 26, 27, 28, 29, 30, 31, 32, 33, 36, 37, 39. \",IF(H70=3,\"NO: A, F, N. NI: 1, 2, 3, 5, 6, 7, 8, 9, 10, 11, 12, 13, 14, 15, 16, 17, 18, 19, 20, 22, 23, 24, 25, 26, 27, 28, 29, 30, 31, 32, 33, 36, 37, 39. \",\"N/A\"))))","v":"N/A"},{"$f":"Scope!J26","v":1},{"$f":"IF(J70=0,\"N/A\",IF(J70=1,\"NO: A, F, N. NI: 1, 2, 3, 5, 6, 7, 8, 9, 10, 11, 12, 13, 14, 15, 16, 17, 18, 19, 20, 22, 23, 24, 25, 26, 27, 28, 29, 30, 31, 32, 33, 36, 37, 39. \", IF(J70=2,\"NO: A, F, N. NI: 1, 2, 3, 5, 6, 7, 8, 9, 10, 11, 12, 13, 14, 15, 16, 17, 18, 19, 20, 22, 23, 24, 25, 26, 27, 28, 29, 30, 31, 32, 33, 36, 37, 39. \",IF(J70=3,\"NO: A, F, N. NI: 1, 2, 3, 5, 6, 7, 8, 9, 10, 11, 12, 13, 14, 15, 16, 17, 18, 19, 20, 22, 23, 24, 25, 26, 27, 28, 29, 30, 31, 32, 33, 36, 37, 39. \",\"N/A\"))))","v":"NO: A, F, N. NI: 1, 2, 3, 5, 6, 7, 8, 9, 10, 11, 12, 13, 14, 15, 16, 17, 18, 19, 20, 22, 23, 24, 25, 26, 27, 28, 29, 30, 31, 32, 33, 36, 37, 39. "},{"$f":"Scope!L26","v":1},{"$f":"IF(L70=0,\"N/A\",IF(L70=1,\"NO: A, F, N. NI: 1, 2, 3, 5, 6, 7, 8, 9, 10, 11, 12, 13, 14, 15, 16, 17, 18, 19, 20, 22, 23, 24, 25, 26, 27, 28, 29, 30, 31, 32, 33, 36, 37, 39. \", IF(L70=2,\"NO: A, F, N. NI: 1, 2, 3, 5, 6, 7, 8, 9, 10, 11, 12, 13, 14, 15, 16, 17, 18, 19, 20, 22, 23, 24, 25, 26, 27, 28, 29, 30, 31, 32, 33, 36, 37, 39. \",IF(L70=3,\"NO: A, F, N. NI: 1, 2, 3, 5, 6, 7, 8, 9, 10, 11, 12, 13, 14, 15, 16, 17, 18, 19, 20, 22, 23, 24, 25, 26, 27, 28, 29, 30, 31, 32, 33, 36, 37, 39. \",\"N/A\"))))","v":"NO: A, F, N. NI: 1, 2, 3, 5, 6, 7, 8, 9, 10, 11, 12, 13, 14, 15, 16, 17, 18, 19, 20, 22, 23, 24, 25, 26, 27, 28, 29, 30, 31, 32, 33, 36, 37, 39. "},{"$f":"Scope!N26","v":3},{"$f":"IF(N70=0,\"N/A\",IF(N70=1,\"NO: A, F, N. NI: 1, 2, 3, 5, 6, 7, 8, 9, 10, 11, 12, 13, 14, 15, 16, 17, 18, 19, 20, 22, 23, 24, 25, 26, 27, 28, 29, 30, 31, 32, 33, 36, 37, 39. \", IF(N70=2,\"NO: A, F, N. NI: 1, 2, 3, 5, 6, 7, 8, 9, 10, 11, 12, 13, 14, 15, 16, 17, 18, 19, 20, 22, 23, 24, 25, 26, 27, 28, 29, 30, 31, 32, 33, 36, 37, 39. \",IF(N70=3,\"NO: A, F, N. NI: 1, 2, 3, 5, 6, 7, 8, 9, 10, 11, 12, 13, 14, 15, 16, 17, 18, 19, 20, 22, 23, 24, 25, 26, 27, 28, 29, 30, 31, 32, 33, 36, 37, 39. \",\"N/A\"))))","v":"NO: A, F, N. NI: 1, 2, 3, 5, 6, 7, 8, 9, 10, 11, 12, 13, 14, 15, 16, 17, 18, 19, 20, 22, 23, 24, 25, 26, 27, 28, 29, 30, 31, 32, 33, 36, 37, 39. "},{"$f":"Scope!P26","v":1},{"$f":"IF(P70=0,\"N/A\",IF(P70=1,\"NO: A, F, N. NI: 1, 2, 3, 5, 6, 7, 8, 9, 10, 11, 12, 13, 14, 15, 16, 17, 18, 19, 20, 22, 23, 24, 25, 26, 27, 28, 29, 30, 31, 32, 33, 36, 37, 39. \", IF(P70=2,\"NO: A, F, N. NI: 1, 2, 3, 5, 6, 7, 8, 9, 10, 11, 12, 13, 14, 15, 16, 17, 18, 19, 20, 22, 23, 24, 25, 26, 27, 28, 29, 30, 31, 32, 33, 36, 37, 39. \",IF(P70=3,\"NO: A, F, N. NI: 1, 2, 3, 5, 6, 7, 8, 9, 10, 11, 12, 13, 14, 15, 16, 17, 18, 19, 20, 22, 23, 24, 25, 26, 27, 28, 29, 30, 31, 32, 33, 36, 37, 39. \",\"N/A\"))))","v":"NO: A, F, N. NI: 1, 2, 3, 5, 6, 7, 8, 9, 10, 11, 12, 13, 14, 15, 16, 17, 18, 19, 20, 22, 23, 24, 25, 26, 27, 28, 29, 30, 31, 32, 33, 36, 37, 39. "},{"$f":"Scope!R26","v":0},{"$f":"IF(R70=0,\"N/A\",IF(R70=1,\"NO: A, F, N. NI: 1, 2, 3, 5, 6, 7, 8, 9, 10, 11, 12, 13, 14, 15, 16, 17, 18, 19, 20, 22, 23, 24, 25, 26, 27, 28, 29, 30, 31, 32, 33, 36, 37, 39. \", IF(R70=2,\"NO: A, F, N. NI: 1, 2, 3, 5, 6, 7, 8, 9, 10, 11, 12, 13, 14, 15, 16, 17, 18, 19, 20, 22, 23, 24, 25, 26, 27, 28, 29, 30, 31, 32, 33, 36, 37, 39. \",IF(R70=3,\"NO: A, F, N. NI: 1, 2, 3, 5, 6, 7, 8, 9, 10, 11, 12, 13, 14, 15, 16, 17, 18, 19, 20, 22, 23, 24, 25, 26, 27, 28, 29, 30, 31, 32, 33, 36, 37, 39. \",\"N/A\"))))","v":"N/A"},{"$f":"Scope!T26","v":"0"},{"$f":"IF(T70=0,\"N/A\",IF(T70=1,\"NO: A, F, N. NI: 1, 2, 3, 5, 6, 7, 8, 9, 10, 11, 12, 13, 14, 15, 16, 17, 18, 19, 20, 22, 23, 24, 25, 26, 27, 28, 29, 30, 31, 32, 33, 36, 37, 39. \", IF(T70=2,\"NO: A, F, N. NI: 1, 2, 3, 5, 6, 7, 8, 9, 10, 11, 12, 13, 14, 15, 16, 17, 18, 19, 20, 22, 23, 24, 25, 26, 27, 28, 29, 30, 31, 32, 33, 36, 37, 39. \",IF(T70=3,\"NO: A, F, N. NI: 1, 2, 3, 5, 6, 7, 8, 9, 10, 11, 12, 13, 14, 15, 16, 17, 18, 19, 20, 22, 23, 24, 25, 26, 27, 28, 29, 30, 31, 32, 33, 36, 37, 39. \",\"N/A\"))))","v":"N/A"},{"$f":"Scope!V26","v":"0"},{"$f":"IF(V70=0,\"N/A\",IF(V70=1,\"NO: A, F, N. NI: 1, 2, 3, 5, 6, 7, 8, 9, 10, 11, 12, 13, 14, 15, 16, 17, 18, 19, 20, 22, 23, 24, 25, 26, 27, 28, 29, 30, 31, 32, 33, 36, 37, 39. \", IF(V70=2,\"NO: A, F, N. NI: 1, 2, 3, 5, 6, 7, 8, 9, 10, 11, 12, 13, 14, 15, 16, 17, 18, 19, 20, 22, 23, 24, 25, 26, 27, 28, 29, 30, 31, 32, 33, 36, 37, 39. \",IF(V70=3,\"NO: A, F, N. NI: 1, 2, 3, 5, 6, 7, 8, 9, 10, 11, 12, 13, 14, 15, 16, 17, 18, 19, 20, 22, 23, 24, 25, 26, 27, 28, 29, 30, 31, 32, 33, 36, 37, 39. \",\"N/A\"))))","v":"N/A"},{"$f":"Scope!X26","v":"0"},{"$f":"IF(X70=0,\"N/A\",IF(X70=1,\"NO: A, F, N. NI: 1, 2, 3, 5, 6, 7, 8, 9, 10, 11, 12, 13, 14, 15, 16, 17, 18, 19, 20, 22, 23, 24, 25, 26, 27, 28, 29, 30, 31, 32, 33, 36, 37, 39. \", IF(X70=2,\"NO: A, F, N. NI: 1, 2, 3, 5, 6, 7, 8, 9, 10, 11, 12, 13, 14, 15, 16, 17, 18, 19, 20, 22, 23, 24, 25, 26, 27, 28, 29, 30, 31, 32, 33, 36, 37, 39. \",IF(X70=3,\"NO: A, F, N. NI: 1, 2, 3, 5, 6, 7, 8, 9, 10, 11, 12, 13, 14, 15, 16, 17, 18, 19, 20, 22, 23, 24, 25, 26, 27, 28, 29, 30, 31, 32, 33, 36, 37, 39. \",\"N/A\"))))","v":"N/A"},{"$f":"Scope!Z26","v":"0"},{"$f":"IF(Z70=0,\"N/A\",IF(Z70=1,\"NO: A, F, N. NI: 1, 2, 3, 5, 6, 7, 8, 9, 10, 11, 12, 13, 14, 15, 16, 17, 18, 19, 20, 22, 23, 24, 25, 26, 27, 28, 29, 30, 31, 32, 33, 36, 37, 39. \", IF(Z70=2,\"NO: A, F, N. NI: 1, 2, 3, 5, 6, 7, 8, 9, 10, 11, 12, 13, 14, 15, 16, 17, 18, 19, 20, 22, 23, 24, 25, 26, 27, 28, 29, 30, 31, 32, 33, 36, 37, 39. \",IF(Z70=3,\"NO: A, F, N. NI: 1, 2, 3, 5, 6, 7, 8, 9, 10, 11, 12, 13, 14, 15, 16, 17, 18, 19, 20, 22, 23, 24, 25, 26, 27, 28, 29, 30, 31, 32, 33, 36, 37, 39. \",\"N/A\"))))","v":"N/A"},{"$f":"Scope!AB26","v":"0"},{"$f":"IF(AB70=0,\"N/A\",IF(AB70=1,\"NO: A, F, N. NI: 1, 2, 3, 5, 6, 7, 8, 9, 10, 11, 12, 13, 14, 15, 16, 17, 18, 19, 20, 22, 23, 24, 25, 26, 27, 28, 29, 30, 31, 32, 33, 36, 37, 39. \", IF(AB70=2,\"NO: A, F, N. NI: 1, 2, 3, 5, 6, 7, 8, 9, 10, 11, 12, 13, 14, 15, 16, 17, 18, 19, 20, 22, 23, 24, 25, 26, 27, 28, 29, 30, 31, 32, 33, 36, 37, 39. \",IF(AB70=3,\"NO: A, F, N. NI: 1, 2, 3, 5, 6, 7, 8, 9, 10, 11, 12, 13, 14, 15, 16, 17, 18, 19, 20, 22, 23, 24, 25, 26, 27, 28, 29, 30, 31, 32, 33, 36, 37, 39. \",\"N/A\"))))","v":"N/A"},{"$f":"Scope!AD26","v":"0"},{"$f":"IF(AD70=0,\"N/A\",IF(AD70=1,\"NO: A, F, N. NI: 1, 2, 3, 5, 6, 7, 8, 9, 10, 11, 12, 13, 14, 15, 16, 17, 18, 19, 20, 22, 23, 24, 25, 26, 27, 28, 29, 30, 31, 32, 33, 36, 37, 39. \", IF(AD70=2,\"NO: A, F, N. NI: 1, 2, 3, 5, 6, 7, 8, 9, 10, 11, 12, 13, 14, 15, 16, 17, 18, 19, 20, 22, 23, 24, 25, 26, 27, 28, 29, 30, 31, 32, 33, 36, 37, 39. \",IF(AD70=3,\"NO: A, F, N. NI: 1, 2, 3, 5, 6, 7, 8, 9, 10, 11, 12, 13, 14, 15, 16, 17, 18, 19, 20, 22, 23, 24, 25, 26, 27, 28, 29, 30, 31, 32, 33, 36, 37, 39. \",\"N/A\"))))","v":"N/A"},{"$f":"Scope!AF26","v":"0"},{"$f":"IF(AF70=0,\"N/A\",IF(AF70=1,\"NO: A, F, N. NI: 1, 2, 3, 5, 6, 7, 8, 9, 10, 11, 12, 13, 14, 15, 16, 17, 18, 19, 20, 22, 23, 24, 25, 26, 27, 28, 29, 30, 31, 32, 33, 36, 37, 39. \", IF(AF70=2,\"NO: A, F, N. NI: 1, 2, 3, 5, 6, 7, 8, 9, 10, 11, 12, 13, 14, 15, 16, 17, 18, 19, 20, 22, 23, 24, 25, 26, 27, 28, 29, 30, 31, 32, 33, 36, 37, 39. \",IF(AF70=3,\"NO: A, F, N. NI: 1, 2, 3, 5, 6, 7, 8, 9, 10, 11, 12, 13, 14, 15, 16, 17, 18, 19, 20, 22, 23, 24, 25, 26, 27, 28, 29, 30, 31, 32, 33, 36, 37, 39. \",\"N/A\"))))","v":"N/A"},{"$f":"Scope!AH26","v":"0"},{"$f":"IF(AH70=0,\"N/A\",IF(AH70=1,\"NO: A, F, N. NI: 1, 2, 3, 5, 6, 7, 8, 9, 10, 11, 12, 13, 14, 15, 16, 17, 18, 19, 20, 22, 23, 24, 25, 26, 27, 28, 29, 30, 31, 32, 33, 36, 37, 39. \", IF(AH70=2,\"NO: A, F, N. NI: 1, 2, 3, 5, 6, 7, 8, 9, 10, 11, 12, 13, 14, 15, 16, 17, 18, 19, 20, 22, 23, 24, 25, 26, 27, 28, 29, 30, 31, 32, 33, 36, 37, 39. \",IF(AH70=3,\"NO: A, F, N. NI: 1, 2, 3, 5, 6, 7, 8, 9, 10, 11, 12, 13, 14, 15, 16, 17, 18, 19, 20, 22, 23, 24, 25, 26, 27, 28, 29, 30, 31, 32, 33, 36, 37, 39. \",\"N/A\"))))","v":"N/A"},{"$f":"Scope!AJ26","v":"0"},{"$f":"IF(AJ70=0,\"N/A\",IF(AJ70=1,\"NO: A, F, N. NI: 1, 2, 3, 5, 6, 7, 8, 9, 10, 11, 12, 13, 14, 15, 16, 17, 18, 19, 20, 22, 23, 24, 25, 26, 27, 28, 29, 30, 31, 32, 33, 36, 37, 39. \", IF(AJ70=2,\"NO: A, F, N. NI: 1, 2, 3, 5, 6, 7, 8, 9, 10, 11, 12, 13, 14, 15, 16, 17, 18, 19, 20, 22, 23, 24, 25, 26, 27, 28, 29, 30, 31, 32, 33, 36, 37, 39. \",IF(AJ70=3,\"NO: A, F, N. NI: 1, 2, 3, 5, 6, 7, 8, 9, 10, 11, 12, 13, 14, 15, 16, 17, 18, 19, 20, 22, 23, 24, 25, 26, 27, 28, 29, 30, 31, 32, 33, 36, 37, 39. \",\"N/A\"))))","v":"N/A"},{"$f":"Scope!AL26","v":"0"},{"$f":"IF(AL70=0,\"N/A\",IF(AL70=1,\"NO: A, F, N. NI: 1, 2, 3, 5, 6, 7, 8, 9, 10, 11, 12, 13, 14, 15, 16, 17, 18, 19, 20, 22, 23, 24, 25, 26, 27, 28, 29, 30, 31, 32, 33, 36, 37, 39. \", IF(AL70=2,\"NO: A, F, N. NI: 1, 2, 3, 5, 6, 7, 8, 9, 10, 11, 12, 13, 14, 15, 16, 17, 18, 19, 20, 22, 23, 24, 25, 26, 27, 28, 29, 30, 31, 32, 33, 36, 37, 39. \",IF(AL70=3,\"NO: A, F, N. NI: 1, 2, 3, 5, 6, 7, 8, 9, 10, 11, 12, 13, 14, 15, 16, 17, 18, 19, 20, 22, 23, 24, 25, 26, 27, 28, 29, 30, 31, 32, 33, 36, 37, 39. \",\"N/A\"))))","v":"N/A"},{"$f":"Scope!AN26","v":"0"},{"$f":"IF(AN70=0,\"N/A\",IF(AN70=1,\"NO: A, F, N. NI: 1, 2, 3, 5, 6, 7, 8, 9, 10, 11, 12, 13, 14, 15, 16, 17, 18, 19, 20, 22, 23, 24, 25, 26, 27, 28, 29, 30, 31, 32, 33, 36, 37, 39. \", IF(AN70=2,\"NO: A, F, N. NI: 1, 2, 3, 5, 6, 7, 8, 9, 10, 11, 12, 13, 14, 15, 16, 17, 18, 19, 20, 22, 23, 24, 25, 26, 27, 28, 29, 30, 31, 32, 33, 36, 37, 39. \",IF(AN70=3,\"NO: A, F, N. NI: 1, 2, 3, 5, 6, 7, 8, 9, 10, 11, 12, 13, 14, 15, 16, 17, 18, 19, 20, 22, 23, 24, 25, 26, 27, 28, 29, 30, 31, 32, 33, 36, 37, 39. \",\"N/A\"))))","v":"N/A"},{"$f":"Scope!AP26","v":"0"},{"$f":"IF(AP70=0,\"N/A\",IF(AP70=1,\"NO: A, F, N. NI: 1, 2, 3, 5, 6, 7, 8, 9, 10, 11, 12, 13, 14, 15, 16, 17, 18, 19, 20, 22, 23, 24, 25, 26, 27, 28, 29, 30, 31, 32, 33, 36, 37, 39. \", IF(AP70=2,\"NO: A, F, N. NI: 1, 2, 3, 5, 6, 7, 8, 9, 10, 11, 12, 13, 14, 15, 16, 17, 18, 19, 20, 22, 23, 24, 25, 26, 27, 28, 29, 30, 31, 32, 33, 36, 37, 39. \",IF(AP70=3,\"NO: A, F, N. NI: 1, 2, 3, 5, 6, 7, 8, 9, 10, 11, 12, 13, 14, 15, 16, 17, 18, 19, 20, 22, 23, 24, 25, 26, 27, 28, 29, 30, 31, 32, 33, 36, 37, 39. \",\"N/A\"))))","v":"N/A"},{"$f":"Scope!AR26","v":"0"},{"$f":"IF(AR70=0,\"N/A\",IF(AR70=1,\"NO: A, F, N. NI: 1, 2, 3, 5, 6, 7, 8, 9, 10, 11, 12, 13, 14, 15, 16, 17, 18, 19, 20, 22, 23, 24, 25, 26, 27, 28, 29, 30, 31, 32, 33, 36, 37, 39. \", IF(AR70=2,\"NO: A, F, N. NI: 1, 2, 3, 5, 6, 7, 8, 9, 10, 11, 12, 13, 14, 15, 16, 17, 18, 19, 20, 22, 23, 24, 25, 26, 27, 28, 29, 30, 31, 32, 33, 36, 37, 39. \",IF(AR70=3,\"NO: A, F, N. NI: 1, 2, 3, 5, 6, 7, 8, 9, 10, 11, 12, 13, 14, 15, 16, 17, 18, 19, 20, 22, 23, 24, 25, 26, 27, 28, 29, 30, 31, 32, 33, 36, 37, 39. \",\"N/A\"))))","v":"N/A"},{"$f":"Scope!AT26","v":"0"},{"$f":"IF(AT70=0,\"N/A\",IF(AT70=1,\"NO: A, F, N. NI: 1, 2, 3, 5, 6, 7, 8, 9, 10, 11, 12, 13, 14, 15, 16, 17, 18, 19, 20, 22, 23, 24, 25, 26, 27, 28, 29, 30, 31, 32, 33, 36, 37, 39. \", IF(AT70=2,\"NO: A, F, N. NI: 1, 2, 3, 5, 6, 7, 8, 9, 10, 11, 12, 13, 14, 15, 16, 17, 18, 19, 20, 22, 23, 24, 25, 26, 27, 28, 29, 30, 31, 32, 33, 36, 37, 39. \",IF(AT70=3,\"NO: A, F, N. NI: 1, 2, 3, 5, 6, 7, 8, 9, 10, 11, 12, 13, 14, 15, 16, 17, 18, 19, 20, 22, 23, 24, 25, 26, 27, 28, 29, 30, 31, 32, 33, 36, 37, 39. \",\"N/A\"))))","v":"N/A"},{"$f":"Scope!AV26","v":"0"},{"$f":"IF(AV70=0,\"N/A\",IF(AV70=1,\"NO: A, F, N. NI: 1, 2, 3, 5, 6, 7, 8, 9, 10, 11, 12, 13, 14, 15, 16, 17, 18, 19, 20, 22, 23, 24, 25, 26, 27, 28, 29, 30, 31, 32, 33, 36, 37, 39. \", IF(AV70=2,\"NO: A, F, N. NI: 1, 2, 3, 5, 6, 7, 8, 9, 10, 11, 12, 13, 14, 15, 16, 17, 18, 19, 20, 22, 23, 24, 25, 26, 27, 28, 29, 30, 31, 32, 33, 36, 37, 39. \",IF(AV70=3,\"NO: A, F, N. NI: 1, 2, 3, 5, 6, 7, 8, 9, 10, 11, 12, 13, 14, 15, 16, 17, 18, 19, 20, 22, 23, 24, 25, 26, 27, 28, 29, 30, 31, 32, 33, 36, 37, 39. \",\"N/A\"))))","v":"N/A"},{"$f":"Scope!AX26","v":"0"},{"$f":"IF(AX70=0,\"N/A\",IF(AX70=1,\"NO: A, F, N. NI: 1, 2, 3, 5, 6, 7, 8, 9, 10, 11, 12, 13, 14, 15, 16, 17, 18, 19, 20, 22, 23, 24, 25, 26, 27, 28, 29, 30, 31, 32, 33, 36, 37, 39. \", IF(AX70=2,\"NO: A, F, N. NI: 1, 2, 3, 5, 6, 7, 8, 9, 10, 11, 12, 13, 14, 15, 16, 17, 18, 19, 20, 22, 23, 24, 25, 26, 27, 28, 29, 30, 31, 32, 33, 36, 37, 39. \",IF(AX70=3,\"NO: A, F, N. NI: 1, 2, 3, 5, 6, 7, 8, 9, 10, 11, 12, 13, 14, 15, 16, 17, 18, 19, 20, 22, 23, 24, 25, 26, 27, 28, 29, 30, 31, 32, 33, 36, 37, 39. \",\"N/A\"))))","v":"N/A"},{"$f":"Scope!AZ26","v":"0"},{"$f":"IF(AZ70=0,\"N/A\",IF(AZ70=1,\"NO: A, F, N. NI: 1, 2, 3, 5, 6, 7, 8, 9, 10, 11, 12, 13, 14, 15, 16, 17, 18, 19, 20, 22, 23, 24, 25, 26, 27, 28, 29, 30, 31, 32, 33, 36, 37, 39. \", IF(AZ70=2,\"NO: A, F, N. NI: 1, 2, 3, 5, 6, 7, 8, 9, 10, 11, 12, 13, 14, 15, 16, 17, 18, 19, 20, 22, 23, 24, 25, 26, 27, 28, 29, 30, 31, 32, 33, 36, 37, 39. \",IF(AZ70=3,\"NO: A, F, N. NI: 1, 2, 3, 5, 6, 7, 8, 9, 10, 11, 12, 13, 14, 15, 16, 17, 18, 19, 20, 22, 23, 24, 25, 26, 27, 28, 29, 30, 31, 32, 33, 36, 37, 39. \",\"N/A\"))))","v":"N/A"},{"$f":"Scope!BB26","v":"0"},{"$f":"IF(BB70=0,\"N/A\",IF(BB70=1,\"NO: A, F, N. NI: 1, 2, 3, 5, 6, 7, 8, 9, 10, 11, 12, 13, 14, 15, 16, 17, 18, 19, 20, 22, 23, 24, 25, 26, 27, 28, 29, 30, 31, 32, 33, 36, 37, 39. \", IF(BB70=2,\"NO: A, F, N. NI: 1, 2, 3, 5, 6, 7, 8, 9, 10, 11, 12, 13, 14, 15, 16, 17, 18, 19, 20, 22, 23, 24, 25, 26, 27, 28, 29, 30, 31, 32, 33, 36, 37, 39. \",IF(BB70=3,\"NO: A, F, N. NI: 1, 2, 3, 5, 6, 7, 8, 9, 10, 11, 12, 13, 14, 15, 16, 17, 18, 19, 20, 22, 23, 24, 25, 26, 27, 28, 29, 30, 31, 32, 33, 36, 37, 39. \",\"N/A\"))))","v":"N/A"},{"$f":"Scope!BD26","v":"0"},{"$f":"IF(BD70=0,\"N/A\",IF(BD70=1,\"NO: A, F, N. NI: 1, 2, 3, 5, 6, 7, 8, 9, 10, 11, 12, 13, 14, 15, 16, 17, 18, 19, 20, 22, 23, 24, 25, 26, 27, 28, 29, 30, 31, 32, 33, 36, 37, 39. \", IF(BD70=2,\"NO: A, F, N. NI: 1, 2, 3, 5, 6, 7, 8, 9, 10, 11, 12, 13, 14, 15, 16, 17, 18, 19, 20, 22, 23, 24, 25, 26, 27, 28, 29, 30, 31, 32, 33, 36, 37, 39. \",IF(BD70=3,\"NO: A, F, N. NI: 1, 2, 3, 5, 6, 7, 8, 9, 10, 11, 12, 13, 14, 15, 16, 17, 18, 19, 20, 22, 23, 24, 25, 26, 27, 28, 29, 30, 31, 32, 33, 36, 37, 39. \",\"N/A\"))))","v":"N/A"},{"$f":"Scope!BF26","v":"0"},{"$f":"IF(BF70=0,\"N/A\",IF(BF70=1,\"NO: A, F, N. NI: 1, 2, 3, 5, 6, 7, 8, 9, 10, 11, 12, 13, 14, 15, 16, 17, 18, 19, 20, 22, 23, 24, 25, 26, 27, 28, 29, 30, 31, 32, 33, 36, 37, 39. \", IF(BF70=2,\"NO: A, F, N. NI: 1, 2, 3, 5, 6, 7, 8, 9, 10, 11, 12, 13, 14, 15, 16, 17, 18, 19, 20, 22, 23, 24, 25, 26, 27, 28, 29, 30, 31, 32, 33, 36, 37, 39. \",IF(BF70=3,\"NO: A, F, N. NI: 1, 2, 3, 5, 6, 7, 8, 9, 10, 11, 12, 13, 14, 15, 16, 17, 18, 19, 20, 22, 23, 24, 25, 26, 27, 28, 29, 30, 31, 32, 33, 36, 37, 39. \",\"N/A\"))))","v":"N/A"},{"$f":"Scope!BH26","v":"0"},{"$f":"IF(BH70=0,\"N/A\",IF(BH70=1,\"NO: A, F, N. NI: 1, 2, 3, 5, 6, 7, 8, 9, 10, 11, 12, 13, 14, 15, 16, 17, 18, 19, 20, 22, 23, 24, 25, 26, 27, 28, 29, 30, 31, 32, 33, 36, 37, 39. \", IF(BH70=2,\"NO: A, F, N. NI: 1, 2, 3, 5, 6, 7, 8, 9, 10, 11, 12, 13, 14, 15, 16, 17, 18, 19, 20, 22, 23, 24, 25, 26, 27, 28, 29, 30, 31, 32, 33, 36, 37, 39. \",IF(BH70=3,\"NO: A, F, N. NI: 1, 2, 3, 5, 6, 7, 8, 9, 10, 11, 12, 13, 14, 15, 16, 17, 18, 19, 20, 22, 23, 24, 25, 26, 27, 28, 29, 30, 31, 32, 33, 36, 37, 39. \",\"N/A\"))))","v":"N/A"},{"$f":"Scope!BJ26","v":"0"},{"$f":"IF(BJ70=0,\"N/A\",IF(BJ70=1,\"NO: A, F, N. NI: 1, 2, 3, 5, 6, 7, 8, 9, 10, 11, 12, 13, 14, 15, 16, 17, 18, 19, 20, 22, 23, 24, 25, 26, 27, 28, 29, 30, 31, 32, 33, 36, 37, 39. \", IF(BJ70=2,\"NO: A, F, N. NI: 1, 2, 3, 5, 6, 7, 8, 9, 10, 11, 12, 13, 14, 15, 16, 17, 18, 19, 20, 22, 23, 24, 25, 26, 27, 28, 29, 30, 31, 32, 33, 36, 37, 39. \",IF(BJ70=3,\"NO: A, F, N. NI: 1, 2, 3, 5, 6, 7, 8, 9, 10, 11, 12, 13, 14, 15, 16, 17, 18, 19, 20, 22, 23, 24, 25, 26, 27, 28, 29, 30, 31, 32, 33, 36, 37, 39. \",\"N/A\"))))","v":"N/A"},{"$f":"Scope!BL26","v":"0"},{"$f":"IF(BL70=0,\"N/A\",IF(BL70=1,\"NO: A, F, N. NI: 1, 2, 3, 5, 6, 7, 8, 9, 10, 11, 12, 13, 14, 15, 16, 17, 18, 19, 20, 22, 23, 24, 25, 26, 27, 28, 29, 30, 31, 32, 33, 36, 37, 39. \", IF(BL70=2,\"NO: A, F, N. NI: 1, 2, 3, 5, 6, 7, 8, 9, 10, 11, 12, 13, 14, 15, 16, 17, 18, 19, 20, 22, 23, 24, 25, 26, 27, 28, 29, 30, 31, 32, 33, 36, 37, 39. \",IF(BL70=3,\"NO: A, F, N. NI: 1, 2, 3, 5, 6, 7, 8, 9, 10, 11, 12, 13, 14, 15, 16, 17, 18, 19, 20, 22, 23, 24, 25, 26, 27, 28, 29, 30, 31, 32, 33, 36, 37, 39. \",\"N/A\"))))","v":"N/A"},{"$f":"Scope!BN26","v":"0"},{"$f":"IF(BN70=0,\"N/A\",IF(BN70=1,\"NO: A, E, F, N. NI: 1, 2, 3, 4, 5, 6, 7, 8, 9, 10, 11, 12, 13, 14, 15, 16, 17, 18, 19, 20, 21, 22, 23, 24, 25, 26, 27, 28, 29, 32, 35, 36, 37, 40, 48. \", IF(BN70=2,\"NO: A, E, F, N. NI: 1, 2, 3, 4, 5, 6, 7, 8, 9, 10, 11, 12, 13, 14, 15, 16, 17, 18, 19, 20, 21, 22, 23, 24, 25, 26, 27, 28, 29, 32, 35, 36, 37, 40, 48. \",IF(BN70=3,\"NO: A, E, F, N. NI: 1, 2, 3, 4, 5, 6, 7, 8, 9, 10, 11, 12, 13, 14, 15, 16, 17, 18, 19, 20, 21, 22, 23, 24, 25, 26, 27, 28, 29, 32, 35, 36, 37, 40, 48. \",\"N/A\"))))","v":"N/A"},{"$f":"Scope!BP26","v":"0"},{"$f":"IF(BP70=0,\"N/A\",IF(BP70=1,\"NO: A, E, F, N. NI: 1, 2, 3, 4, 5, 6, 7, 8, 9, 10, 11, 12, 13, 14, 15, 16, 17, 18, 19, 20, 21, 22, 23, 24, 25, 26, 27, 28, 29, 32, 35, 36, 37, 40, 48. \", IF(BP70=2,\"NO: A, E, F, N. NI: 1, 2, 3, 4, 5, 6, 7, 8, 9, 10, 11, 12, 13, 14, 15, 16, 17, 18, 19, 20, 21, 22, 23, 24, 25, 26, 27, 28, 29, 32, 35, 36, 37, 40, 48. \",IF(BP70=3,\"NO: A, E, F, N. NI: 1, 2, 3, 4, 5, 6, 7, 8, 9, 10, 11, 12, 13, 14, 15, 16, 17, 18, 19, 20, 21, 22, 23, 24, 25, 26, 27, 28, 29, 32, 35, 36, 37, 40, 48. \",\"N/A\"))))","v":"N/A"},{"$f":"Scope!BR26","v":"0"},{"$f":"IF(BR70=0,\"N/A\",IF(BR70=1,\"NO: A, E, F, N. NI: 1, 2, 3, 4, 5, 6, 7, 8, 9, 10, 11, 12, 13, 14, 15, 16, 17, 18, 19, 20, 21, 22, 23, 24, 25, 26, 27, 28, 29, 32, 35, 36, 37, 40, 48. \", IF(BR70=2,\"NO: A, E, F, N. NI: 1, 2, 3, 4, 5, 6, 7, 8, 9, 10, 11, 12, 13, 14, 15, 16, 17, 18, 19, 20, 21, 22, 23, 24, 25, 26, 27, 28, 29, 32, 35, 36, 37, 40, 48. \",IF(BR70=3,\"NO: A, E, F, N. NI: 1, 2, 3, 4, 5, 6, 7, 8, 9, 10, 11, 12, 13, 14, 15, 16, 17, 18, 19, 20, 21, 22, 23, 24, 25, 26, 27, 28, 29, 32, 35, 36, 37, 40, 48. \",\"N/A\"))))","v":"N/A"},{"$f":"Scope!BT26","v":"0"},{"$f":"IF(BT70=0,\"N/A\",IF(BT70=1,\"NO: A, E, F, N. NI: 1, 2, 3, 4, 5, 6, 7, 8, 9, 10, 11, 12, 13, 14, 15, 16, 17, 18, 19, 20, 21, 22, 23, 24, 25, 26, 27, 28, 29, 32, 35, 36, 37, 40, 48. \", IF(BT70=2,\"NO: A, E, F, N. NI: 1, 2, 3, 4, 5, 6, 7, 8, 9, 10, 11, 12, 13, 14, 15, 16, 17, 18, 19, 20, 21, 22, 23, 24, 25, 26, 27, 28, 29, 32, 35, 36, 37, 40, 48. \",IF(BT70=3,\"NO: A, E, F, N. NI: 1, 2, 3, 4, 5, 6, 7, 8, 9, 10, 11, 12, 13, 14, 15, 16, 17, 18, 19, 20, 21, 22, 23, 24, 25, 26, 27, 28, 29, 32, 35, 36, 37, 40, 48. \",\"N/A\"))))","v":"N/A"},{"$f":"Scope!BV26","v":"0"},{"$f":"IF(BV70=0,\"N/A\",IF(BV70=1,\"NO: A, E, F, N. NI: 1, 2, 3, 4, 5, 6, 7, 8, 9, 10, 11, 12, 13, 14, 15, 16, 17, 18, 19, 20, 21, 22, 23, 24, 25, 26, 27, 28, 29, 32, 35, 36, 37, 40, 48. \", IF(BV70=2,\"NO: A, E, F, N. NI: 1, 2, 3, 4, 5, 6, 7, 8, 9, 10, 11, 12, 13, 14, 15, 16, 17, 18, 19, 20, 21, 22, 23, 24, 25, 26, 27, 28, 29, 32, 35, 36, 37, 40, 48. \",IF(BV70=3,\"NO: A, E, F, N. NI: 1, 2, 3, 4, 5, 6, 7, 8, 9, 10, 11, 12, 13, 14, 15, 16, 17, 18, 19, 20, 21, 22, 23, 24, 25, 26, 27, 28, 29, 32, 35, 36, 37, 40, 48. \",\"N/A\"))))","v":"N/A"},{"$f":"Scope!BX26","v":"0"},{"$f":"IF(BX70=0,\"N/A\",IF(BX70=1,\"NO: A, E, F, N. NI: 1, 2, 3, 4, 5, 6, 7, 8, 9, 10, 11, 12, 13, 14, 15, 16, 17, 18, 19, 20, 21, 22, 23, 24, 25, 26, 27, 28, 29, 32, 35, 36, 37, 40, 48. \", IF(BX70=2,\"NO: A, E, F, N. NI: 1, 2, 3, 4, 5, 6, 7, 8, 9, 10, 11, 12, 13, 14, 15, 16, 17, 18, 19, 20, 21, 22, 23, 24, 25, 26, 27, 28, 29, 32, 35, 36, 37, 40, 48. \",IF(BX70=3,\"NO: A, E, F, N. NI: 1, 2, 3, 4, 5, 6, 7, 8, 9, 10, 11, 12, 13, 14, 15, 16, 17, 18, 19, 20, 21, 22, 23, 24, 25, 26, 27, 28, 29, 32, 35, 36, 37, 40, 48. \",\"N/A\"))))","v":"N/A"},{"$f":"Scope!BZ26","v":"0"},{"$f":"IF(BZ70=0,\"N/A\",IF(BZ70=1,\"NO: A, E, F, N. NI: 1, 2, 3, 4, 5, 6, 7, 8, 9, 10, 11, 12, 13, 14, 15, 16, 17, 18, 19, 20, 21, 22, 23, 24, 25, 26, 27, 28, 29, 32, 35, 36, 37, 40, 48. \", IF(BZ70=2,\"NO: A, E, F, N. NI: 1, 2, 3, 4, 5, 6, 7, 8, 9, 10, 11, 12, 13, 14, 15, 16, 17, 18, 19, 20, 21, 22, 23, 24, 25, 26, 27, 28, 29, 32, 35, 36, 37, 40, 48. \",IF(BZ70=3,\"NO: A, E, F, N. NI: 1, 2, 3, 4, 5, 6, 7, 8, 9, 10, 11, 12, 13, 14, 15, 16, 17, 18, 19, 20, 21, 22, 23, 24, 25, 26, 27, 28, 29, 32, 35, 36, 37, 40, 48. \",\"N/A\"))))","v":"N/A"},{"$f":"Scope!CB26","v":"0"},{"$f":"IF(CB70=0,\"N/A\",IF(CB70=1,\"NO: A, E, F, N. NI: 1, 2, 3, 4, 5, 6, 7, 8, 9, 10, 11, 12, 13, 14, 15, 16, 17, 18, 19, 20, 21, 22, 23, 24, 25, 26, 27, 28, 29, 32, 35, 36, 37, 40, 48. \", IF(CB70=2,\"NO: A, E, F, N. NI: 1, 2, 3, 4, 5, 6, 7, 8, 9, 10, 11, 12, 13, 14, 15, 16, 17, 18, 19, 20, 21, 22, 23, 24, 25, 26, 27, 28, 29, 32, 35, 36, 37, 40, 48. \",IF(CB70=3,\"NO: A, E, F, N. NI: 1, 2, 3, 4, 5, 6, 7, 8, 9, 10, 11, 12, 13, 14, 15, 16, 17, 18, 19, 20, 21, 22, 23, 24, 25, 26, 27, 28, 29, 32, 35, 36, 37, 40, 48. \",\"N/A\"))))","v":"N/A"},{"$f":"Scope!CD26","v":"0"},{"$f":"IF(CD70=0,\"N/A\",IF(CD70=1,\"NO: A, E, F, N. NI: 1, 2, 3, 4, 5, 6, 7, 8, 9, 10, 11, 12, 13, 14, 15, 16, 17, 18, 19, 20, 21, 22, 23, 24, 25, 26, 27, 28, 29, 32, 35, 36, 37, 40, 48. \", IF(CD70=2,\"NO: A, E, F, N. NI: 1, 2, 3, 4, 5, 6, 7, 8, 9, 10, 11, 12, 13, 14, 15, 16, 17, 18, 19, 20, 21, 22, 23, 24, 25, 26, 27, 28, 29, 32, 35, 36, 37, 40, 48. \",IF(CD70=3,\"NO: A, E, F, N. NI: 1, 2, 3, 4, 5, 6, 7, 8, 9, 10, 11, 12, 13, 14, 15, 16, 17, 18, 19, 20, 21, 22, 23, 24, 25, 26, 27, 28, 29, 32, 35, 36, 37, 40, 48. \",\"N/A\"))))","v":"N/A"},null,{"$f":"IssuesInput!F5","v":"Commitment to Healthy Working Lives scheme http://www.ed.ac.uk/staff/health-wellbeing/about/healthy-working-lives "},null,null,{"$f":"Scope!CJ26","v":"0"},{"$f":"IF(CJ70=0,\"N/A\",IF(CJ70=1,\"NO: A, E, F, N. NI: 1, 2, 3, 4, 5, 6, 7, 8, 9, 10, 11, 12, 13, 14, 15, 16, 17, 18, 19, 20, 21, 22, 23, 24, 25, 26, 27, 28, 29, 32, 35, 36, 37, 40, 48. \", IF(CJ70=2,\"NO: A, E, F, N. NI: 1, 2, 3, 4, 5, 6, 7, 8, 9, 10, 11, 12, 13, 14, 15, 16, 17, 18, 19, 20, 21, 22, 23, 24, 25, 26, 27, 28, 29, 32, 35, 36, 37, 40, 48. \",IF(CJ70=3,\"NO: A, E, F, N. NI: 1, 2, 3, 4, 5, 6, 7, 8, 9, 10, 11, 12, 13, 14, 15, 16, 17, 18, 19, 20, 21, 22, 23, 24, 25, 26, 27, 28, 29, 32, 35, 36, 37, 40, 48. \",\"N/A\"))))","v":"N/A"}]
[null,null,"Communities",{"$f":"Scope!D27","v":1},{"$f":"IF(D71=0,\"N/A\",IF(D71=1,\"NO: E, J, K, P. NI: 3, 4, 5, 9, 10, 11, 12, 13, 14, 15, 16, 17, 18, 19, 20, 22, 23, 24, 26, 29, 30, 31, 32, 33, 34, 35, 36, 37, 38, 39, 40, 41, 43, 52, 54.\", IF(D71=2,\"NO: E, J, K, P. NI: 3, 4, 5, 9, 10, 11, 12, 13, 14, 15, 16, 17, 18, 19, 20, 22, 23, 24, 26, 29, 30, 31, 32, 33, 34, 35, 36, 37, 38, 39, 40, 41, 43, 52, 54.\",IF(D71=3,\"NO: NO: E, J, K, P. NI: 3, 4, 5, 9, 10, 11, 12, 13, 14, 15, 16, 17, 18, 19, 20, 22, 23, 24, 26, 29, 30, 31, 32, 33, 34, 35, 36, 37, 38, 39, 40, 41, 43, 52, 54.\",\"N/A\"))))","v":"NO: E, J, K, P. NI: 3, 4, 5, 9, 10, 11, 12, 13, 14, 15, 16, 17, 18, 19, 20, 22, 23, 24, 26, 29, 30, 31, 32, 33, 34, 35, 36, 37, 38, 39, 40, 41, 43, 52, 54."},{"$f":"Scope!F27","v":1},{"$f":"IF(F71=0,\"N/A\",IF(F71=1,\"NO: E, J, K, P. NI: 3, 4, 5, 9, 10, 11, 12, 13, 14, 15, 16, 17, 18, 19, 20, 22, 23, 24, 26, 29, 30, 31, 32, 33, 34, 35, 36, 37, 38, 39, 40, 41, 43, 52, 54.\", IF(F71=2,\"NO: E, J, K, P. NI: 3, 4, 5, 9, 10, 11, 12, 13, 14, 15, 16, 17, 18, 19, 20, 22, 23, 24, 26, 29, 30, 31, 32, 33, 34, 35, 36, 37, 38, 39, 40, 41, 43, 52, 54.\",IF(F71=3,\"NO: NO: E, J, K, P. NI: 3, 4, 5, 9, 10, 11, 12, 13, 14, 15, 16, 17, 18, 19, 20, 22, 23, 24, 26, 29, 30, 31, 32, 33, 34, 35, 36, 37, 38, 39, 40, 41, 43, 52, 54.\",\"N/A\"))))","v":"NO: E, J, K, P. NI: 3, 4, 5, 9, 10, 11, 12, 13, 14, 15, 16, 17, 18, 19, 20, 22, 23, 24, 26, 29, 30, 31, 32, 33, 34, 35, 36, 37, 38, 39, 40, 41, 43, 52, 54."},{"$f":"Scope!H27","v":1},{"$f":"IF(H71=0,\"N/A\",IF(H71=1,\"NO: E, J, K, P. NI: 3, 4, 5, 9, 10, 11, 12, 13, 14, 15, 16, 17, 18, 19, 20, 22, 23, 24, 26, 29, 30, 31, 32, 33, 34, 35, 36, 37, 38, 39, 40, 41, 43, 52, 54.\", IF(H71=2,\"NO: E, J, K, P. NI: 3, 4, 5, 9, 10, 11, 12, 13, 14, 15, 16, 17, 18, 19, 20, 22, 23, 24, 26, 29, 30, 31, 32, 33, 34, 35, 36, 37, 38, 39, 40, 41, 43, 52, 54.\",IF(H71=3,\"NO: NO: E, J, K, P. NI: 3, 4, 5, 9, 10, 11, 12, 13, 14, 15, 16, 17, 18, 19, 20, 22, 23, 24, 26, 29, 30, 31, 32, 33, 34, 35, 36, 37, 38, 39, 40, 41, 43, 52, 54.\",\"N/A\"))))","v":"NO: E, J, K, P. NI: 3, 4, 5, 9, 10, 11, 12, 13, 14, 15, 16, 17, 18, 19, 20, 22, 23, 24, 26, 29, 30, 31, 32, 33, 34, 35, 36, 37, 38, 39, 40, 41, 43, 52, 54."},{"$f":"Scope!J27","v":1},{"$f":"IF(J71=0,\"N/A\",IF(J71=1,\"NO: E, J, K, P. NI: 3, 4, 5, 9, 10, 11, 12, 13, 14, 15, 16, 17, 18, 19, 20, 22, 23, 24, 26, 29, 30, 31, 32, 33, 34, 35, 36, 37, 38, 39, 40, 41, 43, 52, 54.\", IF(J71=2,\"NO: E, J, K, P. NI: 3, 4, 5, 9, 10, 11, 12, 13, 14, 15, 16, 17, 18, 19, 20, 22, 23, 24, 26, 29, 30, 31, 32, 33, 34, 35, 36, 37, 38, 39, 40, 41, 43, 52, 54.\",IF(J71=3,\"NO: NO: E, J, K, P. NI: 3, 4, 5, 9, 10, 11, 12, 13, 14, 15, 16, 17, 18, 19, 20, 22, 23, 24, 26, 29, 30, 31, 32, 33, 34, 35, 36, 37, 38, 39, 40, 41, 43, 52, 54.\",\"N/A\"))))","v":"NO: E, J, K, P. NI: 3, 4, 5, 9, 10, 11, 12, 13, 14, 15, 16, 17, 18, 19, 20, 22, 23, 24, 26, 29, 30, 31, 32, 33, 34, 35, 36, 37, 38, 39, 40, 41, 43, 52, 54."},{"$f":"Scope!L27","v":1},{"$f":"IF(L71=0,\"N/A\",IF(L71=1,\"NO: E, J, K, P. NI: 3, 4, 5, 9, 10, 11, 12, 13, 14, 15, 16, 17, 18, 19, 20, 22, 23, 24, 26, 29, 30, 31, 32, 33, 34, 35, 36, 37, 38, 39, 40, 41, 43, 52, 54.\", IF(L71=2,\"NO: E, J, K, P. NI: 3, 4, 5, 9, 10, 11, 12, 13, 14, 15, 16, 17, 18, 19, 20, 22, 23, 24, 26, 29, 30, 31, 32, 33, 34, 35, 36, 37, 38, 39, 40, 41, 43, 52, 54.\",IF(L71=3,\"NO: NO: E, J, K, P. NI: 3, 4, 5, 9, 10, 11, 12, 13, 14, 15, 16, 17, 18, 19, 20, 22, 23, 24, 26, 29, 30, 31, 32, 33, 34, 35, 36, 37, 38, 39, 40, 41, 43, 52, 54.\",\"N/A\"))))","v":"NO: E, J, K, P. NI: 3, 4, 5, 9, 10, 11, 12, 13, 14, 15, 16, 17, 18, 19, 20, 22, 23, 24, 26, 29, 30, 31, 32, 33, 34, 35, 36, 37, 38, 39, 40, 41, 43, 52, 54."},{"$f":"Scope!N27","v":1},{"$f":"IF(N71=0,\"N/A\",IF(N71=1,\"NO: E, J, K, P. NI: 3, 4, 5, 9, 10, 11, 12, 13, 14, 15, 16, 17, 18, 19, 20, 22, 23, 24, 26, 29, 30, 31, 32, 33, 34, 35, 36, 37, 38, 39, 40, 41, 43, 52, 54.\", IF(N71=2,\"NO: E, J, K, P. NI: 3, 4, 5, 9, 10, 11, 12, 13, 14, 15, 16, 17, 18, 19, 20, 22, 23, 24, 26, 29, 30, 31, 32, 33, 34, 35, 36, 37, 38, 39, 40, 41, 43, 52, 54.\",IF(N71=3,\"NO: NO: E, J, K, P. NI: 3, 4, 5, 9, 10, 11, 12, 13, 14, 15, 16, 17, 18, 19, 20, 22, 23, 24, 26, 29, 30, 31, 32, 33, 34, 35, 36, 37, 38, 39, 40, 41, 43, 52, 54.\",\"N/A\"))))","v":"NO: E, J, K, P. NI: 3, 4, 5, 9, 10, 11, 12, 13, 14, 15, 16, 17, 18, 19, 20, 22, 23, 24, 26, 29, 30, 31, 32, 33, 34, 35, 36, 37, 38, 39, 40, 41, 43, 52, 54."},{"$f":"Scope!P27","v":1},{"$f":"IF(P71=0,\"N/A\",IF(P71=1,\"NO: E, J, K, P. NI: 3, 4, 5, 9, 10, 11, 12, 13, 14, 15, 16, 17, 18, 19, 20, 22, 23, 24, 26, 29, 30, 31, 32, 33, 34, 35, 36, 37, 38, 39, 40, 41, 43, 52, 54.\", IF(P71=2,\"NO: E, J, K, P. NI: 3, 4, 5, 9, 10, 11, 12, 13, 14, 15, 16, 17, 18, 19, 20, 22, 23, 24, 26, 29, 30, 31, 32, 33, 34, 35, 36, 37, 38, 39, 40, 41, 43, 52, 54.\",IF(P71=3,\"NO: NO: E, J, K, P. NI: 3, 4, 5, 9, 10, 11, 12, 13, 14, 15, 16, 17, 18, 19, 20, 22, 23, 24, 26, 29, 30, 31, 32, 33, 34, 35, 36, 37, 38, 39, 40, 41, 43, 52, 54.\",\"N/A\"))))","v":"NO: E, J, K, P. NI: 3, 4, 5, 9, 10, 11, 12, 13, 14, 15, 16, 17, 18, 19, 20, 22, 23, 24, 26, 29, 30, 31, 32, 33, 34, 35, 36, 37, 38, 39, 40, 41, 43, 52, 54."},{"$f":"Scope!R27","v":1},{"$f":"IF(R71=0,\"N/A\",IF(R71=1,\"NO: E, J, K, P. NI: 3, 4, 5, 9, 10, 11, 12, 13, 14, 15, 16, 17, 18, 19, 20, 22, 23, 24, 26, 29, 30, 31, 32, 33, 34, 35, 36, 37, 38, 39, 40, 41, 43, 52, 54.\", IF(R71=2,\"NO: E, J, K, P. NI: 3, 4, 5, 9, 10, 11, 12, 13, 14, 15, 16, 17, 18, 19, 20, 22, 23, 24, 26, 29, 30, 31, 32, 33, 34, 35, 36, 37, 38, 39, 40, 41, 43, 52, 54.\",IF(R71=3,\"NO: NO: E, J, K, P. NI: 3, 4, 5, 9, 10, 11, 12, 13, 14, 15, 16, 17, 18, 19, 20, 22, 23, 24, 26, 29, 30, 31, 32, 33, 34, 35, 36, 37, 38, 39, 40, 41, 43, 52, 54.\",\"N/A\"))))","v":"NO: E, J, K, P. NI: 3, 4, 5, 9, 10, 11, 12, 13, 14, 15, 16, 17, 18, 19, 20, 22, 23, 24, 26, 29, 30, 31, 32, 33, 34, 35, 36, 37, 38, 39, 40, 41, 43, 52, 54."},{"$f":"Scope!T27","v":"0"},{"$f":"IF(T71=0,\"N/A\",IF(T71=1,\"NO: E, J, K, P. NI: 3, 4, 5, 9, 10, 11, 12, 13, 14, 15, 16, 17, 18, 19, 20, 22, 23, 24, 26, 29, 30, 31, 32, 33, 34, 35, 36, 37, 38, 39, 40, 41, 43, 52, 54.\", IF(T71=2,\"NO: E, J, K, P. NI: 3, 4, 5, 9, 10, 11, 12, 13, 14, 15, 16, 17, 18, 19, 20, 22, 23, 24, 26, 29, 30, 31, 32, 33, 34, 35, 36, 37, 38, 39, 40, 41, 43, 52, 54.\",IF(T71=3,\"NO: NO: E, J, K, P. NI: 3, 4, 5, 9, 10, 11, 12, 13, 14, 15, 16, 17, 18, 19, 20, 22, 23, 24, 26, 29, 30, 31, 32, 33, 34, 35, 36, 37, 38, 39, 40, 41, 43, 52, 54.\",\"N/A\"))))","v":"N/A"},{"$f":"Scope!V27","v":"0"},{"$f":"IF(V71=0,\"N/A\",IF(V71=1,\"NO: E, J, K, P. NI: 3, 4, 5, 9, 10, 11, 12, 13, 14, 15, 16, 17, 18, 19, 20, 22, 23, 24, 26, 29, 30, 31, 32, 33, 34, 35, 36, 37, 38, 39, 40, 41, 43, 52, 54.\", IF(V71=2,\"NO: E, J, K, P. NI: 3, 4, 5, 9, 10, 11, 12, 13, 14, 15, 16, 17, 18, 19, 20, 22, 23, 24, 26, 29, 30, 31, 32, 33, 34, 35, 36, 37, 38, 39, 40, 41, 43, 52, 54.\",IF(V71=3,\"NO: NO: E, J, K, P. NI: 3, 4, 5, 9, 10, 11, 12, 13, 14, 15, 16, 17, 18, 19, 20, 22, 23, 24, 26, 29, 30, 31, 32, 33, 34, 35, 36, 37, 38, 39, 40, 41, 43, 52, 54.\",\"N/A\"))))","v":"N/A"},{"$f":"Scope!X27","v":"0"},{"$f":"IF(X71=0,\"N/A\",IF(X71=1,\"NO: E, J, K, P. NI: 3, 4, 5, 9, 10, 11, 12, 13, 14, 15, 16, 17, 18, 19, 20, 22, 23, 24, 26, 29, 30, 31, 32, 33, 34, 35, 36, 37, 38, 39, 40, 41, 43, 52, 54.\", IF(X71=2,\"NO: E, J, K, P. NI: 3, 4, 5, 9, 10, 11, 12, 13, 14, 15, 16, 17, 18, 19, 20, 22, 23, 24, 26, 29, 30, 31, 32, 33, 34, 35, 36, 37, 38, 39, 40, 41, 43, 52, 54.\",IF(X71=3,\"NO: NO: E, J, K, P. NI: 3, 4, 5, 9, 10, 11, 12, 13, 14, 15, 16, 17, 18, 19, 20, 22, 23, 24, 26, 29, 30, 31, 32, 33, 34, 35, 36, 37, 38, 39, 40, 41, 43, 52, 54.\",\"N/A\"))))","v":"N/A"},{"$f":"Scope!Z27","v":"0"},{"$f":"IF(Z71=0,\"N/A\",IF(Z71=1,\"NO: E, J, K, P. NI: 3, 4, 5, 9, 10, 11, 12, 13, 14, 15, 16, 17, 18, 19, 20, 22, 23, 24, 26, 29, 30, 31, 32, 33, 34, 35, 36, 37, 38, 39, 40, 41, 43, 52, 54.\", IF(Z71=2,\"NO: E, J, K, P. NI: 3, 4, 5, 9, 10, 11, 12, 13, 14, 15, 16, 17, 18, 19, 20, 22, 23, 24, 26, 29, 30, 31, 32, 33, 34, 35, 36, 37, 38, 39, 40, 41, 43, 52, 54.\",IF(Z71=3,\"NO: NO: E, J, K, P. NI: 3, 4, 5, 9, 10, 11, 12, 13, 14, 15, 16, 17, 18, 19, 20, 22, 23, 24, 26, 29, 30, 31, 32, 33, 34, 35, 36, 37, 38, 39, 40, 41, 43, 52, 54.\",\"N/A\"))))","v":"N/A"},{"$f":"Scope!AB27","v":"0"},{"$f":"IF(AB71=0,\"N/A\",IF(AB71=1,\"NO: E, J, K, P. NI: 3, 4, 5, 9, 10, 11, 12, 13, 14, 15, 16, 17, 18, 19, 20, 22, 23, 24, 26, 29, 30, 31, 32, 33, 34, 35, 36, 37, 38, 39, 40, 41, 43, 52, 54.\", IF(AB71=2,\"NO: E, J, K, P. NI: 3, 4, 5, 9, 10, 11, 12, 13, 14, 15, 16, 17, 18, 19, 20, 22, 23, 24, 26, 29, 30, 31, 32, 33, 34, 35, 36, 37, 38, 39, 40, 41, 43, 52, 54.\",IF(AB71=3,\"NO: NO: E, J, K, P. NI: 3, 4, 5, 9, 10, 11, 12, 13, 14, 15, 16, 17, 18, 19, 20, 22, 23, 24, 26, 29, 30, 31, 32, 33, 34, 35, 36, 37, 38, 39, 40, 41, 43, 52, 54.\",\"N/A\"))))","v":"N/A"},{"$f":"Scope!AD27","v":"0"},{"$f":"IF(AD71=0,\"N/A\",IF(AD71=1,\"NO: E, J, K, P. NI: 3, 4, 5, 9, 10, 11, 12, 13, 14, 15, 16, 17, 18, 19, 20, 22, 23, 24, 26, 29, 30, 31, 32, 33, 34, 35, 36, 37, 38, 39, 40, 41, 43, 52, 54.\", IF(AD71=2,\"NO: E, J, K, P. NI: 3, 4, 5, 9, 10, 11, 12, 13, 14, 15, 16, 17, 18, 19, 20, 22, 23, 24, 26, 29, 30, 31, 32, 33, 34, 35, 36, 37, 38, 39, 40, 41, 43, 52, 54.\",IF(AD71=3,\"NO: NO: E, J, K, P. NI: 3, 4, 5, 9, 10, 11, 12, 13, 14, 15, 16, 17, 18, 19, 20, 22, 23, 24, 26, 29, 30, 31, 32, 33, 34, 35, 36, 37, 38, 39, 40, 41, 43, 52, 54.\",\"N/A\"))))","v":"N/A"},{"$f":"Scope!AF27","v":"0"},{"$f":"IF(AF71=0,\"N/A\",IF(AF71=1,\"NO: E, J, K, P. NI: 3, 4, 5, 9, 10, 11, 12, 13, 14, 15, 16, 17, 18, 19, 20, 22, 23, 24, 26, 29, 30, 31, 32, 33, 34, 35, 36, 37, 38, 39, 40, 41, 43, 52, 54.\", IF(AF71=2,\"NO: E, J, K, P. NI: 3, 4, 5, 9, 10, 11, 12, 13, 14, 15, 16, 17, 18, 19, 20, 22, 23, 24, 26, 29, 30, 31, 32, 33, 34, 35, 36, 37, 38, 39, 40, 41, 43, 52, 54.\",IF(AF71=3,\"NO: NO: E, J, K, P. NI: 3, 4, 5, 9, 10, 11, 12, 13, 14, 15, 16, 17, 18, 19, 20, 22, 23, 24, 26, 29, 30, 31, 32, 33, 34, 35, 36, 37, 38, 39, 40, 41, 43, 52, 54.\",\"N/A\"))))","v":"N/A"},{"$f":"Scope!AH27","v":"0"},{"$f":"IF(AH71=0,\"N/A\",IF(AH71=1,\"NO: E, J, K, P. NI: 3, 4, 5, 9, 10, 11, 12, 13, 14, 15, 16, 17, 18, 19, 20, 22, 23, 24, 26, 29, 30, 31, 32, 33, 34, 35, 36, 37, 38, 39, 40, 41, 43, 52, 54.\", IF(AH71=2,\"NO: E, J, K, P. NI: 3, 4, 5, 9, 10, 11, 12, 13, 14, 15, 16, 17, 18, 19, 20, 22, 23, 24, 26, 29, 30, 31, 32, 33, 34, 35, 36, 37, 38, 39, 40, 41, 43, 52, 54.\",IF(AH71=3,\"NO: NO: E, J, K, P. NI: 3, 4, 5, 9, 10, 11, 12, 13, 14, 15, 16, 17, 18, 19, 20, 22, 23, 24, 26, 29, 30, 31, 32, 33, 34, 35, 36, 37, 38, 39, 40, 41, 43, 52, 54.\",\"N/A\"))))","v":"N/A"},{"$f":"Scope!AJ27","v":"0"},{"$f":"IF(AJ71=0,\"N/A\",IF(AJ71=1,\"NO: E, J, K, P. NI: 3, 4, 5, 9, 10, 11, 12, 13, 14, 15, 16, 17, 18, 19, 20, 22, 23, 24, 26, 29, 30, 31, 32, 33, 34, 35, 36, 37, 38, 39, 40, 41, 43, 52, 54.\", IF(AJ71=2,\"NO: E, J, K, P. NI: 3, 4, 5, 9, 10, 11, 12, 13, 14, 15, 16, 17, 18, 19, 20, 22, 23, 24, 26, 29, 30, 31, 32, 33, 34, 35, 36, 37, 38, 39, 40, 41, 43, 52, 54.\",IF(AJ71=3,\"NO: NO: E, J, K, P. NI: 3, 4, 5, 9, 10, 11, 12, 13, 14, 15, 16, 17, 18, 19, 20, 22, 23, 24, 26, 29, 30, 31, 32, 33, 34, 35, 36, 37, 38, 39, 40, 41, 43, 52, 54.\",\"N/A\"))))","v":"N/A"},{"$f":"Scope!AL27","v":"0"},{"$f":"IF(AL71=0,\"N/A\",IF(AL71=1,\"NO: E, J, K, P. NI: 3, 4, 5, 9, 10, 11, 12, 13, 14, 15, 16, 17, 18, 19, 20, 22, 23, 24, 26, 29, 30, 31, 32, 33, 34, 35, 36, 37, 38, 39, 40, 41, 43, 52, 54.\", IF(AL71=2,\"NO: E, J, K, P. NI: 3, 4, 5, 9, 10, 11, 12, 13, 14, 15, 16, 17, 18, 19, 20, 22, 23, 24, 26, 29, 30, 31, 32, 33, 34, 35, 36, 37, 38, 39, 40, 41, 43, 52, 54.\",IF(AL71=3,\"NO: NO: E, J, K, P. NI: 3, 4, 5, 9, 10, 11, 12, 13, 14, 15, 16, 17, 18, 19, 20, 22, 23, 24, 26, 29, 30, 31, 32, 33, 34, 35, 36, 37, 38, 39, 40, 41, 43, 52, 54.\",\"N/A\"))))","v":"N/A"},{"$f":"Scope!AN27","v":"0"},{"$f":"IF(AN71=0,\"N/A\",IF(AN71=1,\"NO: E, J, K, P. NI: 3, 4, 5, 9, 10, 11, 12, 13, 14, 15, 16, 17, 18, 19, 20, 22, 23, 24, 26, 29, 30, 31, 32, 33, 34, 35, 36, 37, 38, 39, 40, 41, 43, 52, 54.\", IF(AN71=2,\"NO: E, J, K, P. NI: 3, 4, 5, 9, 10, 11, 12, 13, 14, 15, 16, 17, 18, 19, 20, 22, 23, 24, 26, 29, 30, 31, 32, 33, 34, 35, 36, 37, 38, 39, 40, 41, 43, 52, 54.\",IF(AN71=3,\"NO: NO: E, J, K, P. NI: 3, 4, 5, 9, 10, 11, 12, 13, 14, 15, 16, 17, 18, 19, 20, 22, 23, 24, 26, 29, 30, 31, 32, 33, 34, 35, 36, 37, 38, 39, 40, 41, 43, 52, 54.\",\"N/A\"))))","v":"N/A"},{"$f":"Scope!AP27","v":"0"},{"$f":"IF(AP71=0,\"N/A\",IF(AP71=1,\"NO: E, J, K, P. NI: 3, 4, 5, 9, 10, 11, 12, 13, 14, 15, 16, 17, 18, 19, 20, 22, 23, 24, 26, 29, 30, 31, 32, 33, 34, 35, 36, 37, 38, 39, 40, 41, 43, 52, 54.\", IF(AP71=2,\"NO: E, J, K, P. NI: 3, 4, 5, 9, 10, 11, 12, 13, 14, 15, 16, 17, 18, 19, 20, 22, 23, 24, 26, 29, 30, 31, 32, 33, 34, 35, 36, 37, 38, 39, 40, 41, 43, 52, 54.\",IF(AP71=3,\"NO: NO: E, J, K, P. NI: 3, 4, 5, 9, 10, 11, 12, 13, 14, 15, 16, 17, 18, 19, 20, 22, 23, 24, 26, 29, 30, 31, 32, 33, 34, 35, 36, 37, 38, 39, 40, 41, 43, 52, 54.\",\"N/A\"))))","v":"N/A"},{"$f":"Scope!AR27","v":"0"},{"$f":"IF(AR71=0,\"N/A\",IF(AR71=1,\"NO: E, J, K, P. NI: 3, 4, 5, 9, 10, 11, 12, 13, 14, 15, 16, 17, 18, 19, 20, 22, 23, 24, 26, 29, 30, 31, 32, 33, 34, 35, 36, 37, 38, 39, 40, 41, 43, 52, 54.\", IF(AR71=2,\"NO: E, J, K, P. NI: 3, 4, 5, 9, 10, 11, 12, 13, 14, 15, 16, 17, 18, 19, 20, 22, 23, 24, 26, 29, 30, 31, 32, 33, 34, 35, 36, 37, 38, 39, 40, 41, 43, 52, 54.\",IF(AR71=3,\"NO: NO: E, J, K, P. NI: 3, 4, 5, 9, 10, 11, 12, 13, 14, 15, 16, 17, 18, 19, 20, 22, 23, 24, 26, 29, 30, 31, 32, 33, 34, 35, 36, 37, 38, 39, 40, 41, 43, 52, 54.\",\"N/A\"))))","v":"N/A"},{"$f":"Scope!AT27","v":"0"},{"$f":"IF(AT71=0,\"N/A\",IF(AT71=1,\"NO: E, J, K, P. NI: 3, 4, 5, 9, 10, 11, 12, 13, 14, 15, 16, 17, 18, 19, 20, 22, 23, 24, 26, 29, 30, 31, 32, 33, 34, 35, 36, 37, 38, 39, 40, 41, 43, 52, 54.\", IF(AT71=2,\"NO: E, J, K, P. NI: 3, 4, 5, 9, 10, 11, 12, 13, 14, 15, 16, 17, 18, 19, 20, 22, 23, 24, 26, 29, 30, 31, 32, 33, 34, 35, 36, 37, 38, 39, 40, 41, 43, 52, 54.\",IF(AT71=3,\"NO: NO: E, J, K, P. NI: 3, 4, 5, 9, 10, 11, 12, 13, 14, 15, 16, 17, 18, 19, 20, 22, 23, 24, 26, 29, 30, 31, 32, 33, 34, 35, 36, 37, 38, 39, 40, 41, 43, 52, 54.\",\"N/A\"))))","v":"N/A"},{"$f":"Scope!AV27","v":"0"},{"$f":"IF(AV71=0,\"N/A\",IF(AV71=1,\"NO: E, J, K, P. NI: 3, 4, 5, 9, 10, 11, 12, 13, 14, 15, 16, 17, 18, 19, 20, 22, 23, 24, 26, 29, 30, 31, 32, 33, 34, 35, 36, 37, 38, 39, 40, 41, 43, 52, 54.\", IF(AV71=2,\"NO: E, J, K, P. NI: 3, 4, 5, 9, 10, 11, 12, 13, 14, 15, 16, 17, 18, 19, 20, 22, 23, 24, 26, 29, 30, 31, 32, 33, 34, 35, 36, 37, 38, 39, 40, 41, 43, 52, 54.\",IF(AV71=3,\"NO: NO: E, J, K, P. NI: 3, 4, 5, 9, 10, 11, 12, 13, 14, 15, 16, 17, 18, 19, 20, 22, 23, 24, 26, 29, 30, 31, 32, 33, 34, 35, 36, 37, 38, 39, 40, 41, 43, 52, 54.\",\"N/A\"))))","v":"N/A"},{"$f":"Scope!AX27","v":"0"},{"$f":"IF(AX71=0,\"N/A\",IF(AX71=1,\"NO: E, J, K, P. NI: 3, 4, 5, 9, 10, 11, 12, 13, 14, 15, 16, 17, 18, 19, 20, 22, 23, 24, 26, 29, 30, 31, 32, 33, 34, 35, 36, 37, 38, 39, 40, 41, 43, 52, 54.\", IF(AX71=2,\"NO: E, J, K, P. NI: 3, 4, 5, 9, 10, 11, 12, 13, 14, 15, 16, 17, 18, 19, 20, 22, 23, 24, 26, 29, 30, 31, 32, 33, 34, 35, 36, 37, 38, 39, 40, 41, 43, 52, 54.\",IF(AX71=3,\"NO: NO: E, J, K, P. NI: 3, 4, 5, 9, 10, 11, 12, 13, 14, 15, 16, 17, 18, 19, 20, 22, 23, 24, 26, 29, 30, 31, 32, 33, 34, 35, 36, 37, 38, 39, 40, 41, 43, 52, 54.\",\"N/A\"))))","v":"N/A"},{"$f":"Scope!AZ27","v":"0"},{"$f":"IF(AZ71=0,\"N/A\",IF(AZ71=1,\"NO: E, J, K, P. NI: 3, 4, 5, 9, 10, 11, 12, 13, 14, 15, 16, 17, 18, 19, 20, 22, 23, 24, 26, 29, 30, 31, 32, 33, 34, 35, 36, 37, 38, 39, 40, 41, 43, 52, 54.\", IF(AZ71=2,\"NO: E, J, K, P. NI: 3, 4, 5, 9, 10, 11, 12, 13, 14, 15, 16, 17, 18, 19, 20, 22, 23, 24, 26, 29, 30, 31, 32, 33, 34, 35, 36, 37, 38, 39, 40, 41, 43, 52, 54.\",IF(AZ71=3,\"NO: NO: E, J, K, P. NI: 3, 4, 5, 9, 10, 11, 12, 13, 14, 15, 16, 17, 18, 19, 20, 22, 23, 24, 26, 29, 30, 31, 32, 33, 34, 35, 36, 37, 38, 39, 40, 41, 43, 52, 54.\",\"N/A\"))))","v":"N/A"},{"$f":"Scope!BB27","v":"0"},{"$f":"IF(BB71=0,\"N/A\",IF(BB71=1,\"NO: E, J, K, P. NI: 3, 4, 5, 9, 10, 11, 12, 13, 14, 15, 16, 17, 18, 19, 20, 22, 23, 24, 26, 29, 30, 31, 32, 33, 34, 35, 36, 37, 38, 39, 40, 41, 43, 52, 54.\", IF(BB71=2,\"NO: E, J, K, P. NI: 3, 4, 5, 9, 10, 11, 12, 13, 14, 15, 16, 17, 18, 19, 20, 22, 23, 24, 26, 29, 30, 31, 32, 33, 34, 35, 36, 37, 38, 39, 40, 41, 43, 52, 54.\",IF(BB71=3,\"NO: NO: E, J, K, P. NI: 3, 4, 5, 9, 10, 11, 12, 13, 14, 15, 16, 17, 18, 19, 20, 22, 23, 24, 26, 29, 30, 31, 32, 33, 34, 35, 36, 37, 38, 39, 40, 41, 43, 52, 54.\",\"N/A\"))))","v":"N/A"},{"$f":"Scope!BD27","v":"0"},{"$f":"IF(BD71=0,\"N/A\",IF(BD71=1,\"NO: E, J, K, P. NI: 3, 4, 5, 9, 10, 11, 12, 13, 14, 15, 16, 17, 18, 19, 20, 22, 23, 24, 26, 29, 30, 31, 32, 33, 34, 35, 36, 37, 38, 39, 40, 41, 43, 52, 54.\", IF(BD71=2,\"NO: E, J, K, P. NI: 3, 4, 5, 9, 10, 11, 12, 13, 14, 15, 16, 17, 18, 19, 20, 22, 23, 24, 26, 29, 30, 31, 32, 33, 34, 35, 36, 37, 38, 39, 40, 41, 43, 52, 54.\",IF(BD71=3,\"NO: NO: E, J, K, P. NI: 3, 4, 5, 9, 10, 11, 12, 13, 14, 15, 16, 17, 18, 19, 20, 22, 23, 24, 26, 29, 30, 31, 32, 33, 34, 35, 36, 37, 38, 39, 40, 41, 43, 52, 54.\",\"N/A\"))))","v":"N/A"},{"$f":"Scope!BF27","v":"0"},{"$f":"IF(BF71=0,\"N/A\",IF(BF71=1,\"NO: E, J, K, P. NI: 3, 4, 5, 9, 10, 11, 12, 13, 14, 15, 16, 17, 18, 19, 20, 22, 23, 24, 26, 29, 30, 31, 32, 33, 34, 35, 36, 37, 38, 39, 40, 41, 43, 52, 54.\", IF(BF71=2,\"NO: E, J, K, P. NI: 3, 4, 5, 9, 10, 11, 12, 13, 14, 15, 16, 17, 18, 19, 20, 22, 23, 24, 26, 29, 30, 31, 32, 33, 34, 35, 36, 37, 38, 39, 40, 41, 43, 52, 54.\",IF(BF71=3,\"NO: NO: E, J, K, P. NI: 3, 4, 5, 9, 10, 11, 12, 13, 14, 15, 16, 17, 18, 19, 20, 22, 23, 24, 26, 29, 30, 31, 32, 33, 34, 35, 36, 37, 38, 39, 40, 41, 43, 52, 54.\",\"N/A\"))))","v":"N/A"},{"$f":"Scope!BH27","v":"0"},{"$f":"IF(BH71=0,\"N/A\",IF(BH71=1,\"NO: E, J, K, P. NI: 3, 4, 5, 9, 10, 11, 12, 13, 14, 15, 16, 17, 18, 19, 20, 22, 23, 24, 26, 29, 30, 31, 32, 33, 34, 35, 36, 37, 38, 39, 40, 41, 43, 52, 54.\", IF(BH71=2,\"NO: E, J, K, P. NI: 3, 4, 5, 9, 10, 11, 12, 13, 14, 15, 16, 17, 18, 19, 20, 22, 23, 24, 26, 29, 30, 31, 32, 33, 34, 35, 36, 37, 38, 39, 40, 41, 43, 52, 54.\",IF(BH71=3,\"NO: NO: E, J, K, P. NI: 3, 4, 5, 9, 10, 11, 12, 13, 14, 15, 16, 17, 18, 19, 20, 22, 23, 24, 26, 29, 30, 31, 32, 33, 34, 35, 36, 37, 38, 39, 40, 41, 43, 52, 54.\",\"N/A\"))))","v":"N/A"},{"$f":"Scope!BJ27","v":"0"},{"$f":"IF(BJ71=0,\"N/A\",IF(BJ71=1,\"NO: E, J, K, P. NI: 3, 4, 5, 9, 10, 11, 12, 13, 14, 15, 16, 17, 18, 19, 20, 22, 23, 24, 26, 29, 30, 31, 32, 33, 34, 35, 36, 37, 38, 39, 40, 41, 43, 52, 54.\", IF(BJ71=2,\"NO: E, J, K, P. NI: 3, 4, 5, 9, 10, 11, 12, 13, 14, 15, 16, 17, 18, 19, 20, 22, 23, 24, 26, 29, 30, 31, 32, 33, 34, 35, 36, 37, 38, 39, 40, 41, 43, 52, 54.\",IF(BJ71=3,\"NO: NO: E, J, K, P. NI: 3, 4, 5, 9, 10, 11, 12, 13, 14, 15, 16, 17, 18, 19, 20, 22, 23, 24, 26, 29, 30, 31, 32, 33, 34, 35, 36, 37, 38, 39, 40, 41, 43, 52, 54.\",\"N/A\"))))","v":"N/A"},{"$f":"Scope!BL27","v":"0"},{"$f":"IF(BL71=0,\"N/A\",IF(BL71=1,\"NO: E, J, K, P. NI: 3, 4, 5, 9, 10, 11, 12, 13, 14, 15, 16, 17, 18, 19, 20, 22, 23, 24, 26, 29, 30, 31, 32, 33, 34, 35, 36, 37, 38, 39, 40, 41, 43, 52, 54.\", IF(BL71=2,\"NO: E, J, K, P. NI: 3, 4, 5, 9, 10, 11, 12, 13, 14, 15, 16, 17, 18, 19, 20, 22, 23, 24, 26, 29, 30, 31, 32, 33, 34, 35, 36, 37, 38, 39, 40, 41, 43, 52, 54.\",IF(BL71=3,\"NO: NO: E, J, K, P. NI: 3, 4, 5, 9, 10, 11, 12, 13, 14, 15, 16, 17, 18, 19, 20, 22, 23, 24, 26, 29, 30, 31, 32, 33, 34, 35, 36, 37, 38, 39, 40, 41, 43, 52, 54.\",\"N/A\"))))","v":"N/A"},{"$f":"Scope!BN27","v":"0"},{"$f":"IF(BN71=0,\"N/A\",IF(BN71=1,\"NO: E, J, K, P. NI: 3, 4, 7, 8, 9, 10, 11, 12, 13, 14, 15, 16, 17, 18, 22, 24, 25, 23, 26, 27, 28, 29, 30, 31, 32, 33, 34, 35, 36, 37, 38, 39, 40, 42, 47, 48.\", IF(BN71=2,\"NO: E, J, K, P. NI: 3, 4, 7, 8, 9, 10, 11, 12, 13, 14, 15, 16, 17, 18, 22, 24, 25, 23, 26, 27, 28, 29, 30, 31, 32, 33, 34, 35, 36, 37, 38, 39, 40, 42, 47, 48.\",IF(BN71=3,\"NO: E, J, K, P. NI: 3, 4, 7, 8, 9, 10, 11, 12, 13, 14, 15, 16, 17, 18, 22, 24, 25, 23, 26, 27, 28, 29, 30, 31, 32, 33, 34, 35, 36, 37, 38, 39, 40, 42, 47, 48.\",\"N/A\"))))","v":"N/A"},{"$f":"Scope!BP27","v":"0"},{"$f":"IF(BP71=0,\"N/A\",IF(BP71=1,\"NO: E, J, K, P. NI: 3, 4, 7, 8, 9, 10, 11, 12, 13, 14, 15, 16, 17, 18, 22, 24, 25, 23, 26, 27, 28, 29, 30, 31, 32, 33, 34, 35, 36, 37, 38, 39, 40, 42, 47, 48.\", IF(BP71=2,\"NO: E, J, K, P. NI: 3, 4, 7, 8, 9, 10, 11, 12, 13, 14, 15, 16, 17, 18, 22, 24, 25, 23, 26, 27, 28, 29, 30, 31, 32, 33, 34, 35, 36, 37, 38, 39, 40, 42, 47, 48.\",IF(BP71=3,\"NO: E, J, K, P. NI: 3, 4, 7, 8, 9, 10, 11, 12, 13, 14, 15, 16, 17, 18, 22, 24, 25, 23, 26, 27, 28, 29, 30, 31, 32, 33, 34, 35, 36, 37, 38, 39, 40, 42, 47, 48.\",\"N/A\"))))","v":"N/A"},{"$f":"Scope!BR27","v":"0"},{"$f":"IF(BR71=0,\"N/A\",IF(BR71=1,\"NO: E, J, K, P. NI: 3, 4, 7, 8, 9, 10, 11, 12, 13, 14, 15, 16, 17, 18, 22, 24, 25, 23, 26, 27, 28, 29, 30, 31, 32, 33, 34, 35, 36, 37, 38, 39, 40, 42, 47, 48.\", IF(BR71=2,\"NO: E, J, K, P. NI: 3, 4, 7, 8, 9, 10, 11, 12, 13, 14, 15, 16, 17, 18, 22, 24, 25, 23, 26, 27, 28, 29, 30, 31, 32, 33, 34, 35, 36, 37, 38, 39, 40, 42, 47, 48.\",IF(BR71=3,\"NO: E, J, K, P. NI: 3, 4, 7, 8, 9, 10, 11, 12, 13, 14, 15, 16, 17, 18, 22, 24, 25, 23, 26, 27, 28, 29, 30, 31, 32, 33, 34, 35, 36, 37, 38, 39, 40, 42, 47, 48.\",\"N/A\"))))","v":"N/A"},{"$f":"Scope!BT27","v":"0"},{"$f":"IF(BT71=0,\"N/A\",IF(BT71=1,\"NO: E, J, K, P. NI: 3, 4, 7, 8, 9, 10, 11, 12, 13, 14, 15, 16, 17, 18, 22, 24, 25, 23, 26, 27, 28, 29, 30, 31, 32, 33, 34, 35, 36, 37, 38, 39, 40, 42, 47, 48.\", IF(BT71=2,\"NO: E, J, K, P. NI: 3, 4, 7, 8, 9, 10, 11, 12, 13, 14, 15, 16, 17, 18, 22, 24, 25, 23, 26, 27, 28, 29, 30, 31, 32, 33, 34, 35, 36, 37, 38, 39, 40, 42, 47, 48.\",IF(BT71=3,\"NO: E, J, K, P. NI: 3, 4, 7, 8, 9, 10, 11, 12, 13, 14, 15, 16, 17, 18, 22, 24, 25, 23, 26, 27, 28, 29, 30, 31, 32, 33, 34, 35, 36, 37, 38, 39, 40, 42, 47, 48.\",\"N/A\"))))","v":"N/A"},{"$f":"Scope!BV27","v":"0"},{"$f":"IF(BV71=0,\"N/A\",IF(BV71=1,\"NO: E, J, K, P. NI: 3, 4, 7, 8, 9, 10, 11, 12, 13, 14, 15, 16, 17, 18, 22, 24, 25, 23, 26, 27, 28, 29, 30, 31, 32, 33, 34, 35, 36, 37, 38, 39, 40, 42, 47, 48.\", IF(BV71=2,\"NO: E, J, K, P. NI: 3, 4, 7, 8, 9, 10, 11, 12, 13, 14, 15, 16, 17, 18, 22, 24, 25, 23, 26, 27, 28, 29, 30, 31, 32, 33, 34, 35, 36, 37, 38, 39, 40, 42, 47, 48.\",IF(BV71=3,\"NO: E, J, K, P. NI: 3, 4, 7, 8, 9, 10, 11, 12, 13, 14, 15, 16, 17, 18, 22, 24, 25, 23, 26, 27, 28, 29, 30, 31, 32, 33, 34, 35, 36, 37, 38, 39, 40, 42, 47, 48.\",\"N/A\"))))","v":"N/A"},{"$f":"Scope!BX27","v":"0"},{"$f":"IF(BX71=0,\"N/A\",IF(BX71=1,\"NO: E, J, K, P. NI: 3, 4, 7, 8, 9, 10, 11, 12, 13, 14, 15, 16, 17, 18, 22, 24, 25, 23, 26, 27, 28, 29, 30, 31, 32, 33, 34, 35, 36, 37, 38, 39, 40, 42, 47, 48.\", IF(BX71=2,\"NO: E, J, K, P. NI: 3, 4, 7, 8, 9, 10, 11, 12, 13, 14, 15, 16, 17, 18, 22, 24, 25, 23, 26, 27, 28, 29, 30, 31, 32, 33, 34, 35, 36, 37, 38, 39, 40, 42, 47, 48.\",IF(BX71=3,\"NO: E, J, K, P. NI: 3, 4, 7, 8, 9, 10, 11, 12, 13, 14, 15, 16, 17, 18, 22, 24, 25, 23, 26, 27, 28, 29, 30, 31, 32, 33, 34, 35, 36, 37, 38, 39, 40, 42, 47, 48.\",\"N/A\"))))","v":"N/A"},{"$f":"Scope!BZ27","v":"0"},{"$f":"IF(BZ71=0,\"N/A\",IF(BZ71=1,\"NO: E, J, K, P. NI: 3, 4, 7, 8, 9, 10, 11, 12, 13, 14, 15, 16, 17, 18, 22, 24, 25, 23, 26, 27, 28, 29, 30, 31, 32, 33, 34, 35, 36, 37, 38, 39, 40, 42, 47, 48.\", IF(BZ71=2,\"NO: E, J, K, P. NI: 3, 4, 7, 8, 9, 10, 11, 12, 13, 14, 15, 16, 17, 18, 22, 24, 25, 23, 26, 27, 28, 29, 30, 31, 32, 33, 34, 35, 36, 37, 38, 39, 40, 42, 47, 48.\",IF(BZ71=3,\"NO: E, J, K, P. NI: 3, 4, 7, 8, 9, 10, 11, 12, 13, 14, 15, 16, 17, 18, 22, 24, 25, 23, 26, 27, 28, 29, 30, 31, 32, 33, 34, 35, 36, 37, 38, 39, 40, 42, 47, 48.\",\"N/A\"))))","v":"N/A"},{"$f":"Scope!CB27","v":"0"},{"$f":"IF(CB71=0,\"N/A\",IF(CB71=1,\"NO: E, J, K, P. NI: 3, 4, 7, 8, 9, 10, 11, 12, 13, 14, 15, 16, 17, 18, 22, 24, 25, 23, 26, 27, 28, 29, 30, 31, 32, 33, 34, 35, 36, 37, 38, 39, 40, 42, 47, 48.\", IF(CB71=2,\"NO: E, J, K, P. NI: 3, 4, 7, 8, 9, 10, 11, 12, 13, 14, 15, 16, 17, 18, 22, 24, 25, 23, 26, 27, 28, 29, 30, 31, 32, 33, 34, 35, 36, 37, 38, 39, 40, 42, 47, 48.\",IF(CB71=3,\"NO: E, J, K, P. NI: 3, 4, 7, 8, 9, 10, 11, 12, 13, 14, 15, 16, 17, 18, 22, 24, 25, 23, 26, 27, 28, 29, 30, 31, 32, 33, 34, 35, 36, 37, 38, 39, 40, 42, 47, 48.\",\"N/A\"))))","v":"N/A"},{"$f":"Scope!CD27","v":"0"},{"$f":"IF(CD71=0,\"N/A\",IF(CD71=1,\"NO: E, J, K, P. NI: 3, 4, 7, 8, 9, 10, 11, 12, 13, 14, 15, 16, 17, 18, 22, 24, 25, 23, 26, 27, 28, 29, 30, 31, 32, 33, 34, 35, 36, 37, 38, 39, 40, 42, 47, 48.\", IF(CD71=2,\"NO: E, J, K, P. NI: 3, 4, 7, 8, 9, 10, 11, 12, 13, 14, 15, 16, 17, 18, 22, 24, 25, 23, 26, 27, 28, 29, 30, 31, 32, 33, 34, 35, 36, 37, 38, 39, 40, 42, 47, 48.\",IF(CD71=3,\"NO: E, J, K, P. NI: 3, 4, 7, 8, 9, 10, 11, 12, 13, 14, 15, 16, 17, 18, 22, 24, 25, 23, 26, 27, 28, 29, 30, 31, 32, 33, 34, 35, 36, 37, 38, 39, 40, 42, 47, 48.\",\"N/A\"))))","v":"N/A"},null,{"$f":"IssuesInput!F6","v":"Community Engagement Strategy (being developed in 2016)"},null,null,{"$f":"Scope!CJ27","v":"0"},{"$f":"IF(CJ71=0,\"N/A\",IF(CJ71=1,\"NO: E, J, K, P. NI: 3, 4, 7, 8, 9, 10, 11, 12, 13, 14, 15, 16, 17, 18, 22, 24, 25, 23, 26, 27, 28, 29, 30, 31, 32, 33, 34, 35, 36, 37, 38, 39, 40, 42, 47, 48.\", IF(CJ71=2,\"NO: E, J, K, P. NI: 3, 4, 7, 8, 9, 10, 11, 12, 13, 14, 15, 16, 17, 18, 22, 24, 25, 23, 26, 27, 28, 29, 30, 31, 32, 33, 34, 35, 36, 37, 38, 39, 40, 42, 47, 48.\",IF(CJ71=3,\"NO: E, J, K, P. NI: 3, 4, 7, 8, 9, 10, 11, 12, 13, 14, 15, 16, 17, 18, 22, 24, 25, 23, 26, 27, 28, 29, 30, 31, 32, 33, 34, 35, 36, 37, 38, 39, 40, 42, 47, 48.\",\"N/A\"))))","v":"N/A"}]
[null,null,"Security and crime",{"$f":"Scope!D28","v":1},{"$f":"IF(D72=0,\"N/A\",IF(D72=1,\"NO: G, H, I. NI: 31, 32, 33, 34.\", IF(D72=2,\"NO: G, H, I. NI: 31, 32, 33, 34.\",IF(D72=3,\"NO: G, H, I. NI: 31, 32, 33, 34.\",\"N/A\"))))","v":"NO: G, H, I. NI: 31, 32, 33, 34."},{"$f":"Scope!F28","v":1},{"$f":"IF(F72=0,\"N/A\",IF(F72=1,\"NO: G, H, I. NI: 31, 32, 33, 34.\", IF(F72=2,\"NO: G, H, I. NI: 31, 32, 33, 34.\",IF(F72=3,\"NO: G, H, I. NI: 31, 32, 33, 34.\",\"N/A\"))))","v":"NO: G, H, I. NI: 31, 32, 33, 34."},{"$f":"Scope!H28","v":1},{"$f":"IF(H72=0,\"N/A\",IF(H72=1,\"NO: G, H, I. NI: 31, 32, 33, 34.\", IF(H72=2,\"NO: G, H, I. NI: 31, 32, 33, 34.\",IF(H72=3,\"NO: G, H, I. NI: 31, 32, 33, 34.\",\"N/A\"))))","v":"NO: G, H, I. NI: 31, 32, 33, 34."},{"$f":"Scope!J28","v":1},{"$f":"IF(J72=0,\"N/A\",IF(J72=1,\"NO: G, H, I. NI: 31, 32, 33, 34.\", IF(J72=2,\"NO: G, H, I. NI: 31, 32, 33, 34.\",IF(J72=3,\"NO: G, H, I. NI: 31, 32, 33, 34.\",\"N/A\"))))","v":"NO: G, H, I. NI: 31, 32, 33, 34."},{"$f":"Scope!L28","v":1},{"$f":"IF(L72=0,\"N/A\",IF(L72=1,\"NO: G, H, I. NI: 31, 32, 33, 34.\", IF(L72=2,\"NO: G, H, I. NI: 31, 32, 33, 34.\",IF(L72=3,\"NO: G, H, I. NI: 31, 32, 33, 34.\",\"N/A\"))))","v":"NO: G, H, I. NI: 31, 32, 33, 34."},{"$f":"Scope!N28","v":0},{"$f":"IF(N72=0,\"N/A\",IF(N72=1,\"NO: G, H, I. NI: 31, 32, 33, 34.\", IF(N72=2,\"NO: G, H, I. NI: 31, 32, 33, 34.\",IF(N72=3,\"NO: G, H, I. NI: 31, 32, 33, 34.\",\"N/A\"))))","v":"N/A"},{"$f":"Scope!P28","v":0},{"$f":"IF(P72=0,\"N/A\",IF(P72=1,\"NO: G, H, I. NI: 31, 32, 33, 34.\", IF(P72=2,\"NO: G, H, I. NI: 31, 32, 33, 34.\",IF(P72=3,\"NO: G, H, I. NI: 31, 32, 33, 34.\",\"N/A\"))))","v":"N/A"},{"$f":"Scope!R28","v":1},{"$f":"IF(R72=0,\"N/A\",IF(R72=1,\"NO: G, H, I. NI: 31, 32, 33, 34.\", IF(R72=2,\"NO: G, H, I. NI: 31, 32, 33, 34.\",IF(R72=3,\"NO: G, H, I. NI: 31, 32, 33, 34.\",\"N/A\"))))","v":"NO: G, H, I. NI: 31, 32, 33, 34."},{"$f":"Scope!T28","v":"0"},{"$f":"IF(T72=0,\"N/A\",IF(T72=1,\"NO: G, H, I. NI: 31, 32, 33, 34.\", IF(T72=2,\"NO: G, H, I. NI: 31, 32, 33, 34.\",IF(T72=3,\"NO: G, H, I. NI: 31, 32, 33, 34.\",\"N/A\"))))","v":"N/A"},{"$f":"Scope!V28","v":"0"},{"$f":"IF(V72=0,\"N/A\",IF(V72=1,\"NO: G, H, I. NI: 31, 32, 33, 34.\", IF(V72=2,\"NO: G, H, I. NI: 31, 32, 33, 34.\",IF(V72=3,\"NO: G, H, I. NI: 31, 32, 33, 34.\",\"N/A\"))))","v":"N/A"},{"$f":"Scope!X28","v":"0"},{"$f":"IF(X72=0,\"N/A\",IF(X72=1,\"NO: G, H, I. NI: 31, 32, 33, 34.\", IF(X72=2,\"NO: G, H, I. NI: 31, 32, 33, 34.\",IF(X72=3,\"NO: G, H, I. NI: 31, 32, 33, 34.\",\"N/A\"))))","v":"N/A"},{"$f":"Scope!Z28","v":"0"},{"$f":"IF(Z72=0,\"N/A\",IF(Z72=1,\"NO: G, H, I. NI: 31, 32, 33, 34.\", IF(Z72=2,\"NO: G, H, I. NI: 31, 32, 33, 34.\",IF(Z72=3,\"NO: G, H, I. NI: 31, 32, 33, 34.\",\"N/A\"))))","v":"N/A"},{"$f":"Scope!AB28","v":"0"},{"$f":"IF(AB72=0,\"N/A\",IF(AB72=1,\"NO: G, H, I. NI: 31, 32, 33, 34.\", IF(AB72=2,\"NO: G, H, I. NI: 31, 32, 33, 34.\",IF(AB72=3,\"NO: G, H, I. NI: 31, 32, 33, 34.\",\"N/A\"))))","v":"N/A"},{"$f":"Scope!AD28","v":"0"},{"$f":"IF(AD72=0,\"N/A\",IF(AD72=1,\"NO: G, H, I. NI: 31, 32, 33, 34.\", IF(AD72=2,\"NO: G, H, I. NI: 31, 32, 33, 34.\",IF(AD72=3,\"NO: G, H, I. NI: 31, 32, 33, 34.\",\"N/A\"))))","v":"N/A"},{"$f":"Scope!AF28","v":"0"},{"$f":"IF(AF72=0,\"N/A\",IF(AF72=1,\"NO: G, H, I. NI: 31, 32, 33, 34.\", IF(AF72=2,\"NO: G, H, I. NI: 31, 32, 33, 34.\",IF(AF72=3,\"NO: G, H, I. NI: 31, 32, 33, 34.\",\"N/A\"))))","v":"N/A"},{"$f":"Scope!AH28","v":"0"},{"$f":"IF(AH72=0,\"N/A\",IF(AH72=1,\"NO: G, H, I. NI: 31, 32, 33, 34.\", IF(AH72=2,\"NO: G, H, I. NI: 31, 32, 33, 34.\",IF(AH72=3,\"NO: G, H, I. NI: 31, 32, 33, 34.\",\"N/A\"))))","v":"N/A"},{"$f":"Scope!AJ28","v":"0"},{"$f":"IF(AJ72=0,\"N/A\",IF(AJ72=1,\"NO: G, H, I. NI: 31, 32, 33, 34.\", IF(AJ72=2,\"NO: G, H, I. NI: 31, 32, 33, 34.\",IF(AJ72=3,\"NO: G, H, I. NI: 31, 32, 33, 34.\",\"N/A\"))))","v":"N/A"},{"$f":"Scope!AL28","v":"0"},{"$f":"IF(AL72=0,\"N/A\",IF(AL72=1,\"NO: G, H, I. NI: 31, 32, 33, 34.\", IF(AL72=2,\"NO: G, H, I. NI: 31, 32, 33, 34.\",IF(AL72=3,\"NO: G, H, I. NI: 31, 32, 33, 34.\",\"N/A\"))))","v":"N/A"},{"$f":"Scope!AN28","v":"0"},{"$f":"IF(AN72=0,\"N/A\",IF(AN72=1,\"NO: G, H, I. NI: 31, 32, 33, 34.\", IF(AN72=2,\"NO: G, H, I. NI: 31, 32, 33, 34.\",IF(AN72=3,\"NO: G, H, I. NI: 31, 32, 33, 34.\",\"N/A\"))))","v":"N/A"},{"$f":"Scope!AP28","v":"0"},{"$f":"IF(AP72=0,\"N/A\",IF(AP72=1,\"NO: G, H, I. NI: 31, 32, 33, 34.\", IF(AP72=2,\"NO: G, H, I. NI: 31, 32, 33, 34.\",IF(AP72=3,\"NO: G, H, I. NI: 31, 32, 33, 34.\",\"N/A\"))))","v":"N/A"},{"$f":"Scope!AR28","v":"0"},{"$f":"IF(AR72=0,\"N/A\",IF(AR72=1,\"NO: G, H, I. NI: 31, 32, 33, 34.\", IF(AR72=2,\"NO: G, H, I. NI: 31, 32, 33, 34.\",IF(AR72=3,\"NO: G, H, I. NI: 31, 32, 33, 34.\",\"N/A\"))))","v":"N/A"},{"$f":"Scope!AT28","v":"0"},{"$f":"IF(AT72=0,\"N/A\",IF(AT72=1,\"NO: G, H, I. NI: 31, 32, 33, 34.\", IF(AT72=2,\"NO: G, H, I. NI: 31, 32, 33, 34.\",IF(AT72=3,\"NO: G, H, I. NI: 31, 32, 33, 34.\",\"N/A\"))))","v":"N/A"},{"$f":"Scope!AV28","v":"0"},{"$f":"IF(AV72=0,\"N/A\",IF(AV72=1,\"NO: G, H, I. NI: 31, 32, 33, 34.\", IF(AV72=2,\"NO: G, H, I. NI: 31, 32, 33, 34.\",IF(AV72=3,\"NO: G, H, I. NI: 31, 32, 33, 34.\",\"N/A\"))))","v":"N/A"},{"$f":"Scope!AX28","v":"0"},{"$f":"IF(AX72=0,\"N/A\",IF(AX72=1,\"NO: G, H, I. NI: 31, 32, 33, 34.\", IF(AX72=2,\"NO: G, H, I. NI: 31, 32, 33, 34.\",IF(AX72=3,\"NO: G, H, I. NI: 31, 32, 33, 34.\",\"N/A\"))))","v":"N/A"},{"$f":"Scope!AZ28","v":"0"},{"$f":"IF(AZ72=0,\"N/A\",IF(AZ72=1,\"NO: G, H, I. NI: 31, 32, 33, 34.\", IF(AZ72=2,\"NO: G, H, I. NI: 31, 32, 33, 34.\",IF(AZ72=3,\"NO: G, H, I. NI: 31, 32, 33, 34.\",\"N/A\"))))","v":"N/A"},{"$f":"Scope!BB28","v":"0"},{"$f":"IF(BB72=0,\"N/A\",IF(BB72=1,\"NO: G, H, I. NI: 31, 32, 33, 34.\", IF(BB72=2,\"NO: G, H, I. NI: 31, 32, 33, 34.\",IF(BB72=3,\"NO: G, H, I. NI: 31, 32, 33, 34.\",\"N/A\"))))","v":"N/A"},{"$f":"Scope!BD28","v":"0"},{"$f":"IF(BD72=0,\"N/A\",IF(BD72=1,\"NO: G, H, I. NI: 31, 32, 33, 34.\", IF(BD72=2,\"NO: G, H, I. NI: 31, 32, 33, 34.\",IF(BD72=3,\"NO: G, H, I. NI: 31, 32, 33, 34.\",\"N/A\"))))","v":"N/A"},{"$f":"Scope!BF28","v":"0"},{"$f":"IF(BF72=0,\"N/A\",IF(BF72=1,\"NO: G, H, I. NI: 31, 32, 33, 34.\", IF(BF72=2,\"NO: G, H, I. NI: 31, 32, 33, 34.\",IF(BF72=3,\"NO: G, H, I. NI: 31, 32, 33, 34.\",\"N/A\"))))","v":"N/A"},{"$f":"Scope!BH28","v":"0"},{"$f":"IF(BH72=0,\"N/A\",IF(BH72=1,\"NO: G, H, I. NI: 31, 32, 33, 34.\", IF(BH72=2,\"NO: G, H, I. NI: 31, 32, 33, 34.\",IF(BH72=3,\"NO: G, H, I. NI: 31, 32, 33, 34.\",\"N/A\"))))","v":"N/A"},{"$f":"Scope!BJ28","v":"0"},{"$f":"IF(BJ72=0,\"N/A\",IF(BJ72=1,\"NO: G, H, I. NI: 31, 32, 33, 34.\", IF(BJ72=2,\"NO: G, H, I. NI: 31, 32, 33, 34.\",IF(BJ72=3,\"NO: G, H, I. NI: 31, 32, 33, 34.\",\"N/A\"))))","v":"N/A"},{"$f":"Scope!BL28","v":"0"},{"$f":"IF(BL72=0,\"N/A\",IF(BL72=1,\"NO: G, H, I. NI: 31, 32, 33, 34.\", IF(BL72=2,\"NO: G, H, I. NI: 31, 32, 33, 34.\",IF(BL72=3,\"NO: G, H, I. NI: 31, 32, 33, 34.\",\"N/A\"))))","v":"N/A"},{"$f":"Scope!BN28","v":"0"},{"$f":"IF(BN72=0,\"N/A\",IF(BN72=1,\"NO: I. NI: 27, 28, 29, 30, 31, 32, 40.\", IF(BN72=2,\"NO: I. NI: 27, 28, 29, 30, 31, 32, 40.\",IF(BN72=3,\"NO: I. NI: 27, 28, 29, 30, 31, 32, 40.\",\"N/A\"))))","v":"N/A"},{"$f":"Scope!BP28","v":"0"},{"$f":"IF(BP72=0,\"N/A\",IF(BP72=1,\"NO: I. NI: 27, 28, 29, 30, 31, 32, 40.\", IF(BP72=2,\"NO: I. NI: 27, 28, 29, 30, 31, 32, 40.\",IF(BP72=3,\"NO: I. NI: 27, 28, 29, 30, 31, 32, 40.\",\"N/A\"))))","v":"N/A"},{"$f":"Scope!BR28","v":"0"},{"$f":"IF(BR72=0,\"N/A\",IF(BR72=1,\"NO: I. NI: 27, 28, 29, 30, 31, 32, 40.\", IF(BR72=2,\"NO: I. NI: 27, 28, 29, 30, 31, 32, 40.\",IF(BR72=3,\"NO: I. NI: 27, 28, 29, 30, 31, 32, 40.\",\"N/A\"))))","v":"N/A"},{"$f":"Scope!BT28","v":"0"},{"$f":"IF(BT72=0,\"N/A\",IF(BT72=1,\"NO: I. NI: 27, 28, 29, 30, 31, 32, 40.\", IF(BT72=2,\"NO: I. NI: 27, 28, 29, 30, 31, 32, 40.\",IF(BT72=3,\"NO: I. NI: 27, 28, 29, 30, 31, 32, 40.\",\"N/A\"))))","v":"N/A"},{"$f":"Scope!BV28","v":"0"},{"$f":"IF(BV72=0,\"N/A\",IF(BV72=1,\"NO: I. NI: 27, 28, 29, 30, 31, 32, 40.\", IF(BV72=2,\"NO: I. NI: 27, 28, 29, 30, 31, 32, 40.\",IF(BV72=3,\"NO: I. NI: 27, 28, 29, 30, 31, 32, 40.\",\"N/A\"))))","v":"N/A"},{"$f":"Scope!BX28","v":"0"},{"$f":"IF(BX72=0,\"N/A\",IF(BX72=1,\"NO: I. NI: 27, 28, 29, 30, 31, 32, 40.\", IF(BX72=2,\"NO: I. NI: 27, 28, 29, 30, 31, 32, 40.\",IF(BX72=3,\"NO: I. NI: 27, 28, 29, 30, 31, 32, 40.\",\"N/A\"))))","v":"N/A"},{"$f":"Scope!BZ28","v":"0"},{"$f":"IF(BZ72=0,\"N/A\",IF(BZ72=1,\"NO: I. NI: 27, 28, 29, 30, 31, 32, 40.\", IF(BZ72=2,\"NO: I. NI: 27, 28, 29, 30, 31, 32, 40.\",IF(BZ72=3,\"NO: I. NI: 27, 28, 29, 30, 31, 32, 40.\",\"N/A\"))))","v":"N/A"},{"$f":"Scope!CB28","v":"0"},{"$f":"IF(CB72=0,\"N/A\",IF(CB72=1,\"NO: I. NI: 27, 28, 29, 30, 31, 32, 40.\", IF(CB72=2,\"NO: I. NI: 27, 28, 29, 30, 31, 32, 40.\",IF(CB72=3,\"NO: I. NI: 27, 28, 29, 30, 31, 32, 40.\",\"N/A\"))))","v":"N/A"},{"$f":"Scope!CD28","v":"0"},{"$f":"IF(CD72=0,\"N/A\",IF(CD72=1,\"NO: I. NI: 27, 28, 29, 30, 31, 32, 40.\", IF(CD72=2,\"NO: I. NI: 27, 28, 29, 30, 31, 32, 40.\",IF(CD72=3,\"NO: I. NI: 27, 28, 29, 30, 31, 32, 40.\",\"N/A\"))))","v":"N/A"},null,{"$f":"IssuesInput!F7","v":"Security Policy (2009) Information Security Policy (2014) \n"},null,null,{"$f":"Scope!CJ28","v":"0"},{"$f":"IF(CJ72=0,\"N/A\",IF(CJ72=1,\"NO: I. NI: 27, 28, 29, 30, 31, 32, 40.\", IF(CJ72=2,\"NO: I. NI: 27, 28, 29, 30, 31, 32, 40.\",IF(CJ72=3,\"NO: I. NI: 27, 28, 29, 30, 31, 32, 40.\",\"N/A\"))))","v":"N/A"}]
[null,null,"Fairly and ethically traded",{"$f":"Scope!D29","v":2},{"$f":"IF(D73=0,\"N/A\",IF(D73=1,\"NO: A, M. NI: 5, 8, 9, 10, 11, 14, 15, 38 .\", IF(D73=2,\"NO: A, M. NI: 5, 8, 9, 10, 11, 14, 15, 38 .\",IF(D73=3,\"NO: A, M. NI: 5, 8, 9, 10, 11, 14, 15, 38.\",\"N/A\"))))","v":"NO: A, M. NI: 5, 8, 9, 10, 11, 14, 15, 38 ."},{"$f":"Scope!F29","v":2},{"$f":"IF(F73=0,\"N/A\",IF(F73=1,\"NO: A, M. NI: 5, 8, 9, 10, 11, 14, 15, 38 .\", IF(F73=2,\"NO: A, M. NI: 5, 8, 9, 10, 11, 14, 15, 38 .\",IF(F73=3,\"NO: A, M. NI: 5, 8, 9, 10, 11, 14, 15, 38.\",\"N/A\"))))","v":"NO: A, M. NI: 5, 8, 9, 10, 11, 14, 15, 38 ."},{"$f":"Scope!H29","v":2},{"$f":"IF(H73=0,\"N/A\",IF(H73=1,\"NO: A, M. NI: 5, 8, 9, 10, 11, 14, 15, 38 .\", IF(H73=2,\"NO: A, M. NI: 5, 8, 9, 10, 11, 14, 15, 38 .\",IF(H73=3,\"NO: A, M. NI: 5, 8, 9, 10, 11, 14, 15, 38.\",\"N/A\"))))","v":"NO: A, M. NI: 5, 8, 9, 10, 11, 14, 15, 38 ."},{"$f":"Scope!J29","v":2},{"$f":"IF(J73=0,\"N/A\",IF(J73=1,\"NO: A, M. NI: 5, 8, 9, 10, 11, 14, 15, 38 .\", IF(J73=2,\"NO: A, M. NI: 5, 8, 9, 10, 11, 14, 15, 38 .\",IF(J73=3,\"NO: A, M. NI: 5, 8, 9, 10, 11, 14, 15, 38.\",\"N/A\"))))","v":"NO: A, M. NI: 5, 8, 9, 10, 11, 14, 15, 38 ."},{"$f":"Scope!L29","v":2},{"$f":"IF(L73=0,\"N/A\",IF(L73=1,\"NO: A, M. NI: 5, 8, 9, 10, 11, 14, 15, 38 .\", IF(L73=2,\"NO: A, M. NI: 5, 8, 9, 10, 11, 14, 15, 38 .\",IF(L73=3,\"NO: A, M. NI: 5, 8, 9, 10, 11, 14, 15, 38.\",\"N/A\"))))","v":"NO: A, M. NI: 5, 8, 9, 10, 11, 14, 15, 38 ."},{"$f":"Scope!N29","v":2},{"$f":"IF(N73=0,\"N/A\",IF(N73=1,\"NO: A, M. NI: 5, 8, 9, 10, 11, 14, 15, 38 .\", IF(N73=2,\"NO: A, M. NI: 5, 8, 9, 10, 11, 14, 15, 38 .\",IF(N73=3,\"NO: A, M. NI: 5, 8, 9, 10, 11, 14, 15, 38.\",\"N/A\"))))","v":"NO: A, M. NI: 5, 8, 9, 10, 11, 14, 15, 38 ."},{"$f":"Scope!P29","v":2},{"$f":"IF(P73=0,\"N/A\",IF(P73=1,\"NO: A, M. NI: 5, 8, 9, 10, 11, 14, 15, 38 .\", IF(P73=2,\"NO: A, M. NI: 5, 8, 9, 10, 11, 14, 15, 38 .\",IF(P73=3,\"NO: A, M. NI: 5, 8, 9, 10, 11, 14, 15, 38.\",\"N/A\"))))","v":"NO: A, M. NI: 5, 8, 9, 10, 11, 14, 15, 38 ."},{"$f":"Scope!R29","v":2},{"$f":"IF(R73=0,\"N/A\",IF(R73=1,\"NO: A, M. NI: 5, 8, 9, 10, 11, 14, 15, 38 .\", IF(R73=2,\"NO: A, M. NI: 5, 8, 9, 10, 11, 14, 15, 38 .\",IF(R73=3,\"NO: A, M. NI: 5, 8, 9, 10, 11, 14, 15, 38.\",\"N/A\"))))","v":"NO: A, M. NI: 5, 8, 9, 10, 11, 14, 15, 38 ."},{"$f":"Scope!T29","v":"0"},{"$f":"IF(T73=0,\"N/A\",IF(T73=1,\"NO: A, M. NI: 5, 8, 9, 10, 11, 14, 15, 38 .\", IF(T73=2,\"NO: A, M. NI: 5, 8, 9, 10, 11, 14, 15, 38 .\",IF(T73=3,\"NO: A, M. NI: 5, 8, 9, 10, 11, 14, 15, 38.\",\"N/A\"))))","v":"N/A"},{"$f":"Scope!V29","v":"0"},{"$f":"IF(V73=0,\"N/A\",IF(V73=1,\"NO: A, M. NI: 5, 8, 9, 10, 11, 14, 15, 38 .\", IF(V73=2,\"NO: A, M. NI: 5, 8, 9, 10, 11, 14, 15, 38 .\",IF(V73=3,\"NO: A, M. NI: 5, 8, 9, 10, 11, 14, 15, 38.\",\"N/A\"))))","v":"N/A"},{"$f":"Scope!X29","v":"0"},{"$f":"IF(X73=0,\"N/A\",IF(X73=1,\"NO: A, M. NI: 5, 8, 9, 10, 11, 14, 15, 38 .\", IF(X73=2,\"NO: A, M. NI: 5, 8, 9, 10, 11, 14, 15, 38 .\",IF(X73=3,\"NO: A, M. NI: 5, 8, 9, 10, 11, 14, 15, 38.\",\"N/A\"))))","v":"N/A"},{"$f":"Scope!Z29","v":"0"},{"$f":"IF(Z73=0,\"N/A\",IF(Z73=1,\"NO: A, M. NI: 5, 8, 9, 10, 11, 14, 15, 38 .\", IF(Z73=2,\"NO: A, M. NI: 5, 8, 9, 10, 11, 14, 15, 38 .\",IF(Z73=3,\"NO: A, M. NI: 5, 8, 9, 10, 11, 14, 15, 38.\",\"N/A\"))))","v":"N/A"},{"$f":"Scope!AB29","v":"0"},{"$f":"IF(AB73=0,\"N/A\",IF(AB73=1,\"NO: A, M. NI: 5, 8, 9, 10, 11, 14, 15, 38 .\", IF(AB73=2,\"NO: A, M. NI: 5, 8, 9, 10, 11, 14, 15, 38 .\",IF(AB73=3,\"NO: A, M. NI: 5, 8, 9, 10, 11, 14, 15, 38.\",\"N/A\"))))","v":"N/A"},{"$f":"Scope!AD29","v":"0"},{"$f":"IF(AD73=0,\"N/A\",IF(AD73=1,\"NO: A, M. NI: 5, 8, 9, 10, 11, 14, 15, 38 .\", IF(AD73=2,\"NO: A, M. NI: 5, 8, 9, 10, 11, 14, 15, 38 .\",IF(AD73=3,\"NO: A, M. NI: 5, 8, 9, 10, 11, 14, 15, 38.\",\"N/A\"))))","v":"N/A"},{"$f":"Scope!AF29","v":"0"},{"$f":"IF(AF73=0,\"N/A\",IF(AF73=1,\"NO: A, M. NI: 5, 8, 9, 10, 11, 14, 15, 38 .\", IF(AF73=2,\"NO: A, M. NI: 5, 8, 9, 10, 11, 14, 15, 38 .\",IF(AF73=3,\"NO: A, M. NI: 5, 8, 9, 10, 11, 14, 15, 38.\",\"N/A\"))))","v":"N/A"},{"$f":"Scope!AH29","v":"0"},{"$f":"IF(AH73=0,\"N/A\",IF(AH73=1,\"NO: A, M. NI: 5, 8, 9, 10, 11, 14, 15, 38 .\", IF(AH73=2,\"NO: A, M. NI: 5, 8, 9, 10, 11, 14, 15, 38 .\",IF(AH73=3,\"NO: A, M. NI: 5, 8, 9, 10, 11, 14, 15, 38.\",\"N/A\"))))","v":"N/A"},{"$f":"Scope!AJ29","v":"0"},{"$f":"IF(AJ73=0,\"N/A\",IF(AJ73=1,\"NO: A, M. NI: 5, 8, 9, 10, 11, 14, 15, 38 .\", IF(AJ73=2,\"NO: A, M. NI: 5, 8, 9, 10, 11, 14, 15, 38 .\",IF(AJ73=3,\"NO: A, M. NI: 5, 8, 9, 10, 11, 14, 15, 38.\",\"N/A\"))))","v":"N/A"},{"$f":"Scope!AL29","v":"0"},{"$f":"IF(AL73=0,\"N/A\",IF(AL73=1,\"NO: A, M. NI: 5, 8, 9, 10, 11, 14, 15, 38 .\", IF(AL73=2,\"NO: A, M. NI: 5, 8, 9, 10, 11, 14, 15, 38 .\",IF(AL73=3,\"NO: A, M. NI: 5, 8, 9, 10, 11, 14, 15, 38.\",\"N/A\"))))","v":"N/A"},{"$f":"Scope!AN29","v":"0"},{"$f":"IF(AN73=0,\"N/A\",IF(AN73=1,\"NO: A, M. NI: 5, 8, 9, 10, 11, 14, 15, 38 .\", IF(AN73=2,\"NO: A, M. NI: 5, 8, 9, 10, 11, 14, 15, 38 .\",IF(AN73=3,\"NO: A, M. NI: 5, 8, 9, 10, 11, 14, 15, 38.\",\"N/A\"))))","v":"N/A"},{"$f":"Scope!AP29","v":"0"},{"$f":"IF(AP73=0,\"N/A\",IF(AP73=1,\"NO: A, M. NI: 5, 8, 9, 10, 11, 14, 15, 38 .\", IF(AP73=2,\"NO: A, M. NI: 5, 8, 9, 10, 11, 14, 15, 38 .\",IF(AP73=3,\"NO: A, M. NI: 5, 8, 9, 10, 11, 14, 15, 38.\",\"N/A\"))))","v":"N/A"},{"$f":"Scope!AR29","v":"0"},{"$f":"IF(AR73=0,\"N/A\",IF(AR73=1,\"NO: A, M. NI: 5, 8, 9, 10, 11, 14, 15, 38 .\", IF(AR73=2,\"NO: A, M. NI: 5, 8, 9, 10, 11, 14, 15, 38 .\",IF(AR73=3,\"NO: A, M. NI: 5, 8, 9, 10, 11, 14, 15, 38.\",\"N/A\"))))","v":"N/A"},{"$f":"Scope!AT29","v":"0"},{"$f":"IF(AT73=0,\"N/A\",IF(AT73=1,\"NO: A, M. NI: 5, 8, 9, 10, 11, 14, 15, 38 .\", IF(AT73=2,\"NO: A, M. NI: 5, 8, 9, 10, 11, 14, 15, 38 .\",IF(AT73=3,\"NO: A, M. NI: 5, 8, 9, 10, 11, 14, 15, 38.\",\"N/A\"))))","v":"N/A"},{"$f":"Scope!AV29","v":"0"},{"$f":"IF(AV73=0,\"N/A\",IF(AV73=1,\"NO: A, M. NI: 5, 8, 9, 10, 11, 14, 15, 38 .\", IF(AV73=2,\"NO: A, M. NI: 5, 8, 9, 10, 11, 14, 15, 38 .\",IF(AV73=3,\"NO: A, M. NI: 5, 8, 9, 10, 11, 14, 15, 38.\",\"N/A\"))))","v":"N/A"},{"$f":"Scope!AX29","v":"0"},{"$f":"IF(AX73=0,\"N/A\",IF(AX73=1,\"NO: A, M. NI: 5, 8, 9, 10, 11, 14, 15, 38 .\", IF(AX73=2,\"NO: A, M. NI: 5, 8, 9, 10, 11, 14, 15, 38 .\",IF(AX73=3,\"NO: A, M. NI: 5, 8, 9, 10, 11, 14, 15, 38.\",\"N/A\"))))","v":"N/A"},{"$f":"Scope!AZ29","v":"0"},{"$f":"IF(AZ73=0,\"N/A\",IF(AZ73=1,\"NO: A, M. NI: 5, 8, 9, 10, 11, 14, 15, 38 .\", IF(AZ73=2,\"NO: A, M. NI: 5, 8, 9, 10, 11, 14, 15, 38 .\",IF(AZ73=3,\"NO: A, M. NI: 5, 8, 9, 10, 11, 14, 15, 38.\",\"N/A\"))))","v":"N/A"},{"$f":"Scope!BB29","v":"0"},{"$f":"IF(BB73=0,\"N/A\",IF(BB73=1,\"NO: A, M. NI: 5, 8, 9, 10, 11, 14, 15, 38 .\", IF(BB73=2,\"NO: A, M. NI: 5, 8, 9, 10, 11, 14, 15, 38 .\",IF(BB73=3,\"NO: A, M. NI: 5, 8, 9, 10, 11, 14, 15, 38.\",\"N/A\"))))","v":"N/A"},{"$f":"Scope!BD29","v":"0"},{"$f":"IF(BD73=0,\"N/A\",IF(BD73=1,\"NO: A, M. NI: 5, 8, 9, 10, 11, 14, 15, 38 .\", IF(BD73=2,\"NO: A, M. NI: 5, 8, 9, 10, 11, 14, 15, 38 .\",IF(BD73=3,\"NO: A, M. NI: 5, 8, 9, 10, 11, 14, 15, 38.\",\"N/A\"))))","v":"N/A"},{"$f":"Scope!BF29","v":"0"},{"$f":"IF(BF73=0,\"N/A\",IF(BF73=1,\"NO: A, M. NI: 5, 8, 9, 10, 11, 14, 15, 38 .\", IF(BF73=2,\"NO: A, M. NI: 5, 8, 9, 10, 11, 14, 15, 38 .\",IF(BF73=3,\"NO: A, M. NI: 5, 8, 9, 10, 11, 14, 15, 38.\",\"N/A\"))))","v":"N/A"},{"$f":"Scope!BH29","v":"0"},{"$f":"IF(BH73=0,\"N/A\",IF(BH73=1,\"NO: A, M. NI: 5, 8, 9, 10, 11, 14, 15, 38 .\", IF(BH73=2,\"NO: A, M. NI: 5, 8, 9, 10, 11, 14, 15, 38 .\",IF(BH73=3,\"NO: A, M. NI: 5, 8, 9, 10, 11, 14, 15, 38.\",\"N/A\"))))","v":"N/A"},{"$f":"Scope!BJ29","v":"0"},{"$f":"IF(BJ73=0,\"N/A\",IF(BJ73=1,\"NO: A, M. NI: 5, 8, 9, 10, 11, 14, 15, 38 .\", IF(BJ73=2,\"NO: A, M. NI: 5, 8, 9, 10, 11, 14, 15, 38 .\",IF(BJ73=3,\"NO: A, M. NI: 5, 8, 9, 10, 11, 14, 15, 38.\",\"N/A\"))))","v":"N/A"},{"$f":"Scope!BL29","v":"0"},{"$f":"IF(BL73=0,\"N/A\",IF(BL73=1,\"NO: A, M. NI: 5, 8, 9, 10, 11, 14, 15, 38 .\", IF(BL73=2,\"NO: A, M. NI: 5, 8, 9, 10, 11, 14, 15, 38 .\",IF(BL73=3,\"NO: A, M. NI: 5, 8, 9, 10, 11, 14, 15, 38.\",\"N/A\"))))","v":"N/A"},{"$f":"Scope!BN29","v":"0"},{"$f":"IF(BN73=0,\"N/A\",IF(BN73=1,\"NO: A, M. NI: 1, 2, 3, 4, 5, 6, 7, 8, 11, 12, 13, 35, 36, 37, 41, 42, 44.\", IF(BN73=2,\"NO: A, M. NI: 1, 2, 3, 4, 5, 6, 7, 8, 11, 12, 13, 35, 36, 37, 41, 42, 44.\",IF(BN73=3,\"NO: A, M. NI: 1, 2, 3, 4, 5, 6, 7, 8, 11, 12, 13, 35, 36, 37, 41, 42, 44.\",\"N/A\"))))","v":"N/A"},{"$f":"Scope!BP29","v":"0"},{"$f":"IF(BP73=0,\"N/A\",IF(BP73=1,\"NO: A, M. NI: 1, 2, 3, 4, 5, 6, 7, 8, 11, 12, 13, 35, 36, 37, 41, 42, 44.\", IF(BP73=2,\"NO: A, M. NI: 1, 2, 3, 4, 5, 6, 7, 8, 11, 12, 13, 35, 36, 37, 41, 42, 44.\",IF(BP73=3,\"NO: A, M. NI: 1, 2, 3, 4, 5, 6, 7, 8, 11, 12, 13, 35, 36, 37, 41, 42, 44.\",\"N/A\"))))","v":"N/A"},{"$f":"Scope!BR29","v":"0"},{"$f":"IF(BR73=0,\"N/A\",IF(BR73=1,\"NO: A, M. NI: 1, 2, 3, 4, 5, 6, 7, 8, 11, 12, 13, 35, 36, 37, 41, 42, 44.\", IF(BR73=2,\"NO: A, M. NI: 1, 2, 3, 4, 5, 6, 7, 8, 11, 12, 13, 35, 36, 37, 41, 42, 44.\",IF(BR73=3,\"NO: A, M. NI: 1, 2, 3, 4, 5, 6, 7, 8, 11, 12, 13, 35, 36, 37, 41, 42, 44.\",\"N/A\"))))","v":"N/A"},{"$f":"Scope!BT29","v":"0"},{"$f":"IF(BT73=0,\"N/A\",IF(BT73=1,\"NO: A, M. NI: 1, 2, 3, 4, 5, 6, 7, 8, 11, 12, 13, 35, 36, 37, 41, 42, 44.\", IF(BT73=2,\"NO: A, M. NI: 1, 2, 3, 4, 5, 6, 7, 8, 11, 12, 13, 35, 36, 37, 41, 42, 44.\",IF(BT73=3,\"NO: A, M. NI: 1, 2, 3, 4, 5, 6, 7, 8, 11, 12, 13, 35, 36, 37, 41, 42, 44.\",\"N/A\"))))","v":"N/A"},{"$f":"Scope!BV29","v":"0"},{"$f":"IF(BV73=0,\"N/A\",IF(BV73=1,\"NO: A, M. NI: 1, 2, 3, 4, 5, 6, 7, 8, 11, 12, 13, 35, 36, 37, 41, 42, 44.\", IF(BV73=2,\"NO: A, M. NI: 1, 2, 3, 4, 5, 6, 7, 8, 11, 12, 13, 35, 36, 37, 41, 42, 44.\",IF(BV73=3,\"NO: A, M. NI: 1, 2, 3, 4, 5, 6, 7, 8, 11, 12, 13, 35, 36, 37, 41, 42, 44.\",\"N/A\"))))","v":"N/A"},{"$f":"Scope!BX29","v":"0"},{"$f":"IF(BX73=0,\"N/A\",IF(BX73=1,\"NO: A, M. NI: 1, 2, 3, 4, 5, 6, 7, 8, 11, 12, 13, 35, 36, 37, 41, 42, 44.\", IF(BX73=2,\"NO: A, M. NI: 1, 2, 3, 4, 5, 6, 7, 8, 11, 12, 13, 35, 36, 37, 41, 42, 44.\",IF(BX73=3,\"NO: A, M. NI: 1, 2, 3, 4, 5, 6, 7, 8, 11, 12, 13, 35, 36, 37, 41, 42, 44.\",\"N/A\"))))","v":"N/A"},{"$f":"Scope!BZ29","v":"0"},{"$f":"IF(BZ73=0,\"N/A\",IF(BZ73=1,\"NO: A, M. NI: 1, 2, 3, 4, 5, 6, 7, 8, 11, 12, 13, 35, 36, 37, 41, 42, 44.\", IF(BZ73=2,\"NO: A, M. NI: 1, 2, 3, 4, 5, 6, 7, 8, 11, 12, 13, 35, 36, 37, 41, 42, 44.\",IF(BZ73=3,\"NO: A, M. NI: 1, 2, 3, 4, 5, 6, 7, 8, 11, 12, 13, 35, 36, 37, 41, 42, 44.\",\"N/A\"))))","v":"N/A"},{"$f":"Scope!CB29","v":"0"},{"$f":"IF(CB73=0,\"N/A\",IF(CB73=1,\"NO: A, M. NI: 1, 2, 3, 4, 5, 6, 7, 8, 11, 12, 13, 35, 36, 37, 41, 42, 44.\", IF(CB73=2,\"NO: A, M. NI: 1, 2, 3, 4, 5, 6, 7, 8, 11, 12, 13, 35, 36, 37, 41, 42, 44.\",IF(CB73=3,\"NO: A, M. NI: 1, 2, 3, 4, 5, 6, 7, 8, 11, 12, 13, 35, 36, 37, 41, 42, 44.\",\"N/A\"))))","v":"N/A"},{"$f":"Scope!CD29","v":"0"},{"$f":"IF(CD73=0,\"N/A\",IF(CD73=1,\"NO: A, M. NI: 1, 2, 3, 4, 5, 6, 7, 8, 11, 12, 13, 35, 36, 37, 41, 42, 44.\", IF(CD73=2,\"NO: A, M. NI: 1, 2, 3, 4, 5, 6, 7, 8, 11, 12, 13, 35, 36, 37, 41, 42, 44.\",IF(CD73=3,\"NO: A, M. NI: 1, 2, 3, 4, 5, 6, 7, 8, 11, 12, 13, 35, 36, 37, 41, 42, 44.\",\"N/A\"))))","v":"N/A"},null,{"$f":"IssuesInput!F8","v":"Conflict Minerals Policy (2016); Fair Trade Policy (2013); Modern Slavery being reviewed in 2016;"},null,null,{"$f":"Scope!CJ29","v":"0"},{"$f":"IF(CJ73=0,\"N/A\",IF(CJ73=1,\"NO: A, M. NI: 1, 2, 3, 4, 5, 6, 7, 8, 11, 12, 13, 35, 36, 37, 41, 42, 44.\", IF(CJ73=2,\"NO: A, M. NI: 1, 2, 3, 4, 5, 6, 7, 8, 11, 12, 13, 35, 36, 37, 41, 42, 44.\",IF(CJ73=3,\"NO: A, M. NI: 1, 2, 3, 4, 5, 6, 7, 8, 11, 12, 13, 35, 36, 37, 41, 42, 44.\",\"N/A\"))))","v":"N/A"}]
[null,null,"Equality",{"$f":"Scope!D30","v":2},{"$f":"IF(D74=0,\"N/A\",IF(D74=1,\"NO: G, M. NI: 5, 8, 9, 10, 11, 12, 13, 14, 15, 26, 36, 37, 38, 39, 40.\", IF(D74=2,\"NO: G, M. NI: 5, 8, 9, 10, 11, 12, 13, 14, 15, 26, 36, 37, 38, 39, 40.\",IF(D74=3,\"NO: G, M. NI: 5, 8, 9, 10, 11, 12, 13, 14, 15, 26, 36, 37, 38, 39, 40.\",\"N/A\"))))","v":"NO: G, M. NI: 5, 8, 9, 10, 11, 12, 13, 14, 15, 26, 36, 37, 38, 39, 40."},{"$f":"Scope!F30","v":2},{"$f":"IF(F74=0,\"N/A\",IF(F74=1,\"NO: G, M. NI: 5, 8, 9, 10, 11, 12, 13, 14, 15, 26, 36, 37, 38, 39, 40.\", IF(F74=2,\"NO: G, M. NI: 5, 8, 9, 10, 11, 12, 13, 14, 15, 26, 36, 37, 38, 39, 40.\",IF(F74=3,\"NO: G, M. NI: 5, 8, 9, 10, 11, 12, 13, 14, 15, 26, 36, 37, 38, 39, 40.\",\"N/A\"))))","v":"NO: G, M. NI: 5, 8, 9, 10, 11, 12, 13, 14, 15, 26, 36, 37, 38, 39, 40."},{"$f":"Scope!H30","v":2},{"$f":"IF(H74=0,\"N/A\",IF(H74=1,\"NO: G, M. NI: 5, 8, 9, 10, 11, 12, 13, 14, 15, 26, 36, 37, 38, 39, 40.\", IF(H74=2,\"NO: G, M. NI: 5, 8, 9, 10, 11, 12, 13, 14, 15, 26, 36, 37, 38, 39, 40.\",IF(H74=3,\"NO: G, M. NI: 5, 8, 9, 10, 11, 12, 13, 14, 15, 26, 36, 37, 38, 39, 40.\",\"N/A\"))))","v":"NO: G, M. NI: 5, 8, 9, 10, 11, 12, 13, 14, 15, 26, 36, 37, 38, 39, 40."},{"$f":"Scope!J30","v":2},{"$f":"IF(J74=0,\"N/A\",IF(J74=1,\"NO: G, M. NI: 5, 8, 9, 10, 11, 12, 13, 14, 15, 26, 36, 37, 38, 39, 40.\", IF(J74=2,\"NO: G, M. NI: 5, 8, 9, 10, 11, 12, 13, 14, 15, 26, 36, 37, 38, 39, 40.\",IF(J74=3,\"NO: G, M. NI: 5, 8, 9, 10, 11, 12, 13, 14, 15, 26, 36, 37, 38, 39, 40.\",\"N/A\"))))","v":"NO: G, M. NI: 5, 8, 9, 10, 11, 12, 13, 14, 15, 26, 36, 37, 38, 39, 40."},{"$f":"Scope!L30","v":2},{"$f":"IF(L74=0,\"N/A\",IF(L74=1,\"NO: G, M. NI: 5, 8, 9, 10, 11, 12, 13, 14, 15, 26, 36, 37, 38, 39, 40.\", IF(L74=2,\"NO: G, M. NI: 5, 8, 9, 10, 11, 12, 13, 14, 15, 26, 36, 37, 38, 39, 40.\",IF(L74=3,\"NO: G, M. NI: 5, 8, 9, 10, 11, 12, 13, 14, 15, 26, 36, 37, 38, 39, 40.\",\"N/A\"))))","v":"NO: G, M. NI: 5, 8, 9, 10, 11, 12, 13, 14, 15, 26, 36, 37, 38, 39, 40."},{"$f":"Scope!N30","v":2},{"$f":"IF(N74=0,\"N/A\",IF(N74=1,\"NO: G, M. NI: 5, 8, 9, 10, 11, 12, 13, 14, 15, 26, 36, 37, 38, 39, 40.\", IF(N74=2,\"NO: G, M. NI: 5, 8, 9, 10, 11, 12, 13, 14, 15, 26, 36, 37, 38, 39, 40.\",IF(N74=3,\"NO: G, M. NI: 5, 8, 9, 10, 11, 12, 13, 14, 15, 26, 36, 37, 38, 39, 40.\",\"N/A\"))))","v":"NO: G, M. NI: 5, 8, 9, 10, 11, 12, 13, 14, 15, 26, 36, 37, 38, 39, 40."},{"$f":"Scope!P30","v":2},{"$f":"IF(P74=0,\"N/A\",IF(P74=1,\"NO: G, M. NI: 5, 8, 9, 10, 11, 12, 13, 14, 15, 26, 36, 37, 38, 39, 40.\", IF(P74=2,\"NO: G, M. NI: 5, 8, 9, 10, 11, 12, 13, 14, 15, 26, 36, 37, 38, 39, 40.\",IF(P74=3,\"NO: G, M. NI: 5, 8, 9, 10, 11, 12, 13, 14, 15, 26, 36, 37, 38, 39, 40.\",\"N/A\"))))","v":"NO: G, M. NI: 5, 8, 9, 10, 11, 12, 13, 14, 15, 26, 36, 37, 38, 39, 40."},{"$f":"Scope!R30","v":2},{"$f":"IF(R74=0,\"N/A\",IF(R74=1,\"NO: G, M. NI: 5, 8, 9, 10, 11, 12, 13, 14, 15, 26, 36, 37, 38, 39, 40.\", IF(R74=2,\"NO: G, M. NI: 5, 8, 9, 10, 11, 12, 13, 14, 15, 26, 36, 37, 38, 39, 40.\",IF(R74=3,\"NO: G, M. NI: 5, 8, 9, 10, 11, 12, 13, 14, 15, 26, 36, 37, 38, 39, 40.\",\"N/A\"))))","v":"NO: G, M. NI: 5, 8, 9, 10, 11, 12, 13, 14, 15, 26, 36, 37, 38, 39, 40."},{"$f":"Scope!T30","v":"0"},{"$f":"IF(T74=0,\"N/A\",IF(T74=1,\"NO: G, M. NI: 5, 8, 9, 10, 11, 12, 13, 14, 15, 26, 36, 37, 38, 39, 40.\", IF(T74=2,\"NO: G, M. NI: 5, 8, 9, 10, 11, 12, 13, 14, 15, 26, 36, 37, 38, 39, 40.\",IF(T74=3,\"NO: G, M. NI: 5, 8, 9, 10, 11, 12, 13, 14, 15, 26, 36, 37, 38, 39, 40.\",\"N/A\"))))","v":"N/A"},{"$f":"Scope!V30","v":"0"},{"$f":"IF(V74=0,\"N/A\",IF(V74=1,\"NO: G, M. NI: 5, 8, 9, 10, 11, 12, 13, 14, 15, 26, 36, 37, 38, 39, 40.\", IF(V74=2,\"NO: G, M. NI: 5, 8, 9, 10, 11, 12, 13, 14, 15, 26, 36, 37, 38, 39, 40.\",IF(V74=3,\"NO: G, M. NI: 5, 8, 9, 10, 11, 12, 13, 14, 15, 26, 36, 37, 38, 39, 40.\",\"N/A\"))))","v":"N/A"},{"$f":"Scope!X30","v":"0"},{"$f":"IF(X74=0,\"N/A\",IF(X74=1,\"NO: G, M. NI: 5, 8, 9, 10, 11, 12, 13, 14, 15, 26, 36, 37, 38, 39, 40.\", IF(X74=2,\"NO: G, M. NI: 5, 8, 9, 10, 11, 12, 13, 14, 15, 26, 36, 37, 38, 39, 40.\",IF(X74=3,\"NO: G, M. NI: 5, 8, 9, 10, 11, 12, 13, 14, 15, 26, 36, 37, 38, 39, 40.\",\"N/A\"))))","v":"N/A"},{"$f":"Scope!Z30","v":"0"},{"$f":"IF(Z74=0,\"N/A\",IF(Z74=1,\"NO: G, M. NI: 5, 8, 9, 10, 11, 12, 13, 14, 15, 26, 36, 37, 38, 39, 40.\", IF(Z74=2,\"NO: G, M. NI: 5, 8, 9, 10, 11, 12, 13, 14, 15, 26, 36, 37, 38, 39, 40.\",IF(Z74=3,\"NO: G, M. NI: 5, 8, 9, 10, 11, 12, 13, 14, 15, 26, 36, 37, 38, 39, 40.\",\"N/A\"))))","v":"N/A"},{"$f":"Scope!AB30","v":"0"},{"$f":"IF(AB74=0,\"N/A\",IF(AB74=1,\"NO: G, M. NI: 5, 8, 9, 10, 11, 12, 13, 14, 15, 26, 36, 37, 38, 39, 40.\", IF(AB74=2,\"NO: G, M. NI: 5, 8, 9, 10, 11, 12, 13, 14, 15, 26, 36, 37, 38, 39, 40.\",IF(AB74=3,\"NO: G, M. NI: 5, 8, 9, 10, 11, 12, 13, 14, 15, 26, 36, 37, 38, 39, 40.\",\"N/A\"))))","v":"N/A"},{"$f":"Scope!AD30","v":"0"},{"$f":"IF(AD74=0,\"N/A\",IF(AD74=1,\"NO: G, M. NI: 5, 8, 9, 10, 11, 12, 13, 14, 15, 26, 36, 37, 38, 39, 40.\", IF(AD74=2,\"NO: G, M. NI: 5, 8, 9, 10, 11, 12, 13, 14, 15, 26, 36, 37, 38, 39, 40.\",IF(AD74=3,\"NO: G, M. NI: 5, 8, 9, 10, 11, 12, 13, 14, 15, 26, 36, 37, 38, 39, 40.\",\"N/A\"))))","v":"N/A"},{"$f":"Scope!AF30","v":"0"},{"$f":"IF(AF74=0,\"N/A\",IF(AF74=1,\"NO: G, M. NI: 5, 8, 9, 10, 11, 12, 13, 14, 15, 26, 36, 37, 38, 39, 40.\", IF(AF74=2,\"NO: G, M. NI: 5, 8, 9, 10, 11, 12, 13, 14, 15, 26, 36, 37, 38, 39, 40.\",IF(AF74=3,\"NO: G, M. NI: 5, 8, 9, 10, 11, 12, 13, 14, 15, 26, 36, 37, 38, 39, 40.\",\"N/A\"))))","v":"N/A"},{"$f":"Scope!AH30","v":"0"},{"$f":"IF(AH74=0,\"N/A\",IF(AH74=1,\"NO: G, M. NI: 5, 8, 9, 10, 11, 12, 13, 14, 15, 26, 36, 37, 38, 39, 40.\", IF(AH74=2,\"NO: G, M. NI: 5, 8, 9, 10, 11, 12, 13, 14, 15, 26, 36, 37, 38, 39, 40.\",IF(AH74=3,\"NO: G, M. NI: 5, 8, 9, 10, 11, 12, 13, 14, 15, 26, 36, 37, 38, 39, 40.\",\"N/A\"))))","v":"N/A"},{"$f":"Scope!AJ30","v":"0"},{"$f":"IF(AJ74=0,\"N/A\",IF(AJ74=1,\"NO: G, M. NI: 5, 8, 9, 10, 11, 12, 13, 14, 15, 26, 36, 37, 38, 39, 40.\", IF(AJ74=2,\"NO: G, M. NI: 5, 8, 9, 10, 11, 12, 13, 14, 15, 26, 36, 37, 38, 39, 40.\",IF(AJ74=3,\"NO: G, M. NI: 5, 8, 9, 10, 11, 12, 13, 14, 15, 26, 36, 37, 38, 39, 40.\",\"N/A\"))))","v":"N/A"},{"$f":"Scope!AL30","v":"0"},{"$f":"IF(AL74=0,\"N/A\",IF(AL74=1,\"NO: G, M. NI: 5, 8, 9, 10, 11, 12, 13, 14, 15, 26, 36, 37, 38, 39, 40.\", IF(AL74=2,\"NO: G, M. NI: 5, 8, 9, 10, 11, 12, 13, 14, 15, 26, 36, 37, 38, 39, 40.\",IF(AL74=3,\"NO: G, M. NI: 5, 8, 9, 10, 11, 12, 13, 14, 15, 26, 36, 37, 38, 39, 40.\",\"N/A\"))))","v":"N/A"},{"$f":"Scope!AN30","v":"0"},{"$f":"IF(AN74=0,\"N/A\",IF(AN74=1,\"NO: G, M. NI: 5, 8, 9, 10, 11, 12, 13, 14, 15, 26, 36, 37, 38, 39, 40.\", IF(AN74=2,\"NO: G, M. NI: 5, 8, 9, 10, 11, 12, 13, 14, 15, 26, 36, 37, 38, 39, 40.\",IF(AN74=3,\"NO: G, M. NI: 5, 8, 9, 10, 11, 12, 13, 14, 15, 26, 36, 37, 38, 39, 40.\",\"N/A\"))))","v":"N/A"},{"$f":"Scope!AP30","v":"0"},{"$f":"IF(AP74=0,\"N/A\",IF(AP74=1,\"NO: G, M. NI: 5, 8, 9, 10, 11, 12, 13, 14, 15, 26, 36, 37, 38, 39, 40.\", IF(AP74=2,\"NO: G, M. NI: 5, 8, 9, 10, 11, 12, 13, 14, 15, 26, 36, 37, 38, 39, 40.\",IF(AP74=3,\"NO: G, M. NI: 5, 8, 9, 10, 11, 12, 13, 14, 15, 26, 36, 37, 38, 39, 40.\",\"N/A\"))))","v":"N/A"},{"$f":"Scope!AR30","v":"0"},{"$f":"IF(AR74=0,\"N/A\",IF(AR74=1,\"NO: G, M. NI: 5, 8, 9, 10, 11, 12, 13, 14, 15, 26, 36, 37, 38, 39, 40.\", IF(AR74=2,\"NO: G, M. NI: 5, 8, 9, 10, 11, 12, 13, 14, 15, 26, 36, 37, 38, 39, 40.\",IF(AR74=3,\"NO: G, M. NI: 5, 8, 9, 10, 11, 12, 13, 14, 15, 26, 36, 37, 38, 39, 40.\",\"N/A\"))))","v":"N/A"},{"$f":"Scope!AT30","v":"0"},{"$f":"IF(AT74=0,\"N/A\",IF(AT74=1,\"NO: G, M. NI: 5, 8, 9, 10, 11, 12, 13, 14, 15, 26, 36, 37, 38, 39, 40.\", IF(AT74=2,\"NO: G, M. NI: 5, 8, 9, 10, 11, 12, 13, 14, 15, 26, 36, 37, 38, 39, 40.\",IF(AT74=3,\"NO: G, M. NI: 5, 8, 9, 10, 11, 12, 13, 14, 15, 26, 36, 37, 38, 39, 40.\",\"N/A\"))))","v":"N/A"},{"$f":"Scope!AV30","v":"0"},{"$f":"IF(AV74=0,\"N/A\",IF(AV74=1,\"NO: G, M. NI: 5, 8, 9, 10, 11, 12, 13, 14, 15, 26, 36, 37, 38, 39, 40.\", IF(AV74=2,\"NO: G, M. NI: 5, 8, 9, 10, 11, 12, 13, 14, 15, 26, 36, 37, 38, 39, 40.\",IF(AV74=3,\"NO: G, M. NI: 5, 8, 9, 10, 11, 12, 13, 14, 15, 26, 36, 37, 38, 39, 40.\",\"N/A\"))))","v":"N/A"},{"$f":"Scope!AX30","v":"0"},{"$f":"IF(AX74=0,\"N/A\",IF(AX74=1,\"NO: G, M. NI: 5, 8, 9, 10, 11, 12, 13, 14, 15, 26, 36, 37, 38, 39, 40.\", IF(AX74=2,\"NO: G, M. NI: 5, 8, 9, 10, 11, 12, 13, 14, 15, 26, 36, 37, 38, 39, 40.\",IF(AX74=3,\"NO: G, M. NI: 5, 8, 9, 10, 11, 12, 13, 14, 15, 26, 36, 37, 38, 39, 40.\",\"N/A\"))))","v":"N/A"},{"$f":"Scope!AZ30","v":"0"},{"$f":"IF(AZ74=0,\"N/A\",IF(AZ74=1,\"NO: G, M. NI: 5, 8, 9, 10, 11, 12, 13, 14, 15, 26, 36, 37, 38, 39, 40.\", IF(AZ74=2,\"NO: G, M. NI: 5, 8, 9, 10, 11, 12, 13, 14, 15, 26, 36, 37, 38, 39, 40.\",IF(AZ74=3,\"NO: G, M. NI: 5, 8, 9, 10, 11, 12, 13, 14, 15, 26, 36, 37, 38, 39, 40.\",\"N/A\"))))","v":"N/A"},{"$f":"Scope!BB30","v":"0"},{"$f":"IF(BB74=0,\"N/A\",IF(BB74=1,\"NO: G, M. NI: 5, 8, 9, 10, 11, 12, 13, 14, 15, 26, 36, 37, 38, 39, 40.\", IF(BB74=2,\"NO: G, M. NI: 5, 8, 9, 10, 11, 12, 13, 14, 15, 26, 36, 37, 38, 39, 40.\",IF(BB74=3,\"NO: G, M. NI: 5, 8, 9, 10, 11, 12, 13, 14, 15, 26, 36, 37, 38, 39, 40.\",\"N/A\"))))","v":"N/A"},{"$f":"Scope!BD30","v":"0"},{"$f":"IF(BD74=0,\"N/A\",IF(BD74=1,\"NO: G, M. NI: 5, 8, 9, 10, 11, 12, 13, 14, 15, 26, 36, 37, 38, 39, 40.\", IF(BD74=2,\"NO: G, M. NI: 5, 8, 9, 10, 11, 12, 13, 14, 15, 26, 36, 37, 38, 39, 40.\",IF(BD74=3,\"NO: G, M. NI: 5, 8, 9, 10, 11, 12, 13, 14, 15, 26, 36, 37, 38, 39, 40.\",\"N/A\"))))","v":"N/A"},{"$f":"Scope!BF30","v":"0"},{"$f":"IF(BF74=0,\"N/A\",IF(BF74=1,\"NO: G, M. NI: 5, 8, 9, 10, 11, 12, 13, 14, 15, 26, 36, 37, 38, 39, 40.\", IF(BF74=2,\"NO: G, M. NI: 5, 8, 9, 10, 11, 12, 13, 14, 15, 26, 36, 37, 38, 39, 40.\",IF(BF74=3,\"NO: G, M. NI: 5, 8, 9, 10, 11, 12, 13, 14, 15, 26, 36, 37, 38, 39, 40.\",\"N/A\"))))","v":"N/A"},{"$f":"Scope!BH30","v":"0"},{"$f":"IF(BH74=0,\"N/A\",IF(BH74=1,\"NO: G, M. NI: 5, 8, 9, 10, 11, 12, 13, 14, 15, 26, 36, 37, 38, 39, 40.\", IF(BH74=2,\"NO: G, M. NI: 5, 8, 9, 10, 11, 12, 13, 14, 15, 26, 36, 37, 38, 39, 40.\",IF(BH74=3,\"NO: G, M. NI: 5, 8, 9, 10, 11, 12, 13, 14, 15, 26, 36, 37, 38, 39, 40.\",\"N/A\"))))","v":"N/A"},{"$f":"Scope!BJ30","v":"0"},{"$f":"IF(BJ74=0,\"N/A\",IF(BJ74=1,\"NO: G, M. NI: 5, 8, 9, 10, 11, 12, 13, 14, 15, 26, 36, 37, 38, 39, 40.\", IF(BJ74=2,\"NO: G, M. NI: 5, 8, 9, 10, 11, 12, 13, 14, 15, 26, 36, 37, 38, 39, 40.\",IF(BJ74=3,\"NO: G, M. NI: 5, 8, 9, 10, 11, 12, 13, 14, 15, 26, 36, 37, 38, 39, 40.\",\"N/A\"))))","v":"N/A"},{"$f":"Scope!BL30","v":"0"},{"$f":"IF(BL74=0,\"N/A\",IF(BL74=1,\"NO: G, M. NI: 5, 8, 9, 10, 11, 12, 13, 14, 15, 26, 36, 37, 38, 39, 40.\", IF(BL74=2,\"NO: G, M. NI: 5, 8, 9, 10, 11, 12, 13, 14, 15, 26, 36, 37, 38, 39, 40.\",IF(BL74=3,\"NO: G, M. NI: 5, 8, 9, 10, 11, 12, 13, 14, 15, 26, 36, 37, 38, 39, 40.\",\"N/A\"))))","v":"N/A"},{"$f":"Scope!BN30","v":"0"},{"$f":"IF(BN74=0,\"N/A\",IF(BN74=1,\"NO: G, M. NI: 8, 11, 12, 13, 20, 21, 23, 31, 35, 36, 37, 39, 41, 43, 44.\", IF(BN74=2,\"NO: G, M. NI: 8, 11, 12, 13, 20, 21, 23, 31, 35, 36, 37, 39, 41, 43, 44.\",IF(BN74=3,\"NO: G, M. NI: 8, 11, 12, 13, 20, 21, 23, 31, 35, 36, 37, 39, 41, 43, 44.\",\"N/A\"))))","v":"N/A"},{"$f":"Scope!BP30","v":"0"},{"$f":"IF(BP74=0,\"N/A\",IF(BP74=1,\"NO: G, M. NI: 8, 11, 12, 13, 20, 21, 23, 31, 35, 36, 37, 39, 41, 43, 44.\", IF(BP74=2,\"NO: G, M. NI: 8, 11, 12, 13, 20, 21, 23, 31, 35, 36, 37, 39, 41, 43, 44.\",IF(BP74=3,\"NO: G, M. NI: 8, 11, 12, 13, 20, 21, 23, 31, 35, 36, 37, 39, 41, 43, 44.\",\"N/A\"))))","v":"N/A"},{"$f":"Scope!BR30","v":"0"},{"$f":"IF(BR74=0,\"N/A\",IF(BR74=1,\"NO: G, M. NI: 8, 11, 12, 13, 20, 21, 23, 31, 35, 36, 37, 39, 41, 43, 44.\", IF(BR74=2,\"NO: G, M. NI: 8, 11, 12, 13, 20, 21, 23, 31, 35, 36, 37, 39, 41, 43, 44.\",IF(BR74=3,\"NO: G, M. NI: 8, 11, 12, 13, 20, 21, 23, 31, 35, 36, 37, 39, 41, 43, 44.\",\"N/A\"))))","v":"N/A"},{"$f":"Scope!BT30","v":"0"},{"$f":"IF(BT74=0,\"N/A\",IF(BT74=1,\"NO: G, M. NI: 8, 11, 12, 13, 20, 21, 23, 31, 35, 36, 37, 39, 41, 43, 44.\", IF(BT74=2,\"NO: G, M. NI: 8, 11, 12, 13, 20, 21, 23, 31, 35, 36, 37, 39, 41, 43, 44.\",IF(BT74=3,\"NO: G, M. NI: 8, 11, 12, 13, 20, 21, 23, 31, 35, 36, 37, 39, 41, 43, 44.\",\"N/A\"))))","v":"N/A"},{"$f":"Scope!BV30","v":"0"},{"$f":"IF(BV74=0,\"N/A\",IF(BV74=1,\"NO: G, M. NI: 8, 11, 12, 13, 20, 21, 23, 31, 35, 36, 37, 39, 41, 43, 44.\", IF(BV74=2,\"NO: G, M. NI: 8, 11, 12, 13, 20, 21, 23, 31, 35, 36, 37, 39, 41, 43, 44.\",IF(BV74=3,\"NO: G, M. NI: 8, 11, 12, 13, 20, 21, 23, 31, 35, 36, 37, 39, 41, 43, 44.\",\"N/A\"))))","v":"N/A"},{"$f":"Scope!BX30","v":"0"},{"$f":"IF(BX74=0,\"N/A\",IF(BX74=1,\"NO: G, M. NI: 8, 11, 12, 13, 20, 21, 23, 31, 35, 36, 37, 39, 41, 43, 44.\", IF(BX74=2,\"NO: G, M. NI: 8, 11, 12, 13, 20, 21, 23, 31, 35, 36, 37, 39, 41, 43, 44.\",IF(BX74=3,\"NO: G, M. NI: 8, 11, 12, 13, 20, 21, 23, 31, 35, 36, 37, 39, 41, 43, 44.\",\"N/A\"))))","v":"N/A"},{"$f":"Scope!BZ30","v":"0"},{"$f":"IF(BZ74=0,\"N/A\",IF(BZ74=1,\"NO: G, M. NI: 8, 11, 12, 13, 20, 21, 23, 31, 35, 36, 37, 39, 41, 43, 44.\", IF(BZ74=2,\"NO: G, M. NI: 8, 11, 12, 13, 20, 21, 23, 31, 35, 36, 37, 39, 41, 43, 44.\",IF(BZ74=3,\"NO: G, M. NI: 8, 11, 12, 13, 20, 21, 23, 31, 35, 36, 37, 39, 41, 43, 44.\",\"N/A\"))))","v":"N/A"},{"$f":"Scope!CB30","v":"0"},{"$f":"IF(CB74=0,\"N/A\",IF(CB74=1,\"NO: G, M. NI: 8, 11, 12, 13, 20, 21, 23, 31, 35, 36, 37, 39, 41, 43, 44.\", IF(CB74=2,\"NO: G, M. NI: 8, 11, 12, 13, 20, 21, 23, 31, 35, 36, 37, 39, 41, 43, 44.\",IF(CB74=3,\"NO: G, M. NI: 8, 11, 12, 13, 20, 21, 23, 31, 35, 36, 37, 39, 41, 43, 44.\",\"N/A\"))))","v":"N/A"},{"$f":"Scope!CD30","v":"0"},{"$f":"IF(CD74=0,\"N/A\",IF(CD74=1,\"NO: G, M. NI: 8, 11, 12, 13, 20, 21, 23, 31, 35, 36, 37, 39, 41, 43, 44.\", IF(CD74=2,\"NO: G, M. NI: 8, 11, 12, 13, 20, 21, 23, 31, 35, 36, 37, 39, 41, 43, 44.\",IF(CD74=3,\"NO: G, M. NI: 8, 11, 12, 13, 20, 21, 23, 31, 35, 36, 37, 39, 41, 43, 44.\",\"N/A\"))))","v":"N/A"},null,{"$f":"IssuesInput!F9","v":"Equality and Diversity related policies for University here http://www.ed.ac.uk/equality-diversity/legislation-policies/policies "},null,null,{"$f":"Scope!CJ30","v":"0"},{"$f":"IF(CJ74=0,\"N/A\",IF(CJ74=1,\"NO: G, M. NI: 8, 11, 12, 13, 20, 21, 23, 31, 35, 36, 37, 39, 41, 43, 44.\", IF(CJ74=2,\"NO: G, M. NI: 8, 11, 12, 13, 20, 21, 23, 31, 35, 36, 37, 39, 41, 43, 44.\",IF(CJ74=3,\"NO: G, M. NI: 8, 11, 12, 13, 20, 21, 23, 31, 35, 36, 37, 39, 41, 43, 44.\",\"N/A\"))))","v":"N/A"}]
[null,null,"Fair Work",{"$f":"Scope!D31","v":1},{"$f":"IF(D75=0,\"N/A\",IF(D75=1,\"NO: A, B, G, M. NI: 1, 2, 3, 5, 6, 7,  8, 9, 10, 11, 12, 13, 14, 15, 16, 26, 36, 37, 38, 39, 40.\", IF(D75=2,\"NO: A, B, G, M. NI: 1, 2, 3, 5, 6, 7,  8, 9, 10, 11, 12, 13, 14, 15, 16, 26, 36, 37, 38, 39, 40.\",IF(D75=3,\"NO: A, B, G, M. NI: 1, 2, 3, 5, 6, 7,  8, 9, 10, 11, 12, 13, 14, 15, 16, 26, 36, 37, 38, 39, 40.\",\"N/A\"))))","v":"NO: A, B, G, M. NI: 1, 2, 3, 5, 6, 7,  8, 9, 10, 11, 12, 13, 14, 15, 16, 26, 36, 37, 38, 39, 40."},{"$f":"Scope!F31","v":0},{"$f":"IF(F75=0,\"N/A\",IF(F75=1,\"NO: A, B, G, M. NI: 1, 2, 3, 5, 6, 7,  8, 9, 10, 11, 12, 13, 14, 15, 16, 26, 36, 37, 38, 39, 40.\", IF(F75=2,\"NO: A, B, G, M. NI: 1, 2, 3, 5, 6, 7,  8, 9, 10, 11, 12, 13, 14, 15, 16, 26, 36, 37, 38, 39, 40.\",IF(F75=3,\"NO: A, B, G, M. NI: 1, 2, 3, 5, 6, 7,  8, 9, 10, 11, 12, 13, 14, 15, 16, 26, 36, 37, 38, 39, 40.\",\"N/A\"))))","v":"N/A"},{"$f":"Scope!H31","v":0},{"$f":"IF(H75=0,\"N/A\",IF(H75=1,\"NO: A, B, G, M. NI: 1, 2, 3, 5, 6, 7,  8, 9, 10, 11, 12, 13, 14, 15, 16, 26, 36, 37, 38, 39, 40.\", IF(H75=2,\"NO: A, B, G, M. NI: 1, 2, 3, 5, 6, 7,  8, 9, 10, 11, 12, 13, 14, 15, 16, 26, 36, 37, 38, 39, 40.\",IF(H75=3,\"NO: A, B, G, M. NI: 1, 2, 3, 5, 6, 7,  8, 9, 10, 11, 12, 13, 14, 15, 16, 26, 36, 37, 38, 39, 40.\",\"N/A\"))))","v":"N/A"},{"$f":"Scope!J31","v":1},{"$f":"IF(J75=0,\"N/A\",IF(J75=1,\"NO: A, B, G, M. NI: 1, 2, 3, 5, 6, 7,  8, 9, 10, 11, 12, 13, 14, 15, 16, 26, 36, 37, 38, 39, 40.\", IF(J75=2,\"NO: A, B, G, M. NI: 1, 2, 3, 5, 6, 7,  8, 9, 10, 11, 12, 13, 14, 15, 16, 26, 36, 37, 38, 39, 40.\",IF(J75=3,\"NO: A, B, G, M. NI: 1, 2, 3, 5, 6, 7,  8, 9, 10, 11, 12, 13, 14, 15, 16, 26, 36, 37, 38, 39, 40.\",\"N/A\"))))","v":"NO: A, B, G, M. NI: 1, 2, 3, 5, 6, 7,  8, 9, 10, 11, 12, 13, 14, 15, 16, 26, 36, 37, 38, 39, 40."},{"$f":"Scope!L31","v":0},{"$f":"IF(L75=0,\"N/A\",IF(L75=1,\"NO: A, B, G, M. NI: 1, 2, 3, 5, 6, 7,  8, 9, 10, 11, 12, 13, 14, 15, 16, 26, 36, 37, 38, 39, 40.\", IF(L75=2,\"NO: A, B, G, M. NI: 1, 2, 3, 5, 6, 7,  8, 9, 10, 11, 12, 13, 14, 15, 16, 26, 36, 37, 38, 39, 40.\",IF(L75=3,\"NO: A, B, G, M. NI: 1, 2, 3, 5, 6, 7,  8, 9, 10, 11, 12, 13, 14, 15, 16, 26, 36, 37, 38, 39, 40.\",\"N/A\"))))","v":"N/A"},{"$f":"Scope!N31","v":"0"},{"$f":"IF(N75=0,\"N/A\",IF(N75=1,\"NO: A, B, G, M. NI: 1, 2, 3, 5, 6, 7,  8, 9, 10, 11, 12, 13, 14, 15, 16, 26, 36, 37, 38, 39, 40.\", IF(N75=2,\"NO: A, B, G, M. NI: 1, 2, 3, 5, 6, 7,  8, 9, 10, 11, 12, 13, 14, 15, 16, 26, 36, 37, 38, 39, 40.\",IF(N75=3,\"NO: A, B, G, M. NI: 1, 2, 3, 5, 6, 7,  8, 9, 10, 11, 12, 13, 14, 15, 16, 26, 36, 37, 38, 39, 40.\",\"N/A\"))))","v":"N/A"},{"$f":"Scope!P31","v":"0"},{"$f":"IF(P75=0,\"N/A\",IF(P75=1,\"NO: A, B, G, M. NI: 1, 2, 3, 5, 6, 7,  8, 9, 10, 11, 12, 13, 14, 15, 16, 26, 36, 37, 38, 39, 40.\", IF(P75=2,\"NO: A, B, G, M. NI: 1, 2, 3, 5, 6, 7,  8, 9, 10, 11, 12, 13, 14, 15, 16, 26, 36, 37, 38, 39, 40.\",IF(P75=3,\"NO: A, B, G, M. NI: 1, 2, 3, 5, 6, 7,  8, 9, 10, 11, 12, 13, 14, 15, 16, 26, 36, 37, 38, 39, 40.\",\"N/A\"))))","v":"N/A"},{"$f":"Scope!R31","v":0},{"$f":"IF(R75=0,\"N/A\",IF(R75=1,\"NO: A, B, G, M. NI: 1, 2, 3, 5, 6, 7,  8, 9, 10, 11, 12, 13, 14, 15, 16, 26, 36, 37, 38, 39, 40.\", IF(R75=2,\"NO: A, B, G, M. NI: 1, 2, 3, 5, 6, 7,  8, 9, 10, 11, 12, 13, 14, 15, 16, 26, 36, 37, 38, 39, 40.\",IF(R75=3,\"NO: A, B, G, M. NI: 1, 2, 3, 5, 6, 7,  8, 9, 10, 11, 12, 13, 14, 15, 16, 26, 36, 37, 38, 39, 40.\",\"N/A\"))))","v":"N/A"},{"$f":"Scope!T31","v":"0"},{"$f":"IF(T75=0,\"N/A\",IF(T75=1,\"NO: A, B, G, M. NI: 1, 2, 3, 5, 6, 7,  8, 9, 10, 11, 12, 13, 14, 15, 16, 26, 36, 37, 38, 39, 40.\", IF(T75=2,\"NO: A, B, G, M. NI: 1, 2, 3, 5, 6, 7,  8, 9, 10, 11, 12, 13, 14, 15, 16, 26, 36, 37, 38, 39, 40.\",IF(T75=3,\"NO: A, B, G, M. NI: 1, 2, 3, 5, 6, 7,  8, 9, 10, 11, 12, 13, 14, 15, 16, 26, 36, 37, 38, 39, 40.\",\"N/A\"))))","v":"N/A"},{"$f":"Scope!V31","v":"0"},{"$f":"IF(V75=0,\"N/A\",IF(V75=1,\"NO: A, B, G, M. NI: 1, 2, 3, 5, 6, 7,  8, 9, 10, 11, 12, 13, 14, 15, 16, 26, 36, 37, 38, 39, 40.\", IF(V75=2,\"NO: A, B, G, M. NI: 1, 2, 3, 5, 6, 7,  8, 9, 10, 11, 12, 13, 14, 15, 16, 26, 36, 37, 38, 39, 40.\",IF(V75=3,\"NO: A, B, G, M. NI: 1, 2, 3, 5, 6, 7,  8, 9, 10, 11, 12, 13, 14, 15, 16, 26, 36, 37, 38, 39, 40.\",\"N/A\"))))","v":"N/A"},{"$f":"Scope!X31","v":"0"},{"$f":"IF(X75=0,\"N/A\",IF(X75=1,\"NO: A, B, G, M. NI: 1, 2, 3, 5, 6, 7,  8, 9, 10, 11, 12, 13, 14, 15, 16, 26, 36, 37, 38, 39, 40.\", IF(X75=2,\"NO: A, B, G, M. NI: 1, 2, 3, 5, 6, 7,  8, 9, 10, 11, 12, 13, 14, 15, 16, 26, 36, 37, 38, 39, 40.\",IF(X75=3,\"NO: A, B, G, M. NI: 1, 2, 3, 5, 6, 7,  8, 9, 10, 11, 12, 13, 14, 15, 16, 26, 36, 37, 38, 39, 40.\",\"N/A\"))))","v":"N/A"},{"$f":"Scope!Z31","v":"0"},{"$f":"IF(Z75=0,\"N/A\",IF(Z75=1,\"NO: A, B, G, M. NI: 1, 2, 3, 5, 6, 7,  8, 9, 10, 11, 12, 13, 14, 15, 16, 26, 36, 37, 38, 39, 40.\", IF(Z75=2,\"NO: A, B, G, M. NI: 1, 2, 3, 5, 6, 7,  8, 9, 10, 11, 12, 13, 14, 15, 16, 26, 36, 37, 38, 39, 40.\",IF(Z75=3,\"NO: A, B, G, M. NI: 1, 2, 3, 5, 6, 7,  8, 9, 10, 11, 12, 13, 14, 15, 16, 26, 36, 37, 38, 39, 40.\",\"N/A\"))))","v":"N/A"},{"$f":"Scope!AB31","v":"0"},{"$f":"IF(AB75=0,\"N/A\",IF(AB75=1,\"NO: A, B, G, M. NI: 1, 2, 3, 5, 6, 7,  8, 9, 10, 11, 12, 13, 14, 15, 16, 26, 36, 37, 38, 39, 40.\", IF(AB75=2,\"NO: A, B, G, M. NI: 1, 2, 3, 5, 6, 7,  8, 9, 10, 11, 12, 13, 14, 15, 16, 26, 36, 37, 38, 39, 40.\",IF(AB75=3,\"NO: A, B, G, M. NI: 1, 2, 3, 5, 6, 7,  8, 9, 10, 11, 12, 13, 14, 15, 16, 26, 36, 37, 38, 39, 40.\",\"N/A\"))))","v":"N/A"},{"$f":"Scope!AD31","v":"0"},{"$f":"IF(AD75=0,\"N/A\",IF(AD75=1,\"NO: A, B, G, M. NI: 1, 2, 3, 5, 6, 7,  8, 9, 10, 11, 12, 13, 14, 15, 16, 26, 36, 37, 38, 39, 40.\", IF(AD75=2,\"NO: A, B, G, M. NI: 1, 2, 3, 5, 6, 7,  8, 9, 10, 11, 12, 13, 14, 15, 16, 26, 36, 37, 38, 39, 40.\",IF(AD75=3,\"NO: A, B, G, M. NI: 1, 2, 3, 5, 6, 7,  8, 9, 10, 11, 12, 13, 14, 15, 16, 26, 36, 37, 38, 39, 40.\",\"N/A\"))))","v":"N/A"},{"$f":"Scope!AF31","v":"0"},{"$f":"IF(AF75=0,\"N/A\",IF(AF75=1,\"NO: A, B, G, M. NI: 1, 2, 3, 5, 6, 7,  8, 9, 10, 11, 12, 13, 14, 15, 16, 26, 36, 37, 38, 39, 40.\", IF(AF75=2,\"NO: A, B, G, M. NI: 1, 2, 3, 5, 6, 7,  8, 9, 10, 11, 12, 13, 14, 15, 16, 26, 36, 37, 38, 39, 40.\",IF(AF75=3,\"NO: A, B, G, M. NI: 1, 2, 3, 5, 6, 7,  8, 9, 10, 11, 12, 13, 14, 15, 16, 26, 36, 37, 38, 39, 40.\",\"N/A\"))))","v":"N/A"},{"$f":"Scope!AH31","v":"0"},{"$f":"IF(AH75=0,\"N/A\",IF(AH75=1,\"NO: A, B, G, M. NI: 1, 2, 3, 5, 6, 7,  8, 9, 10, 11, 12, 13, 14, 15, 16, 26, 36, 37, 38, 39, 40.\", IF(AH75=2,\"NO: A, B, G, M. NI: 1, 2, 3, 5, 6, 7,  8, 9, 10, 11, 12, 13, 14, 15, 16, 26, 36, 37, 38, 39, 40.\",IF(AH75=3,\"NO: A, B, G, M. NI: 1, 2, 3, 5, 6, 7,  8, 9, 10, 11, 12, 13, 14, 15, 16, 26, 36, 37, 38, 39, 40.\",\"N/A\"))))","v":"N/A"},{"$f":"Scope!AJ31","v":"0"},{"$f":"IF(AJ75=0,\"N/A\",IF(AJ75=1,\"NO: A, B, G, M. NI: 1, 2, 3, 5, 6, 7,  8, 9, 10, 11, 12, 13, 14, 15, 16, 26, 36, 37, 38, 39, 40.\", IF(AJ75=2,\"NO: A, B, G, M. NI: 1, 2, 3, 5, 6, 7,  8, 9, 10, 11, 12, 13, 14, 15, 16, 26, 36, 37, 38, 39, 40.\",IF(AJ75=3,\"NO: A, B, G, M. NI: 1, 2, 3, 5, 6, 7,  8, 9, 10, 11, 12, 13, 14, 15, 16, 26, 36, 37, 38, 39, 40.\",\"N/A\"))))","v":"N/A"},{"$f":"Scope!AL31","v":"0"},{"$f":"IF(AL75=0,\"N/A\",IF(AL75=1,\"NO: A, B, G, M. NI: 1, 2, 3, 5, 6, 7,  8, 9, 10, 11, 12, 13, 14, 15, 16, 26, 36, 37, 38, 39, 40.\", IF(AL75=2,\"NO: A, B, G, M. NI: 1, 2, 3, 5, 6, 7,  8, 9, 10, 11, 12, 13, 14, 15, 16, 26, 36, 37, 38, 39, 40.\",IF(AL75=3,\"NO: A, B, G, M. NI: 1, 2, 3, 5, 6, 7,  8, 9, 10, 11, 12, 13, 14, 15, 16, 26, 36, 37, 38, 39, 40.\",\"N/A\"))))","v":"N/A"},{"$f":"Scope!AN31","v":"0"},{"$f":"IF(AN75=0,\"N/A\",IF(AN75=1,\"NO: A, B, G, M. NI: 1, 2, 3, 5, 6, 7,  8, 9, 10, 11, 12, 13, 14, 15, 16, 26, 36, 37, 38, 39, 40.\", IF(AN75=2,\"NO: A, B, G, M. NI: 1, 2, 3, 5, 6, 7,  8, 9, 10, 11, 12, 13, 14, 15, 16, 26, 36, 37, 38, 39, 40.\",IF(AN75=3,\"NO: A, B, G, M. NI: 1, 2, 3, 5, 6, 7,  8, 9, 10, 11, 12, 13, 14, 15, 16, 26, 36, 37, 38, 39, 40.\",\"N/A\"))))","v":"N/A"},{"$f":"Scope!AP31","v":"0"},{"$f":"IF(AP75=0,\"N/A\",IF(AP75=1,\"NO: A, B, G, M. NI: 1, 2, 3, 5, 6, 7,  8, 9, 10, 11, 12, 13, 14, 15, 16, 26, 36, 37, 38, 39, 40.\", IF(AP75=2,\"NO: A, B, G, M. NI: 1, 2, 3, 5, 6, 7,  8, 9, 10, 11, 12, 13, 14, 15, 16, 26, 36, 37, 38, 39, 40.\",IF(AP75=3,\"NO: A, B, G, M. NI: 1, 2, 3, 5, 6, 7,  8, 9, 10, 11, 12, 13, 14, 15, 16, 26, 36, 37, 38, 39, 40.\",\"N/A\"))))","v":"N/A"},{"$f":"Scope!AR31","v":"0"},{"$f":"IF(AR75=0,\"N/A\",IF(AR75=1,\"NO: A, B, G, M. NI: 1, 2, 3, 5, 6, 7,  8, 9, 10, 11, 12, 13, 14, 15, 16, 26, 36, 37, 38, 39, 40.\", IF(AR75=2,\"NO: A, B, G, M. NI: 1, 2, 3, 5, 6, 7,  8, 9, 10, 11, 12, 13, 14, 15, 16, 26, 36, 37, 38, 39, 40.\",IF(AR75=3,\"NO: A, B, G, M. NI: 1, 2, 3, 5, 6, 7,  8, 9, 10, 11, 12, 13, 14, 15, 16, 26, 36, 37, 38, 39, 40.\",\"N/A\"))))","v":"N/A"},{"$f":"Scope!AT31","v":"0"},{"$f":"IF(AT75=0,\"N/A\",IF(AT75=1,\"NO: A, B, G, M. NI: 1, 2, 3, 5, 6, 7,  8, 9, 10, 11, 12, 13, 14, 15, 16, 26, 36, 37, 38, 39, 40.\", IF(AT75=2,\"NO: A, B, G, M. NI: 1, 2, 3, 5, 6, 7,  8, 9, 10, 11, 12, 13, 14, 15, 16, 26, 36, 37, 38, 39, 40.\",IF(AT75=3,\"NO: A, B, G, M. NI: 1, 2, 3, 5, 6, 7,  8, 9, 10, 11, 12, 13, 14, 15, 16, 26, 36, 37, 38, 39, 40.\",\"N/A\"))))","v":"N/A"},{"$f":"Scope!AV31","v":"0"},{"$f":"IF(AV75=0,\"N/A\",IF(AV75=1,\"NO: A, B, G, M. NI: 1, 2, 3, 5, 6, 7,  8, 9, 10, 11, 12, 13, 14, 15, 16, 26, 36, 37, 38, 39, 40.\", IF(AV75=2,\"NO: A, B, G, M. NI: 1, 2, 3, 5, 6, 7,  8, 9, 10, 11, 12, 13, 14, 15, 16, 26, 36, 37, 38, 39, 40.\",IF(AV75=3,\"NO: A, B, G, M. NI: 1, 2, 3, 5, 6, 7,  8, 9, 10, 11, 12, 13, 14, 15, 16, 26, 36, 37, 38, 39, 40.\",\"N/A\"))))","v":"N/A"},{"$f":"Scope!AX31","v":"0"},{"$f":"IF(AX75=0,\"N/A\",IF(AX75=1,\"NO: A, B, G, M. NI: 1, 2, 3, 5, 6, 7,  8, 9, 10, 11, 12, 13, 14, 15, 16, 26, 36, 37, 38, 39, 40.\", IF(AX75=2,\"NO: A, B, G, M. NI: 1, 2, 3, 5, 6, 7,  8, 9, 10, 11, 12, 13, 14, 15, 16, 26, 36, 37, 38, 39, 40.\",IF(AX75=3,\"NO: A, B, G, M. NI: 1, 2, 3, 5, 6, 7,  8, 9, 10, 11, 12, 13, 14, 15, 16, 26, 36, 37, 38, 39, 40.\",\"N/A\"))))","v":"N/A"},{"$f":"Scope!AZ31","v":"0"},{"$f":"IF(AZ75=0,\"N/A\",IF(AZ75=1,\"NO: A, B, G, M. NI: 1, 2, 3, 5, 6, 7,  8, 9, 10, 11, 12, 13, 14, 15, 16, 26, 36, 37, 38, 39, 40.\", IF(AZ75=2,\"NO: A, B, G, M. NI: 1, 2, 3, 5, 6, 7,  8, 9, 10, 11, 12, 13, 14, 15, 16, 26, 36, 37, 38, 39, 40.\",IF(AZ75=3,\"NO: A, B, G, M. NI: 1, 2, 3, 5, 6, 7,  8, 9, 10, 11, 12, 13, 14, 15, 16, 26, 36, 37, 38, 39, 40.\",\"N/A\"))))","v":"N/A"},{"$f":"Scope!BB31","v":"0"},{"$f":"IF(BB75=0,\"N/A\",IF(BB75=1,\"NO: A, B, G, M. NI: 1, 2, 3, 5, 6, 7,  8, 9, 10, 11, 12, 13, 14, 15, 16, 26, 36, 37, 38, 39, 40.\", IF(BB75=2,\"NO: A, B, G, M. NI: 1, 2, 3, 5, 6, 7,  8, 9, 10, 11, 12, 13, 14, 15, 16, 26, 36, 37, 38, 39, 40.\",IF(BB75=3,\"NO: A, B, G, M. NI: 1, 2, 3, 5, 6, 7,  8, 9, 10, 11, 12, 13, 14, 15, 16, 26, 36, 37, 38, 39, 40.\",\"N/A\"))))","v":"N/A"},{"$f":"Scope!BD31","v":"0"},{"$f":"IF(BD75=0,\"N/A\",IF(BD75=1,\"NO: A, B, G, M. NI: 1, 2, 3, 5, 6, 7,  8, 9, 10, 11, 12, 13, 14, 15, 16, 26, 36, 37, 38, 39, 40.\", IF(BD75=2,\"NO: A, B, G, M. NI: 1, 2, 3, 5, 6, 7,  8, 9, 10, 11, 12, 13, 14, 15, 16, 26, 36, 37, 38, 39, 40.\",IF(BD75=3,\"NO: A, B, G, M. NI: 1, 2, 3, 5, 6, 7,  8, 9, 10, 11, 12, 13, 14, 15, 16, 26, 36, 37, 38, 39, 40.\",\"N/A\"))))","v":"N/A"},{"$f":"Scope!BF31","v":"0"},{"$f":"IF(BF75=0,\"N/A\",IF(BF75=1,\"NO: A, B, G, M. NI: 1, 2, 3, 5, 6, 7,  8, 9, 10, 11, 12, 13, 14, 15, 16, 26, 36, 37, 38, 39, 40.\", IF(BF75=2,\"NO: A, B, G, M. NI: 1, 2, 3, 5, 6, 7,  8, 9, 10, 11, 12, 13, 14, 15, 16, 26, 36, 37, 38, 39, 40.\",IF(BF75=3,\"NO: A, B, G, M. NI: 1, 2, 3, 5, 6, 7,  8, 9, 10, 11, 12, 13, 14, 15, 16, 26, 36, 37, 38, 39, 40.\",\"N/A\"))))","v":"N/A"},{"$f":"Scope!BH31","v":"0"},{"$f":"IF(BH75=0,\"N/A\",IF(BH75=1,\"NO: A, B, G, M. NI: 1, 2, 3, 5, 6, 7,  8, 9, 10, 11, 12, 13, 14, 15, 16, 26, 36, 37, 38, 39, 40.\", IF(BH75=2,\"NO: A, B, G, M. NI: 1, 2, 3, 5, 6, 7,  8, 9, 10, 11, 12, 13, 14, 15, 16, 26, 36, 37, 38, 39, 40.\",IF(BH75=3,\"NO: A, B, G, M. NI: 1, 2, 3, 5, 6, 7,  8, 9, 10, 11, 12, 13, 14, 15, 16, 26, 36, 37, 38, 39, 40.\",\"N/A\"))))","v":"N/A"},{"$f":"Scope!BJ31","v":"0"},{"$f":"IF(BJ75=0,\"N/A\",IF(BJ75=1,\"NO: A, B, G, M. NI: 1, 2, 3, 5, 6, 7,  8, 9, 10, 11, 12, 13, 14, 15, 16, 26, 36, 37, 38, 39, 40.\", IF(BJ75=2,\"NO: A, B, G, M. NI: 1, 2, 3, 5, 6, 7,  8, 9, 10, 11, 12, 13, 14, 15, 16, 26, 36, 37, 38, 39, 40.\",IF(BJ75=3,\"NO: A, B, G, M. NI: 1, 2, 3, 5, 6, 7,  8, 9, 10, 11, 12, 13, 14, 15, 16, 26, 36, 37, 38, 39, 40.\",\"N/A\"))))","v":"N/A"},{"$f":"Scope!BL31","v":"0"},{"$f":"IF(BL75=0,\"N/A\",IF(BL75=1,\"NO: A, B, G, M. NI: 1, 2, 3, 5, 6, 7,  8, 9, 10, 11, 12, 13, 14, 15, 16, 26, 36, 37, 38, 39, 40.\", IF(BL75=2,\"NO: A, B, G, M. NI: 1, 2, 3, 5, 6, 7,  8, 9, 10, 11, 12, 13, 14, 15, 16, 26, 36, 37, 38, 39, 40.\",IF(BL75=3,\"NO: A, B, G, M. NI: 1, 2, 3, 5, 6, 7,  8, 9, 10, 11, 12, 13, 14, 15, 16, 26, 36, 37, 38, 39, 40.\",\"N/A\"))))","v":"N/A"},{"$f":"Scope!BN31","v":"0"},{"$f":"IF(BN75=0,\"Please refer to NPF for relevant National Outcomes and Indicators.\",IF(BN75=1,\"Please refer to NPF for relevant National Outcomes and Indicators.\", IF(BN75=2,\"Please refer to NPF for relevant National Outcomes and Indicators.\",IF(BN75=3,\"Please refer to NPF for relevant National Outcomes and Indicators.\",\"Please refer to NPF for relevant National Outcomes and Indicators.\"))))","v":"Please refer to NPF for relevant National Outcomes and Indicators."},{"$f":"Scope!BP31","v":"0"},{"$f":"IF(BP75=0,\"Please refer to NPF for relevant National Outcomes and Indicators.\",IF(BP75=1,\"Please refer to NPF for relevant National Outcomes and Indicators.\", IF(BP75=2,\"Please refer to NPF for relevant National Outcomes and Indicators.\",IF(BP75=3,\"Please refer to NPF for relevant National Outcomes and Indicators.\",\"Please refer to NPF for relevant National Outcomes and Indicators.\"))))","v":"Please refer to NPF for relevant National Outcomes and Indicators."},{"$f":"Scope!BR31","v":"0"},{"$f":"IF(BR75=0,\"Please refer to NPF for relevant National Outcomes and Indicators.\",IF(BR75=1,\"Please refer to NPF for relevant National Outcomes and Indicators.\", IF(BR75=2,\"Please refer to NPF for relevant National Outcomes and Indicators.\",IF(BR75=3,\"Please refer to NPF for relevant National Outcomes and Indicators.\",\"Please refer to NPF for relevant National Outcomes and Indicators.\"))))","v":"Please refer to NPF for relevant National Outcomes and Indicators."},{"$f":"Scope!BT31","v":"0"},{"$f":"IF(BT75=0,\"Please refer to NPF for relevant National Outcomes and Indicators.\",IF(BT75=1,\"Please refer to NPF for relevant National Outcomes and Indicators.\", IF(BT75=2,\"Please refer to NPF for relevant National Outcomes and Indicators.\",IF(BT75=3,\"Please refer to NPF for relevant National Outcomes and Indicators.\",\"Please refer to NPF for relevant National Outcomes and Indicators.\"))))","v":"Please refer to NPF for relevant National Outcomes and Indicators."},{"$f":"Scope!BV31","v":"0"},{"$f":"IF(BV75=0,\"Please refer to NPF for relevant National Outcomes and Indicators.\",IF(BV75=1,\"Please refer to NPF for relevant National Outcomes and Indicators.\", IF(BV75=2,\"Please refer to NPF for relevant National Outcomes and Indicators.\",IF(BV75=3,\"Please refer to NPF for relevant National Outcomes and Indicators.\",\"Please refer to NPF for relevant National Outcomes and Indicators.\"))))","v":"Please refer to NPF for relevant National Outcomes and Indicators."},{"$f":"Scope!BX31","v":"0"},{"$f":"IF(BX75=0,\"Please refer to NPF for relevant National Outcomes and Indicators.\",IF(BX75=1,\"Please refer to NPF for relevant National Outcomes and Indicators.\", IF(BX75=2,\"Please refer to NPF for relevant National Outcomes and Indicators.\",IF(BX75=3,\"Please refer to NPF for relevant National Outcomes and Indicators.\",\"Please refer to NPF for relevant National Outcomes and Indicators.\"))))","v":"Please refer to NPF for relevant National Outcomes and Indicators."},{"$f":"Scope!BZ31","v":"0"},{"$f":"IF(BZ75=0,\"Please refer to NPF for relevant National Outcomes and Indicators.\",IF(BZ75=1,\"Please refer to NPF for relevant National Outcomes and Indicators.\", IF(BZ75=2,\"Please refer to NPF for relevant National Outcomes and Indicators.\",IF(BZ75=3,\"Please refer to NPF for relevant National Outcomes and Indicators.\",\"Please refer to NPF for relevant National Outcomes and Indicators.\"))))","v":"Please refer to NPF for relevant National Outcomes and Indicators."},{"$f":"Scope!CB31","v":"0"},{"$f":"IF(CB75=0,\"Please refer to NPF for relevant National Outcomes and Indicators.\",IF(CB75=1,\"Please refer to NPF for relevant National Outcomes and Indicators.\", IF(CB75=2,\"Please refer to NPF for relevant National Outcomes and Indicators.\",IF(CB75=3,\"Please refer to NPF for relevant National Outcomes and Indicators.\",\"Please refer to NPF for relevant National Outcomes and Indicators.\"))))","v":"Please refer to NPF for relevant National Outcomes and Indicators."},{"$f":"Scope!CD31","v":"0"},{"$f":"IF(CD75=0,\"Please refer to NPF for relevant National Outcomes and Indicators.\",IF(CD75=1,\"Please refer to NPF for relevant National Outcomes and Indicators.\", IF(CD75=2,\"Please refer to NPF for relevant National Outcomes and Indicators.\",IF(CD75=3,\"Please refer to NPF for relevant National Outcomes and Indicators.\",\"Please refer to NPF for relevant National Outcomes and Indicators.\"))))","v":"Please refer to NPF for relevant National Outcomes and Indicators."},null,{"$f":"IssuesInput!F10","v":"http://www.ed.ac.uk/human-resources/policies-guidance/a-to-z-policies"},null,null,{"$f":"Scope!CJ31","v":"0"},{"$f":"IF(CJ75=0,\"Please refer to NPF for relevant National Outcomes and Indicators.\",IF(CJ75=1,\"Please refer to NPF for relevant National Outcomes and Indicators.\", IF(CJ75=2,\"Please refer to NPF for relevant National Outcomes and Indicators.\",IF(CJ75=3,\"Please refer to NPF for relevant National Outcomes and Indicators.\",\"Please refer to NPF for relevant National Outcomes and Indicators.\"))))","v":"Please refer to NPF for relevant National Outcomes and Indicators."}]
[null,null,"",{"$f":"Scope!D32","v":"0"},{"$f":"IF(D76=0,\"Please refer to NPF for relevant National Outcomes and Indicators.\",IF(D76=1,\"Please refer to NPF for relevant National Outcomes and Indicators.\", IF(D76=2,\"Please refer to NPF for relevant National Outcomes and Indicators.\",IF(D76=3,\"Please refer to NPF for relevant National Outcomes and Indicators.\",\"Please refer to NPF for relevant National Outcomes and Indicators.\"))))","v":"Please refer to NPF for relevant National Outcomes and Indicators."},{"$f":"Scope!F32","v":"0"},{"$f":"IF(F76=0,\"Please refer to NPF for relevant National Outcomes and Indicators.\",IF(F76=1,\"Please refer to NPF for relevant National Outcomes and Indicators.\", IF(F76=2,\"Please refer to NPF for relevant National Outcomes and Indicators.\",IF(F76=3,\"Please refer to NPF for relevant National Outcomes and Indicators.\",\"Please refer to NPF for relevant National Outcomes and Indicators.\"))))","v":"Please refer to NPF for relevant National Outcomes and Indicators."},{"$f":"Scope!H32","v":"0"},{"$f":"IF(H76=0,\"Please refer to NPF for relevant National Outcomes and Indicators.\",IF(H76=1,\"Please refer to NPF for relevant National Outcomes and Indicators.\", IF(H76=2,\"Please refer to NPF for relevant National Outcomes and Indicators.\",IF(H76=3,\"Please refer to NPF for relevant National Outcomes and Indicators.\",\"Please refer to NPF for relevant National Outcomes and Indicators.\"))))","v":"Please refer to NPF for relevant National Outcomes and Indicators."},{"$f":"Scope!J32","v":"0"},{"$f":"IF(J76=0,\"Please refer to NPF for relevant National Outcomes and Indicators.\",IF(J76=1,\"Please refer to NPF for relevant National Outcomes and Indicators.\", IF(J76=2,\"Please refer to NPF for relevant National Outcomes and Indicators.\",IF(J76=3,\"Please refer to NPF for relevant National Outcomes and Indicators.\",\"Please refer to NPF for relevant National Outcomes and Indicators.\"))))","v":"Please refer to NPF for relevant National Outcomes and Indicators."},{"$f":"Scope!L32","v":"0"},{"$f":"IF(L76=0,\"Please refer to NPF for relevant National Outcomes and Indicators.\",IF(L76=1,\"Please refer to NPF for relevant National Outcomes and Indicators.\", IF(L76=2,\"Please refer to NPF for relevant National Outcomes and Indicators.\",IF(L76=3,\"Please refer to NPF for relevant National Outcomes and Indicators.\",\"Please refer to NPF for relevant National Outcomes and Indicators.\"))))","v":"Please refer to NPF for relevant National Outcomes and Indicators."},{"$f":"Scope!N32","v":"0"},{"$f":"IF(N76=0,\"Please refer to NPF for relevant National Outcomes and Indicators.\",IF(N76=1,\"Please refer to NPF for relevant National Outcomes and Indicators.\", IF(N76=2,\"Please refer to NPF for relevant National Outcomes and Indicators.\",IF(N76=3,\"Please refer to NPF for relevant National Outcomes and Indicators.\",\"Please refer to NPF for relevant National Outcomes and Indicators.\"))))","v":"Please refer to NPF for relevant National Outcomes and Indicators."},{"$f":"Scope!P32","v":"0"},{"$f":"IF(P76=0,\"Please refer to NPF for relevant National Outcomes and Indicators.\",IF(P76=1,\"Please refer to NPF for relevant National Outcomes and Indicators.\", IF(P76=2,\"Please refer to NPF for relevant National Outcomes and Indicators.\",IF(P76=3,\"Please refer to NPF for relevant National Outcomes and Indicators.\",\"Please refer to NPF for relevant National Outcomes and Indicators.\"))))","v":"Please refer to NPF for relevant National Outcomes and Indicators."},{"$f":"Scope!R32","v":"0"},{"$f":"IF(R76=0,\"Please refer to NPF for relevant National Outcomes and Indicators.\",IF(R76=1,\"Please refer to NPF for relevant National Outcomes and Indicators.\", IF(R76=2,\"Please refer to NPF for relevant National Outcomes and Indicators.\",IF(R76=3,\"Please refer to NPF for relevant National Outcomes and Indicators.\",\"Please refer to NPF for relevant National Outcomes and Indicators.\"))))","v":"Please refer to NPF for relevant National Outcomes and Indicators."},{"$f":"Scope!T32","v":"0"},{"$f":"IF(T76=0,\"Please refer to NPF for relevant National Outcomes and Indicators.\",IF(T76=1,\"Please refer to NPF for relevant National Outcomes and Indicators.\", IF(T76=2,\"Please refer to NPF for relevant National Outcomes and Indicators.\",IF(T76=3,\"Please refer to NPF for relevant National Outcomes and Indicators.\",\"Please refer to NPF for relevant National Outcomes and Indicators.\"))))","v":"Please refer to NPF for relevant National Outcomes and Indicators."},{"$f":"Scope!V32","v":"0"},{"$f":"IF(V76=0,\"Please refer to NPF for relevant National Outcomes and Indicators.\",IF(V76=1,\"Please refer to NPF for relevant National Outcomes and Indicators.\", IF(V76=2,\"Please refer to NPF for relevant National Outcomes and Indicators.\",IF(V76=3,\"Please refer to NPF for relevant National Outcomes and Indicators.\",\"Please refer to NPF for relevant National Outcomes and Indicators.\"))))","v":"Please refer to NPF for relevant National Outcomes and Indicators."},{"$f":"Scope!X32","v":"0"},{"$f":"IF(X76=0,\"Please refer to NPF for relevant National Outcomes and Indicators.\",IF(X76=1,\"Please refer to NPF for relevant National Outcomes and Indicators.\", IF(X76=2,\"Please refer to NPF for relevant National Outcomes and Indicators.\",IF(X76=3,\"Please refer to NPF for relevant National Outcomes and Indicators.\",\"Please refer to NPF for relevant National Outcomes and Indicators.\"))))","v":"Please refer to NPF for relevant National Outcomes and Indicators."},{"$f":"Scope!Z32","v":"0"},{"$f":"IF(Z76=0,\"Please refer to NPF for relevant National Outcomes and Indicators.\",IF(Z76=1,\"Please refer to NPF for relevant National Outcomes and Indicators.\", IF(Z76=2,\"Please refer to NPF for relevant National Outcomes and Indicators.\",IF(Z76=3,\"Please refer to NPF for relevant National Outcomes and Indicators.\",\"Please refer to NPF for relevant National Outcomes and Indicators.\"))))","v":"Please refer to NPF for relevant National Outcomes and Indicators."},{"$f":"Scope!AB32","v":"0"},{"$f":"IF(AB76=0,\"Please refer to NPF for relevant National Outcomes and Indicators.\",IF(AB76=1,\"Please refer to NPF for relevant National Outcomes and Indicators.\", IF(AB76=2,\"Please refer to NPF for relevant National Outcomes and Indicators.\",IF(AB76=3,\"Please refer to NPF for relevant National Outcomes and Indicators.\",\"Please refer to NPF for relevant National Outcomes and Indicators.\"))))","v":"Please refer to NPF for relevant National Outcomes and Indicators."},{"$f":"Scope!AD32","v":"0"},{"$f":"IF(AD76=0,\"Please refer to NPF for relevant National Outcomes and Indicators.\",IF(AD76=1,\"Please refer to NPF for relevant National Outcomes and Indicators.\", IF(AD76=2,\"Please refer to NPF for relevant National Outcomes and Indicators.\",IF(AD76=3,\"Please refer to NPF for relevant National Outcomes and Indicators.\",\"Please refer to NPF for relevant National Outcomes and Indicators.\"))))","v":"Please refer to NPF for relevant National Outcomes and Indicators."},{"$f":"Scope!AF32","v":"0"},{"$f":"IF(AF76=0,\"Please refer to NPF for relevant National Outcomes and Indicators.\",IF(AF76=1,\"Please refer to NPF for relevant National Outcomes and Indicators.\", IF(AF76=2,\"Please refer to NPF for relevant National Outcomes and Indicators.\",IF(AF76=3,\"Please refer to NPF for relevant National Outcomes and Indicators.\",\"Please refer to NPF for relevant National Outcomes and Indicators.\"))))","v":"Please refer to NPF for relevant National Outcomes and Indicators."},{"$f":"Scope!AH32","v":"0"},{"$f":"IF(AH76=0,\"Please refer to NPF for relevant National Outcomes and Indicators.\",IF(AH76=1,\"Please refer to NPF for relevant National Outcomes and Indicators.\", IF(AH76=2,\"Please refer to NPF for relevant National Outcomes and Indicators.\",IF(AH76=3,\"Please refer to NPF for relevant National Outcomes and Indicators.\",\"Please refer to NPF for relevant National Outcomes and Indicators.\"))))","v":"Please refer to NPF for relevant National Outcomes and Indicators."},{"$f":"Scope!AJ32","v":"0"},{"$f":"IF(AJ76=0,\"Please refer to NPF for relevant National Outcomes and Indicators.\",IF(AJ76=1,\"Please refer to NPF for relevant National Outcomes and Indicators.\", IF(AJ76=2,\"Please refer to NPF for relevant National Outcomes and Indicators.\",IF(AJ76=3,\"Please refer to NPF for relevant National Outcomes and Indicators.\",\"Please refer to NPF for relevant National Outcomes and Indicators.\"))))","v":"Please refer to NPF for relevant National Outcomes and Indicators."},{"$f":"Scope!AL32","v":"0"},{"$f":"IF(AL76=0,\"Please refer to NPF for relevant National Outcomes and Indicators.\",IF(AL76=1,\"Please refer to NPF for relevant National Outcomes and Indicators.\", IF(AL76=2,\"Please refer to NPF for relevant National Outcomes and Indicators.\",IF(AL76=3,\"Please refer to NPF for relevant National Outcomes and Indicators.\",\"Please refer to NPF for relevant National Outcomes and Indicators.\"))))","v":"Please refer to NPF for relevant National Outcomes and Indicators."},{"$f":"Scope!AN32","v":"0"},{"$f":"IF(AN76=0,\"Please refer to NPF for relevant National Outcomes and Indicators.\",IF(AN76=1,\"Please refer to NPF for relevant National Outcomes and Indicators.\", IF(AN76=2,\"Please refer to NPF for relevant National Outcomes and Indicators.\",IF(AN76=3,\"Please refer to NPF for relevant National Outcomes and Indicators.\",\"Please refer to NPF for relevant National Outcomes and Indicators.\"))))","v":"Please refer to NPF for relevant National Outcomes and Indicators."},{"$f":"Scope!AP32","v":"0"},{"$f":"IF(AP76=0,\"Please refer to NPF for relevant National Outcomes and Indicators.\",IF(AP76=1,\"Please refer to NPF for relevant National Outcomes and Indicators.\", IF(AP76=2,\"Please refer to NPF for relevant National Outcomes and Indicators.\",IF(AP76=3,\"Please refer to NPF for relevant National Outcomes and Indicators.\",\"Please refer to NPF for relevant National Outcomes and Indicators.\"))))","v":"Please refer to NPF for relevant National Outcomes and Indicators."},{"$f":"Scope!AR32","v":"0"},{"$f":"IF(AR76=0,\"Please refer to NPF for relevant National Outcomes and Indicators.\",IF(AR76=1,\"Please refer to NPF for relevant National Outcomes and Indicators.\", IF(AR76=2,\"Please refer to NPF for relevant National Outcomes and Indicators.\",IF(AR76=3,\"Please refer to NPF for relevant National Outcomes and Indicators.\",\"Please refer to NPF for relevant National Outcomes and Indicators.\"))))","v":"Please refer to NPF for relevant National Outcomes and Indicators."},{"$f":"Scope!AT32","v":"0"},{"$f":"IF(AT76=0,\"Please refer to NPF for relevant National Outcomes and Indicators.\",IF(AT76=1,\"Please refer to NPF for relevant National Outcomes and Indicators.\", IF(AT76=2,\"Please refer to NPF for relevant National Outcomes and Indicators.\",IF(AT76=3,\"Please refer to NPF for relevant National Outcomes and Indicators.\",\"Please refer to NPF for relevant National Outcomes and Indicators.\"))))","v":"Please refer to NPF for relevant National Outcomes and Indicators."},{"$f":"Scope!AV32","v":"0"},{"$f":"IF(AV76=0,\"Please refer to NPF for relevant National Outcomes and Indicators.\",IF(AV76=1,\"Please refer to NPF for relevant National Outcomes and Indicators.\", IF(AV76=2,\"Please refer to NPF for relevant National Outcomes and Indicators.\",IF(AV76=3,\"Please refer to NPF for relevant National Outcomes and Indicators.\",\"Please refer to NPF for relevant National Outcomes and Indicators.\"))))","v":"Please refer to NPF for relevant National Outcomes and Indicators."},{"$f":"Scope!AX32","v":"0"},{"$f":"IF(AX76=0,\"Please refer to NPF for relevant National Outcomes and Indicators.\",IF(AX76=1,\"Please refer to NPF for relevant National Outcomes and Indicators.\", IF(AX76=2,\"Please refer to NPF for relevant National Outcomes and Indicators.\",IF(AX76=3,\"Please refer to NPF for relevant National Outcomes and Indicators.\",\"Please refer to NPF for relevant National Outcomes and Indicators.\"))))","v":"Please refer to NPF for relevant National Outcomes and Indicators."},{"$f":"Scope!AZ32","v":"0"},{"$f":"IF(AZ76=0,\"Please refer to NPF for relevant National Outcomes and Indicators.\",IF(AZ76=1,\"Please refer to NPF for relevant National Outcomes and Indicators.\", IF(AZ76=2,\"Please refer to NPF for relevant National Outcomes and Indicators.\",IF(AZ76=3,\"Please refer to NPF for relevant National Outcomes and Indicators.\",\"Please refer to NPF for relevant National Outcomes and Indicators.\"))))","v":"Please refer to NPF for relevant National Outcomes and Indicators."},{"$f":"Scope!BB32","v":"0"},{"$f":"IF(BB76=0,\"Please refer to NPF for relevant National Outcomes and Indicators.\",IF(BB76=1,\"Please refer to NPF for relevant National Outcomes and Indicators.\", IF(BB76=2,\"Please refer to NPF for relevant National Outcomes and Indicators.\",IF(BB76=3,\"Please refer to NPF for relevant National Outcomes and Indicators.\",\"Please refer to NPF for relevant National Outcomes and Indicators.\"))))","v":"Please refer to NPF for relevant National Outcomes and Indicators."},{"$f":"Scope!BD32","v":"0"},{"$f":"IF(BD76=0,\"Please refer to NPF for relevant National Outcomes and Indicators.\",IF(BD76=1,\"Please refer to NPF for relevant National Outcomes and Indicators.\", IF(BD76=2,\"Please refer to NPF for relevant National Outcomes and Indicators.\",IF(BD76=3,\"Please refer to NPF for relevant National Outcomes and Indicators.\",\"Please refer to NPF for relevant National Outcomes and Indicators.\"))))","v":"Please refer to NPF for relevant National Outcomes and Indicators."},{"$f":"Scope!BF32","v":"0"},{"$f":"IF(BF76=0,\"Please refer to NPF for relevant National Outcomes and Indicators.\",IF(BF76=1,\"Please refer to NPF for relevant National Outcomes and Indicators.\", IF(BF76=2,\"Please refer to NPF for relevant National Outcomes and Indicators.\",IF(BF76=3,\"Please refer to NPF for relevant National Outcomes and Indicators.\",\"Please refer to NPF for relevant National Outcomes and Indicators.\"))))","v":"Please refer to NPF for relevant National Outcomes and Indicators."},{"$f":"Scope!BH32","v":"0"},{"$f":"IF(BH76=0,\"Please refer to NPF for relevant National Outcomes and Indicators.\",IF(BH76=1,\"Please refer to NPF for relevant National Outcomes and Indicators.\", IF(BH76=2,\"Please refer to NPF for relevant National Outcomes and Indicators.\",IF(BH76=3,\"Please refer to NPF for relevant National Outcomes and Indicators.\",\"Please refer to NPF for relevant National Outcomes and Indicators.\"))))","v":"Please refer to NPF for relevant National Outcomes and Indicators."},{"$f":"Scope!BJ32","v":"0"},{"$f":"IF(BJ76=0,\"Please refer to NPF for relevant National Outcomes and Indicators.\",IF(BJ76=1,\"Please refer to NPF for relevant National Outcomes and Indicators.\", IF(BJ76=2,\"Please refer to NPF for relevant National Outcomes and Indicators.\",IF(BJ76=3,\"Please refer to NPF for relevant National Outcomes and Indicators.\",\"Please refer to NPF for relevant National Outcomes and Indicators.\"))))","v":"Please refer to NPF for relevant National Outcomes and Indicators."},{"$f":"Scope!BL32","v":"0"},{"$f":"IF(BL76=0,\"Please refer to NPF for relevant National Outcomes and Indicators.\",IF(BL76=1,\"Please refer to NPF for relevant National Outcomes and Indicators.\", IF(BL76=2,\"Please refer to NPF for relevant National Outcomes and Indicators.\",IF(BL76=3,\"Please refer to NPF for relevant National Outcomes and Indicators.\",\"Please refer to NPF for relevant National Outcomes and Indicators.\"))))","v":"Please refer to NPF for relevant National Outcomes and Indicators."},{"$f":"Scope!BN32","v":"0"},"Please refer to NPF for relevant National Outcomes and Indicators.",{"$f":"Scope!BP32","v":"0"},"Please refer to NPF for relevant National Outcomes and Indicators.",{"$f":"Scope!BR32","v":"0"},"Please refer to NPF for relevant National Outcomes and Indicators.",{"$f":"Scope!BT32","v":"0"},"Please refer to NPF for relevant National Outcomes and Indicators.",{"$f":"Scope!BV32","v":"0"},"Please refer to NPF for relevant National Outcomes and Indicators.",{"$f":"Scope!BX32","v":"0"},"Please refer to NPF for relevant National Outcomes and Indicators.",{"$f":"Scope!BZ32","v":"0"},"Please refer to NPF for relevant National Outcomes and Indicators.",{"$f":"Scope!CB32","v":"0"},"Please refer to NPF for relevant National Outcomes and Indicators.",{"$f":"Scope!CD32","v":"0"},"Please refer to NPF for relevant National Outcomes and Indicators.",null,null,null,null,{"$f":"Scope!CJ32","v":"0"},"Please refer to NPF for relevant National Outcomes and Indicators."]
[null,null,"",{"$f":"Scope!D33","v":"0"},"Please refer to NPF for relevant National Outcomes and Indicators.",{"$f":"Scope!F33","v":"0"},"Please refer to NPF for relevant National Outcomes and Indicators.",{"$f":"Scope!H33","v":"0"},"Please refer to NPF for relevant National Outcomes and Indicators.",{"$f":"Scope!J33","v":"0"},"Please refer to NPF for relevant National Outcomes and Indicators.",{"$f":"Scope!L33","v":"0"},"Please refer to NPF for relevant National Outcomes and Indicators.",{"$f":"Scope!N33","v":"0"},"Please refer to NPF for relevant National Outcomes and Indicators.",{"$f":"Scope!P33","v":"0"},"Please refer to NPF for relevant National Outcomes and Indicators.",{"$f":"Scope!R33","v":"0"},"Please refer to NPF for relevant National Outcomes and Indicators.",{"$f":"Scope!T33","v":"0"},"Please refer to NPF for relevant National Outcomes and Indicators.",{"$f":"Scope!V33","v":"0"},"Please refer to NPF for relevant National Outcomes and Indicators.",{"$f":"Scope!X33","v":"0"},"Please refer to NPF for relevant National Outcomes and Indicators.",{"$f":"Scope!Z33","v":"0"},"Please refer to NPF for relevant National Outcomes and Indicators.",{"$f":"Scope!AB33","v":"0"},"Please refer to NPF for relevant National Outcomes and Indicators.",{"$f":"Scope!AD33","v":"0"},"Please refer to NPF for relevant National Outcomes and Indicators.",{"$f":"Scope!AF33","v":"0"},"Please refer to NPF for relevant National Outcomes and Indicators.",{"$f":"Scope!AH33","v":"0"},"Please refer to NPF for relevant National Outcomes and Indicators.",{"$f":"Scope!AJ33","v":"0"},"Please refer to NPF for relevant National Outcomes and Indicators.",{"$f":"Scope!AL33","v":"0"},"Please refer to NPF for relevant National Outcomes and Indicators.",{"$f":"Scope!AN33","v":"0"},"Please refer to NPF for relevant National Outcomes and Indicators.",{"$f":"Scope!AP33","v":"0"},"Please refer to NPF for relevant National Outcomes and Indicators.",{"$f":"Scope!AR33","v":"0"},"Please refer to NPF for relevant National Outcomes and Indicators.",{"$f":"Scope!AT33","v":"0"},"Please refer to NPF for relevant National Outcomes and Indicators.",{"$f":"Scope!AV33","v":"0"},"Please refer to NPF for relevant National Outcomes and Indicators.",{"$f":"Scope!AX33","v":"0"},"Please refer to NPF for relevant National Outcomes and Indicators.",{"$f":"Scope!AZ33","v":"0"},"Please refer to NPF for relevant National Outcomes and Indicators.",{"$f":"Scope!BB33","v":"0"},"Please refer to NPF for relevant National Outcomes and Indicators.",{"$f":"Scope!BD33","v":"0"},"Please refer to NPF for relevant National Outcomes and Indicators.",{"$f":"Scope!BF33","v":"0"},"Please refer to NPF for relevant National Outcomes and Indicators.",{"$f":"Scope!BH33","v":"0"},"Please refer to NPF for relevant National Outcomes and Indicators.",{"$f":"Scope!BJ33","v":"0"},"Please refer to NPF for relevant National Outcomes and Indicators.",{"$f":"Scope!BL33","v":"0"},"Please refer to NPF for relevant National Outcomes and Indicators.",{"$f":"Scope!BN33","v":"0"},"Please refer to NPF for relevant National Outcomes and Indicators.",{"$f":"Scope!BP33","v":"0"},"Please refer to NPF for relevant National Outcomes and Indicators.",{"$f":"Scope!BR33","v":"0"},"Please refer to NPF for relevant National Outcomes and Indicators.",{"$f":"Scope!BT33","v":"0"},"Please refer to NPF for relevant National Outcomes and Indicators.",{"$f":"Scope!BV33","v":"0"},"Please refer to NPF for relevant National Outcomes and Indicators.",{"$f":"Scope!BX33","v":"0"},"Please refer to NPF for relevant National Outcomes and Indicators.",{"$f":"Scope!BZ33","v":"0"},"Please refer to NPF for relevant National Outcomes and Indicators.",{"$f":"Scope!CB33","v":"0"},"Please refer to NPF for relevant National Outcomes and Indicators.",{"$f":"Scope!CD33","v":"0"},"Please refer to NPF for relevant National Outcomes and Indicators.",null,null,null,null,{"$f":"Scope!CJ33","v":"0"},"Please refer to NPF for relevant National Outcomes and Indicators."]
[null,null,"",{"$f":"Scope!D34","v":"0"},"Please refer to NPF for relevant National Outcomes and Indicators.",{"$f":"Scope!F34","v":"0"},"Please refer to NPF for relevant National Outcomes and Indicators.",{"$f":"Scope!H34","v":"0"},"Please refer to NPF for relevant National Outcomes and Indicators.",{"$f":"Scope!J34","v":"0"},"Please refer to NPF for relevant National Outcomes and Indicators.",{"$f":"Scope!L34","v":"0"},"Please refer to NPF for relevant National Outcomes and Indicators.",{"$f":"Scope!N34","v":"0"},"Please refer to NPF for relevant National Outcomes and Indicators.",{"$f":"Scope!P34","v":"0"},"Please refer to NPF for relevant National Outcomes and Indicators.",{"$f":"Scope!R34","v":"0"},"Please refer to NPF for relevant National Outcomes and Indicators.",{"$f":"Scope!T34","v":"0"},"Please refer to NPF for relevant National Outcomes and Indicators.",{"$f":"Scope!V34","v":"0"},"Please refer to NPF for relevant National Outcomes and Indicators.",{"$f":"Scope!X34","v":"0"},"Please refer to NPF for relevant National Outcomes and Indicators.",{"$f":"Scope!Z34","v":"0"},"Please refer to NPF for relevant National Outcomes and Indicators.",{"$f":"Scope!AB34","v":"0"},"Please refer to NPF for relevant National Outcomes and Indicators.",{"$f":"Scope!AD34","v":"0"},"Please refer to NPF for relevant National Outcomes and Indicators.",{"$f":"Scope!AF34","v":"0"},"Please refer to NPF for relevant National Outcomes and Indicators.",{"$f":"Scope!AH34","v":"0"},"Please refer to NPF for relevant National Outcomes and Indicators.",{"$f":"Scope!AJ34","v":"0"},"Please refer to NPF for relevant National Outcomes and Indicators.",{"$f":"Scope!AL34","v":"0"},"Please refer to NPF for relevant National Outcomes and Indicators.",{"$f":"Scope!AN34","v":"0"},"Please refer to NPF for relevant National Outcomes and Indicators.",{"$f":"Scope!AP34","v":"0"},"Please refer to NPF for relevant National Outcomes and Indicators.",{"$f":"Scope!AR34","v":"0"},"Please refer to NPF for relevant National Outcomes and Indicators.",{"$f":"Scope!AT34","v":"0"},"Please refer to NPF for relevant National Outcomes and Indicators.",{"$f":"Scope!AV34","v":"0"},"Please refer to NPF for relevant National Outcomes and Indicators.",{"$f":"Scope!AX34","v":"0"},"Please refer to NPF for relevant National Outcomes and Indicators.",{"$f":"Scope!AZ34","v":"0"},"Please refer to NPF for relevant National Outcomes and Indicators.",{"$f":"Scope!BB34","v":"0"},"Please refer to NPF for relevant National Outcomes and Indicators.",{"$f":"Scope!BD34","v":"0"},"Please refer to NPF for relevant National Outcomes and Indicators.",{"$f":"Scope!BF34","v":"0"},"Please refer to NPF for relevant National Outcomes and Indicators.",{"$f":"Scope!BH34","v":"0"},"Please refer to NPF for relevant National Outcomes and Indicators.",{"$f":"Scope!BJ34","v":"0"},"Please refer to NPF for relevant National Outcomes and Indicators.",{"$f":"Scope!BL34","v":"0"},"Please refer to NPF for relevant National Outcomes and Indicators.",{"$f":"Scope!BN34","v":"0"},"Please refer to NPF for relevant National Outcomes and Indicators.",{"$f":"Scope!BP34","v":"0"},"Please refer to NPF for relevant National Outcomes and Indicators.",{"$f":"Scope!BR34","v":"0"},"Please refer to NPF for relevant National Outcomes and Indicators.",{"$f":"Scope!BT34","v":"0"},"Please refer to NPF for relevant National Outcomes and Indicators.",{"$f":"Scope!BV34","v":"0"},"Please refer to NPF for relevant National Outcomes and Indicators.",{"$f":"Scope!BX34","v":"0"},"Please refer to NPF for relevant National Outcomes and Indicators.",{"$f":"Scope!BZ34","v":"0"},"Please refer to NPF for relevant National Outcomes and Indicators.",{"$f":"Scope!CB34","v":"0"},"Please refer to NPF for relevant National Outcomes and Indicators.",{"$f":"Scope!CD34","v":"0"},"Please refer to NPF for relevant National Outcomes and Indicators.",null,null,null,null,{"$f":"Scope!CJ34","v":"0"},"Please refer to NPF for relevant National Outcomes and Indicators."]
[null,null,"",{"$f":"Scope!D35","v":"0"},"Please refer to NPF for relevant National Outcomes and Indicators.",{"$f":"Scope!F35","v":"0"},"Please refer to NPF for relevant National Outcomes and Indicators.",{"$f":"Scope!H35","v":"0"},"Please refer to NPF for relevant National Outcomes and Indicators.",{"$f":"Scope!J35","v":"0"},"Please refer to NPF for relevant National Outcomes and Indicators.",{"$f":"Scope!L35","v":"0"},"Please refer to NPF for relevant National Outcomes and Indicators.",{"$f":"Scope!N35","v":"0"},"Please refer to NPF for relevant National Outcomes and Indicators.",{"$f":"Scope!P35","v":"0"},"Please refer to NPF for relevant National Outcomes and Indicators.",{"$f":"Scope!R35","v":"0"},"Please refer to NPF for relevant National Outcomes and Indicators.",{"$f":"Scope!T35","v":"0"},"Please refer to NPF for relevant National Outcomes and Indicators.",{"$f":"Scope!V35","v":"0"},"Please refer to NPF for relevant National Outcomes and Indicators.",{"$f":"Scope!X35","v":"0"},"Please refer to NPF for relevant National Outcomes and Indicators.",{"$f":"Scope!Z35","v":"0"},"Please refer to NPF for relevant National Outcomes and Indicators.",{"$f":"Scope!AB35","v":"0"},"Please refer to NPF for relevant National Outcomes and Indicators.",{"$f":"Scope!AD35","v":"0"},"Please refer to NPF for relevant National Outcomes and Indicators.",{"$f":"Scope!AF35","v":"0"},"Please refer to NPF for relevant National Outcomes and Indicators.",{"$f":"Scope!AH35","v":"0"},"Please refer to NPF for relevant National Outcomes and Indicators.",{"$f":"Scope!AJ35","v":"0"},"Please refer to NPF for relevant National Outcomes and Indicators.",{"$f":"Scope!AL35","v":"0"},"Please refer to NPF for relevant National Outcomes and Indicators.",{"$f":"Scope!AN35","v":"0"},"Please refer to NPF for relevant National Outcomes and Indicators.",{"$f":"Scope!AP35","v":"0"},"Please refer to NPF for relevant National Outcomes and Indicators.",{"$f":"Scope!AR35","v":"0"},"Please refer to NPF for relevant National Outcomes and Indicators.",{"$f":"Scope!AT35","v":"0"},"Please refer to NPF for relevant National Outcomes and Indicators.",{"$f":"Scope!AV35","v":"0"},"Please refer to NPF for relevant National Outcomes and Indicators.",{"$f":"Scope!AX35","v":"0"},"Please refer to NPF for relevant National Outcomes and Indicators.",{"$f":"Scope!AZ35","v":"0"},"Please refer to NPF for relevant National Outcomes and Indicators.",{"$f":"Scope!BB35","v":"0"},"Please refer to NPF for relevant National Outcomes and Indicators.",{"$f":"Scope!BD35","v":"0"},"Please refer to NPF for relevant National Outcomes and Indicators.",{"$f":"Scope!BF35","v":"0"},"Please refer to NPF for relevant National Outcomes and Indicators.",{"$f":"Scope!BH35","v":"0"},"Please refer to NPF for relevant National Outcomes and Indicators.",{"$f":"Scope!BJ35","v":"0"},"Please refer to NPF for relevant National Outcomes and Indicators.",{"$f":"Scope!BL35","v":"0"},"Please refer to NPF for relevant National Outcomes and Indicators.",{"$f":"Scope!BN35","v":"0"},"Please refer to NPF for relevant National Outcomes and Indicators.",{"$f":"Scope!BP35","v":"0"},"Please refer to NPF for relevant National Outcomes and Indicators.",{"$f":"Scope!BR35","v":"0"},"Please refer to NPF for relevant National Outcomes and Indicators.",{"$f":"Scope!BT35","v":"0"},"Please refer to NPF for relevant National Outcomes and Indicators.",{"$f":"Scope!BV35","v":"0"},"Please refer to NPF for relevant National Outcomes and Indicators.",{"$f":"Scope!BX35","v":"0"},"Please refer to NPF for relevant National Outcomes and Indicators.",{"$f":"Scope!BZ35","v":"0"},"Please refer to NPF for relevant National Outcomes and Indicators.",{"$f":"Scope!CB35","v":"0"},"Please refer to NPF for relevant National Outcomes and Indicators.",{"$f":"Scope!CD35","v":"0"},"Please refer to NPF for relevant National Outcomes and Indicators.",null,null,null,null,{"$f":"Scope!CJ35","v":"0"},"Please refer to NPF for relevant National Outcomes and Indicators."]
[null,null,"",{"$f":"Scope!D36","v":"0"},"Please refer to NPF for relevant National Outcomes and Indicators.",{"$f":"Scope!F36","v":"0"},"Please refer to NPF for relevant National Outcomes and Indicators.",{"$f":"Scope!H36","v":"0"},"Please refer to NPF for relevant National Outcomes and Indicators.",{"$f":"Scope!J36","v":"0"},"Please refer to NPF for relevant National Outcomes and Indicators.",{"$f":"Scope!L36","v":"0"},"Please refer to NPF for relevant National Outcomes and Indicators.",{"$f":"Scope!N36","v":"0"},"Please refer to NPF for relevant National Outcomes and Indicators.",{"$f":"Scope!P36","v":"0"},"Please refer to NPF for relevant National Outcomes and Indicators.",{"$f":"Scope!R36","v":"0"},"Please refer to NPF for relevant National Outcomes and Indicators.",{"$f":"Scope!T36","v":"0"},"Please refer to NPF for relevant National Outcomes and Indicators.",{"$f":"Scope!V36","v":"0"},"Please refer to NPF for relevant National Outcomes and Indicators.",{"$f":"Scope!X36","v":"0"},"Please refer to NPF for relevant National Outcomes and Indicators.",{"$f":"Scope!Z36","v":"0"},"Please refer to NPF for relevant National Outcomes and Indicators.",{"$f":"Scope!AB36","v":"0"},"Please refer to NPF for relevant National Outcomes and Indicators.",{"$f":"Scope!AD36","v":"0"},"Please refer to NPF for relevant National Outcomes and Indicators.",{"$f":"Scope!AF36","v":"0"},"Please refer to NPF for relevant National Outcomes and Indicators.",{"$f":"Scope!AH36","v":"0"},"Please refer to NPF for relevant National Outcomes and Indicators.",{"$f":"Scope!AJ36","v":"0"},"Please refer to NPF for relevant National Outcomes and Indicators.",{"$f":"Scope!AL36","v":"0"},"Please refer to NPF for relevant National Outcomes and Indicators.",{"$f":"Scope!AN36","v":"0"},"Please refer to NPF for relevant National Outcomes and Indicators.",{"$f":"Scope!AP36","v":"0"},"Please refer to NPF for relevant National Outcomes and Indicators.",{"$f":"Scope!AR36","v":"0"},"Please refer to NPF for relevant National Outcomes and Indicators.",{"$f":"Scope!AT36","v":"0"},"Please refer to NPF for relevant National Outcomes and Indicators.",{"$f":"Scope!AV36","v":"0"},"Please refer to NPF for relevant National Outcomes and Indicators.",{"$f":"Scope!AX36","v":"0"},"Please refer to NPF for relevant National Outcomes and Indicators.",{"$f":"Scope!AZ36","v":"0"},"Please refer to NPF for relevant National Outcomes and Indicators.",{"$f":"Scope!BB36","v":"0"},"Please refer to NPF for relevant National Outcomes and Indicators.",{"$f":"Scope!BD36","v":"0"},"Please refer to NPF for relevant National Outcomes and Indicators.",{"$f":"Scope!BF36","v":"0"},"Please refer to NPF for relevant National Outcomes and Indicators.",{"$f":"Scope!BH36","v":"0"},"Please refer to NPF for relevant National Outcomes and Indicators.",{"$f":"Scope!BJ36","v":"0"},"Please refer to NPF for relevant National Outcomes and Indicators.",{"$f":"Scope!BL36","v":"0"},"Please refer to NPF for relevant National Outcomes and Indicators.",{"$f":"Scope!BN36","v":"0"},"Please refer to NPF for relevant National Outcomes and Indicators.",{"$f":"Scope!BP36","v":"0"},"Please refer to NPF for relevant National Outcomes and Indicators.",{"$f":"Scope!BR36","v":"0"},"Please refer to NPF for relevant National Outcomes and Indicators.",{"$f":"Scope!BT36","v":"0"},"Please refer to NPF for relevant National Outcomes and Indicators.",{"$f":"Scope!BV36","v":"0"},"Please refer to NPF for relevant National Outcomes and Indicators.",{"$f":"Scope!BX36","v":"0"},"Please refer to NPF for relevant National Outcomes and Indicators.",{"$f":"Scope!BZ36","v":"0"},"Please refer to NPF for relevant National Outcomes and Indicators.",{"$f":"Scope!CB36","v":"0"},"Please refer to NPF for relevant National Outcomes and Indicators.",{"$f":"Scope!CD36","v":"0"},"Please refer to NPF for relevant National Outcomes and Indicators.",null,null,null,null,{"$f":"Scope!CJ36","v":"0"},"Please refer to NPF for relevant National Outcomes and Indicators."]
[null,null,"",{"$f":"Scope!D37","v":"0"},"Please refer to NPF for relevant National Outcomes and Indicators.",{"$f":"Scope!F37","v":"0"},"Please refer to NPF for relevant National Outcomes and Indicators.",{"$f":"Scope!H37","v":"0"},"Please refer to NPF for relevant National Outcomes and Indicators.",{"$f":"Scope!J37","v":"0"},"Please refer to NPF for relevant National Outcomes and Indicators.",{"$f":"Scope!L37","v":"0"},"Please refer to NPF for relevant National Outcomes and Indicators.",{"$f":"Scope!N37","v":"0"},"Please refer to NPF for relevant National Outcomes and Indicators.",{"$f":"Scope!P37","v":"0"},"Please refer to NPF for relevant National Outcomes and Indicators.",{"$f":"Scope!R37","v":"0"},"Please refer to NPF for relevant National Outcomes and Indicators.",{"$f":"Scope!T37","v":"0"},"Please refer to NPF for relevant National Outcomes and Indicators.",{"$f":"Scope!V37","v":"0"},"Please refer to NPF for relevant National Outcomes and Indicators.",{"$f":"Scope!X37","v":"0"},"Please refer to NPF for relevant National Outcomes and Indicators.",{"$f":"Scope!Z37","v":"0"},"Please refer to NPF for relevant National Outcomes and Indicators.",{"$f":"Scope!AB37","v":"0"},"Please refer to NPF for relevant National Outcomes and Indicators.",{"$f":"Scope!AD37","v":"0"},"Please refer to NPF for relevant National Outcomes and Indicators.",{"$f":"Scope!AF37","v":"0"},"Please refer to NPF for relevant National Outcomes and Indicators.",{"$f":"Scope!AH37","v":"0"},"Please refer to NPF for relevant National Outcomes and Indicators.",{"$f":"Scope!AJ37","v":"0"},"Please refer to NPF for relevant National Outcomes and Indicators.",{"$f":"Scope!AL37","v":"0"},"Please refer to NPF for relevant National Outcomes and Indicators.",{"$f":"Scope!AN37","v":"0"},"Please refer to NPF for relevant National Outcomes and Indicators.",{"$f":"Scope!AP37","v":"0"},"Please refer to NPF for relevant National Outcomes and Indicators.",{"$f":"Scope!AR37","v":"0"},"Please refer to NPF for relevant National Outcomes and Indicators.",{"$f":"Scope!AT37","v":"0"},"Please refer to NPF for relevant National Outcomes and Indicators.",{"$f":"Scope!AV37","v":"0"},"Please refer to NPF for relevant National Outcomes and Indicators.",{"$f":"Scope!AX37","v":"0"},"Please refer to NPF for relevant National Outcomes and Indicators.",{"$f":"Scope!AZ37","v":"0"},"Please refer to NPF for relevant National Outcomes and Indicators.",{"$f":"Scope!BB37","v":"0"},"Please refer to NPF for relevant National Outcomes and Indicators.",{"$f":"Scope!BD37","v":"0"},"Please refer to NPF for relevant National Outcomes and Indicators.",{"$f":"Scope!BF37","v":"0"},"Please refer to NPF for relevant National Outcomes and Indicators.",{"$f":"Scope!BH37","v":"0"},"Please refer to NPF for relevant National Outcomes and Indicators.",{"$f":"Scope!BJ37","v":"0"},"Please refer to NPF for relevant National Outcomes and Indicators.",{"$f":"Scope!BL37","v":"0"},"Please refer to NPF for relevant National Outcomes and Indicators.",{"$f":"Scope!BN37","v":"0"},"Please refer to NPF for relevant National Outcomes and Indicators.",{"$f":"Scope!BP37","v":"0"},"Please refer to NPF for relevant National Outcomes and Indicators.",{"$f":"Scope!BR37","v":"0"},"Please refer to NPF for relevant National Outcomes and Indicators.",{"$f":"Scope!BT37","v":"0"},"Please refer to NPF for relevant National Outcomes and Indicators.",{"$f":"Scope!BV37","v":"0"},"Please refer to NPF for relevant National Outcomes and Indicators.",{"$f":"Scope!BX37","v":"0"},"Please refer to NPF for relevant National Outcomes and Indicators.",{"$f":"Scope!BZ37","v":"0"},"Please refer to NPF for relevant National Outcomes and Indicators.",{"$f":"Scope!CB37","v":"0"},"Please refer to NPF for relevant National Outcomes and Indicators.",{"$f":"Scope!CD37","v":"0"},"Please refer to NPF for relevant National Outcomes and Indicators.",null,null,null,null,{"$f":"Scope!CJ37","v":"0"},"Please refer to NPF for relevant National Outcomes and Indicators."]
[null,null,"",{"$f":"Scope!D38","v":"0"},"Please refer to NPF for relevant National Outcomes and Indicators.",{"$f":"Scope!F38","v":"0"},"Please refer to NPF for relevant National Outcomes and Indicators.",{"$f":"Scope!H38","v":"0"},"Please refer to NPF for relevant National Outcomes and Indicators.",{"$f":"Scope!J38","v":"0"},"Please refer to NPF for relevant National Outcomes and Indicators.",{"$f":"Scope!L38","v":"0"},"Please refer to NPF for relevant National Outcomes and Indicators.",{"$f":"Scope!N38","v":"0"},"Please refer to NPF for relevant National Outcomes and Indicators.",{"$f":"Scope!P38","v":"0"},"Please refer to NPF for relevant National Outcomes and Indicators.",{"$f":"Scope!R38","v":"0"},"Please refer to NPF for relevant National Outcomes and Indicators.",{"$f":"Scope!T38","v":"0"},"Please refer to NPF for relevant National Outcomes and Indicators.",{"$f":"Scope!V38","v":"0"},"Please refer to NPF for relevant National Outcomes and Indicators.",{"$f":"Scope!X38","v":"0"},"Please refer to NPF for relevant National Outcomes and Indicators.",{"$f":"Scope!Z38","v":"0"},"Please refer to NPF for relevant National Outcomes and Indicators.",{"$f":"Scope!AB38","v":"0"},"Please refer to NPF for relevant National Outcomes and Indicators.",{"$f":"Scope!AD38","v":"0"},"Please refer to NPF for relevant National Outcomes and Indicators.",{"$f":"Scope!AF38","v":"0"},"Please refer to NPF for relevant National Outcomes and Indicators.",{"$f":"Scope!AH38","v":"0"},"Please refer to NPF for relevant National Outcomes and Indicators.",{"$f":"Scope!AJ38","v":"0"},"Please refer to NPF for relevant National Outcomes and Indicators.",{"$f":"Scope!AL38","v":"0"},"Please refer to NPF for relevant National Outcomes and Indicators.",{"$f":"Scope!AN38","v":"0"},"Please refer to NPF for relevant National Outcomes and Indicators.",{"$f":"Scope!AP38","v":"0"},"Please refer to NPF for relevant National Outcomes and Indicators.",{"$f":"Scope!AR38","v":"0"},"Please refer to NPF for relevant National Outcomes and Indicators.",{"$f":"Scope!AT38","v":"0"},"Please refer to NPF for relevant National Outcomes and Indicators.",{"$f":"Scope!AV38","v":"0"},"Please refer to NPF for relevant National Outcomes and Indicators.",{"$f":"Scope!AX38","v":"0"},"Please refer to NPF for relevant National Outcomes and Indicators.",{"$f":"Scope!AZ38","v":"0"},"Please refer to NPF for relevant National Outcomes and Indicators.",{"$f":"Scope!BB38","v":"0"},"Please refer to NPF for relevant National Outcomes and Indicators.",{"$f":"Scope!BD38","v":"0"},"Please refer to NPF for relevant National Outcomes and Indicators.",{"$f":"Scope!BF38","v":"0"},"Please refer to NPF for relevant National Outcomes and Indicators.",{"$f":"Scope!BH38","v":"0"},"Please refer to NPF for relevant National Outcomes and Indicators.",{"$f":"Scope!BJ38","v":"0"},"Please refer to NPF for relevant National Outcomes and Indicators.",{"$f":"Scope!BL38","v":"0"},"Please refer to NPF for relevant National Outcomes and Indicators.",{"$f":"Scope!BN38","v":"0"},"Please refer to NPF for relevant National Outcomes and Indicators.",{"$f":"Scope!BP38","v":"0"},"Please refer to NPF for relevant National Outcomes and Indicators.",{"$f":"Scope!BR38","v":"0"},"Please refer to NPF for relevant National Outcomes and Indicators.",{"$f":"Scope!BT38","v":"0"},"Please refer to NPF for relevant National Outcomes and Indicators.",{"$f":"Scope!BV38","v":"0"},"Please refer to NPF for relevant National Outcomes and Indicators.",{"$f":"Scope!BX38","v":"0"},"Please refer to NPF for relevant National Outcomes and Indicators.",{"$f":"Scope!BZ38","v":"0"},"Please refer to NPF for relevant National Outcomes and Indicators.",{"$f":"Scope!CB38","v":"0"},"Please refer to NPF for relevant National Outcomes and Indicators.",{"$f":"Scope!CD38","v":"0"},"Please refer to NPF for relevant National Outcomes and Indicators.",null,null,null,null,{"$f":"Scope!CJ38","v":"0"},"Please refer to NPF for relevant National Outcomes and Indicators."]
[null,null,"",{"$f":"Scope!D39","v":"0"},"Please refer to NPF for relevant National Outcomes and Indicators.",{"$f":"Scope!F39","v":"0"},"Please refer to NPF for relevant National Outcomes and Indicators.",{"$f":"Scope!H39","v":"0"},"Please refer to NPF for relevant National Outcomes and Indicators.",{"$f":"Scope!J39","v":"0"},"Please refer to NPF for relevant National Outcomes and Indicators.",{"$f":"Scope!L39","v":"0"},"Please refer to NPF for relevant National Outcomes and Indicators.",{"$f":"Scope!N39","v":"0"},"Please refer to NPF for relevant National Outcomes and Indicators.",{"$f":"Scope!P39","v":"0"},"Please refer to NPF for relevant National Outcomes and Indicators.",{"$f":"Scope!R39","v":"0"},"Please refer to NPF for relevant National Outcomes and Indicators.",{"$f":"Scope!T39","v":"0"},"Please refer to NPF for relevant National Outcomes and Indicators.",{"$f":"Scope!V39","v":"0"},"Please refer to NPF for relevant National Outcomes and Indicators.",{"$f":"Scope!X39","v":"0"},"Please refer to NPF for relevant National Outcomes and Indicators.",{"$f":"Scope!Z39","v":"0"},"Please refer to NPF for relevant National Outcomes and Indicators.",{"$f":"Scope!AB39","v":"0"},"Please refer to NPF for relevant National Outcomes and Indicators.",{"$f":"Scope!AD39","v":"0"},"Please refer to NPF for relevant National Outcomes and Indicators.",{"$f":"Scope!AF39","v":"0"},"Please refer to NPF for relevant National Outcomes and Indicators.",{"$f":"Scope!AH39","v":"0"},"Please refer to NPF for relevant National Outcomes and Indicators.",{"$f":"Scope!AJ39","v":"0"},"Please refer to NPF for relevant National Outcomes and Indicators.",{"$f":"Scope!AL39","v":"0"},"Please refer to NPF for relevant National Outcomes and Indicators.",{"$f":"Scope!AN39","v":"0"},"Please refer to NPF for relevant National Outcomes and Indicators.",{"$f":"Scope!AP39","v":"0"},"Please refer to NPF for relevant National Outcomes and Indicators.",{"$f":"Scope!AR39","v":"0"},"Please refer to NPF for relevant National Outcomes and Indicators.",{"$f":"Scope!AT39","v":"0"},"Please refer to NPF for relevant National Outcomes and Indicators.",{"$f":"Scope!AV39","v":"0"},"Please refer to NPF for relevant National Outcomes and Indicators.",{"$f":"Scope!AX39","v":"0"},"Please refer to NPF for relevant National Outcomes and Indicators.",{"$f":"Scope!AZ39","v":"0"},"Please refer to NPF for relevant National Outcomes and Indicators.",{"$f":"Scope!BB39","v":"0"},"Please refer to NPF for relevant National Outcomes and Indicators.",{"$f":"Scope!BD39","v":"0"},"Please refer to NPF for relevant National Outcomes and Indicators.",{"$f":"Scope!BF39","v":"0"},"Please refer to NPF for relevant National Outcomes and Indicators.",{"$f":"Scope!BH39","v":"0"},"Please refer to NPF for relevant National Outcomes and Indicators.",{"$f":"Scope!BJ39","v":"0"},"Please refer to NPF for relevant National Outcomes and Indicators.",{"$f":"Scope!BL39","v":"0"},"Please refer to NPF for relevant National Outcomes and Indicators.",{"$f":"Scope!BN39","v":"0"},"Please refer to NPF for relevant National Outcomes and Indicators.",{"$f":"Scope!BP39","v":"0"},"Please refer to NPF for relevant National Outcomes and Indicators.",{"$f":"Scope!BR39","v":"0"},"Please refer to NPF for relevant National Outcomes and Indicators.",{"$f":"Scope!BT39","v":"0"},"Please refer to NPF for relevant National Outcomes and Indicators.",{"$f":"Scope!BV39","v":"0"},"Please refer to NPF for relevant National Outcomes and Indicators.",{"$f":"Scope!BX39","v":"0"},"Please refer to NPF for relevant National Outcomes and Indicators.",{"$f":"Scope!BZ39","v":"0"},"Please refer to NPF for relevant National Outcomes and Indicators.",{"$f":"Scope!CB39","v":"0"},"Please refer to NPF for relevant National Outcomes and Indicators.",{"$f":"Scope!CD39","v":"0"},"Please refer to NPF for relevant National Outcomes and Indicators.",null,null,null,null,{"$f":"Scope!CJ39","v":"0"},"Please refer to NPF for relevant National Outcomes and Indicators."]
[null,null,"",{"$f":"Scope!D40","v":"0"},"Please refer to NPF for relevant National Outcomes and Indicators.",{"$f":"Scope!F40","v":"0"},"Please refer to NPF for relevant National Outcomes and Indicators.",{"$f":"Scope!H40","v":"0"},"Please refer to NPF for relevant National Outcomes and Indicators.",{"$f":"Scope!J40","v":"0"},"Please refer to NPF for relevant National Outcomes and Indicators.",{"$f":"Scope!L40","v":"0"},"Please refer to NPF for relevant National Outcomes and Indicators.",{"$f":"Scope!N40","v":"0"},"Please refer to NPF for relevant National Outcomes and Indicators.",{"$f":"Scope!P40","v":"0"},"Please refer to NPF for relevant National Outcomes and Indicators.",{"$f":"Scope!R40","v":"0"},"Please refer to NPF for relevant National Outcomes and Indicators.",{"$f":"Scope!T40","v":"0"},"Please refer to NPF for relevant National Outcomes and Indicators.",{"$f":"Scope!V40","v":"0"},"Please refer to NPF for relevant National Outcomes and Indicators.",{"$f":"Scope!X40","v":"0"},"Please refer to NPF for relevant National Outcomes and Indicators.",{"$f":"Scope!Z40","v":"0"},"Please refer to NPF for relevant National Outcomes and Indicators.",{"$f":"Scope!AB40","v":"0"},"Please refer to NPF for relevant National Outcomes and Indicators.",{"$f":"Scope!AD40","v":"0"},"Please refer to NPF for relevant National Outcomes and Indicators.",{"$f":"Scope!AF40","v":"0"},"Please refer to NPF for relevant National Outcomes and Indicators.",{"$f":"Scope!AH40","v":"0"},"Please refer to NPF for relevant National Outcomes and Indicators.",{"$f":"Scope!AJ40","v":"0"},"Please refer to NPF for relevant National Outcomes and Indicators.",{"$f":"Scope!AL40","v":"0"},"Please refer to NPF for relevant National Outcomes and Indicators.",{"$f":"Scope!AN40","v":"0"},"Please refer to NPF for relevant National Outcomes and Indicators.",{"$f":"Scope!AP40","v":"0"},"Please refer to NPF for relevant National Outcomes and Indicators.",{"$f":"Scope!AR40","v":"0"},"Please refer to NPF for relevant National Outcomes and Indicators.",{"$f":"Scope!AT40","v":"0"},"Please refer to NPF for relevant National Outcomes and Indicators.",{"$f":"Scope!AV40","v":"0"},"Please refer to NPF for relevant National Outcomes and Indicators.",{"$f":"Scope!AX40","v":"0"},"Please refer to NPF for relevant National Outcomes and Indicators.",{"$f":"Scope!AZ40","v":"0"},"Please refer to NPF for relevant National Outcomes and Indicators.",{"$f":"Scope!BB40","v":"0"},"Please refer to NPF for relevant National Outcomes and Indicators.",{"$f":"Scope!BD40","v":"0"},"Please refer to NPF for relevant National Outcomes and Indicators.",{"$f":"Scope!BF40","v":"0"},"Please refer to NPF for relevant National Outcomes and Indicators.",{"$f":"Scope!BH40","v":"0"},"Please refer to NPF for relevant National Outcomes and Indicators.",{"$f":"Scope!BJ40","v":"0"},"Please refer to NPF for relevant National Outcomes and Indicators.",{"$f":"Scope!BL40","v":"0"},"Please refer to NPF for relevant National Outcomes and Indicators.",{"$f":"Scope!BN40","v":"0"},"Please refer to NPF for relevant National Outcomes and Indicators.",{"$f":"Scope!BP40","v":"0"},"Please refer to NPF for relevant National Outcomes and Indicators.",{"$f":"Scope!BR40","v":"0"},"Please refer to NPF for relevant National Outcomes and Indicators.",{"$f":"Scope!BT40","v":"0"},"Please refer to NPF for relevant National Outcomes and Indicators.",{"$f":"Scope!BV40","v":"0"},"Please refer to NPF for relevant National Outcomes and Indicators.",{"$f":"Scope!BX40","v":"0"},"Please refer to NPF for relevant National Outcomes and Indicators.",{"$f":"Scope!BZ40","v":"0"},"Please refer to NPF for relevant National Outcomes and Indicators.",{"$f":"Scope!CB40","v":"0"},"Please refer to NPF for relevant National Outcomes and Indicators.",{"$f":"Scope!CD40","v":"0"},"Please refer to NPF for relevant National Outcomes and Indicators.",null,null,null,null,{"$f":"Scope!CJ40","v":"0"},"Please refer to NPF for relevant National Outcomes and Indicators."]
[null,null,"",{"$f":"Scope!D41","v":"0"},"Please refer to NPF for relevant National Outcomes and Indicators.",{"$f":"Scope!F41","v":"0"},"Please refer to NPF for relevant National Outcomes and Indicators.",{"$f":"Scope!H41","v":"0"},"Please refer to NPF for relevant National Outcomes and Indicators.",{"$f":"Scope!J41","v":"0"},"Please refer to NPF for relevant National Outcomes and Indicators.",{"$f":"Scope!L41","v":"0"},"Please refer to NPF for relevant National Outcomes and Indicators.",{"$f":"Scope!N41","v":"0"},"Please refer to NPF for relevant National Outcomes and Indicators.",{"$f":"Scope!P41","v":"0"},"Please refer to NPF for relevant National Outcomes and Indicators.",{"$f":"Scope!R41","v":"0"},"Please refer to NPF for relevant National Outcomes and Indicators.",{"$f":"Scope!T41","v":"0"},"Please refer to NPF for relevant National Outcomes and Indicators.",{"$f":"Scope!V41","v":"0"},"Please refer to NPF for relevant National Outcomes and Indicators.",{"$f":"Scope!X41","v":"0"},"Please refer to NPF for relevant National Outcomes and Indicators.",{"$f":"Scope!Z41","v":"0"},"Please refer to NPF for relevant National Outcomes and Indicators.",{"$f":"Scope!AB41","v":"0"},"Please refer to NPF for relevant National Outcomes and Indicators.",{"$f":"Scope!AD41","v":"0"},"Please refer to NPF for relevant National Outcomes and Indicators.",{"$f":"Scope!AF41","v":"0"},"Please refer to NPF for relevant National Outcomes and Indicators.",{"$f":"Scope!AH41","v":"0"},"Please refer to NPF for relevant National Outcomes and Indicators.",{"$f":"Scope!AJ41","v":"0"},"Please refer to NPF for relevant National Outcomes and Indicators.",{"$f":"Scope!AL41","v":"0"},"Please refer to NPF for relevant National Outcomes and Indicators.",{"$f":"Scope!AN41","v":"0"},"Please refer to NPF for relevant National Outcomes and Indicators.",{"$f":"Scope!AP41","v":"0"},"Please refer to NPF for relevant National Outcomes and Indicators.",{"$f":"Scope!AR41","v":"0"},"Please refer to NPF for relevant National Outcomes and Indicators.",{"$f":"Scope!AT41","v":"0"},"Please refer to NPF for relevant National Outcomes and Indicators.",{"$f":"Scope!AV41","v":"0"},"Please refer to NPF for relevant National Outcomes and Indicators.",{"$f":"Scope!AX41","v":"0"},"Please refer to NPF for relevant National Outcomes and Indicators.",{"$f":"Scope!AZ41","v":"0"},"Please refer to NPF for relevant National Outcomes and Indicators.",{"$f":"Scope!BB41","v":"0"},"Please refer to NPF for relevant National Outcomes and Indicators.",{"$f":"Scope!BD41","v":"0"},"Please refer to NPF for relevant National Outcomes and Indicators.",{"$f":"Scope!BF41","v":"0"},"Please refer to NPF for relevant National Outcomes and Indicators.",{"$f":"Scope!BH41","v":"0"},"Please refer to NPF for relevant National Outcomes and Indicators.",{"$f":"Scope!BJ41","v":"0"},"Please refer to NPF for relevant National Outcomes and Indicators.",{"$f":"Scope!BL41","v":"0"},"Please refer to NPF for relevant National Outcomes and Indicators.",{"$f":"Scope!BN41","v":"0"},"Please refer to NPF for relevant National Outcomes and Indicators.",{"$f":"Scope!BP41","v":"0"},"Please refer to NPF for relevant National Outcomes and Indicators.",{"$f":"Scope!BR41","v":"0"},"Please refer to NPF for relevant National Outcomes and Indicators.",{"$f":"Scope!BT41","v":"0"},"Please refer to NPF for relevant National Outcomes and Indicators.",{"$f":"Scope!BV41","v":"0"},"Please refer to NPF for relevant National Outcomes and Indicators.",{"$f":"Scope!BX41","v":"0"},"Please refer to NPF for relevant National Outcomes and Indicators.",{"$f":"Scope!BZ41","v":"0"},"Please refer to NPF for relevant National Outcomes and Indicators.",{"$f":"Scope!CB41","v":"0"},"Please refer to NPF for relevant National Outcomes and Indicators.",{"$f":"Scope!CD41","v":"0"},"Please refer to NPF for relevant National Outcomes and Indicators.",null,null,null,null,{"$f":"Scope!CJ41","v":"0"},"Please refer to NPF for relevant National Outcomes and Indicators."]
[null,null,"",{"$f":"Scope!D42","v":"0"},"Please refer to NPF for relevant National Outcomes and Indicators.",{"$f":"Scope!F42","v":"0"},"Please refer to NPF for relevant National Outcomes and Indicators.",{"$f":"Scope!H42","v":"0"},"Please refer to NPF for relevant National Outcomes and Indicators.",{"$f":"Scope!J42","v":"0"},"Please refer to NPF for relevant National Outcomes and Indicators.",{"$f":"Scope!L42","v":"0"},"Please refer to NPF for relevant National Outcomes and Indicators.",{"$f":"Scope!N42","v":"0"},"Please refer to NPF for relevant National Outcomes and Indicators.",{"$f":"Scope!P42","v":"0"},"Please refer to NPF for relevant National Outcomes and Indicators.",{"$f":"Scope!R42","v":"0"},"Please refer to NPF for relevant National Outcomes and Indicators.",{"$f":"Scope!T42","v":"0"},"Please refer to NPF for relevant National Outcomes and Indicators.",{"$f":"Scope!V42","v":"0"},"Please refer to NPF for relevant National Outcomes and Indicators.",{"$f":"Scope!X42","v":"0"},"Please refer to NPF for relevant National Outcomes and Indicators.",{"$f":"Scope!Z42","v":"0"},"Please refer to NPF for relevant National Outcomes and Indicators.",{"$f":"Scope!AB42","v":"0"},"Please refer to NPF for relevant National Outcomes and Indicators.",{"$f":"Scope!AD42","v":"0"},"Please refer to NPF for relevant National Outcomes and Indicators.",{"$f":"Scope!AF42","v":"0"},"Please refer to NPF for relevant National Outcomes and Indicators.",{"$f":"Scope!AH42","v":"0"},"Please refer to NPF for relevant National Outcomes and Indicators.",{"$f":"Scope!AJ42","v":"0"},"Please refer to NPF for relevant National Outcomes and Indicators.",{"$f":"Scope!AL42","v":"0"},"Please refer to NPF for relevant National Outcomes and Indicators.",{"$f":"Scope!AN42","v":"0"},"Please refer to NPF for relevant National Outcomes and Indicators.",{"$f":"Scope!AP42","v":"0"},"Please refer to NPF for relevant National Outcomes and Indicators.",{"$f":"Scope!AR42","v":"0"},"Please refer to NPF for relevant National Outcomes and Indicators.",{"$f":"Scope!AT42","v":"0"},"Please refer to NPF for relevant National Outcomes and Indicators.",{"$f":"Scope!AV42","v":"0"},"Please refer to NPF for relevant National Outcomes and Indicators.",{"$f":"Scope!AX42","v":"0"},"Please refer to NPF for relevant National Outcomes and Indicators.",{"$f":"Scope!AZ42","v":"0"},"Please refer to NPF for relevant National Outcomes and Indicators.",{"$f":"Scope!BB42","v":"0"},"Please refer to NPF for relevant National Outcomes and Indicators.",{"$f":"Scope!BD42","v":"0"},"Please refer to NPF for relevant National Outcomes and Indicators.",{"$f":"Scope!BF42","v":"0"},"Please refer to NPF for relevant National Outcomes and Indicators.",{"$f":"Scope!BH42","v":"0"},"Please refer to NPF for relevant National Outcomes and Indicators.",{"$f":"Scope!BJ42","v":"0"},"Please refer to NPF for relevant National Outcomes and Indicators.",{"$f":"Scope!BL42","v":"0"},"Please refer to NPF for relevant National Outcomes and Indicators.",{"$f":"Scope!BN42","v":"0"},"Please refer to NPF for relevant National Outcomes and Indicators.",{"$f":"Scope!BP42","v":"0"},"Please refer to NPF for relevant National Outcomes and Indicators.",{"$f":"Scope!BR42","v":"0"},"Please refer to NPF for relevant National Outcomes and Indicators.",{"$f":"Scope!BT42","v":"0"},"Please refer to NPF for relevant National Outcomes and Indicators.",{"$f":"Scope!BV42","v":"0"},"Please refer to NPF for relevant National Outcomes and Indicators.",{"$f":"Scope!BX42","v":"0"},"Please refer to NPF for relevant National Outcomes and Indicators.",{"$f":"Scope!BZ42","v":"0"},"Please refer to NPF for relevant National Outcomes and Indicators.",{"$f":"Scope!CB42","v":"0"},"Please refer to NPF for relevant National Outcomes and Indicators.",{"$f":"Scope!CD42","v":"0"},"Please refer to NPF for relevant National Outcomes and Indicators.",null,null,null,null,{"$f":"Scope!CJ42","v":"0"},"Please refer to NPF for relevant National Outcomes and Indicators."]
[null,null,"",{"$f":"Scope!D43","v":"0"},"Please refer to NPF for relevant National Outcomes and Indicators.",{"$f":"Scope!F43","v":"0"},"Please refer to NPF for relevant National Outcomes and Indicators.",{"$f":"Scope!H43","v":"0"},"Please refer to NPF for relevant National Outcomes and Indicators.",{"$f":"Scope!J43","v":"0"},"Please refer to NPF for relevant National Outcomes and Indicators.",{"$f":"Scope!L43","v":"0"},"Please refer to NPF for relevant National Outcomes and Indicators.",{"$f":"Scope!N43","v":"0"},"Please refer to NPF for relevant National Outcomes and Indicators.",{"$f":"Scope!P43","v":"0"},"Please refer to NPF for relevant National Outcomes and Indicators.",{"$f":"Scope!R43","v":"0"},"Please refer to NPF for relevant National Outcomes and Indicators.",{"$f":"Scope!T43","v":"0"},"Please refer to NPF for relevant National Outcomes and Indicators.",{"$f":"Scope!V43","v":"0"},"Please refer to NPF for relevant National Outcomes and Indicators.",{"$f":"Scope!X43","v":"0"},"Please refer to NPF for relevant National Outcomes and Indicators.",{"$f":"Scope!Z43","v":"0"},"Please refer to NPF for relevant National Outcomes and Indicators.",{"$f":"Scope!AB43","v":"0"},"Please refer to NPF for relevant National Outcomes and Indicators.",{"$f":"Scope!AD43","v":"0"},"Please refer to NPF for relevant National Outcomes and Indicators.",{"$f":"Scope!AF43","v":"0"},"Please refer to NPF for relevant National Outcomes and Indicators.",{"$f":"Scope!AH43","v":"0"},"Please refer to NPF for relevant National Outcomes and Indicators.",{"$f":"Scope!AJ43","v":"0"},"Please refer to NPF for relevant National Outcomes and Indicators.",{"$f":"Scope!AL43","v":"0"},"Please refer to NPF for relevant National Outcomes and Indicators.",{"$f":"Scope!AN43","v":"0"},"Please refer to NPF for relevant National Outcomes and Indicators.",{"$f":"Scope!AP43","v":"0"},"Please refer to NPF for relevant National Outcomes and Indicators.",{"$f":"Scope!AR43","v":"0"},"Please refer to NPF for relevant National Outcomes and Indicators.",{"$f":"Scope!AT43","v":"0"},"Please refer to NPF for relevant National Outcomes and Indicators.",{"$f":"Scope!AV43","v":"0"},"Please refer to NPF for relevant National Outcomes and Indicators.",{"$f":"Scope!AX43","v":"0"},"Please refer to NPF for relevant National Outcomes and Indicators.",{"$f":"Scope!AZ43","v":"0"},"Please refer to NPF for relevant National Outcomes and Indicators.",{"$f":"Scope!BB43","v":"0"},"Please refer to NPF for relevant National Outcomes and Indicators.",{"$f":"Scope!BD43","v":"0"},"Please refer to NPF for relevant National Outcomes and Indicators.",{"$f":"Scope!BF43","v":"0"},"Please refer to NPF for relevant National Outcomes and Indicators.",{"$f":"Scope!BH43","v":"0"},"Please refer to NPF for relevant National Outcomes and Indicators.",{"$f":"Scope!BJ43","v":"0"},"Please refer to NPF for relevant National Outcomes and Indicators.",{"$f":"Scope!BL43","v":"0"},"Please refer to NPF for relevant National Outcomes and Indicators.",{"$f":"Scope!BN43","v":"0"},"Please refer to NPF for relevant National Outcomes and Indicators.",{"$f":"Scope!BP43","v":"0"},"Please refer to NPF for relevant National Outcomes and Indicators.",{"$f":"Scope!BR43","v":"0"},"Please refer to NPF for relevant National Outcomes and Indicators.",{"$f":"Scope!BT43","v":"0"},"Please refer to NPF for relevant National Outcomes and Indicators.",{"$f":"Scope!BV43","v":"0"},"Please refer to NPF for relevant National Outcomes and Indicators.",{"$f":"Scope!BX43","v":"0"},"Please refer to NPF for relevant National Outcomes and Indicators.",{"$f":"Scope!BZ43","v":"0"},"Please refer to NPF for relevant National Outcomes and Indicators.",{"$f":"Scope!CB43","v":"0"},"Please refer to NPF for relevant National Outcomes and Indicators.",{"$f":"Scope!CD43","v":"0"},"Please refer to NPF for relevant National Outcomes and Indicators.",null,null,null,null,{"$f":"Scope!CJ43","v":"0"},"Please refer to NPF for relevant National Outcomes and Indicators."]
[null,null,"",{"$f":"Scope!D44","v":"0"},"Please refer to NPF for relevant National Outcomes and Indicators.",{"$f":"Scope!F44","v":"0"},"Please refer to NPF for relevant National Outcomes and Indicators.",{"$f":"Scope!H44","v":"0"},"Please refer to NPF for relevant National Outcomes and Indicators.",{"$f":"Scope!J44","v":"0"},"Please refer to NPF for relevant National Outcomes and Indicators.",{"$f":"Scope!L44","v":"0"},"Please refer to NPF for relevant National Outcomes and Indicators.",{"$f":"Scope!N44","v":"0"},"Please refer to NPF for relevant National Outcomes and Indicators.",{"$f":"Scope!P44","v":"0"},"Please refer to NPF for relevant National Outcomes and Indicators.",{"$f":"Scope!R44","v":"0"},"Please refer to NPF for relevant National Outcomes and Indicators.",{"$f":"Scope!T44","v":"0"},"Please refer to NPF for relevant National Outcomes and Indicators.",{"$f":"Scope!V44","v":"0"},"Please refer to NPF for relevant National Outcomes and Indicators.",{"$f":"Scope!X44","v":"0"},"Please refer to NPF for relevant National Outcomes and Indicators.",{"$f":"Scope!Z44","v":"0"},"Please refer to NPF for relevant National Outcomes and Indicators.",{"$f":"Scope!AB44","v":"0"},"Please refer to NPF for relevant National Outcomes and Indicators.",{"$f":"Scope!AD44","v":"0"},"Please refer to NPF for relevant National Outcomes and Indicators.",{"$f":"Scope!AF44","v":"0"},"Please refer to NPF for relevant National Outcomes and Indicators.",{"$f":"Scope!AH44","v":"0"},"Please refer to NPF for relevant National Outcomes and Indicators.",{"$f":"Scope!AJ44","v":"0"},"Please refer to NPF for relevant National Outcomes and Indicators.",{"$f":"Scope!AL44","v":"0"},"Please refer to NPF for relevant National Outcomes and Indicators.",{"$f":"Scope!AN44","v":"0"},"Please refer to NPF for relevant National Outcomes and Indicators.",{"$f":"Scope!AP44","v":"0"},"Please refer to NPF for relevant National Outcomes and Indicators.",{"$f":"Scope!AR44","v":"0"},"Please refer to NPF for relevant National Outcomes and Indicators.",{"$f":"Scope!AT44","v":"0"},"Please refer to NPF for relevant National Outcomes and Indicators.",{"$f":"Scope!AV44","v":"0"},"Please refer to NPF for relevant National Outcomes and Indicators.",{"$f":"Scope!AX44","v":"0"},"Please refer to NPF for relevant National Outcomes and Indicators.",{"$f":"Scope!AZ44","v":"0"},"Please refer to NPF for relevant National Outcomes and Indicators.",{"$f":"Scope!BB44","v":"0"},"Please refer to NPF for relevant National Outcomes and Indicators.",{"$f":"Scope!BD44","v":"0"},"Please refer to NPF for relevant National Outcomes and Indicators.",{"$f":"Scope!BF44","v":"0"},"Please refer to NPF for relevant National Outcomes and Indicators.",{"$f":"Scope!BH44","v":"0"},"Please refer to NPF for relevant National Outcomes and Indicators.",{"$f":"Scope!BJ44","v":"0"},"Please refer to NPF for relevant National Outcomes and Indicators.",{"$f":"Scope!BL44","v":"0"},"Please refer to NPF for relevant National Outcomes and Indicators.",{"$f":"Scope!BN44","v":"0"},"Please refer to NPF for relevant National Outcomes and Indicators.",{"$f":"Scope!BP44","v":"0"},"Please refer to NPF for relevant National Outcomes and Indicators.",{"$f":"Scope!BR44","v":"0"},"Please refer to NPF for relevant National Outcomes and Indicators.",{"$f":"Scope!BT44","v":"0"},"Please refer to NPF for relevant National Outcomes and Indicators.",{"$f":"Scope!BV44","v":"0"},"Please refer to NPF for relevant National Outcomes and Indicators.",{"$f":"Scope!BX44","v":"0"},"Please refer to NPF for relevant National Outcomes and Indicators.",{"$f":"Scope!BZ44","v":"0"},"Please refer to NPF for relevant National Outcomes and Indicators.",{"$f":"Scope!CB44","v":"0"},"Please refer to NPF for relevant National Outcomes and Indicators.",{"$f":"Scope!CD44","v":"0"},"Please refer to NPF for relevant National Outcomes and Indicators.",null,null,null,null,{"$f":"Scope!CJ44","v":"0"},"Please refer to NPF for relevant National Outcomes and Indicators."]
[]
[]
[null,"Reputational RISK","Reminder of 'Reputational' scores: \n(0= None; 1 = a little; 2 = medium; 3 = a lot)",null,"REPUTATIONAL - COMMENTS",null,"REPUTATIONAL - COMMENTS",null,"REPUTATIONAL - COMMENTS",null,"REPUTATIONAL - COMMENTS",null,"REPUTATIONAL - COMMENTS",null,"REPUTATIONAL - COMMENTS",null,"REPUTATIONAL - COMMENTS",null,"REPUTATIONAL - COMMENTS",null,"REPUTATIONAL - COMMENTS",null,"REPUTATIONAL - COMMENTS",null,"REPUTATIONAL - COMMENTS",null,"REPUTATIONAL - COMMENTS",null,"REPUTATIONAL - COMMENTS",null,"REPUTATIONAL - COMMENTS",null,"REPUTATIONAL - COMMENTS",null,"REPUTATIONAL - COMMENTS",null,"REPUTATIONAL - COMMENTS",null,"REPUTATIONAL - COMMENTS",null,"REPUTATIONAL - COMMENTS",null,"REPUTATIONAL - COMMENTS",null,"REPUTATIONAL - COMMENTS",null,"REPUTATIONAL - COMMENTS",null,"REPUTATIONAL - COMMENTS",null,"REPUTATIONAL - COMMENTS",null,"REPUTATIONAL - COMMENTS",null,"REPUTATIONAL - COMMENTS",null,"REPUTATIONAL - COMMENTS",null,"REPUTATIONAL - COMMENTS",null,"REPUTATIONAL - COMMENTS",null,"REPUTATIONAL - COMMENTS",null,"REPUTATIONAL - COMMENTS"]
[null,"Scroll down to view all scores","Is there a reputational risk surrounding your organisation’s procurement of this product group? ",{"$f":"Risks!D56","v":3},{"$f":"Risks!E56","v":"Significant awareness in Student and professional areas  of supply chain and waste issues. Large Media coverage. Campaign groups. Membership of Electronics Watch (EW)  signifies importance."},{"$f":"Risks!F56","v":3},{"$f":"Risks!G56","v":"Significant awareness in Student and professional areas  of supply chain and waste issues. Large Media coverage. Campaign groups. Membership of Electronics Watch (EW)  signifies importance."},{"$f":"Risks!H56","v":1},{"$f":"Risks!I56","v":"Low risk in this area. Other category risks may however apply if associated with same factories/supply chain"},{"$f":"Risks!J56","v":3},{"$f":"Risks!K56","v":"Significant awareness in Student and professional areas  of supply chain and waste issues. Large Media coverage. Campaign groups. Membership of Electronics Watch (EW)  signifies importance."},{"$f":"Risks!L56","v":2},{"$f":"Risks!M56","v":"Inherent and linked risk to reputation. Usage of clear environmentaly friendly equipment and end product visible."},{"$f":"Risks!N56","v":3},{"$f":"Risks!O56","v":"highly controversial area"},{"$f":"Risks!P56","v":1},{"$f":"Risks!Q56","v":"Low risk in this area. Other category risks may however apply if associated with same factories/supply chain"},{"$f":"Risks!R56","v":3},{"$f":"Risks!S56","v":"very high, potential for goods from sweatshops, high awareness amongst student body, already covered by media"},{"$f":"Risks!T56","v":0},{"$f":"Risks!U56","v":"[Insert comments here]"},{"$f":"Risks!V56","v":0},{"$f":"Risks!W56","v":"[Insert comments here]"},{"$f":"Risks!X56","v":0},{"$f":"Risks!Y56","v":"[Insert comments here]"},{"$f":"Risks!Z56","v":0},{"$f":"Risks!AA56","v":"[Insert comments here]"},{"$f":"Risks!AB56","v":0},{"$f":"Risks!AC56","v":"[Insert comments here]"},{"$f":"Risks!AD56","v":0},{"$f":"Risks!AE56","v":"[Insert comments here]"},{"$f":"Risks!AF56","v":0},{"$f":"Risks!AG56","v":"[Insert comments here]"},{"$f":"Risks!AH56","v":0},{"$f":"Risks!AI56","v":"[Insert comments here]"},{"$f":"Risks!AJ56","v":0},{"$f":"Risks!AK56","v":"[Insert comments here]"},{"$f":"Risks!AL56","v":0},{"$f":"Risks!AM56","v":"[Insert comments here]"},{"$f":"Risks!AN56","v":0},{"$f":"Risks!AO56","v":"[Insert comments here]"},{"$f":"Risks!AP56","v":0},{"$f":"Risks!AQ56","v":"[Insert comments here]"},{"$f":"Risks!AR56","v":0},{"$f":"Risks!AS56","v":"[Insert comments here]"},{"$f":"Risks!AT56","v":0},{"$f":"Risks!AU56","v":"[Insert comments here]"},{"$f":"Risks!AV56","v":0},{"$f":"Risks!AW56","v":"[Insert comments here]"},{"$f":"Risks!AX56","v":0},{"$f":"Risks!AY56","v":"[Insert comments here]"},{"$f":"Risks!AZ56","v":0},{"$f":"Risks!BA56","v":"[Insert comments here]"},{"$f":"Risks!BB56","v":0},{"$f":"Risks!BC56","v":"[Insert comments here]"},{"$f":"Risks!BD56","v":0},{"$f":"Risks!BE56","v":"[Insert comments here]"},{"$f":"Risks!BF56","v":0},{"$f":"Risks!BG56","v":"[Insert comments here]"},{"$f":"Risks!BH56","v":0},{"$f":"Risks!BI56","v":"[Insert comments here]"},{"$f":"Risks!BJ56","v":0},{"$f":"Risks!BK56","v":"[Insert comments here]"},{"$f":"Risks!BL56","v":0},{"$f":"Risks!BM56","v":"[Insert comments here]"}]
[]
[]
[null,"Influence","Total Influence Score:\n(maximum = 7)",{"$f":"Influence!D11","v":7},null,{"$f":"Influence!F11","v":7},null,{"$f":"Influence!H11","v":7},null,{"$f":"Influence!J11","v":7},null,{"$f":"Influence!L11","v":7},null,{"$f":"Influence!N11","v":5},null,{"$f":"Influence!P11","v":5},null,{"$f":"Influence!R11","v":2},null,{"$f":"Influence!T11","v":""},null,{"$f":"Influence!V11","v":""},null,{"$f":"Influence!X11","v":""},null,{"$f":"Influence!Z11","v":""},null,{"$f":"Influence!AB11","v":""},null,{"$f":"Influence!AD11","v":""},null,{"$f":"Influence!AF11","v":""},null,{"$f":"Influence!AH11","v":""},null,{"$f":"Influence!AJ11","v":""},null,{"$f":"Influence!AL11","v":""},null,{"$f":"Influence!AN11","v":""},null,{"$f":"Influence!AP11","v":""},null,{"$f":"Influence!AR11","v":""},null,{"$f":"Influence!AT11","v":""},null,{"$f":"Influence!AV11","v":""},null,{"$f":"Influence!AX11","v":""},null,{"$f":"Influence!AZ11","v":""},null,{"$f":"Influence!BB11","v":""},null,{"$f":"Influence!BD11","v":""},null,{"$f":"Influence!BF11","v":""},null,{"$f":"Influence!BH11","v":""},null,{"$f":"Influence!BJ11","v":""},null,{"$f":"Influence!BL11","v":""},null,{"$f":"Influence!BN11","v":""},null,{"$f":"Influence!BP11","v":""},null,{"$f":"Influence!BR11","v":""},null,{"$f":"Influence!BT11","v":""},null,{"$f":"Influence!BV11","v":""},null,{"$f":"Influence!BX11","v":""},null,{"$f":"Influence!BZ11","v":""},null,{"$f":"Influence!CB11","v":""},null,{"$f":"Influence!CD11","v":""}]
[]
[]
[]
[null,null,null,null,null,null,null,null,null,null,null,null,null,null," "]
[null,null,null,null,null,null,null,null,null,null,null,null,null,null,null,null,null,null,null,null,null,null,null,null,null,null,null,null,null,null,null,null,null,null,null,null,null,null,null,null,null,null,null,null,null,null,null,null,null,null,null,null,null,null,null,null," "]

{"sheet":"Spend-Risk graph","index":11,"n_rows":17,"n_cols":10,"rows_kept":17,"cut":false,"hidden":false,"merged":[]}
[]
[]
[]
[]
[]
[]
[]
[]
[]
[]
[]
[]
[]
[]
[]
[]
[null,null,null,null,null,null,null,null,null," "]

{"sheet":"Risk-Scope graph","index":12,"n_rows":0,"n_cols":0,"rows_kept":0,"cut":false,"hidden":false,"merged":[]}

{"sheet":"Influence-Scope graph","index":13,"n_rows":0,"n_cols":0,"rows_kept":0,"cut":false,"hidden":false,"merged":[]}

{"sheet":"Overall graph","index":14,"n_rows":0,"n_cols":0,"rows_kept":0,"cut":false,"hidden":false,"merged":[]}

{"sheet":"Guidance","index":15,"n_rows":377,"n_cols":7,"rows_kept":377,"cut":false,"hidden":false,"merged":[[340,1,340,6],[342,1,342,6],[376,1,376,6],[345,1,345,6],[348,1,348,6],[349,1,349,6],[351,1,351,6],[368,1,368,6],[369,1,369,6],[373,1,373,6],[353,1,353,6],[356,1,356,6],[359,1,359,6],[361,1,361,6],[329,1,329,6],[331,1,331,6],[332,1,332,6],[337,1,337,6],[338,1,338,6],[307,1,307,6],[313,1,313,6],[324,1,324,6],[325,1,325,6],[327,1,327,6],[302,1,302,6],[303,1,303,6],[304,1,304,6],[305,1,305,6],[306,1,306,6],[167,1,167,6],[168,1,168,6],[171,1,171,6],[172,1,172,6],[251,1,251,6],[301,1,301,6],[179,1,179,6],[268,1,268,6],[269,1,269,6],[270,1,270,6],[293,1,293,6],[286,1,286,6],[276,1,276,6],[277,1,277,6],[258,1,262,2],[295,1,295,6],[296,1,296,6],[297,1,297,6],[300,1,300,6],[292,1,292,6],[285,1,285,6],[283,1,283,6],[284,1,284,6],[48,1,48,6],[173,1,173,6],[177,1,177,6],[120,1,120,6],[70,1,70,6],[77,1,77,6],[78,1,78,6],[84,1,84,6],[164,1,164,6],[279,1,279,6],[57,1,57,6],[255,1,255,6],[257,1,257,6],[278,1,278,6],[289,1,289,6],[51,1,51,6],[250,1,250,6],[252,1,252,6],[67,1,67,6],[271,1,271,6],[100,1,100,6],[107,1,107,6],[109,1,109,6],[113,1,113,6],[115,1,115,6],[116,1,116,6],[166,1,166,6],[122,1,122,6],[69,1,69,6],[282,1,282,6],[34,1,34,6],[30,1,30,6],[27,1,27,6],[28,1,28,6],[165,1,165,6],[37,1,37,6],[40,1,40,6],[41,1,41,6],[42,1,42,6],[121,1,121,6],[119,1,119,6]]}
[null,null,"Procurement Prioritisation Guidance"]
[null,"PROCUREMENT PRIORITISATION GUIDANCE CONTENTS (Click on Content below)",null,null,null,"'Good Procurement is Sustainable Procurement'"]
[null,"How to use the tool"]
[null,"1.Glossary"]
[null,"2.Who is the tool designed for?"]
[null,"3.What is the tool designed for?"]
[null,"4.What are key outputs from the tool?"]
[null,"5.Where does the tool sit in pre-procurement and procurement good practice?"]
[null,"6.What information is needed to complete the tool?"]
[null,"7.Who needs to be involved in using the tool?"]
[null,"A.Risks and Opportunities - Policy Objectives Guidance "]
[null,"    Risks and Opportunities Descriptions"]
[null,"B.Categories Guidance"]
[null,"C.Spend Guidance, including scoring methodology"]
[null,"D.Risks Assessment Guidance - Environmental, Socio-Economic and Reputational, including scoring methodology"]
[null,"E.Scope to Improve Guidance, including scoring methodology"]
[null,"F.Influence Guidance, including scoring methodology"]
[null,"G.Status Summary Guidance "]
[null,"H.Spend v Risk Graph Guidance and use of results"]
[null,"I.Risk v Scope Graph Guidance and use of results"]
[null,"J.Influence v Scope Guidance and use of results"]
[null,"K.Overall Graph Guidance and use of results"]
[null,"L. Outcomes (and Export)",null,null,null,"Return to the tool by clicking on the tabs above."]
[]
[null,"How to use the tool"]
[null,"The tool should work in Excel versions of 2003 or later."]
[null,"You must enable macros in Excel; if you don't the tool will not work as intended. "]
[null,"IT IS RECOMMENDED THAT YOU RETAIN A CLEAN MASTER COPY OF THE TOOL ON FILE, ONCE DOWNLOADED, TO COPY FROM FOR PRIORITISATION EXERCISES. DO NOT USE COPIES OF COMPLETED EXERCISES WHEN UNDERTAKING NEW EXERCISES."]
[null,"When opening the tool the first page you will see will be the Introduction page. If you are resuming after having previously saved some progress, you may check the completion chart on the “Status Summary” page to see where you need to continue working."]
[null,"Notice about Excel toolbars"]
[null,"Please note that most excel menus, toolbars and header bars do not appear in this tool. This will also mean they disappear from any other excel documents you have open at the same time as this tool, but they will reappear in your other documents once you close this tool."]
[null,"Navigating through the tool"]
[null,"Use the tabs at the top of each page to progress - you will not be able to jump to some pages until you have completed earlier ones"]
[null,"There are buttons available throughout the Tool which you may click on for further guidance."]
[null,"In addition, there are  text boxes available where you may input reasons for your scoring, selection of Risks and Opportunities, other evidence that will be useful for future reference, and to provide evidence of robust reasoning/scoring. You should be able to justify the reasons for your scoring and assessment. Also look out for some comments in red to help you complete scoring.   If you find that some buttons overlap text or cells, adjust the zoom to rectify this."]
[]
[null,"1. Glossary "]
[null,"Categories - while 'Category' is used to describe groups that describe procurement of goods or services (e.g. classification of expenditure), this may also relate to Commodities or other terms. It refers to the classification of expenditure groups (e.g. ProClass/Thomson etc. )."]
[null,"Corporate Procurement Strategy  - your organisation's Procurement Strategy which includes organisational environmental and socio-economic objectives."]
[null,"Influence - the influence your procuring organisation potentially has over the market for goods or services, based on the questions included in the Influence page."]
[null,"National Performance Framework (NPF) – The NPF is a single framework to which all public services in Scotland are aligned, encouraging more effective partnership working. It is a clear, unified 10 year vision, set out in 2007, of the kind of Scotland Scottish Ministers want to see. The latest Framework is available from: www.gov.scot/Resource/0038/00387872.pdf or www.scotlandperforms.com. "]
[null,"National Outcomes – Scotland’s 16 National Outcomes as set out at www.gov.scot/About/Performance/scotPerforms/outcome describe what the Scottish Government wants to achieve and the kind of Scotland we want to see"]
[null,"Opportunities - Opportunities for improving relevant environmental or socio-economic outcomes, where procurement is the appropriate delivery mechanism.  "]
[null,"Risks - Potential environmental or socio-economic risks within supply chains, where procurement is the appropriate delivery mechanism to manage these.  "]
[null,"Scope - Scope to Improve by the procuring organisation, to mitigate the relevant environmental or socio-economic risks or capture relevant opportunities."]
[]
[null,"2. Who is this tool designed for?"]
[]
[null,"This tool is available for all parts of the Scottish Public Sector, although the principles behind it are suitable for any procuring organisation, subject to adjustment as necessary."]
[]
[null,"3. What is this tool designed for?"]
[null,"The Sustainable Public Procurement Prioritisation Tool (SPPPT) is  designed  to be a standard structured approach to the assessment of spend categories, for use across the whole of the Scottish public sector. This risk and opportunity based approach enables resources to be focused on areas with the greatest potential to generate benefits such as financial savings, reduced carbon emissions and waste and community benefits whilst driving innovation, and in turn how National and Organisational Outcomes may be influenced through the procurement process."]
[null,"Consider Sustainability early in the procurement process."]
[null,"§To achieve identification of risks and opportunities prior to commissioning suppliers. "]
[null,"§To understand the scope for sustainability outcomes, and ensure that ability to influence sustainable outcomes is optimised. "]
[null,"§To determine all relevant whole life cost considerations."]
[null,"This tool is designed: "]
[null,"1. to help procuring organisations  prioritise categories/sub-categories  according to sustainability risks and opportunities, and highlight subsequent actions. "]
[null,"2. to highlight those categories where particular risks and opportunities are relevant. "]
[null,"3. to highlight  how category strategies may seek to mitigate relevant risks or capture opportunities."]
[null,"4. to highlight a relevant focus on market engagement."]
[null,"5. to act as a reference for the subsequent development of contracts and frameworks, through the Sustainability Test."]
[null,"6. to provide an evidence base for category strategies and eventual contract requirements."]
[null,"As such the Tool may be used to prioritise categories/sub-categories/commodities to inform procurement strategies. "]
[null,"It may also be used to:"]
[null,"§Prioritise a Contracts Register or Forward Plan to help inform subsequent strategies."]
[null,"§To assess relevant options - for example when considering  varying options for future procurements."]
[null,"§To highlight single issue priorities - i.e. identifying within which particular categories/commodities specific  Environmental and Socio-economic Risks and Opportunities are relevant, so that market engagement and procurement strategies may be focused (e.g. Labour Standards within the supply chain)."]
[]
[null,"Re-visit results: You can and should be prepared to re-visit the results of the Tool, to inform Category and Market Engagement Strategies. The Tool can be used more than once - while initial prioritisation may be undertaken at Category level, it is useful to then analyse sub-categories, and  by revisiting the Tool you can track progress in embedding sustainable outcomes and secure wider buy-in. It is recommended that you update the results of the Tool on a regular basis (perhaps annually) to ensure that it reflects current planned expenditure and organisational priorities.  "]
[null,"Refer to results when developing contracts: The results of the Tool can also be a useful reference when you are developing frameworks and contracts.  While the results will have informed Category Strategies, which in turn inform subsequent development of contracts, they can also directly influence relevant and proportionate framework and contracts requirements. The results of the Tool, at Category or sub-Category level, may be exported to the Sustainability Test, to act as a reference when assessing Risks and Opportunities  in the development of frameworks or contracts."]
[]
[]
[null,"4. What are the key outputs from this tool? "]
[null,"The outputs are:"]
[null,"a.Summary of relevant scores that may be exported for input into the Sustainability Test, for reference when developing relevant frameworks and contracts."]
[null,"b.A matrix comparing Spend v Risks and Opportunities highlighting which are the priority categories;"]
[null,"c.A matrix comparing Risks and Opportunities v Scope to do more to mitigate the identified risks or capture the opportunities, highlighting which are the key categories where buyers can address these;"]
[null,"d.A matrix comparing Scope v Influence of the organisation over the market, highlighting the key categories where the organisation can achieve sustainable outcomes through effective market engagement.  "]
[null,"e.An overall summary graph, combining Risks and Opportunities, Scope and Influence.  "]
[null,"f.A summary of National and Organisational Outcomes and Indicators potentially influenced through the procurement of Categories/Commodities."]
[]
[]
[null,"5. Where does the tool sit in Pre-procurement and procurement good practice? "]
[null,"Prioritisation of Categories will help inform Category Strategies (or equivalent) as well as pre-procurement market engagement (i.e. the early acquisition process) – reinforcing the importance of embedding sustainability early in pre-procurement processes and the procurement cycle. Such high level Prioritisation would normally be undertaken annually."]
[]
[]
[]
[]
[]
[]
[]
[]
[]
[]
[]
[]
[]
[]
[null,"6. What information do you need before using this tool? "]
[null,"In order for the results from this  tool to be as robust as possible it is important that  sufficient information is available. It is of course possible that further work will be needed to obtain or clarify information. If this is the case it is recommended that when using the tool relevant risks are assumed to be high, until information is available to clarify this. "]
[null,"In order to undertake Prioritisation there are a number of key requirements:  "]
[null,"§Spend data for categories /commodities– ideally this should be planned expenditure for a 12 month period. "]
[null,"§Clearly articulated organisational procurement policy objectives."]
[null,"§An understanding of categories being assessed – scope, market, risks and opportunities."]
[]
[null,"7. Who needs to be involved in completing this tool? "]
[null,"In order to effectively complete (or update) the Prioritisation this should be run in collaboration with a group of stakeholders – it is not  designed to be carried out by an individual alone (subject to the nature of the organisation). "]
[null,"Stakeholders could include, depending on the organisation: "]
[null,"Commissioners, heads of service (or their representatives), category managers, procurement, regeneration, economic development, sustainable development, environmental management, estates and facilities management, equality and diversity and others."]
[null,"You need those involved who understand organisational objectives, sustainability, categories and markets."]
[]
[]
[null,"A. Relevant Procurement Risks and Opportunities. The link from: Scotland’s Strategic Objectives and National Outcomes  to Public Sector Policy Priorities"]
[]
[null,"Scotland’s High Level Purpose Targets measure progress towards Economic Growth, Productivity, Economic Participation, Population Growth and Healthy Life Expectancy, Solidarity, Cohesion and Environmental Sustainability. The National Outcomes describe what the Scottish Government wants to achieve and the kind of Scotland we want to see, by seeking to reduce the local and global environmental impact of our consumption and production; to value and enjoy our built and natural environment and protect it and enhance it for future generations; to have strong, resilient and supportive communities where people take responsibility for their own actions and how they affect others. Purpose Targets show progress towards the Purpose and National Indicators track progress towards the Purpose and National Outcomes. Both Targets and Indicators are often used in conjunction and referred to as the “Indicator Set”. www.scotlandperforms.com \n\n"]
[null,"The flow chart below highlights the link from the Scottish Government’s Purpose and National Outcomes, as set out in the National Performance Framework, to Public Sector Organisational Objectives, those influenced through Procurement , the setting of strategic priorities and embedding of relevant and proportionate contract requirements.  Outcomes delivered should then be tracked against organisational objectives and relevant National Outcomes and Indicators:  "]
[]
[null,"Organisational Corporate Strategy"]
[null,"Corporate Strategies should therefore reflect the focus on National Outcomes where relevant. These may be set out in Single Outcome Agreements, Local Delivery Plans or equivalent within all parts of the Scottish public sector while the focus on specific Environmental and Socio-economic Risks and Opportunities may be set out in Sustainable Development Strategies, Procurement Strategies and Policy Commitments (where  procurement is the appropriate delivery mechanism to achieve organisational objectives ). "]
[null,"1.Has your organisation determined which of the National Outcomes may be delivered through the procurement process and does your organisation therefore have a Procurement Strategy and Policy which reflects the need to deliver relevant National Outcomes?"]
[null,"2.Is it clear which organisational strategies link to National Outcomes and specific Risks and Opportunities? Does someone within your organisation have responsibility for 'horizon scanning' regarding new or potentially relevant environmental and socio-economic issues?"]
[null,"3.The Procurement Reform (Scotland) Act 2014 will require Scotland's public sector organisations to have a clear Corporate Strategy and follow Sustainable Procurement Duties (for those organisations that procure over £5m annually)."]
[]
[]
[]
[]
[]
[]
[]
[]
[]
[]
[]
[]
[]
[]
[]
[]
[]
[]
[]
[]
[]
[]
[]
[]
[]
[]
[]
[]
[]
[]
[]
[]
[]
[]
[]
[]
[]
[]
[]
[]
[null,"Prioritising Organisational Procurement Policy Objectives"]
[null,"The link from Scotland's National Outcomes to relevant clearly articulated organisational objectives and outcomes will in turn require an understanding of which objectives have high priorities for the organisation and also category of procurement/commodity/contract."]
[null,"1.Chief Executives, CFOs, Ministers, Members and others, need to understand what their organisation should be seeking and set in motion processes to enable this to be applied throughout the organisation, including how this links to the procurement of goods and services."]
[null,"2.The above process ensures that a clearly defined, relevant and future proofed set of Risks and Opportunities is in place against which to assess categories/commodities/contracts. "]
[null,"3.There is a need for consistency in adopting key principles across the Scottish public sector and in setting and prioritising policy objectives, subject to sector specific issues."]
[null,"4.All parts of the public sector will relate to environmental and socio-economic Risks and Opportunities but may need to adjust and weight to suit their particular focus."]
[]
[null,"Default Environmental and Socio-economic Risks and Opportunities - Described"]
[null,"Based on the above flow chart the following Environmental and Socio-economic Risks and Opportunities reflect Scotland's National Outcomes and Indicators, and should be relevant to all parts of the public sector. A full description of each of these is provided below. "]
[null,"It is up to users of this tool to ensure that the Risks and Opportunities used are aligned with organisational objectives - it may be that organisational objectives need to be more closely aligned to National Outcomes."]
[null,"NOTE! While you can adjust the default risks and opportunities to suit your organisation you must be able to justify and describe any changes you make. The Sustainability Test also uses the default risks and opportunities and there should be alignment between those considered at a category level and those considered at contract level. Do not delete the default Risks and Opportunities; if you feel any are not relevant to the organisation score this as such in the subsequent assessments on the Risks & Opps Assess, Scope and Influence pages."]
[null,"To add other Risks and Opportunities"]
[null,"Type these below the default Risks and Opportunities (the maximum total number is 20) - do not try to insert these into the middle of the list here."]
[null,"To delete Risks and Opportunities"]
[null,"If you wish to delete a Risk and Opportunity (making sure you do not delete the default ones) from one of the lists (or get rid of a blank cell in the middle of a list), click on the name of the one (or the blank cell) you want to delete (within the relevant list) then click the 'Delete' button to the right. This button will delete any responses already entered in later worksheets for this issue and, importantly, will keep responses for other issues aligned to their correct headings."]
[null,"To change names of Risks and Opportunities"]
[null,"If you wish to change the name of an existing issue in the list, simply write the new name over the old one. This will retain any ratings already entered under the old name."]
[]
[null,"Environmental/ Socio-economic Risk or Opportunity - Descriptions"]
[null,"Environmental/ Socio-economic Risk or Opportunity","Source of  Risk or Opportunity","Description of Risk or Opportunity ","Example","Relevant National Outcomes","Potentially Relevant National Indicators (see list of Indicators)"]
[null,"Climate Change","Carbon - Energy consumption","Will the product or service procured routinely involve consumption of energy (electricity, gas or other fuel) AND/OR is there an opportunity to minimise energy consumption?","Electrical equipment purchased or used in service delivery.","We reduce the local and global environmental impact of our consumption and production","52, 54, 55"]
[null,null,"Carbon - Production ","Is the production/ manufacture of products procured known to be energy and resource intensive AND/OR is there an opportunity to  minimise the energy/resource intensity of the production process? ","Products procured from manufacturers which are known to be energy and resource (and therefore carbon) intensive include textiles, food, electrical and electronic equipment, furniture, construction, plastics, chemicals, steel, aluminium, cement, ceramics and paper.","We reduce the local and global environmental impact of our consumption and production","52, 54"]
[null,null,"Carbon - Vehicle emissions","Are vehicles routinely used in the supply of a product procured or in service delivery AND/OR is there a potential opportunity to minimise vehicle emissions arising from vehicle movements?","Distribution and logistics, movement of material and/or people in service delivery.","We reduce the local and global environmental impact of our consumption and production","4, 35, 52, 54"]
[null,null,"Climate change adaptation","Is the supply of this product or delivery of relevant service potentially vulnerable to the impacts of Climate Change, AND/OR is there an opportunity to minimise the effects on supply or service delivery, as a result of anticipated Climate Change?","Risk to business and/or supply continuity as a result of anticipated higher temperatures, flooding, other extreme climatic events. Link to organisational Climate Change Adaptation Plan.","We reduce the local and global environmental impact of our consumption and production","52, 54"]
[null,"Materials","Materials - scarcity","Does the product or service procured potentially include the use of materials that are known to be scarce or unsustainable AND/OR is there a potential opportunity to minimise the use of such materials or use sustainably managed materials?","E.g. timber, minerals, metals, plastics, water. ","We reduce the local and global environmental impact of our consumption and production","52, 54"]
[null,null,"Materials - security","Are products or service delivery supplied from sources that are potentially vulnerable to supply disruption? ","This may be as a result of supply from politically sensitive regions, a supply chain which is restricted to a limited number of suppliers/ sources or which may be affected by environmental and other factors - e.g. some Metals, Oils, Polymers, Textiles, ICT.","We reduce the local and global environmental impact of our consumption and production","52, 54"]
[null,"Waste","Waste - production","Is waste routinely produced from products procured or in service delivery AND/OR is there an opportunity to minimise waste/enhance high quality recycling/composting or recover value in some other way? ","Packaging, disposal of products or in service delivery (services such as construction, FM services and others may potentially generate significant waste). ","We reduce the local and global environmental impact of our consumption and production","52, 54"]
[null,null,"Waste - prevention/reuse/ recondition/ remanufacture","Are there opportunities to prevent waste/ extend products' (procured separately or used within service delivery) useful life, through reuse, repair, reconditioning or remanufacturing, internally or externally?","There are significant markets for reuse, repair, reconditioning and remanufacture including textiles, ICT, furniture and others. There may be alternative business models to procuring a product that have the potential to extend the useful life of a product.","We reduce the local and global environmental impact of our consumption and production","52, 54"]
[null,"Hazardous Materials & Emissions","Hazardous materials/ emissions","Are the products procured or used within service delivery potentially hazardous so that they could generate pollutants which may harm the environment (air, land or water), including animals and humans, AND/OR is there an opportunity to minimise the use of hazardous materials? ","This may involve the use or disposal of materials (e.g. solvents, other chemicals, equipment used in service delivery, many of which will be governed by relevant regulations) which may potentially generate emissions to water, air or land.","We reduce the local and global environmental impact of our consumption and production","52, 54"]
[null,null,"Bio-security","Are there risks within the supply chain regarding food safety, animal and plant life and health, AND/OR opportunities to promote the highest standard of animal welfare? ","This may involve risks relating to Food Safety, animal welfare, transmission of infectious diseases in crops and livestock, quarantined pests, invasive alien species, and living modified organisms.","We reduce the local and global environmental impact of our consumption and production",50]
[null,"Biodiversity","Biodiversity -protection","Are materials within products or those used within service delivery derived from potentially vulnerable ecosystems, where biodiversity is at risk or, in the delivery of a service, there is a risk that ecosystems will be damaged?","For example, materials from sources that may cause potentially significant damage to vulnerable aquatic or land ecosystems during their extraction (e.g. rainforest clearance). Also, potential damage caused during construction or service delivery. ","We reduce the local and global environmental impact of our consumption and production","48, 49, 50, 51, 52, 54"]
[null,null,"Biodiversity -enhancement","Is there an opportunity to further the conservation of biodiversity in relation to services delivered?","Biodiversity may be enhanced through, for example, protecting and enhancing Scotland's natural resources. All public sector bodies have a duty to further the conservation of biodiversity.","We reduce the local and global environmental impact of our consumption and production","48, 49, 50, 51, 52, 54"]
[null,"Heritage","Heritage - protection","Will the supply of products or delivery of relevant services potentially impact negatively on Scotland's protected areas (land and marine) and historic buildings, or the public's use of these sites? ","For example, impacts on protected areas and sites as a result of delivery of products or in service delivery. ","We value and enjoy our built and natural environment and protect it and enhance it for future generations","40, 41, 43, 44, 45, 46, 47, 48, 50"]
[null,null,"Heritage - enhancement","Is there an opportunity to enhance Scotland's protected areas or the public's use of them?","Heritage may be enhanced through, for example, protecting and enhancing Scotland's heritage resources, and enabling improved access to them.","We value and enjoy our built and natural environment and protect it and enhance it for future generations","40, 41, 43, 44, 45, 46, 47, 48, 50"]
[null,"Water","Water - consumption","Will the product or service procured routinely involve consumption of water AND/OR is there an opportunity to minimise water consumption?","For example, water using products, or services consuming water, such as cleaning, catering, construction etc.","We reduce the local and global environmental impact of our consumption and production","52, 54"]
[null,null,"Water - production","Is the production/ manufacture of products procured known to be water intensive AND/OR is there an opportunity to require suppliers to demonstrate how they can minimise water intensity of the production process? ","Water may be used extensively in the production of some products and materials; such as clothes, vehicles, food and beverages, biotech/pharmaceutical, chemicals, forest products, high-tech/electronics, metal mining, refining, utilities, paper products, coal products.","We reduce the local and global environmental impact of our consumption and production","52, 54"]
[null,"Employment, skills & training","Employment - skills and training","Are there opportunities to - generate employment and training opportunities - develop trade skills in potential suppliers' workforce?","For example, community benefits relating to targeted recruitment and training opportunities in service delivery, apprenticeships, new entrant trainees, employment of NEETS or others who are long term unemployed, work placements, vocational qualifications.","We are better educated, more skilled and more successful, renowned for our research and innovation","5, 6, 7, 8, 9, 10, 11, 12, 13, 14, 15, 38"]
[null,null,null,null,null,"We have improved the life chances for children, young people and families at risk","9, 10, 11, 12, 13, 14, 15, 16, 17, 18, 19, 20, 22, 23, 24, 26, 29, 30, 31, 32, 33, 34, 35, 38, 39"]
[null,null,null,null,null,"We realise our full economic potential with more and better employment opportunities for our people","1, 2, 6, 7, 8, 9, 10, 11, 14, 15, 16, 38"]
[null,null,null,null,null,"Our young people are successful learners, confident individuals, effective contributors and responsible citizens","6, 7, 8, 9, 10, 11, 12, 13, 14, 15, 16, 37, 38 "]
[null,null,null,null,null,"We live in a Scotland that is the most attractive place for doing business in Europe.","1, 2, 3, 5, 6, 7, 8, 9, 10, 11, 36, 37"]
[null,null,"Employment - SMEs, Social Enterprises, Supported Businesses","Is there an opportunity for SMEs, Social Enterprises, black and ethnic minority enterprises and women and disabled-owned businesses or Supported Business organisations to be involved in delivery of a related service, where they have appropriate skills? ","For example, ensuring SMEs and Third Sector organisations can compete for opportunities (directly or as a sub-contractor) and, where relevant, reserving contracts for Supported Businesses or enabling them to be involved in a relevant supply chain. ","We realise our full economic potential with more and better employment opportunities for our people","1, 2, 6, 7, 8, 9, 10, 11, 14, 15, 16, 38"]
[null,null,null,null,null,"We take pride in a strong, fair and inclusive national identity","5, 8, 9, 10, 11, 14, 15, 38 "]
[null,null,null,null,null,"We have tackled the significant inequalities in Scottish society","5, 8, 9, 10, 11, 14, 15, 38 "]
[null,null,null,null,null,"We live in a Scotland that is the most attractive place for doing business in Europe.","1, 2, 3, 5, 6, 7, 8, 9, 10, 11, 36, 37"]
[null,"Health & wellbeing","Health & Safety","Is Health and Safety a potential issue within the delivery of the service or use of supplied products AND/OR is there an opportunity to improve Health and Safety? ","For example, according to the type of products procured or within service delivery (e.g. ICT equipment, construction services).","We live longer, healthier lives","18, 19, 20, 21, 22, 23, 24, 25, 26, 27, 28, 29, 30, 31, 39"]
[null,null,null,null,null,"We live in a Scotland that is the most attractive place for doing business in Europe.","1, 2, 3, 5, 6, 7, 8, 9, 10, 11, 36, 37"]
[null,null,"Physical/mental health and wellbeing ","Will the use of supplied products or delivery of a service procured potentially have a negative impact on health and wellbeing of users/those receiving the service AND/OR are there  opportunities to enhance the health and wellbeing of users of products or those affected by related service delivery?","For example, through enhanced physical activity, healthy working life programmes, tackling inequality, community benefit relating to sheltered workshops or in the design and use of products or service delivery.","We live longer, healthier lives","18, 19, 20, 21, 22, 23, 24, 25, 26, 27, 28, 29, 30, 31, 39"]
[null,null,null,null,null,"Our people are able to maintain their independence as they get older and are able to access appropriate support when they need it","21, 22, 23, 24, 25, 26, 27, 28, 29, 30, 37, 40"]
[null,null,null,null,null,"Our children have the best start in life and are ready to succeed.","9, 10, 11, 12, 13, 14, 15, 16, 17, 18, 19, 20, 22, 23, 24, 26, 29, 30, 31, 32, 33, 34, 35, 38, 39"]
[null,null,null,null,null,"We live in a Scotland that is the most attractive place for doing business in Europe.","1, 2, 3, 5, 6, 7, 8, 9, 10, 11, 36, 37"]
[null,"Communities","Communities - impacts","Are there potential negative impacts on communities as a result of the delivery of the service procured that will require community consultation?","For example, consultation is required regarding the potential impacts on the affected community of the intended procurement, as set out in the Community Empowerment and Renewal Bill. ","We live in well-designed, sustainable places where we are able to access the amenities and services we need","3, 4, 23, 32, 33, 34, 37, 38, 39, 40, 41, 43, 52, 54"]
[null,null,null,null,null,"Our public services are high quality, continually improving, efficient and responsive to local people’s needs","5, 9, 10, 11, 12, 13, 14, 15, 16, 25, 26, 36, 37"]
[null,null,null,null,null,"We have strong, resilient and supportive communities where people take responsibility for their own actions and how they affect others.","32, 34, 37, 43"]
[null,null,null,null,null,"Our children have the best start in life and are ready to succeed.","9, 10, 11, 12, 13, 14, 15, 16, 17, 18, 19, 20, 22, 23, 24, 26, 29, 30, 31, 32, 33, 34, 35, 38, 39"]
[null,null,"Communities - enhancement","Are there potential opportunities to enhance communities through encouragement of community initiatives and regeneration of disadvantaged communities?","For example through community benefits relating to school/college and community education initiatives, promotion of community cohesion, reducing inequality and improving access to related services. ","We live in well-designed, sustainable places where we are able to access the amenities and services we need","3, 4, 23, 32, 33, 34, 37, 38, 39, 40, 41, 43, 52, 54"]
[null,null,null,null,null,"Our public services are high quality, continually improving, efficient and responsive to local people’s needs","5, 9, 10, 11, 12, 13, 14, 15, 16, 25, 26, 36, 37"]
[null,null,null,null,null,"We have strong, resilient and supportive communities where people take responsibility for their own actions and how they affect others.","32, 34, 37, 43"]
[null,null,null,null,null,"Our children have the best start in life and are ready to succeed.","9, 10, 11, 12, 13, 14, 15, 16, 17, 18, 19, 20, 22, 23, 24, 26, 29, 30, 31, 32, 33, 34, 35, 38, 39"]
[null,"Security and crime","Security and crime - impacts","Are there potential risks that the market for the products or services procured includes Serious and Organised Crime (SOC) organisations, or there may be negative impacts on security and crime through ineffective design of services procured? ","For example, within sectors that are more vulnerable to involvement of SOC organisations and in the design of construction services, use of appropriate labour etc.","We live our lives safe from crime, disorder and danger","31, 32, 33, 34"]
[null,null,"Security and crime - improvement","Are there potential opportunities to enhance security and reduce crime through the design of services procured or infrastructure that impact on communities, removing barriers to work or enhancing education and skills of those most likely to reoffend?  ","For example, within sectors that are more vulnerable to involvement of SOC organisations and in the design of construction services, use of appropriate labour etc.","We live our lives safe from crime, disorder and danger","31, 32, 33, 34"]
[null,"Fairly and Ethically Traded","Fairly and Ethically  traded - Working conditions","Are there potential risks relating to working conditions and labour standards within the supply chain related to the delivery of a related service or products AND/OR are there potential opportunities to improve labour standards by working with the market? ","For example, concerns regarding compliance with ILO Conventions may relate to local, regional or global supply chains and may be more prevalent in lower skill, low pay occupations and where union or other representation is low. ","We take pride in a strong, fair and inclusive national identity","5, 8, 9, 10, 11, 14, 15, 38 "]
[null,null,"Fairly and Ethically traded - Conflict Minerals","Are there potential risks regarding human rights abuses as a result of the use of minerals that are mined in areas of conflict AND/OR are there opportunities to ensure that these are verified as conflict free?","For example minerals used in ICT equipment, which can be verified as conflict free by the Conflict Free Smelter Programme or suppliers working towards eliminating conflict minerals.","We live in a Scotland that is the most attractive place for doing business in Europe.","1, 2, 3, 5, 6, 7, 8, 9, 10, 11, 36, 37"]
[null,"Equality","Equalities - age","Are there concerns regarding age discrimination within supply chains' workforce AND/OR opportunities to promote age equality? ","Discrimination, harassment, victimisation or other unlawful conduct, within the potential procurement, as a result of age (protected characteristic) AND/OR there are potential opportunities to advance equality of opportunity and foster good relations between people who share a protected characteristic and people who do not share it.","We have tackled the significant inequalities in Scottish society","5, 8, 9, 10, 11, 14, 15, 38 "]
[null,null,null,null,null,"We take pride in a strong, fair and inclusive national identity","8, 9, 10, 11, 12, 13, 14, 15, 26, 36, 37, 38, 39, 40"]
[null,null,"Equalities - disability","Are there concerns regarding disability discrimination within supply chains' workforce AND/OR opportunities to promote disability equality? ","Discrimination, harassment, victimisation or other unlawful conduct, within the potential procurement, as a result of disability (protected characteristic) AND/OR there are potential opportunities to advance equality of opportunity and foster good relations between people who share a protected characteristic and people who do not share it.","We have tackled the significant inequalities in Scottish society","5, 8, 9, 10, 11, 14, 15, 38 "]
[null,null,null,null,null,"We take pride in a strong, fair and inclusive national identity","8, 9, 10, 11, 12, 13, 14, 15, 26, 36, 37, 38, 39, 40"]
[null,null,"Equalities - gender ","Are there concerns regarding gender discrimination within supply chains' workforce AND/OR opportunities to promote gender equality? ","Discrimination, harassment, victimisation or other unlawful conduct, within the potential procurement, as a result of gender (protected characteristic) AND/OR there are potential opportunities to advance equality of opportunity and foster good relations between people who share a protected characteristic and people who do not share it.","We have tackled the significant inequalities in Scottish society","5, 8, 9, 10, 11, 14, 15, 38 "]
[null,null,null,null,null,"We take pride in a strong, fair and inclusive national identity","8, 9, 10, 11, 12, 13, 14, 15, 26, 36, 37, 38, 39, 40"]
[null,null,"Equalities - gender reassignment","Are there concerns regarding gender reassignment discrimination within supply chains' workforce AND/OR opportunities to promote gender reassignment equality? ","Discrimination, harassment, victimisation or other unlawful conduct, within the potential procurement, as a result of gender reassignment (protected characteristic) AND/OR there are potential opportunities to advance equality of opportunity and foster good relations between people who share a protected characteristic and people who do not share it.","We have tackled the significant inequalities in Scottish society","5, 8, 9, 10, 11, 14, 15, 38 "]
[null,null,null,null,null,"We take pride in a strong, fair and inclusive national identity","8, 9, 10, 11, 12, 13, 14, 15, 26, 36, 37, 38, 39, 40"]
[null,null,"Equalities - marriage and civil partnerships","Are there concerns regarding marriage and civil partnerships discrimination within supply chains' workforce AND/OR opportunities to promote marriage and civil partnership equality? ","Discrimination, harassment, victimisation or other unlawful conduct, within the potential procurement, as a result of marriage or civil partnership (protected characteristic) AND/OR there are potential opportunities to advance equality of opportunity and foster good relations between people who share a protected characteristic and people who do not share it.","We have tackled the significant inequalities in Scottish society","5, 8, 9, 10, 11, 14, 15, 38 "]
[null,null,null,null,null,"We take pride in a strong, fair and inclusive national identity","8, 9, 10, 11, 12, 13, 14, 15, 26, 36, 37, 38, 39, 40"]
[null,null,"Equalities - pregnancy and maternity","Are there concerns regarding pregnancy and maternity discrimination within supply chains' workforce AND/OR opportunities to promote pregnancy and maternity equality? ","Discrimination, harassment, victimisation or other unlawful conduct, within the potential procurement, as a result of pregnancy or maternity (protected characteristic) AND/OR there are potential opportunities to advance equality of opportunity and foster good relations between people who share a protected characteristic and people who do not share it.","We have tackled the significant inequalities in Scottish society","5, 8, 9, 10, 11, 14, 15, 38 "]
[null,null,null,null,null,"We take pride in a strong, fair and inclusive national identity","8, 9, 10, 11, 12, 13, 14, 15, 26, 36, 37, 38, 39, 40"]
[null,null,"Equalities - race","Are there concerns regarding race discrimination within supply chains' workforce AND/OR opportunities to promote race equality? ","Discrimination, harassment, victimisation or other unlawful conduct, within the potential procurement, as a result of race/ethnic origin (protected characteristic) AND/OR there are potential opportunities to advance equality of opportunity and foster good relations between people who share a protected characteristic and people who do not share it.","We have tackled the significant inequalities in Scottish society","5, 8, 9, 10, 11, 14, 15, 38 "]
[null,null,null,null,null,"We take pride in a strong, fair and inclusive national identity","8, 9, 10, 11, 12, 13, 14, 15, 26, 36, 37, 38, 39, 40"]
[null,null,"Equalities - religion or belief","Are there concerns regarding religion or belief discrimination within supply chains' workforce AND/OR opportunities to promote religion or belief equality? ","Discrimination, harassment, victimisation or other unlawful conduct, within the potential procurement, as a result of religion/belief (protected characteristic) AND/OR there are potential opportunities to advance equality of opportunity and foster good relations between people who share a protected characteristic and people who do not share it.","We have tackled the significant inequalities in Scottish society","5, 8, 9, 10, 11, 14, 15, 38 "]
[null,null,null,null,null,"We take pride in a strong, fair and inclusive national identity","8, 9, 10, 11, 12, 13, 14, 15, 26, 36, 37, 38, 39, 40"]
[null,null,"Equalities - sexual orientation","Are there concerns regarding sexual orientation discrimination within supply chains' workforce AND/OR opportunities to promote sexual orientation equality? ? ","Discrimination, harassment, victimisation or other unlawful conduct, within the potential procurement, as a result of sexual orientation (protected characteristic) AND/OR there are potential opportunities to advance equality of opportunity and foster good relations between people who share a protected characteristic and people who do not share it.","We have tackled the significant inequalities in Scottish society","5, 8, 9, 10, 11, 14, 15, 38 "]
[null,null,null,null,null,"We take pride in a strong, fair and inclusive national identity","8, 9, 10, 11, 12, 13, 14, 15, 26, 36, 37, 38, 39, 40"]
[null,"Fair Work","Workforce matters","Is there a risk of unfair employment practices, including pay and conditions AND/OR opportunities to promote a living wage or ensure the workforce is well motivated, well led and has appropriate opportunities for training and skills development?","Workforce matters are most likely to be relevant in relation to contracts involving services and construction. Procurers may seek suppliers who take a positive approach to rewarding workers at a level that can help tackle poverty (e.g. through a commitment to paying at least the living wage), adopt fair employment practices, provide skills and training which help workers fulfil their potential, do not exploit workers (e.g. in relation to matters such as the inappropriate use of zero hours contracts or “umbrella” companies); and they will demonstrate organisational integrity with regards to the delivery of those policies, including having arrangements in place to ensure effective employee representation.","We have tackled the significant inequalities in Scottish society","5, 8, 9, 10, 11, 14, 15, 38 "]
[null,null,null,null,null,"We take pride in a strong, fair and inclusive national identity","8, 9, 10, 11, 12, 13, 14, 15, 26, 36, 37, 38, 39, 40"]
[null,null,null,null,null,"We live in a Scotland that is the most attractive place for doing business in Europe.","1, 2, 3, 5, 6, 7, 8, 9, 10, 11, 36, 37"]
[null,null,null,null,null,"We realise our full economic potential with more and better employment opportunities for our people","1, 2, 6, 7, 8, 9, 10, 11, 14, 15, 16, 38"]
[]
[null,"Life Cycle Impacts"]
[null,"When considering which of the above Risks and Opportunities are relevant to categories of procurement,  it is important to consider what they are likely to be during the Life Cycle of the potential product or service, that may be procured within the categories or commodities. "]
[null,"This enables users  to identify the major environmental and socio-economic risks and opportunities associated with the purchases they are considering, and where they are relevant. "]
[null,"For example, this may identify that key risks and opportunities relate to the manufacture of a product, in which case (if procurement is from manufacturers) you may focus on how the production process, and how environmental impacts may be reduced. Alternatively, Life Cycle Impact Mapping may identify key risks and opportunities relate to service delivery. "]
[null,"It should be used at the earliest possible opportunity - as part of the development of a procurement strategy."]
[null,"It should be carried out by a group of stakeholders drawing on the expertise and experience of the group."]
[null,"Users can then make informed decisions about the extent to which they can address these risks and opportunities and, crucially, the stage of the procurement process at which it is best to do so (and who needs to be involved)."]
[null,"It should also be considered when developing frameworks or contracts."]
[null,"For guidance on the use of Life Cycle Impact Mapping (LCIM) see: http://www.scotland.gov.uk/Topics/Government/Procurement/policy/corporate-responsibility/CSR/Marrakech/LCI"]
[null,"As has been evidenced by the use of the Life Cycle Impact Mapping matrix (see opposite) in the development of various frameworks and contracts the LCIM sits between the prioritisation and Sustainability Test. It can highlight specific risks and opportunities within the Sustainability Test as being particularly relevant. "]
[]
[]
[]
[]
[]
[]
[null,"B. Categories Guidance:"]
[null,"Enter the categories /commodities you wish to prioritise before completing subsequent pages. Input one per row with no gaps."]
[null,"The categories may either be high level categories or you can undertake prioritisation of sub-categories. "]
[null,"Please note 'Categories' can be expenditure classifications (e.g. ProClass Level 1, 2 or 3), so may relate to a particular 'Category' or Commodity. You may also run the tool using contract titles (for example where you wish to determine priorities within forthcoming tenders/ contracts within a Contracts Register, Forward Plan or equivalent)."]
[null,"When first opening the tool there is space for a maximum of 20 categories. To expand this to a maximum of 40 categories click on the button that says 'Show more categories'. To return to a maximum of 20 click on the button that will then say 'To show fewer categories' - but make sure you delete the categories that are more than 20 first."]
[null,"If you are only prioritising a small selection of categories within your organisation, but wish to review this in the context of procurement across your wider organisation, then enter an additional \"category\", such as \"Rest of organisation\"."]
[null,"Important: To delete a category after you have begun entering answers on later pages, click its name in the list here and press the 'Delete' button to the right (if you want to delete more than one category this has to be done one-by-one). It is strongly recommended that you finalise your list of categories prior to pasting it into the tool. Deleting a lot of categories may cause the tool to stop working effectively. "]
[null,"To change the name of a product group on your list after starting later answers, you may just type over the old name."]
[]
[null,"C. Expenditure Guidance:"]
[null,"Enter spend for each 'category' into the pink column. "]
[null,"Make sure you use a suitable period e.g.. a 12 month period and the data is reliable - it is recommended that you use planned expenditure rather than historic as the prioritisation sets organisational priorities for the next 12 months."]
[null,"The spend data feeds into the graph of spend against risks and opportunities, which will help to inform you on procurement prioritisation actions.  "]
[null,"Enter into the 'Spend' column the amount your organisation spends on procurement in each category (see B. Categories Guidance for more information on relevant 'Categories'. "]
[null,"Each 'Category' will be given a score from 1 to 5 based on its spend amount. You will see these scores updating as you enter each Category’s spend. This is scored in quintiles so that the highest 20% of spending category(ies) will score 5 and lowest 20% of spending category(ies) will score 1."]
[]
[null,"D. Environmental, Socio-Economic and Reputational Risks Guidance:"]
[null,"For each category (along the top), answer the given question against each risk and opportunity (listed down the left hand side) by the following: How relevant is this issue to your organisation’s procurement of this product group? (0 = Not relevant; 1 = Low relevance; 2 = Medium; 3 = Critical issue).  Enter your answers in the grey cells as a single number ."]
[null,"Next to the grey cells is a text box (which currently states 'Insert comments here') where you may input reasons for the scoring, to provide relevant evidence . There is limited space to input text so please abbreviate as necessary. Do the same for the socio-economic risks and opportunities.  For the descriptions of each Risk & Opportunity you can click on the hyperlinked titles, or see the table of descriptions here."]
[null,"The environmental and socio-economic risks and opportunities scores are averaged and then weighted so that those which are identified as being critical score higher - these are reflected in the boxes showing 'Environmental Risk Score' and Socio-economic Risk Score'."]
[null,"Reputational Risk: For each category answer the question by entering either 0 = Not relevant; 1 = Low relevance; 2 = Medium; 3 = Critical issue. This confirms whether or not 'there is a potentially significant reputational risk surrounding your organisation’s procurement of this category?' "]
[null,"Reputational risk is assessed on a subjective basis. It does not necessarily follow that a category where there is a high environmental or socio-economic risk or opportunity also has a high reputational risk and vice versa. For example, textiles may have a high reputational risk given potential concerns regarding labour conditions in the supply chain, construction as a broad category may have high environmental and socio-economic risks as well as a high reputational risk, due to labour standards, health and safety and other concerns. Make sure you consider the life cycle of the relevant product or service within the category."]
[null,"Make sure you complete all questions on this page before progressing to subsequent pages. "]
[null,"The maximum score for Risks and Opportunities is 23."]
[null,"N.B. If you feel that any of the 'default' Risks and Opportunities' (see A. above) is not relevant to your organisation make sure you score all environmental and socio-economic risks and opportunities that relate to this as Zero (0) and the reputational score as Zero (0).  Do not delete the default Risks and Opportunities"]
[]
[null,"E. Scope To Improve Guidance:"]
[null,"For each category (along the top), answer the given question against each environmental and socio-economic issue (listed down the side) 'How much scope is there to do more to improve sustainability of procurement of this product group, in relation to this issue? (0 = none; 1 = a little; 2 = medium 3 = a lot)' into the grey box for each."]
[null,"When assessing each category you should consider whether there is scope to improve to either mitigate relevant environmental and socio-economic risks or capture opportunities  - this is your chance to determine whether you can do more, through the procurement process, to achieve intended sustainable outcomes. The maximum Scope score is 20."]
[null,"Please note:"]
[null,"If you assessed the Risk and Opportunity as not being relevant (so giving it a score of Zero) to a particular category in the assessment of risks and opportunities on the previous page (see D. above)  this score is carried forward to this page. You may overwrite this if you feel that, on reflection, this is not correct but make sure you go back and also change the Risks and Opportunities score on the previous page. In addition, the formula for carrying forward any Zero scores will be overwritten as soon as you manually input a score in this page. "]
[null,"The environmental and socio-economic risks and opportunities Scope scores are averaged and then weighted so that those which are identified as being critical score higher - these are reflected in the boxes showing 'Total Scope Score' ."]
[null,"N.B. If you feel that any of the 'default' Risks and Opportunities' (see A. above) is not relevant to your organisation make sure you score all environmental and socio-economic risks and opportunities Scope that relate to this as Zero (0).  Do not delete the default Risks and Opportunities"]
[]
[null,"F: Influence Guidance: "]
[null,"For each product group (along the top), answer the 7 questions (listed down the side) by entering 1 or 2 into the grey box for each, according to the key. The maximum Influence score is 7 (if all questions score 2):"]
[null,"Is the market for the goods and services within this category/product group highly competitive? Determine if there are numerous players in the market all competing for business (i.e. consumer goods, IT equipment, vehicles, stationery etc.). "]
[null,"Does your organisation command a large enough share of the sector’s market to influence change? Holding a significant minority proportion of the market (5% or above) helps the Public sector steer the sector, not merely from a profit perspective from individual suppliers but from a competition perspective from potential suppliers.  "]
[null,"Would your organisation represent a significant percentage of a potential supplier’s turnover in this market place? Reflect upon the supplier’s turnover and determine if this contract is more than about 0.5% of their turnover. If it is, this will be considered a significant purchase from a value perspective. The supplier may only have around 20 clients who singularly account for more than ½ a percent of their turnover.  "]
[null,"Are the supplier's other clients likely to be influenced by them operating effectively with your organisation? Reflect upon our brand and its weight to the supplier. By having the Public Sector as a client will the supplier gain credibility with other clients as being dependable?  "]
[null,"Is society at large likely to be influenced by suppliers operating effectively with your organisation? Consider the image connotations associated with adherence to Public sector policy (i.e. sustainable development strategy) which implies innovation and corporate responsibility.  "]
[null,"Will suppliers enhance their policy and practice as a result of operating to your policies? Has the Public sector implemented efficiency drives or sector strategies to improve supplier operations? Does working with the public sector educate suppliers on important sustainability questions which could be answered in supplier policy/strategy? "]
[null,"Are you likely to be considered an attractive proposition to potential suppliers within this category? Consider whether a partnership with a public sector client may provide your suppliers with new opportunities to make improvements to their services and products. "]
[]
[null,"G: Status Summary Guidance: "]
[null,"This page is for reference only."]
[null,"Completion status:"]
[null,"Check the  \"completion status\" table to ensure that all required responses are complete. "]
[null,"The completion status will show “complete” for the input pages if all relevant information and scores have been input. It will show “Incomplete” if there are any gaps in the middle of a list, or if there are scores missing. Note: As the cells that need to be scored in the 'Scope' tab contain a formula, the above summary may show Scope as complete when further scores are still required. It is recommended that you check that you have scored all relevant cells in this tab. \n"]
[null,"Summary of all scores:"]
[null,"Next to the Completion Status are the spend and relevant scores for each category for reference."]
[]
[]
[]
[]
[]
[]
[]
[null,"H. Spend V Risk Graph:"]
[null,"This graph displays the Risks and Opportunities scores (Environmental, Socio-economic and Reputational) relative to the Spend score for each category."]
[null,"The matrix is split into quadrants, showing categories that appear in each labelled quadrant “Secure”, “Critical”, “Acquisition” and “Cost driven”.  To review these labels and what they mean click on the button which says 'Information on quadrants' (also shown here)."]
[]
[null,"Categories are shown on the graph using a coloured shape; the key on the right hand side displays which categories correspond to each shape. If more than one category appears at the same point, they will all be represented by the same colour and shape, with each one appearing in the key. "]
[]
[null,"It is possible that not all the names of the categories may appear in the key if some are long names and a large number of categories is included. In this case go back to the categories page and abbreviate the names of longer categories."]
[null,"Using the results:"]
[null,"This Graph shows the relationship between Spend and all Risks (Environmental, Socio-economic and Reputational). It identifies those categories in the top right hand quadrant which combine a high spend score with high risk & opportunity score; these are priority categories and your organisation should focus overall effort on these. "]
[null,"It does not mean the other categories should be ignored as there may be opportunities to capture simple improvements within these, but it emphasises those categories which are strategically important. "]
[null,"The results should be used to inform Category, or equivalent, Strategies."]
[]
[]
[null,"I. Risk v Scope Graph: "]
[null,"This graph displays the Risks and Opportunities scores relative to the Scope to Do More to mitigate these risks or capture the opportunities for all categories. "]
[null,"The graph is divided into quadrants, labelled “Quick Win”, “Transform”, “Marginal” and “Campaign”. To review these labels and what they mean click on the button which says 'Information on quadrants' (also shown here)."]
[]
[null,"Categories are shown on the graph using a coloured shape; the key on the right hand side displays which categories correspond to each shape. If more than one category appears at the same point, they will all be represented by the same colour and shape, with each one appearing in the key. "]
[]
[null,"It is possible that not all the names of the categories may appear in the key if some are long names and a large number of categories is included. In this case go back to the categories page and abbreviate the names of longer categories."]
[]
[null,"Using the results:"]
[null,"This graph is designed to help your organisation determine how to approach buyers. It emphasises the approach that should be taken by procuring organisations to focus on what it can do to improve sustainability outcomes; for example through relevant requirements it may place on suppliers through contract specification and contract management but also through potential collaboration, improvements in the use of products or services, consideration of new business models.... "]
[]
[null,"J. Influence v Scope: "]
[null,"This graph displays the Scope to Do More to mitigate these risks or capture the opportunities relative to the Influence you have over the market for all categories. "]
[null,"The graph is divided into quadrants, labelled “Challenge”, “Pioneer”, “Encourage” and “R&D” (Research & Development). To review these labels and what they mean click on the button which says 'Information on quadrants' (also shown here)."]
[]
[null,"Categories are shown on the graph using a coloured shape; the key on the right hand side displays which categories correspond to each shape. If more than one category appears at the same point, they will all be represented by the same colour and shape, with each one appearing in the key. "]
[]
[null,"It is possible that not all the names of the categories may appear in the key if some are long names and a large number of categories is included. In this case go back to the categories page and abbreviate the names of longer categories."]
[]
[null,"Using the results:"]
[null,"This graph highlights the approach that should be taken by the procuring organisation to market engagement; it highlights for example those product groups where  you have a high degree of influence over the market  and there is significant scope to do more to improve sustainability outcomes. Engagement with potential suppliers of these product groups offers opportunities to discuss the potential for innovative solutions, such as new business models, 'closed loop' solutions as well as current understanding and application of the procuring organisation's sustainable procurement objectives."]
[]
[null,"K. Overall Summary Graph: "]
[null,"This bar chart summarises the combined risk and opportunity score, scope score and influence score for each category product group. It is designed to help your organisation determine which categories  to prioritise initially, and focus most time and resources on first. The categories will be displayed in descending order of their combined scores, so that the group furthest left will be the highest ‘overall priority’."]
[]
[null,"Each product group has a bar with a blue section representing the risk score, a light grey section for the scope score and a dark grey section for the influence score. The scores are each scaled so that there is equal weighting between risk, scope and influence. The scale on the y-axis of this graph has no real meaning, but is such that due to the scaling, all the blue (risk) bars have an average height of 10, the light grey (scope) bars have an average height of 10, and the dark grey (influence) bars have an average height of 10."]
[]
[null,"L. Outcomes - National and Organisational  (and Export)"]
[null,"This page summarises:"]
[null,"1. The Environmental and Socio-economic Risks and Opportunities for each 'category';"]
[null,"2. The Scope to Improve scores for each 'category';"]
[null,"3. The National Outcomes and Indicators potentially influenced through the procurement of these categories, based on the scores input;"]
[null,"4. Where you input details of organisational strategies in the Risks & Opps tab these are repeated here to show the link from categories to organisational strategies."]
[null,"It should be noted that where you have scored a 0 (Zero) for Risks and Opportunities or Scope this is shown as N/A as no National Outcomes or Indicators are influenced."]
[null,"Where you have scored either 1, 2 or 3 the relevant National Outcomes and Indicators are shown.   "]
[null,"National Indicators are shown as numbers - please refer to the list of National Outcomes and Indicators. "]
[null,"  "]
[null,"This summary helps you to 'close the loop'  as set out in A. above - the link from National Outcomes to Organisational Procurement Objectives, delivered through relevant and proportionate priorities. It should be considered in conjunction with the Graphs."]
[]
[]
[null,"You may 'Export' the results that are highlighted in the red-dashed area, to the Sustainability Test. This enables the results of prioritisation of the underlying categories or commodities to be cross-referenced with the assessment of Risks and Opportunities when developing a framework or contract. Copy the red-dashed area and paste into the Sustainability Test."]

{"sheet":"RiskGuide","index":16,"n_rows":10,"n_cols":1,"rows_kept":10,"cut":false,"hidden":true,"merged":[]}
["Risk Questions: notes on answering"]
["Risk Consideration: Level of existing activity. "]
["•        Score out of 3 where little or no activity=3, and much activity=1"]
["There are areas of public sector procurement expenditure where initiatives are already in place such as timber, food, white goods etc. These areas are likely to present less of a risk. Individual public sector organisations are more likely to be able to accurately assess the existing activity on a local regional scale but there is a need for appropriate support to be given to procurement officers when making this assessment."]
["Risk Consideration: Scope to do more."]
["•        Score out of 3 where much scope=3 and little scope=1"]
["Areas where there is scope to do more were identified as higher risk as there is a likelihood that there are opportunities being missed. "]
["Risk Consideration: Reputational Risk. "]
["•        Score out of 3 where high risk=3 and low risk=1"]
["Reputational risk is assessed on a subjective basis. Stakeholders are asked to score each of the sectors from 1-3 in terms of reputational risk. For example the public relations risk of using pulp and paper from virgin forests is high, even though the environmental impact associated with it is relatively low in some cases. Any significant procurement of tropical hardwood timber has a high reputational risk due to the intricacies of the supply chain and government commitments on legality and sustainability. "]

{"sheet":"InfGuide","index":17,"n_rows":17,"n_cols":1,"rows_kept":17,"cut":false,"hidden":true,"merged":[]}
["  Influence Questions: notes on answering"]
["Are the suppliers operating in a highly competitive market?"]
["Determine if there are numerous players in the market all competing for business (i.e. consumer goods, IT equipment, vehicles, stationery etc.)."]
["Does your organisation command a share of the sector’s market, significant enough to invoke change?"]
["Holding a significant minority proportion of the market (5% or above) helps the Public sector steer the sector, not merely from a profit perspective from individual suppliers but from a competition perspective from potential suppliers. "]
["Would your organisation represent a significant percentage of a potential supplier’s turnover in this market place?"]
["Reflect upon the supplier’s turnover and determine if this contract is more than about 0.5% of their turnover. If it is, this will be considered a significant purchase from a value perspective. The supplier may only have around 20 clients who singularly account for more than ½ a percent of their turnover. "]
["Does a supplier creating good relations with your organisation reflect well in the eyes of their clients? "]
["Reflect upon our brand and its weight to the supplier. By having the Public Sector as a client will the supplier gain credibility with other clients as being dependable? "]
["Does the supplier creating good relations with your organisation reflect well in the eyes of society at large?"]
["Consider the image connotations associated with adherence to Public sector policy (i.e. sustainable development strategy) which implies innovation and CSR. "]
["By working with your organisation, are there suppliers that improve their policy and practice by responding to your organisational policies?"]
["Has the Public sector implemented efficiency drives or sector strategies to improve supplier operations (i.e. Rethinking Construction, 1998)? Does working with the public sector educate suppliers on important sustainability questions which could be answered in supplier policy/strategy?"]
["Do the suppliers improve policy and practice through adherence to public sector policy and legislation?"]
["Is there legislation which exists to change the way in which the sector operates (i.e. climate change levy, 2001)? Does working with the public sector educate suppliers on important sustainability questions which could be answered in supplier policy/strategy? "]
["Through working with your organisation can suppliers develop goods/services that then provide them with competitive advantage?"]
["Consider whether a partnership with a public sector client may provide your suppliers with new opportunities to make improvements to their services and products."]

{"sheet":"Action","index":18,"n_rows":5,"n_cols":2,"rows_kept":5,"cut":false,"hidden":true,"merged":[[0,0,0,1]]}
["Spend-Risk Graph: Prioritise Action & Approach to Management"]
["SECURE: low spend, high risk","CRITICAL: high spend, high risk"]
["Approach to Secure Spend Areas: To be closely managed. These spend areas have equal second priority (with cost driven spend areas) for available procurement resource. Again undertake specific detailed risk assessment on each individual contract within the spend area. Consider paying a cost premium to manage the risks associated with the purchase. The focus is on building the best possible relationship with the supplier who can best manage the risks identified. ","Approach to Critical Spend Areas: To be closely managed. Critical spend areas have the first call on available procurement resource. More detailed focus on risk assessment for each individual contract within each spend area and focus on driving value and minimising risk with the supplier whilst building an effective relationship. "]
["ACQUISITION: low spend, low risk","COST DRIVEN: high spend, low risk"]
["Approach to Acquisition Spend Areas: Put the most efficient process in place to manage this low value/ low risk expenditure. These categories of spend have the last call on available procurement resource.","Approach to Cost Driven Spend Areas: To be assertively managed. These spend areas have equal second priority (with secure spend areas) for available procurement resource. Lever savings from suppliers in this category and use savings to fund any additional costs associated with managing higher risk areas in secure/ critical categories. "]

{"sheet":"Buyer","index":19,"n_rows":5,"n_cols":2,"rows_kept":5,"cut":false,"hidden":true,"merged":[[0,0,0,1]]}
["Risk-Scope Graph: Buyer Approach"]
["QUICK WIN: low risk, high scope","TRANSFORM: high risk, high scope"]
["Approach to Quick Wins: The approach here is to set minimum standards and mandate them into the organisation. The resource devoted to this relatively straightforward activity should be low, allowing more time to be spent on higher risk areas where campaigning or transformation is required.  ","Approach to Transforming: The approach to the contract and indeed to the market is to transform the way in which either the product or service is produced/ delivered and the attitude of the supplier/ market to sustainability issues. Therefore the buyer will approach the specific contract in a mind-set of transforming the current approach to minimise the sustainability risks present. An example of this is the move to renewable energy from fossil fuels, thereby transforming the current market.   "]
["MARGINAL: low risk, low scope","CAMPAIGN: high risk, low scope"]
["Approach to Marginal: Spend areas in this category are low risks and have few opportunities to do more. The approach here is to commit resource to these areas only if there are distinct opportunities presented by suppliers. ","Approach to Campaign: Spend areas in this category are high risks but have low scope to improve, mainly due to either proprietary suppliers or the complexities associated with the particular commodity e.g. chemicals. The approach here is to motivate the suppliers in this category to change the production process, product/service characteristics and/or their supply chain practices. It is accepted that this needs to be driven at a Government level to maximise leverage potential.  "]

{"sheet":"Market","index":20,"n_rows":5,"n_cols":2,"rows_kept":5,"cut":false,"hidden":true,"merged":[[0,0,0,1]]}
["Influence-Scope Graph: Market Engagement Strategy"]
["CHALLENGE: low influence, high scope","PIONEER: high influence, high scope"]
["Opportunities to CHALLENGE for new/alternative products/services.  Due to the high scope to improve sustainability, contrasted with low public sector influence within the market, all the public sector can do is  challenge the supplier to embrace the opportunities present. However, it has to be accepted that with minimal influence the ability to deliver improvement is best approached at a Governmental level.  ","Opportunities to PIONEER new/alternative products/services. Spend areas in this category have a high scope for improvement and public sector influence is high. Therefore, clear opportunities exist to improve sustainability. The public sector can drive the market/ suppliers to embrace and deliver the sustainability opportunities available. For example, due to the value spent on uniforms and the eminent scope to do more in terms of social conditions in the workplace, buyers should pioneer improvements within the supply chain.   "]
["ENCOURAGE: low influence, low scope","R&D: high influence, low scope"]
["Opportunities to ENCOURAGE: This category is both low scope and low influence. Therefore the approach should be to encourage suppliers to recognise the importance of sustainability, their part within it and the opportunities they have to improve. It is accepted that improvements here will be incremental and of low overall impact, however the opportunity for education on sustainability impacts is still present and may just focus on energy saving and waste management issues for the suppliers concerned.","Opportunities for RESEARCH AND DEVELOPMENT: Due to the high degree of buyer influence coupled with limited opportunities to improve sustainability. The focus should be on pushing suppliers/ markets to undertake research and development to stimulate innovation. "]

{"sheet":"Lookups&Calcs","index":21,"n_rows":84,"n_cols":51,"rows_kept":84,"cut":false,"hidden":true,"merged":[]}
[null,null,null,null,null,null,"HighSpend:",{"$f":"MAX(Spend)","v":5867081.6399999997},null,null,null,null,null,null,null,null,null,null,null,null,null,null,null,null,"Graph label",null,null,"x","y",null,null,null,null,"x","y",null,null,null,null,"x","y"]
["Spend score calculations",null,null,null,null,null,null,null,null,null,null,null,null,null,null,null,null,null,null,null,null,null,null,null,"setting ->",null,{"$f":"Summary!F4","v":"Mobile Tech"},{"$f":"Summary!G4","v":3735418.35},{"$f":"Summary!H4","v":16},{"$f":"Summary!G4&\",\"&Summary!H4","v":"3735418.35,16"},{"$f":"IF(AD2=\",\",100,MATCH(AD2,AD$2:AD$41,0))","v":1},{"$f":"IF(AA2=\"\",\"\",RANK(AE2,AE$2:AE$41,1)+COUNTIF(AE$1:AE1,AE2))","v":1},{"$f":"Summary!F4","v":"Mobile Tech"},{"$f":"Summary!H4","v":16},{"$f":"Summary!I4","v":9},{"$f":"Summary!H4&\",\"&Summary!I4","v":"16,9"},{"$f":"IF(AJ2=\",\",100,MATCH(AJ2,AJ$2:AJ$41,0))","v":1},{"$f":"IF(AG2=\"\",\"\",RANK(AK2,AK$2:AK$41,1)+COUNTIF(AK$1:AK1,AK2))","v":1},{"$f":"Summary!F4","v":"Mobile Tech"},{"$f":"Summary!J4","v":7},{"$f":"Summary!I4","v":9},{"$f":"Summary!J4&\",\"&Summary!I4","v":"7,9"},{"$f":"IF(AP2=\",\",100,MATCH(AP2,AP$2:AP$41,0))","v":1},{"$f":"IF(AM2=\"\",\"\",RANK(AQ2,AQ$2:AQ$41,1)+COUNTIF(AQ$1:AQ1,AQ2))","v":1}]
["GrpRank","Rank","Rank Spend","Cumulative",null,null,"\"Overall\" graph calculation (ordered)",null,null,null,null,"Overall graph calc - ordering",null,null,null,null,"rank","-ties",null,null,null,null,null,null,null,null,{"$f":"Summary!F5","v":"Servers/Storage"},{"$f":"Summary!G5","v":3999469.55},{"$f":"Summary!H5","v":17},{"$f":"Summary!G5&\",\"&Summary!H5","v":"3999469.55,17"},{"$f":"IF(AD3=\",\",100,MATCH(AD3,AD$2:AD$41,0))","v":2},{"$f":"IF(AA3=\"\",\"\",RANK(AE3,AE$2:AE$41,1)+COUNTIF(AE$1:AE2,AE3))","v":2},{"$f":"Summary!F5","v":"Servers/Storage"},{"$f":"Summary!H5","v":17},{"$f":"Summary!I5","v":5},{"$f":"Summary!H5&\",\"&Summary!I5","v":"17,5"},{"$f":"IF(AJ3=\",\",100,MATCH(AJ3,AJ$2:AJ$41,0))","v":2},{"$f":"IF(AG3=\"\",\"\",RANK(AK3,AK$2:AK$41,1)+COUNTIF(AK$1:AK2,AK3))","v":2},{"$f":"Summary!F5","v":"Servers/Storage"},{"$f":"Summary!J5","v":7},{"$f":"Summary!I5","v":5},{"$f":"Summary!J5&\",\"&Summary!I5","v":"7,5"},{"$f":"IF(AP3=\",\",100,MATCH(AP3,AP$2:AP$41,0))","v":2},{"$f":"IF(AM3=\"\",\"\",RANK(AQ3,AQ$2:AQ$41,1)+COUNTIF(AQ$1:AQ2,AQ3))","v":3},null,"Equalities finder",{"$f":"MATCH(1,AT4:AT23,0)","v":{"$error":"#N/A"}},null,{"$f":"ISNUMBER(EqualitiesIndex)","v":false},null,{"$f":"MAX(AY4:AY43)","v":89}]
[{"$f":"IF(OR(COUNTA(ProductGroups)<Rank,Spend=\"\"),\"\",(RANK(Spend,OFFSET(INDEX(Spend,1),0,0,COUNTA(ProductGroups),1))))","v":3},1,{"$f":"IF(ISNA(MATCH(Rank,GrpRank,0)),IF(Rank<=COUNTA(ProductGroups),C3,\"\"),INDEX(Spend,MATCH(Rank,GrpRank,0)))","v":5867081.6399999997},{"$f":"SUM(C$3:C3)","v":0},{"$f":"IF(C4=\"\",\"\",VLOOKUP(CumuSpend,QuintileBoundaries,2,TRUE))","v":5},null,{"$f":"IF(ProductGroups=\"\",\"\",INDEX(L$4:L$43,MATCH(ROW()-ROW(OverallGraphStart)+1,$R$4:$R$43,0)))","v":"PCs: Macs/Workstation/Thin Client"},{"$f":"IF(ProductGroups=\"\",\"\",INDEX(M$4:M$43,MATCH(ROW()-ROW(OverallGraphStart)+1,$R$4:$R$43,0)))","v":10.461538461538462},{"$f":"IF(ProductGroups=\"\",\"\",INDEX(N$4:N$43,MATCH(ROW()-ROW(OverallGraphStart)+1,$R$4:$R$43,0)))","v":13.846153846153847},{"$f":"IF(ProductGroups=\"\",\"\",INDEX(O$4:O$43,MATCH(ROW()-ROW(OverallGraphStart)+1,$R$4:$R$43,0)))","v":11.914893617021276},null,{"$f":"IF(ProductGroups=\"\",\"\",ProductGroups)","v":"Mobile Tech"},{"$f":"IF(ProductGroups=\"\",\"\",10*COUNTA(ProductGroups)*INDEX(TotRiskScore,2*MATCH(ProductGroups,ProductGroups,0)-1)/MAX(0.001,SUM(TotRiskScore)))","v":9.8461538461538467},{"$f":"IF(ProductGroups=\"\",\"\",10*COUNTA(ProductGroups)*INDEX(TotScopeScore,2*MATCH(ProductGroups,ProductGroups,0)-1)/MAX(0.001,SUM(TotScopeScore)))","v":13.846153846153847},{"$f":"IF(ProductGroups=\"\",\"\",10*COUNTA(ProductGroups)*INDEX(TotInfluenceScore,2*MATCH(ProductGroups,ProductGroups,0)-1)/MAX(0.001,SUM(TotInfluenceScore)))","v":11.914893617021276},{"$f":"IF(ProductGroups=\"\",\"\",SUM(M4:O4))","v":35.607201309328971},{"$f":"IF(ProductGroups=\"\",\"\",RANK(P4,P$4:P$43))","v":2},{"$f":"IF(Q4=\"\",\"\",Q4+COUNTIF(Q$3:Q3,Q4))","v":2},null,null,null,null,null,null,null,null,{"$f":"Summary!F6","v":"Networking Equipment (Large Routers)"},{"$f":"Summary!G6","v":622056.26},{"$f":"Summary!H6","v":14},{"$f":"Summary!G6&\",\"&Summary!H6","v":"622056.26,14"},3,{"$f":"IF(AA4=\"\",\"\",RANK(AE4,AE$2:AE$41,1)+COUNTIF(AE$1:AE3,AE4))","v":3},{"$f":"Summary!F6","v":"Networking Equipment (Large Routers)"},{"$f":"Summary!H6","v":14},{"$f":"Summary!I6","v":4},{"$f":"Summary!H6&\",\"&Summary!I6","v":"14,4"},3,{"$f":"IF(AG4=\"\",\"\",RANK(AK4,AK$2:AK$41,1)+COUNTIF(AK$1:AK3,AK4))","v":3},{"$f":"Summary!F6","v":"Networking Equipment (Large Routers)"},{"$f":"Summary!J6","v":7},{"$f":"Summary!I6","v":4},{"$f":"Summary!J6&\",\"&Summary!I6","v":"7,4"},3,{"$f":"IF(AM4=\"\",\"\",RANK(AQ4,AQ$2:AQ$41,1)+COUNTIF(AQ$1:AQ3,AQ4))","v":5},null,{"$f":"IF(SocIssues=\"\",\"\",IF(ISERR(SEARCH(\"OLIVE\",SocIssues)),0,SEARCH(\"OLIVE\",SocIssues)))","v":0},{"$f":"IF(AT4=\"\",\"\",IF(AT4=1,1/COUNTIF($AT$4:$AT$23,1),1))","v":1},null,null,null,{"$f":"LEN(ProductGroups)","v":11}]
[2,2,3999469.55,{"$f":"SUM(C$3:C4)","v":5867081.6399999997},4,null,"Mobile Tech",9.8461538461538467,13.846153846153847,11.914893617021276,null,"Servers/Storage",10.461538461538462,7.6923076923076925,11.914893617021276,30.068739770867431,4,{"$f":"IF(Q5=\"\",\"\",Q5+COUNTIF(Q$3:Q4,Q5))","v":4},null,null,null,null,null,null,null,null,{"$f":"Summary!F7","v":"PCs: Macs/Workstation/Thin Client"},{"$f":"Summary!G7","v":2544120.34},{"$f":"Summary!H7","v":17},{"$f":"Summary!G7&\",\"&Summary!H7","v":"2544120.34,17"},4,{"$f":"IF(AA5=\"\",\"\",RANK(AE5,AE$2:AE$41,1)+COUNTIF(AE$1:AE4,AE5))","v":4},{"$f":"Summary!F7","v":"PCs: Macs/Workstation/Thin Client"},{"$f":"Summary!H7","v":17},{"$f":"Summary!I7","v":9},{"$f":"Summary!H7&\",\"&Summary!I7","v":"17,9"},4,{"$f":"IF(AG5=\"\",\"\",RANK(AK5,AK$2:AK$41,1)+COUNTIF(AK$1:AK4,AK5))","v":4},{"$f":"Summary!F7","v":"PCs: Macs/Workstation/Thin Client"},{"$f":"Summary!J7","v":7},{"$f":"Summary!I7","v":9},{"$f":"Summary!J7&\",\"&Summary!I7","v":"7,9"},1,{"$f":"IF(AM5=\"\",\"\",RANK(AQ5,AQ$2:AQ$41,1)+COUNTIF(AQ$1:AQ4,AQ5))","v":2},null,0,1,null,null,null,15]
[6,3,3735418.35,{"$f":"SUM(C$3:C5)","v":9866551.1899999995},3,null,"Printers/MFD's",11.076923076923077,7.6923076923076925,11.914893617021276,null,"Networking Equipment (Large Routers)",8.615384615384615,6.1538461538461542,11.914893617021276,26.684124386252044,6,{"$f":"IF(Q6=\"\",\"\",Q6+COUNTIF(Q$3:Q5,Q6))","v":6},null,null,null,null,null,null,null,null,{"$f":"Summary!F8","v":"Printers/MFD's"},{"$f":"Summary!G8","v":77968.820000000007},{"$f":"Summary!H8","v":18},{"$f":"Summary!G8&\",\"&Summary!H8","v":"77968.82,18"},5,{"$f":"IF(AA6=\"\",\"\",RANK(AE6,AE$2:AE$41,1)+COUNTIF(AE$1:AE5,AE6))","v":5},{"$f":"Summary!F8","v":"Printers/MFD's"},{"$f":"Summary!H8","v":18},{"$f":"Summary!I8","v":5},{"$f":"Summary!H8&\",\"&Summary!I8","v":"18,5"},5,{"$f":"IF(AG6=\"\",\"\",RANK(AK6,AK$2:AK$41,1)+COUNTIF(AK$1:AK5,AK6))","v":5},{"$f":"Summary!F8","v":"Printers/MFD's"},{"$f":"Summary!J8","v":7},{"$f":"Summary!I8","v":5},{"$f":"Summary!J8&\",\"&Summary!I8","v":"7,5"},2,{"$f":"IF(AM6=\"\",\"\",RANK(AQ6,AQ$2:AQ$41,1)+COUNTIF(AQ$1:AQ5,AQ6))","v":4},null,0,1,null,null,null,36]
[5,4,2792543.53,{"$f":"SUM(C$3:C6)","v":13601969.539999999},2,null,"Servers/Storage",10.461538461538462,7.6923076923076925,11.914893617021276,null,"PCs: Macs/Workstation/Thin Client",10.461538461538462,13.846153846153847,11.914893617021276,36.222585924713584,1,{"$f":"IF(Q7=\"\",\"\",Q7+COUNTIF(Q$3:Q6,Q7))","v":1},null,null,null,null,null,null,null,null,{"$f":"Summary!F9","v":"Cages and Racking, Isolators"},{"$f":"Summary!G9","v":279356.94},{"$f":"Summary!H9","v":14},{"$f":"Summary!G9&\",\"&Summary!H9","v":"279356.94,14"},6,{"$f":"IF(AA7=\"\",\"\",RANK(AE7,AE$2:AE$41,1)+COUNTIF(AE$1:AE6,AE7))","v":6},{"$f":"Summary!F9","v":"Cages and Racking, Isolators"},{"$f":"Summary!H9","v":14},{"$f":"Summary!I9","v":8},{"$f":"Summary!H9&\",\"&Summary!I9","v":"14,8"},6,{"$f":"IF(AG7=\"\",\"\",RANK(AK7,AK$2:AK$41,1)+COUNTIF(AK$1:AK6,AK7))","v":6},{"$f":"Summary!F9","v":"Cages and Racking, Isolators"},{"$f":"Summary!J9","v":5},{"$f":"Summary!I9","v":8},{"$f":"Summary!J9&\",\"&Summary!I9","v":"5,8"},6,{"$f":"IF(AM7=\"\",\"\",RANK(AQ7,AQ$2:AQ$41,1)+COUNTIF(AQ$1:AQ6,AQ7))","v":6},null,0,1,null,null,null,33]
[8,5,2544120.34,{"$f":"SUM(C$3:C7)","v":16394513.069999998},1,null,"Cages and Racking, Isolators",8.615384615384615,12.307692307692308,8.5106382978723403,null,"Printers/MFD's",11.076923076923077,7.6923076923076925,11.914893617021276,30.684124386252044,3,{"$f":"IF(Q8=\"\",\"\",Q8+COUNTIF(Q$3:Q7,Q8))","v":3},null,null,null,null,null,null,null,null,{"$f":"Summary!F10","v":"Laboratory Small Appaaratus and Equipment Purchase"},{"$f":"Summary!G10","v":5867081.6399999997},{"$f":"Summary!H10","v":13},{"$f":"Summary!G10&\",\"&Summary!H10","v":"5867081.64,13"},7,{"$f":"IF(AA8=\"\",\"\",RANK(AE8,AE$2:AE$41,1)+COUNTIF(AE$1:AE7,AE8))","v":7},{"$f":"Summary!F10","v":"Laboratory Small Appaaratus and Equipment Purchase"},{"$f":"Summary!H10","v":13},{"$f":"Summary!I10","v":6},{"$f":"Summary!H10&\",\"&Summary!I10","v":"13,6"},7,{"$f":"IF(AG8=\"\",\"\",RANK(AK8,AK$2:AK$41,1)+COUNTIF(AK$1:AK7,AK8))","v":7},{"$f":"Summary!F10","v":"Laboratory Small Appaaratus and Equipment Purchase"},{"$f":"Summary!J10","v":5},{"$f":"Summary!I10","v":6},{"$f":"Summary!J10&\",\"&Summary!I10","v":"5,6"},7,{"$f":"IF(AM8=\"\",\"\",RANK(AQ8,AQ$2:AQ$41,1)+COUNTIF(AQ$1:AQ7,AQ8))","v":7},null,0,1,null,null,null,14]
[7,6,622056.26,{"$f":"SUM(C$3:C8)","v":18938633.409999996},1,null,"Networking Equipment (Large Routers)",8.615384615384615,6.1538461538461542,11.914893617021276,null,"Cages and Racking, Isolators",8.615384615384615,12.307692307692308,8.5106382978723403,29.433715220949264,5,{"$f":"IF(Q9=\"\",\"\",Q9+COUNTIF(Q$3:Q8,Q9))","v":5},null,null,null,null,null,null,null,null,{"$f":"Summary!F11","v":"Medical, Surgical, Nursing Supplies & Services Small Apparatus, Equipment and Instruments"},{"$f":"Summary!G11","v":2792543.53},{"$f":"Summary!H11","v":21},{"$f":"Summary!G11&\",\"&Summary!H11","v":"2792543.53,21"},8,{"$f":"IF(AA9=\"\",\"\",RANK(AE9,AE$2:AE$41,1)+COUNTIF(AE$1:AE8,AE9))","v":8},{"$f":"Summary!F11","v":"Medical, Surgical, Nursing Supplies & Services Small Apparatus, Equipment and Instruments"},{"$f":"Summary!H11","v":21},{"$f":"Summary!I11","v":6},{"$f":"Summary!H11&\",\"&Summary!I11","v":"21,6"},8,{"$f":"IF(AG9=\"\",\"\",RANK(AK9,AK$2:AK$41,1)+COUNTIF(AK$1:AK8,AK9))","v":8},{"$f":"Summary!F11","v":"Medical, Surgical, Nursing Supplies & Services Small Apparatus, Equipment and Instruments"},{"$f":"Summary!J11","v":2},{"$f":"Summary!I11","v":6},{"$f":"Summary!J11&\",\"&Summary!I11","v":"2,6"},8,{"$f":"IF(AM9=\"\",\"\",RANK(AQ9,AQ$2:AQ$41,1)+COUNTIF(AQ$1:AQ8,AQ9))","v":8},null,0,1,null,null,null,28]
[1,7,279356.94,{"$f":"SUM(C$3:C9)","v":19560689.669999998},1,null,"Laboratory Small Appaaratus and Equipment Purchase",8,9.2307692307692299,8.5106382978723403,null,"Laboratory Small Appaaratus and Equipment Purchase",8,9.2307692307692299,8.5106382978723403,25.74140752864157,7,{"$f":"IF(Q10=\"\",\"\",Q10+COUNTIF(Q$3:Q9,Q10))","v":7},null,null,null,null,null,null,null,null,{"$f":"Summary!F12","v":""},{"$f":"Summary!G12","v":""},{"$f":"Summary!H12","v":""},{"$f":"Summary!G12&\",\"&Summary!H12","v":","},100,{"$f":"IF(AA10=\"\",\"\",RANK(AE10,AE$2:AE$41,1)+COUNTIF(AE$1:AE9,AE10))","v":""},{"$f":"Summary!F12","v":""},{"$f":"Summary!H12","v":""},{"$f":"Summary!I12","v":""},{"$f":"Summary!H12&\",\"&Summary!I12","v":","},100,{"$f":"IF(AG10=\"\",\"\",RANK(AK10,AK$2:AK$41,1)+COUNTIF(AK$1:AK9,AK10))","v":""},{"$f":"Summary!F12","v":""},{"$f":"Summary!J12","v":""},{"$f":"Summary!I12","v":""},{"$f":"Summary!J12&\",\"&Summary!I12","v":","},100,{"$f":"IF(AM10=\"\",\"\",RANK(AQ10,AQ$2:AQ$41,1)+COUNTIF(AQ$1:AQ9,AQ10))","v":""},null,0,1,null,null,null,50]
[4,8,77968.820000000007,{"$f":"SUM(C$3:C10)","v":19840046.609999999},1,null,"Medical, Surgical, Nursing Supplies & Services Small Apparatus, Equipment and Instruments",12.923076923076923,9.2307692307692299,3.4042553191489362,null,"Medical, Surgical, Nursing Supplies & Services Small Apparatus, Equipment and Instruments",12.923076923076923,9.2307692307692299,3.4042553191489362,25.558101472995091,8,{"$f":"IF(Q11=\"\",\"\",Q11+COUNTIF(Q$3:Q10,Q11))","v":8},null,null,null,null,null,null,null,null,{"$f":"Summary!F13","v":""},{"$f":"Summary!G13","v":""},{"$f":"Summary!H13","v":""},{"$f":"Summary!G13&\",\"&Summary!H13","v":","},100,{"$f":"IF(AA11=\"\",\"\",RANK(AE11,AE$2:AE$41,1)+COUNTIF(AE$1:AE10,AE11))","v":""},{"$f":"Summary!F13","v":""},{"$f":"Summary!H13","v":""},{"$f":"Summary!I13","v":""},{"$f":"Summary!H13&\",\"&Summary!I13","v":","},100,{"$f":"IF(AG11=\"\",\"\",RANK(AK11,AK$2:AK$41,1)+COUNTIF(AK$1:AK10,AK11))","v":""},{"$f":"Summary!F13","v":""},{"$f":"Summary!J13","v":""},{"$f":"Summary!I13","v":""},{"$f":"Summary!J13&\",\"&Summary!I13","v":","},100,{"$f":"IF(AM11=\"\",\"\",RANK(AQ11,AQ$2:AQ$41,1)+COUNTIF(AQ$1:AQ10,AQ11))","v":""},null,"","",null,null,null,89]
["",9,"",{"$f":"SUM(C$3:C11)","v":19918015.43},"",null,"","","","",null,"","","","","","",{"$f":"IF(Q12=\"\",\"\",Q12+COUNTIF(Q$3:Q11,Q12))","v":""},null,null,null,null,null,null,null,null,{"$f":"Summary!F14","v":""},{"$f":"Summary!G14","v":""},{"$f":"Summary!H14","v":""},{"$f":"Summary!G14&\",\"&Summary!H14","v":","},100,{"$f":"IF(AA12=\"\",\"\",RANK(AE12,AE$2:AE$41,1)+COUNTIF(AE$1:AE11,AE12))","v":""},{"$f":"Summary!F14","v":""},{"$f":"Summary!H14","v":""},{"$f":"Summary!I14","v":""},{"$f":"Summary!H14&\",\"&Summary!I14","v":","},100,{"$f":"IF(AG12=\"\",\"\",RANK(AK12,AK$2:AK$41,1)+COUNTIF(AK$1:AK11,AK12))","v":""},{"$f":"Summary!F14","v":""},{"$f":"Summary!J14","v":""},{"$f":"Summary!I14","v":""},{"$f":"Summary!J14&\",\"&Summary!I14","v":","},100,{"$f":"IF(AM12=\"\",\"\",RANK(AQ12,AQ$2:AQ$41,1)+COUNTIF(AQ$1:AQ11,AQ12))","v":""},null,"","",null,null,null,0]
["",10,"",{"$f":"SUM(C$3:C12)","v":19918015.43},"",null,"","","","",null,"","","","","","",{"$f":"IF(Q13=\"\",\"\",Q13+COUNTIF(Q$3:Q12,Q13))","v":""},null,null,null,null,null,null,null,null,{"$f":"Summary!F15","v":""},{"$f":"Summary!G15","v":""},{"$f":"Summary!H15","v":""},{"$f":"Summary!G15&\",\"&Summary!H15","v":","},100,{"$f":"IF(AA13=\"\",\"\",RANK(AE13,AE$2:AE$41,1)+COUNTIF(AE$1:AE12,AE13))","v":""},{"$f":"Summary!F15","v":""},{"$f":"Summary!H15","v":""},{"$f":"Summary!I15","v":""},{"$f":"Summary!H15&\",\"&Summary!I15","v":","},100,{"$f":"IF(AG13=\"\",\"\",RANK(AK13,AK$2:AK$41,1)+COUNTIF(AK$1:AK12,AK13))","v":""},{"$f":"Summary!F15","v":""},{"$f":"Summary!J15","v":""},{"$f":"Summary!I15","v":""},{"$f":"Summary!J15&\",\"&Summary!I15","v":","},100,{"$f":"IF(AM13=\"\",\"\",RANK(AQ13,AQ$2:AQ$41,1)+COUNTIF(AQ$1:AQ12,AQ13))","v":""},null,"","",null,null,null,0]
["",11,"",{"$f":"SUM(C$3:C13)","v":19918015.43},"",null,"","","","",null,"","","","","","",{"$f":"IF(Q14=\"\",\"\",Q14+COUNTIF(Q$3:Q13,Q14))","v":""},null,null,null,null,null,null,null,null,{"$f":"Summary!F16","v":""},{"$f":"Summary!G16","v":""},{"$f":"Summary!H16","v":""},{"$f":"Summary!G16&\",\"&Summary!H16","v":","},100,{"$f":"IF(AA14=\"\",\"\",RANK(AE14,AE$2:AE$41,1)+COUNTIF(AE$1:AE13,AE14))","v":""},{"$f":"Summary!F16","v":""},{"$f":"Summary!H16","v":""},{"$f":"Summary!I16","v":""},{"$f":"Summary!H16&\",\"&Summary!I16","v":","},100,{"$f":"IF(AG14=\"\",\"\",RANK(AK14,AK$2:AK$41,1)+COUNTIF(AK$1:AK13,AK14))","v":""},{"$f":"Summary!F16","v":""},{"$f":"Summary!J16","v":""},{"$f":"Summary!I16","v":""},{"$f":"Summary!J16&\",\"&Summary!I16","v":","},100,{"$f":"IF(AM14=\"\",\"\",RANK(AQ14,AQ$2:AQ$41,1)+COUNTIF(AQ$1:AQ13,AQ14))","v":""},null,"","",null,null,null,0]
["",12,"",{"$f":"SUM(C$3:C14)","v":19918015.43},"",null,"","","","",null,"","","","","","",{"$f":"IF(Q15=\"\",\"\",Q15+COUNTIF(Q$3:Q14,Q15))","v":""},null,null,null,null,null,null,null,null,{"$f":"Summary!F17","v":""},{"$f":"Summary!G17","v":""},{"$f":"Summary!H17","v":""},{"$f":"Summary!G17&\",\"&Summary!H17","v":","},100,{"$f":"IF(AA15=\"\",\"\",RANK(AE15,AE$2:AE$41,1)+COUNTIF(AE$1:AE14,AE15))","v":""},{"$f":"Summary!F17","v":""},{"$f":"Summary!H17","v":""},{"$f":"Summary!I17","v":""},{"$f":"Summary!H17&\",\"&Summary!I17","v":","},100,{"$f":"IF(AG15=\"\",\"\",RANK(AK15,AK$2:AK$41,1)+COUNTIF(AK$1:AK14,AK15))","v":""},{"$f":"Summary!F17","v":""},{"$f":"Summary!J17","v":""},{"$f":"Summary!I17","v":""},{"$f":"Summary!J17&\",\"&Summary!I17","v":","},100,{"$f":"IF(AM15=\"\",\"\",RANK(AQ15,AQ$2:AQ$41,1)+COUNTIF(AQ$1:AQ14,AQ15))","v":""},null,"","",null,null,null,0]
["",13,"",{"$f":"SUM(C$3:C15)","v":19918015.43},"",null,"","","","",null,"","","","","","",{"$f":"IF(Q16=\"\",\"\",Q16+COUNTIF(Q$3:Q15,Q16))","v":""},null,null,null,null,null,null,null,null,{"$f":"Summary!F18","v":""},{"$f":"Summary!G18","v":""},{"$f":"Summary!H18","v":""},{"$f":"Summary!G18&\",\"&Summary!H18","v":","},100,{"$f":"IF(AA16=\"\",\"\",RANK(AE16,AE$2:AE$41,1)+COUNTIF(AE$1:AE15,AE16))","v":""},{"$f":"Summary!F18","v":""},{"$f":"Summary!H18","v":""},{"$f":"Summary!I18","v":""},{"$f":"Summary!H18&\",\"&Summary!I18","v":","},100,{"$f":"IF(AG16=\"\",\"\",RANK(AK16,AK$2:AK$41,1)+COUNTIF(AK$1:AK15,AK16))","v":""},{"$f":"Summary!F18","v":""},{"$f":"Summary!J18","v":""},{"$f":"Summary!I18","v":""},{"$f":"Summary!J18&\",\"&Summary!I18","v":","},100,{"$f":"IF(AM16=\"\",\"\",RANK(AQ16,AQ$2:AQ$41,1)+COUNTIF(AQ$1:AQ15,AQ16))","v":""},null,"","",null,null,null,0]
["",14,"",{"$f":"SUM(C$3:C16)","v":19918015.43},"",null,"","","","",null,"","","","","","",{"$f":"IF(Q17=\"\",\"\",Q17+COUNTIF(Q$3:Q16,Q17))","v":""},null,null,null,null,null,null,null,null,{"$f":"Summary!F19","v":""},{"$f":"Summary!G19","v":""},{"$f":"Summary!H19","v":""},{"$f":"Summary!G19&\",\"&Summary!H19","v":","},100,{"$f":"IF(AA17=\"\",\"\",RANK(AE17,AE$2:AE$41,1)+COUNTIF(AE$1:AE16,AE17))","v":""},{"$f":"Summary!F19","v":""},{"$f":"Summary!H19","v":""},{"$f":"Summary!I19","v":""},{"$f":"Summary!H19&\",\"&Summary!I19","v":","},100,{"$f":"IF(AG17=\"\",\"\",RANK(AK17,AK$2:AK$41,1)+COUNTIF(AK$1:AK16,AK17))","v":""},{"$f":"Summary!F19","v":""},{"$f":"Summary!J19","v":""},{"$f":"Summary!I19","v":""},{"$f":"Summary!J19&\",\"&Summary!I19","v":","},100,{"$f":"IF(AM17=\"\",\"\",RANK(AQ17,AQ$2:AQ$41,1)+COUNTIF(AQ$1:AQ16,AQ17))","v":""},null,"","",null,null,null,0]
["",15,"",{"$f":"SUM(C$3:C17)","v":19918015.43},"",null,"","","","",null,"","","","","","",{"$f":"IF(Q18=\"\",\"\",Q18+COUNTIF(Q$3:Q17,Q18))","v":""},null,null,null,null,null,null,null,null,{"$f":"Summary!F20","v":""},{"$f":"Summary!G20","v":""},{"$f":"Summary!H20","v":""},{"$f":"Summary!G20&\",\"&Summary!H20","v":","},100,{"$f":"IF(AA18=\"\",\"\",RANK(AE18,AE$2:AE$41,1)+COUNTIF(AE$1:AE17,AE18))","v":""},{"$f":"Summary!F20","v":""},{"$f":"Summary!H20","v":""},{"$f":"Summary!I20","v":""},{"$f":"Summary!H20&\",\"&Summary!I20","v":","},100,{"$f":"IF(AG18=\"\",\"\",RANK(AK18,AK$2:AK$41,1)+COUNTIF(AK$1:AK17,AK18))","v":""},{"$f":"Summary!F20","v":""},{"$f":"Summary!J20","v":""},{"$f":"Summary!I20","v":""},{"$f":"Summary!J20&\",\"&Summary!I20","v":","},100,{"$f":"IF(AM18=\"\",\"\",RANK(AQ18,AQ$2:AQ$41,1)+COUNTIF(AQ$1:AQ17,AQ18))","v":""},null,"","",null,null,null,0]
["",16,"",{"$f":"SUM(C$3:C18)","v":19918015.43},"",null,"","","","",null,"","","","","","",{"$f":"IF(Q19=\"\",\"\",Q19+COUNTIF(Q$3:Q18,Q19))","v":""},null,null,null,null,null,null,null,null,{"$f":"Summary!F21","v":""},{"$f":"Summary!G21","v":""},{"$f":"Summary!H21","v":""},{"$f":"Summary!G21&\",\"&Summary!H21","v":","},100,{"$f":"IF(AA19=\"\",\"\",RANK(AE19,AE$2:AE$41,1)+COUNTIF(AE$1:AE18,AE19))","v":""},{"$f":"Summary!F21","v":""},{"$f":"Summary!H21","v":""},{"$f":"Summary!I21","v":""},{"$f":"Summary!H21&\",\"&Summary!I21","v":","},100,{"$f":"IF(AG19=\"\",\"\",RANK(AK19,AK$2:AK$41,1)+COUNTIF(AK$1:AK18,AK19))","v":""},{"$f":"Summary!F21","v":""},{"$f":"Summary!J21","v":""},{"$f":"Summary!I21","v":""},{"$f":"Summary!J21&\",\"&Summary!I21","v":","},100,{"$f":"IF(AM19=\"\",\"\",RANK(AQ19,AQ$2:AQ$41,1)+COUNTIF(AQ$1:AQ18,AQ19))","v":""},null,"","",null,null,null,0]
["",17,"",{"$f":"SUM(C$3:C19)","v":19918015.43},"",null,"","","","",null,"","","","","","",{"$f":"IF(Q20=\"\",\"\",Q20+COUNTIF(Q$3:Q19,Q20))","v":""},null,null,null,null,null,null,null,null,{"$f":"Summary!F22","v":""},{"$f":"Summary!G22","v":""},{"$f":"Summary!H22","v":""},{"$f":"Summary!G22&\",\"&Summary!H22","v":","},100,{"$f":"IF(AA20=\"\",\"\",RANK(AE20,AE$2:AE$41,1)+COUNTIF(AE$1:AE19,AE20))","v":""},{"$f":"Summary!F22","v":""},{"$f":"Summary!H22","v":""},{"$f":"Summary!I22","v":""},{"$f":"Summary!H22&\",\"&Summary!I22","v":","},100,{"$f":"IF(AG20=\"\",\"\",RANK(AK20,AK$2:AK$41,1)+COUNTIF(AK$1:AK19,AK20))","v":""},{"$f":"Summary!F22","v":""},{"$f":"Summary!J22","v":""},{"$f":"Summary!I22","v":""},{"$f":"Summary!J22&\",\"&Summary!I22","v":","},100,{"$f":"IF(AM20=\"\",\"\",RANK(AQ20,AQ$2:AQ$41,1)+COUNTIF(AQ$1:AQ19,AQ20))","v":""},null,"","",null,null,null,0]
["",18,"",{"$f":"SUM(C$3:C20)","v":19918015.43},"",null,"","","","",null,"","","","","","",{"$f":"IF(Q21=\"\",\"\",Q21+COUNTIF(Q$3:Q20,Q21))","v":""},null,null,null,null,null,null,null,null,{"$f":"Summary!F23","v":""},{"$f":"Summary!G23","v":""},{"$f":"Summary!H23","v":""},{"$f":"Summary!G23&\",\"&Summary!H23","v":","},100,{"$f":"IF(AA21=\"\",\"\",RANK(AE21,AE$2:AE$41,1)+COUNTIF(AE$1:AE20,AE21))","v":""},{"$f":"Summary!F23","v":""},{"$f":"Summary!H23","v":""},{"$f":"Summary!I23","v":""},{"$f":"Summary!H23&\",\"&Summary!I23","v":","},100,{"$f":"IF(AG21=\"\",\"\",RANK(AK21,AK$2:AK$41,1)+COUNTIF(AK$1:AK20,AK21))","v":""},{"$f":"Summary!F23","v":""},{"$f":"Summary!J23","v":""},{"$f":"Summary!I23","v":""},{"$f":"Summary!J23&\",\"&Summary!I23","v":","},100,{"$f":"IF(AM21=\"\",\"\",RANK(AQ21,AQ$2:AQ$41,1)+COUNTIF(AQ$1:AQ20,AQ21))","v":""},null,"","",null,null,null,0]
["",19,"",{"$f":"SUM(C$3:C21)","v":19918015.43},"",null,"","","","",null,"","","","","","",{"$f":"IF(Q22=\"\",\"\",Q22+COUNTIF(Q$3:Q21,Q22))","v":""},null,null,null,null,null,null,null,null,{"$f":"Summary!F24","v":""},{"$f":"Summary!G24","v":""},{"$f":"Summary!H24","v":""},{"$f":"Summary!G24&\",\"&Summary!H24","v":","},100,{"$f":"IF(AA22=\"\",\"\",RANK(AE22,AE$2:AE$41,1)+COUNTIF(AE$1:AE21,AE22))","v":""},{"$f":"Summary!F24","v":""},{"$f":"Summary!H24","v":""},{"$f":"Summary!I24","v":""},{"$f":"Summary!H24&\",\"&Summary!I24","v":","},100,{"$f":"IF(AG22=\"\",\"\",RANK(AK22,AK$2:AK$41,1)+COUNTIF(AK$1:AK21,AK22))","v":""},{"$f":"Summary!F24","v":""},{"$f":"Summary!J24","v":""},{"$f":"Summary!I24","v":""},{"$f":"Summary!J24&\",\"&Summary!I24","v":","},100,{"$f":"IF(AM22=\"\",\"\",RANK(AQ22,AQ$2:AQ$41,1)+COUNTIF(AQ$1:AQ21,AQ22))","v":""},null,"","",null,null,null,0]
["",20,{"$f":"IF(ISNA(MATCH(Rank,GrpRank,0)),IF(Rank<=COUNTA(ProductGroups),C22,\"\"),INDEX(Spend,MATCH(Rank,GrpRank,0)))","v":""},{"$f":"SUM(C$3:C22)","v":19918015.43},{"$f":"IF(C23=\"\",\"\",VLOOKUP(CumuSpend,QuintileBoundaries,2,TRUE))","v":""},null,{"$f":"IF(ProductGroups=\"\",\"\",INDEX(L$4:L$43,MATCH(ROW()-ROW(OverallGraphStart)+1,$R$4:$R$43,0)))","v":""},{"$f":"IF(ProductGroups=\"\",\"\",INDEX(M$4:M$43,MATCH(ROW()-ROW(OverallGraphStart)+1,$R$4:$R$43,0)))","v":""},{"$f":"IF(ProductGroups=\"\",\"\",INDEX(N$4:N$43,MATCH(ROW()-ROW(OverallGraphStart)+1,$R$4:$R$43,0)))","v":""},{"$f":"IF(ProductGroups=\"\",\"\",INDEX(O$4:O$43,MATCH(ROW()-ROW(OverallGraphStart)+1,$R$4:$R$43,0)))","v":""},null,"","","","",{"$f":"IF(ProductGroups=\"\",\"\",SUM(M23:O23))","v":""},"",{"$f":"IF(Q23=\"\",\"\",Q23+COUNTIF(Q$3:Q22,Q23))","v":""},null,null,null,null,null,null,null,null,{"$f":"Summary!F25","v":""},{"$f":"Summary!G25","v":""},{"$f":"Summary!H25","v":""},{"$f":"Summary!G25&\",\"&Summary!H25","v":","},100,{"$f":"IF(AA23=\"\",\"\",RANK(AE23,AE$2:AE$41,1)+COUNTIF(AE$1:AE22,AE23))","v":""},{"$f":"Summary!F25","v":""},{"$f":"Summary!H25","v":""},{"$f":"Summary!I25","v":""},{"$f":"Summary!H25&\",\"&Summary!I25","v":","},100,{"$f":"IF(AG23=\"\",\"\",RANK(AK23,AK$2:AK$41,1)+COUNTIF(AK$1:AK22,AK23))","v":""},{"$f":"Summary!F25","v":""},{"$f":"Summary!J25","v":""},{"$f":"Summary!I25","v":""},{"$f":"Summary!J25&\",\"&Summary!I25","v":","},100,{"$f":"IF(AM23=\"\",\"\",RANK(AQ23,AQ$2:AQ$41,1)+COUNTIF(AQ$1:AQ22,AQ23))","v":""},null,"","",null,null,null,0]
["",21,"",{"$f":"SUM(C$3:C23)","v":19918015.43},"",null,"","","","",null,"","","","","","",{"$f":"IF(Q24=\"\",\"\",Q24+COUNTIF(Q$3:Q23,Q24))","v":""},null,null,null,null,null,null,null,null,{"$f":"Summary!F26","v":""},{"$f":"Summary!G26","v":""},{"$f":"Summary!H26","v":""},{"$f":"Summary!G26&\",\"&Summary!H26","v":","},100,{"$f":"IF(AA24=\"\",\"\",RANK(AE24,AE$2:AE$41,1)+COUNTIF(AE$1:AE23,AE24))","v":""},{"$f":"Summary!F26","v":""},{"$f":"Summary!H26","v":""},{"$f":"Summary!I26","v":""},{"$f":"Summary!H26&\",\"&Summary!I26","v":","},100,{"$f":"IF(AG24=\"\",\"\",RANK(AK24,AK$2:AK$41,1)+COUNTIF(AK$1:AK23,AK24))","v":""},{"$f":"Summary!F26","v":""},{"$f":"Summary!J26","v":""},{"$f":"Summary!I26","v":""},{"$f":"Summary!J26&\",\"&Summary!I26","v":","},100,{"$f":"IF(AM24=\"\",\"\",RANK(AQ24,AQ$2:AQ$41,1)+COUNTIF(AQ$1:AQ23,AQ24))","v":""},null,{"$f":"SUM(AT4:AT23)","v":0},{"$f":"SUM(AU4:AU23)","v":7},null,null,null,0]
["",22,"",{"$f":"SUM(C$3:C24)","v":19918015.43},"",null,"","","","",null,"","","","","","",{"$f":"IF(Q25=\"\",\"\",Q25+COUNTIF(Q$3:Q24,Q25))","v":""},null,null,null,null,null,null,null,null,{"$f":"Summary!F27","v":""},{"$f":"Summary!G27","v":""},{"$f":"Summary!H27","v":""},{"$f":"Summary!G27&\",\"&Summary!H27","v":","},100,{"$f":"IF(AA25=\"\",\"\",RANK(AE25,AE$2:AE$41,1)+COUNTIF(AE$1:AE24,AE25))","v":""},{"$f":"Summary!F27","v":""},{"$f":"Summary!H27","v":""},{"$f":"Summary!I27","v":""},{"$f":"Summary!H27&\",\"&Summary!I27","v":","},100,{"$f":"IF(AG25=\"\",\"\",RANK(AK25,AK$2:AK$41,1)+COUNTIF(AK$1:AK24,AK25))","v":""},{"$f":"Summary!F27","v":""},{"$f":"Summary!J27","v":""},{"$f":"Summary!I27","v":""},{"$f":"Summary!J27&\",\"&Summary!I27","v":","},100,{"$f":"IF(AM25=\"\",\"\",RANK(AQ25,AQ$2:AQ$41,1)+COUNTIF(AQ$1:AQ24,AQ25))","v":""},null,null,null,null,null,null,0]
["",23,"",{"$f":"SUM(C$3:C25)","v":19918015.43},"",null,"","","","",null,"","","","","","",{"$f":"IF(Q26=\"\",\"\",Q26+COUNTIF(Q$3:Q25,Q26))","v":""},null,null,null,null,null,null,null,null,{"$f":"Summary!F28","v":""},{"$f":"Summary!G28","v":""},{"$f":"Summary!H28","v":""},{"$f":"Summary!G28&\",\"&Summary!H28","v":","},100,{"$f":"IF(AA26=\"\",\"\",RANK(AE26,AE$2:AE$41,1)+COUNTIF(AE$1:AE25,AE26))","v":""},{"$f":"Summary!F28","v":""},{"$f":"Summary!H28","v":""},{"$f":"Summary!I28","v":""},{"$f":"Summary!H28&\",\"&Summary!I28","v":","},100,{"$f":"IF(AG26=\"\",\"\",RANK(AK26,AK$2:AK$41,1)+COUNTIF(AK$1:AK25,AK26))","v":""},{"$f":"Summary!F28","v":""},{"$f":"Summary!J28","v":""},{"$f":"Summary!I28","v":""},{"$f":"Summary!J28&\",\"&Summary!I28","v":","},100,{"$f":"IF(AM26=\"\",\"\",RANK(AQ26,AQ$2:AQ$41,1)+COUNTIF(AQ$1:AQ25,AQ26))","v":""},null,null,null,null,null,null,0]
["",24,"",{"$f":"SUM(C$3:C26)","v":19918015.43},"",null,"","","","",null,"","","","","","",{"$f":"IF(Q27=\"\",\"\",Q27+COUNTIF(Q$3:Q26,Q27))","v":""},null,null,null,null,null,null,null,null,{"$f":"Summary!F29","v":""},{"$f":"Summary!G29","v":""},{"$f":"Summary!H29","v":""},{"$f":"Summary!G29&\",\"&Summary!H29","v":","},100,{"$f":"IF(AA27=\"\",\"\",RANK(AE27,AE$2:AE$41,1)+COUNTIF(AE$1:AE26,AE27))","v":""},{"$f":"Summary!F29","v":""},{"$f":"Summary!H29","v":""},{"$f":"Summary!I29","v":""},{"$f":"Summary!H29&\",\"&Summary!I29","v":","},100,{"$f":"IF(AG27=\"\",\"\",RANK(AK27,AK$2:AK$41,1)+COUNTIF(AK$1:AK26,AK27))","v":""},{"$f":"Summary!F29","v":""},{"$f":"Summary!J29","v":""},{"$f":"Summary!I29","v":""},{"$f":"Summary!J29&\",\"&Summary!I29","v":","},100,{"$f":"IF(AM27=\"\",\"\",RANK(AQ27,AQ$2:AQ$41,1)+COUNTIF(AQ$1:AQ26,AQ27))","v":""},null,null,null,null,null,null,0]
["",25,"",{"$f":"SUM(C$3:C27)","v":19918015.43},"",null,"","","","",null,"","","","","","",{"$f":"IF(Q28=\"\",\"\",Q28+COUNTIF(Q$3:Q27,Q28))","v":""},null,null,null,null,null,null,null,null,{"$f":"Summary!F30","v":""},{"$f":"Summary!G30","v":""},{"$f":"Summary!H30","v":""},{"$f":"Summary!G30&\",\"&Summary!H30","v":","},100,{"$f":"IF(AA28=\"\",\"\",RANK(AE28,AE$2:AE$41,1)+COUNTIF(AE$1:AE27,AE28))","v":""},{"$f":"Summary!F30","v":""},{"$f":"Summary!H30","v":""},{"$f":"Summary!I30","v":""},{"$f":"Summary!H30&\",\"&Summary!I30","v":","},100,{"$f":"IF(AG28=\"\",\"\",RANK(AK28,AK$2:AK$41,1)+COUNTIF(AK$1:AK27,AK28))","v":""},{"$f":"Summary!F30","v":""},{"$f":"Summary!J30","v":""},{"$f":"Summary!I30","v":""},{"$f":"Summary!J30&\",\"&Summary!I30","v":","},100,{"$f":"IF(AM28=\"\",\"\",RANK(AQ28,AQ$2:AQ$41,1)+COUNTIF(AQ$1:AQ27,AQ28))","v":""},null,null,null,null,null,null,0]
["",26,"",{"$f":"SUM(C$3:C28)","v":19918015.43},"",null,"","","","",null,"","","","","","",{"$f":"IF(Q29=\"\",\"\",Q29+COUNTIF(Q$3:Q28,Q29))","v":""},null,null,null,null,null,null,null,null,{"$f":"Summary!F31","v":""},{"$f":"Summary!G31","v":""},{"$f":"Summary!H31","v":""},{"$f":"Summary!G31&\",\"&Summary!H31","v":","},100,{"$f":"IF(AA29=\"\",\"\",RANK(AE29,AE$2:AE$41,1)+COUNTIF(AE$1:AE28,AE29))","v":""},{"$f":"Summary!F31","v":""},{"$f":"Summary!H31","v":""},{"$f":"Summary!I31","v":""},{"$f":"Summary!H31&\",\"&Summary!I31","v":","},100,{"$f":"IF(AG29=\"\",\"\",RANK(AK29,AK$2:AK$41,1)+COUNTIF(AK$1:AK28,AK29))","v":""},{"$f":"Summary!F31","v":""},{"$f":"Summary!J31","v":""},{"$f":"Summary!I31","v":""},{"$f":"Summary!J31&\",\"&Summary!I31","v":","},100,{"$f":"IF(AM29=\"\",\"\",RANK(AQ29,AQ$2:AQ$41,1)+COUNTIF(AQ$1:AQ28,AQ29))","v":""},null,null,null,null,null,null,0]
["",27,"",{"$f":"SUM(C$3:C29)","v":19918015.43},"",null,"","","","",null,"","","","","","",{"$f":"IF(Q30=\"\",\"\",Q30+COUNTIF(Q$3:Q29,Q30))","v":""},null,null,null,null,null,null,null,null,{"$f":"Summary!F32","v":""},{"$f":"Summary!G32","v":""},{"$f":"Summary!H32","v":""},{"$f":"Summary!G32&\",\"&Summary!H32","v":","},100,{"$f":"IF(AA30=\"\",\"\",RANK(AE30,AE$2:AE$41,1)+COUNTIF(AE$1:AE29,AE30))","v":""},{"$f":"Summary!F32","v":""},{"$f":"Summary!H32","v":""},{"$f":"Summary!I32","v":""},{"$f":"Summary!H32&\",\"&Summary!I32","v":","},100,{"$f":"IF(AG30=\"\",\"\",RANK(AK30,AK$2:AK$41,1)+COUNTIF(AK$1:AK29,AK30))","v":""},{"$f":"Summary!F32","v":""},{"$f":"Summary!J32","v":""},{"$f":"Summary!I32","v":""},{"$f":"Summary!J32&\",\"&Summary!I32","v":","},100,{"$f":"IF(AM30=\"\",\"\",RANK(AQ30,AQ$2:AQ$41,1)+COUNTIF(AQ$1:AQ29,AQ30))","v":""},null,null,null,null,null,null,0]
["",28,"",{"$f":"SUM(C$3:C30)","v":19918015.43},"",null,"","","","",null,"","","","","","",{"$f":"IF(Q31=\"\",\"\",Q31+COUNTIF(Q$3:Q30,Q31))","v":""},null,null,null,null,null,null,null,null,{"$f":"Summary!F33","v":""},{"$f":"Summary!G33","v":""},{"$f":"Summary!H33","v":""},{"$f":"Summary!G33&\",\"&Summary!H33","v":","},100,{"$f":"IF(AA31=\"\",\"\",RANK(AE31,AE$2:AE$41,1)+COUNTIF(AE$1:AE30,AE31))","v":""},{"$f":"Summary!F33","v":""},{"$f":"Summary!H33","v":""},{"$f":"Summary!I33","v":""},{"$f":"Summary!H33&\",\"&Summary!I33","v":","},100,{"$f":"IF(AG31=\"\",\"\",RANK(AK31,AK$2:AK$41,1)+COUNTIF(AK$1:AK30,AK31))","v":""},{"$f":"Summary!F33","v":""},{"$f":"Summary!J33","v":""},{"$f":"Summary!I33","v":""},{"$f":"Summary!J33&\",\"&Summary!I33","v":","},100,{"$f":"IF(AM31=\"\",\"\",RANK(AQ31,AQ$2:AQ$41,1)+COUNTIF(AQ$1:AQ30,AQ31))","v":""},null,null,null,null,null,null,0]
["",29,"",{"$f":"SUM(C$3:C31)","v":19918015.43},"",null,"","","","",null,"","","","","","",{"$f":"IF(Q32=\"\",\"\",Q32+COUNTIF(Q$3:Q31,Q32))","v":""},null,null,null,null,null,null,null,null,{"$f":"Summary!F34","v":""},{"$f":"Summary!G34","v":""},{"$f":"Summary!H34","v":""},{"$f":"Summary!G34&\",\"&Summary!H34","v":","},100,{"$f":"IF(AA32=\"\",\"\",RANK(AE32,AE$2:AE$41,1)+COUNTIF(AE$1:AE31,AE32))","v":""},{"$f":"Summary!F34","v":""},{"$f":"Summary!H34","v":""},{"$f":"Summary!I34","v":""},{"$f":"Summary!H34&\",\"&Summary!I34","v":","},100,{"$f":"IF(AG32=\"\",\"\",RANK(AK32,AK$2:AK$41,1)+COUNTIF(AK$1:AK31,AK32))","v":""},{"$f":"Summary!F34","v":""},{"$f":"Summary!J34","v":""},{"$f":"Summary!I34","v":""},{"$f":"Summary!J34&\",\"&Summary!I34","v":","},100,{"$f":"IF(AM32=\"\",\"\",RANK(AQ32,AQ$2:AQ$41,1)+COUNTIF(AQ$1:AQ31,AQ32))","v":""},null,null,null,null,null,null,0]
["",30,"",{"$f":"SUM(C$3:C32)","v":19918015.43},"",null,"","","","",null,"","","","","","",{"$f":"IF(Q33=\"\",\"\",Q33+COUNTIF(Q$3:Q32,Q33))","v":""},null,null,null,null,null,null,null,null,{"$f":"Summary!F35","v":""},{"$f":"Summary!G35","v":""},{"$f":"Summary!H35","v":""},{"$f":"Summary!G35&\",\"&Summary!H35","v":","},100,{"$f":"IF(AA33=\"\",\"\",RANK(AE33,AE$2:AE$41,1)+COUNTIF(AE$1:AE32,AE33))","v":""},{"$f":"Summary!F35","v":""},{"$f":"Summary!H35","v":""},{"$f":"Summary!I35","v":""},{"$f":"Summary!H35&\",\"&Summary!I35","v":","},100,{"$f":"IF(AG33=\"\",\"\",RANK(AK33,AK$2:AK$41,1)+COUNTIF(AK$1:AK32,AK33))","v":""},{"$f":"Summary!F35","v":""},{"$f":"Summary!J35","v":""},{"$f":"Summary!I35","v":""},{"$f":"Summary!J35&\",\"&Summary!I35","v":","},100,{"$f":"IF(AM33=\"\",\"\",RANK(AQ33,AQ$2:AQ$41,1)+COUNTIF(AQ$1:AQ32,AQ33))","v":""},null,null,null,null,null,null,0]
["",31,"",{"$f":"SUM(C$3:C33)","v":19918015.43},"",null,"","","","",null,"","","","","","",{"$f":"IF(Q34=\"\",\"\",Q34+COUNTIF(Q$3:Q33,Q34))","v":""},null,null,null,null,null,null,null,null,{"$f":"Summary!F36","v":""},{"$f":"Summary!G36","v":""},{"$f":"Summary!H36","v":""},{"$f":"Summary!G36&\",\"&Summary!H36","v":","},100,{"$f":"IF(AA34=\"\",\"\",RANK(AE34,AE$2:AE$41,1)+COUNTIF(AE$1:AE33,AE34))","v":""},{"$f":"Summary!F36","v":""},{"$f":"Summary!H36","v":""},{"$f":"Summary!I36","v":""},{"$f":"Summary!H36&\",\"&Summary!I36","v":","},100,{"$f":"IF(AG34=\"\",\"\",RANK(AK34,AK$2:AK$41,1)+COUNTIF(AK$1:AK33,AK34))","v":""},{"$f":"Summary!F36","v":""},{"$f":"Summary!J36","v":""},{"$f":"Summary!I36","v":""},{"$f":"Summary!J36&\",\"&Summary!I36","v":","},100,{"$f":"IF(AM34=\"\",\"\",RANK(AQ34,AQ$2:AQ$41,1)+COUNTIF(AQ$1:AQ33,AQ34))","v":""},null,null,null,null,null,null,0]
["",32,"",{"$f":"SUM(C$3:C34)","v":19918015.43},"",null,"","","","",null,"","","","","","",{"$f":"IF(Q35=\"\",\"\",Q35+COUNTIF(Q$3:Q34,Q35))","v":""},null,null,null,null,null,null,null,null,{"$f":"Summary!F37","v":""},{"$f":"Summary!G37","v":""},{"$f":"Summary!H37","v":""},{"$f":"Summary!G37&\",\"&Summary!H37","v":","},100,{"$f":"IF(AA35=\"\",\"\",RANK(AE35,AE$2:AE$41,1)+COUNTIF(AE$1:AE34,AE35))","v":""},{"$f":"Summary!F37","v":""},{"$f":"Summary!H37","v":""},{"$f":"Summary!I37","v":""},{"$f":"Summary!H37&\",\"&Summary!I37","v":","},100,{"$f":"IF(AG35=\"\",\"\",RANK(AK35,AK$2:AK$41,1)+COUNTIF(AK$1:AK34,AK35))","v":""},{"$f":"Summary!F37","v":""},{"$f":"Summary!J37","v":""},{"$f":"Summary!I37","v":""},{"$f":"Summary!J37&\",\"&Summary!I37","v":","},100,{"$f":"IF(AM35=\"\",\"\",RANK(AQ35,AQ$2:AQ$41,1)+COUNTIF(AQ$1:AQ34,AQ35))","v":""},null,null,null,null,null,null,0]
["",33,"",{"$f":"SUM(C$3:C35)","v":19918015.43},"",null,"","","","",null,"","","","","","",{"$f":"IF(Q36=\"\",\"\",Q36+COUNTIF(Q$3:Q35,Q36))","v":""},null,null,null,null,null,null,null,null,{"$f":"Summary!F38","v":""},{"$f":"Summary!G38","v":""},{"$f":"Summary!H38","v":""},{"$f":"Summary!G38&\",\"&Summary!H38","v":","},100,{"$f":"IF(AA36=\"\",\"\",RANK(AE36,AE$2:AE$41,1)+COUNTIF(AE$1:AE35,AE36))","v":""},{"$f":"Summary!F38","v":""},{"$f":"Summary!H38","v":""},{"$f":"Summary!I38","v":""},{"$f":"Summary!H38&\",\"&Summary!I38","v":","},100,{"$f":"IF(AG36=\"\",\"\",RANK(AK36,AK$2:AK$41,1)+COUNTIF(AK$1:AK35,AK36))","v":""},{"$f":"Summary!F38","v":""},{"$f":"Summary!J38","v":""},{"$f":"Summary!I38","v":""},{"$f":"Summary!J38&\",\"&Summary!I38","v":","},100,{"$f":"IF(AM36=\"\",\"\",RANK(AQ36,AQ$2:AQ$41,1)+COUNTIF(AQ$1:AQ35,AQ36))","v":""},null,null,null,null,null,null,0]
["",34,"",{"$f":"SUM(C$3:C36)","v":19918015.43},"",null,"","","","",null,"","","","","","",{"$f":"IF(Q37=\"\",\"\",Q37+COUNTIF(Q$3:Q36,Q37))","v":""},null,null,null,null,null,null,null,null,{"$f":"Summary!F39","v":""},{"$f":"Summary!G39","v":""},{"$f":"Summary!H39","v":""},{"$f":"Summary!G39&\",\"&Summary!H39","v":","},100,{"$f":"IF(AA37=\"\",\"\",RANK(AE37,AE$2:AE$41,1)+COUNTIF(AE$1:AE36,AE37))","v":""},{"$f":"Summary!F39","v":""},{"$f":"Summary!H39","v":""},{"$f":"Summary!I39","v":""},{"$f":"Summary!H39&\",\"&Summary!I39","v":","},100,{"$f":"IF(AG37=\"\",\"\",RANK(AK37,AK$2:AK$41,1)+COUNTIF(AK$1:AK36,AK37))","v":""},{"$f":"Summary!F39","v":""},{"$f":"Summary!J39","v":""},{"$f":"Summary!I39","v":""},{"$f":"Summary!J39&\",\"&Summary!I39","v":","},100,{"$f":"IF(AM37=\"\",\"\",RANK(AQ37,AQ$2:AQ$41,1)+COUNTIF(AQ$1:AQ36,AQ37))","v":""},null,null,null,null,null,null,0]
["",35,"",{"$f":"SUM(C$3:C37)","v":19918015.43},"",null,"","","","",null,"","","","","","",{"$f":"IF(Q38=\"\",\"\",Q38+COUNTIF(Q$3:Q37,Q38))","v":""},null,null,null,null,null,null,null,null,{"$f":"Summary!F40","v":""},{"$f":"Summary!G40","v":""},{"$f":"Summary!H40","v":""},{"$f":"Summary!G40&\",\"&Summary!H40","v":","},100,{"$f":"IF(AA38=\"\",\"\",RANK(AE38,AE$2:AE$41,1)+COUNTIF(AE$1:AE37,AE38))","v":""},{"$f":"Summary!F40","v":""},{"$f":"Summary!H40","v":""},{"$f":"Summary!I40","v":""},{"$f":"Summary!H40&\",\"&Summary!I40","v":","},100,{"$f":"IF(AG38=\"\",\"\",RANK(AK38,AK$2:AK$41,1)+COUNTIF(AK$1:AK37,AK38))","v":""},{"$f":"Summary!F40","v":""},{"$f":"Summary!J40","v":""},{"$f":"Summary!I40","v":""},{"$f":"Summary!J40&\",\"&Summary!I40","v":","},100,{"$f":"IF(AM38=\"\",\"\",RANK(AQ38,AQ$2:AQ$41,1)+COUNTIF(AQ$1:AQ37,AQ38))","v":""},null,null,null,null,null,null,0]
["",36,"",{"$f":"SUM(C$3:C38)","v":19918015.43},"",null,"","","","",null,"","","","","","",{"$f":"IF(Q39=\"\",\"\",Q39+COUNTIF(Q$3:Q38,Q39))","v":""},null,null,null,null,null,null,null,null,{"$f":"Summary!F41","v":""},{"$f":"Summary!G41","v":""},{"$f":"Summary!H41","v":""},{"$f":"Summary!G41&\",\"&Summary!H41","v":","},100,{"$f":"IF(AA39=\"\",\"\",RANK(AE39,AE$2:AE$41,1)+COUNTIF(AE$1:AE38,AE39))","v":""},{"$f":"Summary!F41","v":""},{"$f":"Summary!H41","v":""},{"$f":"Summary!I41","v":""},{"$f":"Summary!H41&\",\"&Summary!I41","v":","},100,{"$f":"IF(AG39=\"\",\"\",RANK(AK39,AK$2:AK$41,1)+COUNTIF(AK$1:AK38,AK39))","v":""},{"$f":"Summary!F41","v":""},{"$f":"Summary!J41","v":""},{"$f":"Summary!I41","v":""},{"$f":"Summary!J41&\",\"&Summary!I41","v":","},100,{"$f":"IF(AM39=\"\",\"\",RANK(AQ39,AQ$2:AQ$41,1)+COUNTIF(AQ$1:AQ38,AQ39))","v":""},null,null,null,null,null,null,0]
["",37,"",{"$f":"SUM(C$3:C39)","v":19918015.43},"",null,"","","","",null,"","","","","","",{"$f":"IF(Q40=\"\",\"\",Q40+COUNTIF(Q$3:Q39,Q40))","v":""},null,null,null,null,null,null,null,null,{"$f":"Summary!F42","v":""},{"$f":"Summary!G42","v":""},{"$f":"Summary!H42","v":""},{"$f":"Summary!G42&\",\"&Summary!H42","v":","},100,{"$f":"IF(AA40=\"\",\"\",RANK(AE40,AE$2:AE$41,1)+COUNTIF(AE$1:AE39,AE40))","v":""},{"$f":"Summary!F42","v":""},{"$f":"Summary!H42","v":""},{"$f":"Summary!I42","v":""},{"$f":"Summary!H42&\",\"&Summary!I42","v":","},100,{"$f":"IF(AG40=\"\",\"\",RANK(AK40,AK$2:AK$41,1)+COUNTIF(AK$1:AK39,AK40))","v":""},{"$f":"Summary!F42","v":""},{"$f":"Summary!J42","v":""},{"$f":"Summary!I42","v":""},{"$f":"Summary!J42&\",\"&Summary!I42","v":","},100,{"$f":"IF(AM40=\"\",\"\",RANK(AQ40,AQ$2:AQ$41,1)+COUNTIF(AQ$1:AQ39,AQ40))","v":""},null,null,null,null,null,null,0]
["",38,"",{"$f":"SUM(C$3:C40)","v":19918015.43},"",null,"","","","",null,"","","","","","",{"$f":"IF(Q41=\"\",\"\",Q41+COUNTIF(Q$3:Q40,Q41))","v":""},null,null,null,null,null,null,null,null,{"$f":"Summary!F43","v":""},{"$f":"Summary!G43","v":""},{"$f":"Summary!H43","v":""},{"$f":"Summary!G43&\",\"&Summary!H43","v":","},100,{"$f":"IF(AA41=\"\",\"\",RANK(AE41,AE$2:AE$41,1)+COUNTIF(AE$1:AE40,AE41))","v":""},{"$f":"Summary!F43","v":""},{"$f":"Summary!H43","v":""},{"$f":"Summary!I43","v":""},{"$f":"Summary!H43&\",\"&Summary!I43","v":","},100,{"$f":"IF(AG41=\"\",\"\",RANK(AK41,AK$2:AK$41,1)+COUNTIF(AK$1:AK40,AK41))","v":""},{"$f":"Summary!F43","v":""},{"$f":"Summary!J43","v":""},{"$f":"Summary!I43","v":""},{"$f":"Summary!J43&\",\"&Summary!I43","v":","},100,{"$f":"IF(AM41=\"\",\"\",RANK(AQ41,AQ$2:AQ$41,1)+COUNTIF(AQ$1:AQ40,AQ41))","v":""},null,null,null,null,null,null,0]
["",39,"",{"$f":"SUM(C$3:C41)","v":19918015.43},"",null,"","","","",null,"","","","","","",{"$f":"IF(Q42=\"\",\"\",Q42+COUNTIF(Q$3:Q41,Q42))","v":""},null,null,null,null,null,null,null,null,null,"x","y",null,null,null,null,"x","y",null,null,null,null,"x","y",null,null,null,null,null,null,null,null,null,0]
["",40,{"$f":"IF(ISNA(MATCH(Rank,GrpRank,0)),IF(Rank<=COUNTA(ProductGroups),C42,\"\"),INDEX(Spend,MATCH(Rank,GrpRank,0)))","v":""},{"$f":"SUM(C$3:C42)","v":19918015.43},"",null,"","","","",null,"","","","","","",{"$f":"IF(Q43=\"\",\"\",Q43+COUNTIF(Q$3:Q42,Q43))","v":""},null,null,null,null,null,null,null,null,{"$f":"INDEX(AA$2:AA$41,MATCH(ROW()-ROW(AA$42),AF$2:AF$41,0))","v":"Mobile Tech"},{"$f":"INDEX(AB$2:AB$41,MATCH(ROW()-ROW(AB$42),AF$2:AF$41,0))","v":3735418.35},{"$f":"INDEX(AC$2:AC$41,MATCH(ROW()-ROW(AC$42),AF$2:AF$41,0))","v":16},{"$f":"IF(ISNA(AA43),0,IF(AND(AB43=AB42,AC43=AC42),AD42,AD42+1))","v":1},null,null,{"$f":"INDEX(AG$2:AG$41,MATCH(ROW()-ROW(AG$42),AL$2:AL$41,0))","v":"Mobile Tech"},{"$f":"INDEX(AH$2:AH$41,MATCH(ROW()-ROW(AH$42),AL$2:AL$41,0))","v":16},{"$f":"INDEX(AI$2:AI$41,MATCH(ROW()-ROW(AI$42),AL$2:AL$41,0))","v":9},{"$f":"IF(ISNA(AG43),0,IF(AND(AH43=AH42,AI43=AI42),AJ42,AJ42+1))","v":1},null,null,{"$f":"INDEX(AM$2:AM$41,MATCH(ROW()-ROW(AM$42),AR$2:AR$41,0))","v":"Mobile Tech"},{"$f":"INDEX(AN$2:AN$41,MATCH(ROW()-ROW(AN$42),AR$2:AR$41,0))","v":7},{"$f":"INDEX(AO$2:AO$41,MATCH(ROW()-ROW(AO$42),AR$2:AR$41,0))","v":9},{"$f":"IF(ISNA(AM43),0,IF(AND(AN43=AN42,AO43=AO42),AP42,AP42+1))","v":1},null,null,null,null,null,null,null,null,0]
[null,null,null,null,null,null,null,null,null,null,null,null,null,null,null,null,null,null,null,null,null,null,null,null,null,null,{"$f":"INDEX(AA$2:AA$41,MATCH(ROW()-ROW(AA$42),AF$2:AF$41,0))","v":"Servers/Storage"},{"$f":"INDEX(AB$2:AB$41,MATCH(ROW()-ROW(AB$42),AF$2:AF$41,0))","v":3999469.55},{"$f":"INDEX(AC$2:AC$41,MATCH(ROW()-ROW(AC$42),AF$2:AF$41,0))","v":17},{"$f":"IF(ISNA(AA44),0,IF(AND(AB44=AB43,AC44=AC43),AD43,AD43+1))","v":2},null,null,{"$f":"INDEX(AG$2:AG$41,MATCH(ROW()-ROW(AG$42),AL$2:AL$41,0))","v":"Servers/Storage"},{"$f":"INDEX(AH$2:AH$41,MATCH(ROW()-ROW(AH$42),AL$2:AL$41,0))","v":17},{"$f":"INDEX(AI$2:AI$41,MATCH(ROW()-ROW(AI$42),AL$2:AL$41,0))","v":5},{"$f":"IF(ISNA(AG44),0,IF(AND(AH44=AH43,AI44=AI43),AJ43,AJ43+1))","v":2},null,null,{"$f":"INDEX(AM$2:AM$41,MATCH(ROW()-ROW(AM$42),AR$2:AR$41,0))","v":"PCs: Macs/Workstation/Thin Client"},{"$f":"INDEX(AN$2:AN$41,MATCH(ROW()-ROW(AN$42),AR$2:AR$41,0))","v":7},{"$f":"INDEX(AO$2:AO$41,MATCH(ROW()-ROW(AO$42),AR$2:AR$41,0))","v":9},{"$f":"IF(ISNA(AM44),0,IF(AND(AN44=AN43,AO44=AO43),AP43,AP43+1))","v":1}]
[null,null,"QuintileBoundaries",null,null,null,null,null,null,null,null,null,null,null,null,"AvgBoundaries",null,null,null,null,null,null,null,null,null,null,"Networking Equipment (Large Routers)",622056.26,14,3,null,null,"Networking Equipment (Large Routers)",14,4,3,null,null,"Servers/Storage",7,5,2]
[null,null,{"$f":"TotalSpend*(5-D46)/5","v":0},5,null,null,"AnswerLookup",null,null,"AltAnswerLookup",null,null,"YNAnswerLookup",null,null,0,0,null,null,null,null,null,null,null,null,null,"PCs: Macs/Workstation/Thin Client",2544120.34,17,4,null,null,"PCs: Macs/Workstation/Thin Client",17,9,4,null,null,"Printers/MFD's",7,5,2]
[null,null,{"$f":"TotalSpend*(5-D47)/5","v":3983603.0860000001},4,null,null,0,"N/A",null,1,"High",null,1,"No",null,0.3,1,null,null,null,null,null,null,null,null,null,"Printers/MFD's",77968.820000000007,18,5,null,null,"Printers/MFD's",18,5,5,null,null,"Networking Equipment (Large Routers)",7,4,3]
[null,null,{"$f":"TotalSpend*(5-D48)/5","v":7967206.1720000003},3,null,null,1,"Low",null,2,"Medium",null,2,"Yes",null,0.6,2,null,null,null,null,null,null,null,null,null,"Cages and Racking, Isolators",279356.94,14,6,null,null,"Cages and Racking, Isolators",14,8,6,null,null,"Cages and Racking, Isolators",5,8,4]
[null,null,{"$f":"TotalSpend*(5-D49)/5","v":11950809.257999999},2,null,null,2,"Medium",null,3,"Low/none",null,null,null,null,0.9,3,null,null,null,null,null,null,null,null,null,"Laboratory Small Appaaratus and Equipment Purchase",5867081.6399999997,13,7,null,null,"Laboratory Small Appaaratus and Equipment Purchase",13,6,7,null,null,"Laboratory Small Appaaratus and Equipment Purchase",5,6,5]
[null,null,{"$f":"TotalSpend*(5-D50)/5","v":15934412.344000001},1,null,null,3,"Critical",null,null,null,null,null,null,null,1.2,4,null,null,null,null,null,null,null,null,null,"Medical, Surgical, Nursing Supplies & Services Small Apparatus, Equipment and Instruments",2792543.53,21,8,null,null,"Medical, Surgical, Nursing Supplies & Services Small Apparatus, Equipment and Instruments",21,6,8,null,null,"Medical, Surgical, Nursing Supplies & Services Small Apparatus, Equipment and Instruments",2,6,6]
[null,null,null,null,null,null,null,null,null,"MoreAnswerLookup",null,null,"ScopeLookup",null,null,1.5,5,null,null,null,null,null,null,null,null,null,{"$error":"#N/A"},{"$error":"#N/A"},{"$error":"#N/A"},0,null,null,{"$error":"#N/A"},{"$error":"#N/A"},{"$error":"#N/A"},0,null,null,{"$error":"#N/A"},{"$error":"#N/A"},{"$error":"#N/A"},0]
[null,null,null,null,null,null,null,null,null,1,"No",null,0,"None",null,1.8,6,null,null,null,null,null,null,null,null,null,{"$error":"#N/A"},{"$error":"#N/A"},{"$error":"#N/A"},0,null,null,{"$error":"#N/A"},{"$error":"#N/A"},{"$error":"#N/A"},0,null,null,{"$error":"#N/A"},{"$error":"#N/A"},{"$error":"#N/A"},0]
[null,null,null,null,null,null,null,null,null,4,"Yes",null,1,"A little",null,2.1,8,null,null,null,null,null,null,null,null,null,{"$error":"#N/A"},{"$error":"#N/A"},{"$error":"#N/A"},0,null,null,{"$error":"#N/A"},{"$error":"#N/A"},{"$error":"#N/A"},0,null,null,{"$error":"#N/A"},{"$error":"#N/A"},{"$error":"#N/A"},0]
[null,null,null,null,null,null,null,null,null,null,null,null,2,"Medium",null,2.4,10,null,null,null,null,null,null,null,null,null,{"$error":"#N/A"},{"$error":"#N/A"},{"$error":"#N/A"},0,null,null,{"$error":"#N/A"},{"$error":"#N/A"},{"$error":"#N/A"},0,null,null,{"$error":"#N/A"},{"$error":"#N/A"},{"$error":"#N/A"},0]
[null,null,null,null,null,null,null,null,null,null,null,null,3,"A lot",null,2.7,12,null,null,null,null,null,null,null,null,null,{"$error":"#N/A"},{"$error":"#N/A"},{"$error":"#N/A"},0,null,null,{"$error":"#N/A"},{"$error":"#N/A"},{"$error":"#N/A"},0,null,null,{"$error":"#N/A"},{"$error":"#N/A"},{"$error":"#N/A"},0]
[null,null,null,null,null,null,null,null,null,null,null,null,null,null,null,null,null,null,null,null,null,null,null,null,null,null,{"$error":"#N/A"},{"$error":"#N/A"},{"$error":"#N/A"},0,null,null,{"$error":"#N/A"},{"$error":"#N/A"},{"$error":"#N/A"},0,null,null,{"$error":"#N/A"},{"$error":"#N/A"},{"$error":"#N/A"},0]
[null,null,null,null,null,null,null,null,null,null,null,null,null,null,null,"ScopeBoundaries",null,null,null,null,null,null,null,null,null,null,{"$error":"#N/A"},{"$error":"#N/A"},{"$error":"#N/A"},0,null,null,{"$error":"#N/A"},{"$error":"#N/A"},{"$error":"#N/A"},0,null,null,{"$error":"#N/A"},{"$error":"#N/A"},{"$error":"#N/A"},0]
[null,null,null,null,null,null,null,null,null,null,null,null,null,null,null,0,0,null,null,null,null,null,null,null,null,null,{"$error":"#N/A"},{"$error":"#N/A"},{"$error":"#N/A"},0,null,null,{"$error":"#N/A"},{"$error":"#N/A"},{"$error":"#N/A"},0,null,null,{"$error":"#N/A"},{"$error":"#N/A"},{"$error":"#N/A"},0]
[null,null,null,null,null,null,null,null,null,null,null,null,null,null,null,0.3,1,null,null,null,null,null,null,null,null,null,{"$error":"#N/A"},{"$error":"#N/A"},{"$error":"#N/A"},0,null,null,{"$error":"#N/A"},{"$error":"#N/A"},{"$error":"#N/A"},0,null,null,{"$error":"#N/A"},{"$error":"#N/A"},{"$error":"#N/A"},0]
[null,null,null,null,null,null,null,null,null,null,null,null,null,null,null,0.6,2,null,null,null,null,null,null,null,null,null,{"$error":"#N/A"},{"$error":"#N/A"},{"$error":"#N/A"},0,null,null,{"$error":"#N/A"},{"$error":"#N/A"},{"$error":"#N/A"},0,null,null,{"$error":"#N/A"},{"$error":"#N/A"},{"$error":"#N/A"},0]
[null,null,null,null,null,null,null,null,null,null,null,null,null,null,null,0.9,3,null,null,null,null,null,null,null,null,null,{"$error":"#N/A"},{"$error":"#N/A"},{"$error":"#N/A"},0,null,null,{"$error":"#N/A"},{"$error":"#N/A"},{"$error":"#N/A"},0,null,null,{"$error":"#N/A"},{"$error":"#N/A"},{"$error":"#N/A"},0]
[null,null,null,null,null,null,null,null,null,null,null,null,null,null,null,1.2,4,null,null,null,null,null,null,null,null,null,{"$error":"#N/A"},{"$error":"#N/A"},{"$error":"#N/A"},0,null,null,{"$error":"#N/A"},{"$error":"#N/A"},{"$error":"#N/A"},0,null,null,{"$error":"#N/A"},{"$error":"#N/A"},{"$error":"#N/A"},0]
[null,null,null,null,null,null,null,null,null,null,null,null,null,null,null,1.5,5,null,null,null,null,null,null,null,null,null,{"$error":"#N/A"},{"$error":"#N/A"},{"$error":"#N/A"},0,null,null,{"$error":"#N/A"},{"$error":"#N/A"},{"$error":"#N/A"},0,null,null,{"$error":"#N/A"},{"$error":"#N/A"},{"$error":"#N/A"},0]
[null,null,null,null,null,null,null,null,null,null,null,null,null,null,null,1.8,6,null,null,null,null,null,null,null,null,null,{"$error":"#N/A"},{"$error":"#N/A"},{"$error":"#N/A"},0,null,null,{"$error":"#N/A"},{"$error":"#N/A"},{"$error":"#N/A"},0,null,null,{"$error":"#N/A"},{"$error":"#N/A"},{"$error":"#N/A"},0]
[null,null,null,null,null,null,null,null,null,null,null,null,null,null,null,2.1,8,null,null,null,null,null,null,null,null,null,{"$error":"#N/A"},{"$error":"#N/A"},{"$error":"#N/A"},0,null,null,{"$error":"#N/A"},{"$error":"#N/A"},{"$error":"#N/A"},0,null,null,{"$error":"#N/A"},{"$error":"#N/A"},{"$error":"#N/A"},0]
[null,null,null,null,null,null,null,null,null,null,null,null,null,null,null,2.4,10,null,null,null,null,null,null,null,null,null,{"$error":"#N/A"},{"$error":"#N/A"},{"$error":"#N/A"},0,null,null,{"$error":"#N/A"},{"$error":"#N/A"},{"$error":"#N/A"},0,null,null,{"$error":"#N/A"},{"$error":"#N/A"},{"$error":"#N/A"},0]
[null,null,null,null,null,null,null,null,null,null,null,null,null,null,null,2.7,12,null,null,null,null,null,null,null,null,null,{"$error":"#N/A"},{"$error":"#N/A"},{"$error":"#N/A"},0,null,null,{"$error":"#N/A"},{"$error":"#N/A"},{"$error":"#N/A"},0,null,null,{"$error":"#N/A"},{"$error":"#N/A"},{"$error":"#N/A"},0]
[null,null,null,null,null,null,null,null,null,null,null,null,null,null,null,null,null,null,null,null,null,null,null,null,null,null,{"$error":"#N/A"},{"$error":"#N/A"},{"$error":"#N/A"},0,null,null,{"$error":"#N/A"},{"$error":"#N/A"},{"$error":"#N/A"},0,null,null,{"$error":"#N/A"},{"$error":"#N/A"},{"$error":"#N/A"},0]
[null,null,null,null,null,null,null,null,null,null,null,null,null,null,null,null,null,null,null,null,null,null,null,null,null,null,{"$error":"#N/A"},{"$error":"#N/A"},{"$error":"#N/A"},0,null,null,{"$error":"#N/A"},{"$error":"#N/A"},{"$error":"#N/A"},0,null,null,{"$error":"#N/A"},{"$error":"#N/A"},{"$error":"#N/A"},0]
[null,null,null,null,null,null,null,null,null,null,null,null,null,null,null,null,null,null,null,null,null,null,null,null,null,null,{"$error":"#N/A"},{"$error":"#N/A"},{"$error":"#N/A"},0,null,null,{"$error":"#N/A"},{"$error":"#N/A"},{"$error":"#N/A"},0,null,null,{"$error":"#N/A"},{"$error":"#N/A"},{"$error":"#N/A"},0]
[null,null,null,null,null,null,null,null,null,null,null,null,null,null,null,null,null,null,null,null,null,null,null,null,null,null,{"$error":"#N/A"},{"$error":"#N/A"},{"$error":"#N/A"},0,null,null,{"$error":"#N/A"},{"$error":"#N/A"},{"$error":"#N/A"},0,null,null,{"$error":"#N/A"},{"$error":"#N/A"},{"$error":"#N/A"},0]
[null,null,null,null,null,null,null,null,null,null,null,null,null,null,null,null,null,null,null,null,null,null,null,null,null,null,{"$error":"#N/A"},{"$error":"#N/A"},{"$error":"#N/A"},0,null,null,{"$error":"#N/A"},{"$error":"#N/A"},{"$error":"#N/A"},0,null,null,{"$error":"#N/A"},{"$error":"#N/A"},{"$error":"#N/A"},0]
[null,null,null,null,null,null,null,null,null,null,null,null,null,null,null,null,null,null,null,null,null,null,null,null,null,null,{"$error":"#N/A"},{"$error":"#N/A"},{"$error":"#N/A"},0,null,null,{"$error":"#N/A"},{"$error":"#N/A"},{"$error":"#N/A"},0,null,null,{"$error":"#N/A"},{"$error":"#N/A"},{"$error":"#N/A"},0]
[null,null,null,null,null,null,null,null,null,null,null,null,null,null,null,null,null,null,null,null,null,null,null,null,null,null,{"$error":"#N/A"},{"$error":"#N/A"},{"$error":"#N/A"},0,null,null,{"$error":"#N/A"},{"$error":"#N/A"},{"$error":"#N/A"},0,null,null,{"$error":"#N/A"},{"$error":"#N/A"},{"$error":"#N/A"},0]
[null,null,null,null,null,null,null,null,null,null,null,null,null,null,null,null,null,null,null,null,null,null,null,null,null,null,{"$error":"#N/A"},{"$error":"#N/A"},{"$error":"#N/A"},0,null,null,{"$error":"#N/A"},{"$error":"#N/A"},{"$error":"#N/A"},0,null,null,{"$error":"#N/A"},{"$error":"#N/A"},{"$error":"#N/A"},0]
[null,null,null,null,null,null,null,null,null,null,null,null,null,null,null,null,null,null,null,null,null,null,null,null,null,null,{"$error":"#N/A"},{"$error":"#N/A"},{"$error":"#N/A"},0,null,null,{"$error":"#N/A"},{"$error":"#N/A"},{"$error":"#N/A"},0,null,null,{"$error":"#N/A"},{"$error":"#N/A"},{"$error":"#N/A"},0]
[null,null,null,null,null,null,null,null,null,null,null,null,null,null,null,null,null,null,null,null,null,null,null,null,null,null,{"$error":"#N/A"},{"$error":"#N/A"},{"$error":"#N/A"},0,null,null,{"$error":"#N/A"},{"$error":"#N/A"},{"$error":"#N/A"},0,null,null,{"$error":"#N/A"},{"$error":"#N/A"},{"$error":"#N/A"},0]
[null,null,null,null,null,null,null,null,null,null,null,null,null,null,null,null,null,null,null,null,null,null,null,null,null,null,{"$error":"#N/A"},{"$error":"#N/A"},{"$error":"#N/A"},0,null,null,{"$error":"#N/A"},{"$error":"#N/A"},{"$error":"#N/A"},0,null,null,{"$error":"#N/A"},{"$error":"#N/A"},{"$error":"#N/A"},0]
[null,null,null,null,null,null,null,null,null,null,null,null,null,null,null,null,null,null,null,null,null,null,null,null,null,null,{"$error":"#N/A"},{"$error":"#N/A"},{"$error":"#N/A"},0,null,null,{"$error":"#N/A"},{"$error":"#N/A"},{"$error":"#N/A"},0,null,null,{"$error":"#N/A"},{"$error":"#N/A"},{"$error":"#N/A"},0]
[null,null,null,null,null,null,null,null,null,null,null,null,null,null,null,null,null,null,null,null,null,null,null,null,null,null,{"$error":"#N/A"},{"$error":"#N/A"},{"$error":"#N/A"},0,null,null,{"$error":"#N/A"},{"$error":"#N/A"},{"$error":"#N/A"},0,null,null,{"$error":"#N/A"},{"$error":"#N/A"},{"$error":"#N/A"},0]
[null,null,null,null,null,null,null,null,null,null,null,null,null,null,null,null,null,null,null,null,null,null,null,null,null,null,{"$error":"#N/A"},{"$error":"#N/A"},{"$error":"#N/A"},0,null,null,{"$error":"#N/A"},{"$error":"#N/A"},{"$error":"#N/A"},0,null,null,{"$error":"#N/A"},{"$error":"#N/A"},{"$error":"#N/A"},0]
[null,null,null,null,null,null,null,null,null,null,null,null,null,null,null,null,null,null,null,null,null,null,null,null,null,null,{"$error":"#N/A"},{"$error":"#N/A"},{"$error":"#N/A"},0,null,null,{"$error":"#N/A"},{"$error":"#N/A"},{"$error":"#N/A"},0,null,null,{"$error":"#N/A"},{"$error":"#N/A"},{"$error":"#N/A"},0]
[null,null,null,null,null,null,null,null,null,null,null,null,null,null,null,null,null,null,null,null,null,null,null,null,null,null,"rows(source)","indiv points",null,null,null,null,"rows(source)","indiv points",null,null,null,null,"rows(source)","indiv points"]
[null,null,null,null,null,null,null,null,null,null,null,null,null,null,null,null,null,null,null,null,null,null,null,null,null,null,{"$f":"COUNTIF(AD$43:AD$82,\">0\")","v":8},{"$f":"MAX(AD$43:AD$82)","v":8},null,null,null,null,{"$f":"COUNTIF(AJ$43:AJ$82,\">0\")","v":8},{"$f":"MAX(AJ$43:AJ$82)","v":8},null,null,null,null,{"$f":"COUNTIF(AP$43:AP$82,\">0\")","v":8},{"$f":"MAX(AP$43:AP$82)","v":6}]

{"sheet":"Buttons","index":22,"n_rows":10,"n_cols":1,"rows_kept":10,"cut":false,"hidden":false,"merged":[]}
[]
[]
[]
[]
[]
[]
["Macro boxes:"]
[]
[]
["PICTURES: "]

{"sheet":"Nat Outcomes","index":23,"n_rows":21,"n_cols":3,"rows_kept":21,"cut":false,"hidden":false,"merged":[]}
[]
[]
[]
[]
[null,"REF.","NATIONAL OUTCOMES"]
[null,"A","We live in a Scotland that is the most attractive place for doing business in Europe."]
[null,"B","We realise our full economic potential with more and better employment opportunities for our people."]
[null,"C","We are better educated, more skilled and more successful, renowned for our research and innovation."]
[null,"D","Our young people are successful learners, confident individuals, effective contributors and responsible citizens."]
[null,"E","Our children have the best start in life and are ready to succeed."]
[null,"F","We live longer, healthier lives."]
[null,"G","We have tackled the significant inequalities in Scottish society."]
[null,"H","We have improved the life chances for children, young people and families at risk."]
[null,"I","We live our lives safe from crime, disorder and danger."]
[null,"J","We live in well-designed, sustainable places where we are able to access the amenities and services we need."]
[null,"K","We have strong, resilient and supportive communities where people take responsibility for their own actions and how they affect others."]
[null,"L","We value and enjoy our built and natural environment and protect it and enhance it for future generations."]
[null,"M","We take pride in a strong, fair and inclusive national identity."]
[null,"N","We reduce the local and global environmental impact of our consumption and production."]
[null,"O","Our people are able to maintain their independence as they get older and are able to access appropriate support when they need it"]
[null,"P","Our public services are high quality, continually improving, efficient and responsive to local people's needs"]

{"sheet":"Nat Indicators","index":24,"n_rows":33,"n_cols":5,"rows_kept":33,"cut":false,"hidden":false,"merged":[]}
[]
[]
[]
[]
[null,"REF:","NATIONAL INDICATOR","REF:","NATIONAL INDICATOR"]
[null,1,"Increase the number of businesses",29,"Reduce the percentage of adults who smoke"]
[null,2,"Increase exports",30,"Reduce alcohol related hospital admissions"]
[null,3,"Improve digital infrastructure",31,"Reduce the number of individuals with problem drug use"]
[null,4,"Reduce traffic congestion",32,"Improve people's perceptions about the crime rate in their area"]
[null,5,"Improve Scotland's reputation",33,"Reduce reconviction rates"]
[null,6,"Increase research and development spending",34,"Reduce crime victimisation rates"]
[null,7,"Improve knowledge exchange from university research",35,"Reduce deaths on Scotland's roads"]
[null,8,"Improve the skill profile of the population",36,"Improve people's perceptions of the quality of public services"]
[null,9,"Reduce underemployment",37,"Improve the responsiveness of public services"]
[null,10,"Reduce the proportion of employees earning less than the Living Wage",38,"Reduce the proportion of individuals living in poverty"]
[null,11,"Reduce the pay gap",39,"Reduce children's deprivation"]
[null,12,"Increase the proportion of pre-school centres receiving positive inspection reports",40,"Improve access to suitable housing options for those in housing need"]
[null,13,"Increase the proportion of schools receiving positive inspection reports",41,"Increase the number of new homes"]
[null,14,"Improve levels of educational attainment",42,"Widen use of the Internet"]
[null,15,"Increase the proportion of young people in learning, training or work",43,"Improve people's perceptions of their neighbourhood"]
[null,16,"Increase the proportion of graduates in positive destinations",44,"Increase cultural engagement"]
[null,17,"Improve children's services",45,"Improve the state of Scotland's historic sites"]
[null,18,"Improve children's dental health",46,"Improve access to local greenspace"]
[null,19,"Increase the proportion of babies with a healthy birth weight",47,"Increase people's use of Scotland's outdoors"]
[null,20,"Increase the proportion of healthy weight children",48,"Improve the condition of protected nature sites"]
[null,21,"Increase physical activity",49,"Increase the abundance of terrestrial breeding birds: biodiversity"]
[null,22,"Improve self-assessed general health",50,"Increase natural capital"]
[null,23,"Improve mental wellbeing",51,"Improve the state of Scotland's marine environment"]
[null,24,"Reduce premature mortality",52,"Reduce Scotland's carbon footprint"]
[null,25,"Improve end of life care",53,"Increase the proportion of journeys to work made by public or active transport"]
[null,26,"Improve support for people with care needs",54,"Reduce waste generated"]
[null,27,"Reduce emergency admissions to hospital",55,"Increase renewable electricity production"]
[null,28,"Improve the quality of healthcare experience"]